BOTTLE,20120829IOSDFOJC
EXPOCODE,STNNBR,CASTNO,SAMPNO,BTLNBR,BTLNBR_FLAG_W,DATE,TIME,LATITUDE,LONGITUDE,DEPTH,CTDPRS,CTDTMP,CTDSAL,CTDSAL_FLAG_W,CTDOXY,CTDOXY_FLAG_W,OXYGEN,OXYGEN_FLAG_W,NITRAT,NITRAT_FLAG_W,NO2+NO3,NO2+NO3_FLAG_W,NITRIT,NITRIT_FLAG_W,PHSPHT,PHSPHT_FLAG_W,SILCAT,SILCAT_FLAG_W,NH4,NH4_FLAG_W,TCARBN,TCARBN_FLAG_W,ALKALI,ALKALI_FLAG_W,DOC,DOC_FLAG_W
,,,,,,,,,,METERS,DBARS,,,,ML/L,,UMOL/KG,,UMOL/KG,,UMOL/KG,,UMOL/KG,,UMOL/KG,,UMOL/KG,,UMOL/KG,,UMOL/KG,,UMOL/KG,,UMOL/KG,
  35A319940923,    33,  1,      1,      1,2,19941004,0800, -0.0200, 166.4200, -999,      2.0,  28.9360,  33.7570,2, -999.000,9,   -999.0,9,     0.00,2,     0.00,2,     0.00,2,  -999.00,9,  -999.00,9,-999,9,   -999.0,9,   -999.0,9,  -999.00,9
  35A319940923,    33,  1,      2,      2,2,19941004,0800, -0.0200, 166.4200, -999,     19.1,  28.9560,  33.7720,2, -999.000,9,   -999.0,9,     0.00,2,     0.00,2,     0.00,2,  -999.00,9,  -999.00,9,-999,9,   1877.0,2,   2211.0,2,  -999.00,9
  35A319940923,    33,  1,      3,      3,2,19941004,0800, -0.0200, 166.4200, -999,     38.2,  29.0330,  33.8750,2, -999.000,9,   -999.0,9,     0.00,2,     0.00,2,     0.00,2,  -999.00,9,  -999.00,9,-999,9,   1870.0,2,   2205.0,2,  -999.00,9
  35A319940923,    33,  1,      4,      4,2,19941004,0800, -0.0200, 166.4200, -999,     50.3,  29.0370,  33.8760,2, -999.000,9,   -999.0,9,     0.00,2,     0.00,2,     0.00,2,  -999.00,9,  -999.00,9,-999,9,   1878.0,2,   2212.0,2,  -999.00,9
  35A319940923,    33,  1,      5,      5,2,19941004,0800, -0.0200, 166.4200, -999,     59.4,  29.0410,  33.8780,2, -999.000,9,   -999.0,9,     0.00,2,     0.00,2,     0.00,2,  -999.00,9,  -999.00,9,-999,9,   1875.0,2,   2209.0,2,  -999.00,9
  35A319940923,    33,  1,      6,      6,2,19941004,0800, -0.0200, 166.4200, -999,     70.4,  29.0550,  33.8850,2, -999.000,9,   -999.0,9,     0.00,2,     0.00,2,     0.00,2,  -999.00,9,  -999.00,9,-999,9,   1877.0,2,   2213.0,2,  -999.00,9
  35A319940923,    33,  1,      7,      7,2,19941004,0800, -0.0200, 166.4200, -999,     80.5,  29.1120,  33.9180,2, -999.000,9,   -999.0,9,     0.01,2,     0.01,2,     0.00,2,  -999.00,9,  -999.00,9,-999,9,   1878.0,2,   2214.0,2,  -999.00,9
  35A319940923,    33,  1,      8,      8,2,19941004,0800, -0.0200, 166.4200, -999,     99.6,  29.2010,  34.3980,2, -999.000,9,   -999.0,9,     0.13,2,     0.14,2,     0.01,2,     0.07,2,  -999.00,9,-999,9,   1919.0,2,   2252.0,2,  -999.00,9
  35A319940923,    33,  1,      9,      9,2,19941004,0800, -0.0200, 166.4200, -999,    110.7,  22.7730,  35.1690,2, -999.000,9,   -999.0,9,    10.30,2,    10.33,2,     0.03,2,     0.85,2,  -999.00,9,-999,9,   2057.0,2,   2300.0,2,  -999.00,9
  35A319940923,    33,  1,     10,     10,2,19941004,0800, -0.0200, 166.4200, -999,    120.7,  22.0560,  35.2040,2, -999.000,9,   -999.0,9,    10.73,2,    10.76,2,     0.03,2,     0.88,2,  -999.00,9,-999,9,   2064.0,2,   2302.0,2,  -999.00,9
  35A319940923,    33,  1,     11,     11,2,19941004,0800, -0.0200, 166.4200, -999,    129.8,  20.7460,  35.2940,2, -999.000,9,   -999.0,9,    11.45,2,    11.47,2,     0.02,2,     0.96,2,  -999.00,9,-999,9,   2080.0,2,   2308.0,2,  -999.00,9
  35A319940923,    33,  1,     12,     12,2,19941004,0800, -0.0200, 166.4200, -999,    139.9,  19.1110,  35.2580,2, -999.000,9,   -999.0,9,    12.26,2,    12.27,2,     0.01,2,     1.03,2,  -999.00,9,-999,9,   2095.0,2,   2313.0,2,  -999.00,9
  35A319940923,    33,  1,     13,     13,2,19941004,0800, -0.0200, 166.4200, -999,    149.9,  18.8350,  35.2790,2, -999.000,9,   -999.0,9,    12.60,2,    12.61,2,     0.01,2,     1.03,2,  -999.00,9,-999,9,   2096.0,2,   2313.0,2,  -999.00,9
  35A319940923,    33,  1,     14,     14,2,19941004,0800, -0.0200, 166.4200, -999,    161.0,  18.1990,  35.2140,2, -999.000,9,   -999.0,9,    12.97,2,    12.98,2,     0.01,2,     1.11,2,  -999.00,9,-999,9,   2099.0,2,   2309.0,2,  -999.00,9
  35A319940923,    33,  1,     15,     15,2,19941004,0800, -0.0200, 166.4200, -999,    181.1,  17.7240,  35.1930,2, -999.000,9,   -999.0,9,    13.45,2,    13.46,2,     0.01,2,     1.18,2,  -999.00,9,-999,9,   2101.0,2,   2305.0,2,  -999.00,9
  35A319940923,    33,  1,     16,     16,2,19941004,0800, -0.0200, 166.4200, -999,    200.3,  17.1610,  35.2150,2, -999.000,9,   -999.0,9,    13.54,2,    13.55,2,     0.01,2,     1.25,2,  -999.00,9,-999,9,   2109.0,2,   2311.0,2,  -999.00,9
  35A319940923,    34,  1,      1,      1,2,19941004,1153, -0.0200, 166.4100, -999,      6.0,  28.9510,  33.7940,2, -999.000,9,   -999.0,9,     0.00,2,     0.00,2,     0.00,2,     0.03,2,  -999.00,9,-999,9,   -999.0,9,   -999.0,9,  -999.00,9
  35A319940923,    34,  1,      2,      2,2,19941004,1153, -0.0200, 166.4100, -999,     10.1,  28.9660,  33.7980,2, -999.000,9,   -999.0,9,     0.00,2,     0.00,2,     0.00,2,     0.02,2,  -999.00,9,-999,9,   -999.0,9,   -999.0,9,  -999.00,9
  35A319940923,    34,  1,      3,      3,2,19941004,1153, -0.0200, 166.4100, -999,     20.1,  29.0030,  33.8310,2, -999.000,9,   -999.0,9,     0.00,2,     0.00,2,     0.00,2,     0.02,2,  -999.00,9,-999,9,   -999.0,9,   -999.0,9,  -999.00,9
  35A319940923,    34,  1,      4,      4,2,19941004,1153, -0.0200, 166.4100, -999,     38.2,  29.0480,  33.8770,2, -999.000,9,   -999.0,9,     0.00,2,     0.00,2,     0.00,2,     0.01,2,  -999.00,9,-999,9,   -999.0,9,   -999.0,9,  -999.00,9
  35A319940923,    34,  1,      5,      5,2,19941004,1153, -0.0200, 166.4100, -999,     49.3,  29.0560,  33.8800,2, -999.000,9,   -999.0,9,     0.00,2,     0.00,2,     0.00,2,     0.02,2,  -999.00,9,-999,9,   -999.0,9,   -999.0,9,  -999.00,9
  35A319940923,    34,  1,      6,      6,2,19941004,1153, -0.0200, 166.4100, -999,     61.4,  29.0710,  33.8860,2, -999.000,9,   -999.0,9,     0.00,2,     0.00,2,     0.00,2,     0.02,2,  -999.00,9,-999,9,   -999.0,9,   -999.0,9,  -999.00,9
  35A319940923,    34,  1,      7,      7,2,19941004,1153, -0.0200, 166.4100, -999,     70.4,  29.1020,  33.9040,2, -999.000,9,   -999.0,9,     0.00,2,     0.00,2,     0.00,2,     0.02,2,  -999.00,9,-999,9,   -999.0,9,   -999.0,9,  -999.00,9
  35A319940923,    34,  1,      8,      8,2,19941004,1153, -0.0200, 166.4100, -999,     79.5,  29.1320,  33.9320,2, -999.000,9,   -999.0,9,     0.00,2,     0.00,2,     0.00,2,     0.04,2,  -999.00,9,-999,9,   -999.0,9,   -999.0,9,  -999.00,9
  35A319940923,    34,  1,      9,      9,2,19941004,1153, -0.0200, 166.4100, -999,     99.6,  28.6360,  34.6860,2, -999.000,9,   -999.0,9,     2.90,2,     3.04,2,     0.14,2,     0.37,2,  -999.00,9,-999,9,   -999.0,9,   -999.0,9,  -999.00,9
  35A319940923,    34,  1,     10,     10,2,19941004,1153, -0.0200, 166.4100, -999,    110.7,  22.4630,  35.2010,2, -999.000,9,   -999.0,9,    10.47,2,    10.50,2,     0.03,2,     0.94,2,  -999.00,9,-999,9,   -999.0,9,   -999.0,9,  -999.00,9
  35A319940923,    34,  1,     11,     11,2,19941004,1153, -0.0200, 166.4100, -999,    122.8,  20.8080,  35.2770,2, -999.000,9,   -999.0,9,  -999.00,9,  -999.00,9,  -999.00,9,  -999.00,9,  -999.00,9,-999,9,   -999.0,9,   -999.0,9,  -999.00,9
  35A319940923,    34,  1,     12,     12,2,19941004,1153, -0.0200, 166.4100, -999,    138.9,  18.9080,  35.3150,2, -999.000,9,   -999.0,9,    12.50,2,    12.51,2,     0.01,2,     1.11,2,  -999.00,9,-999,9,   -999.0,9,   -999.0,9,  -999.00,9
  35A319940923,    34,  1,     13,     13,2,19941004,1153, -0.0200, 166.4100, -999,    152.0,  18.1920,  35.2300,2, -999.000,9,   -999.0,9,    12.54,2,    12.55,2,     0.01,2,     1.15,2,  -999.00,9,-999,9,   -999.0,9,   -999.0,9,  -999.00,9
  35A319940923,    34,  1,     14,     14,2,19941004,1153, -0.0200, 166.4100, -999,    179.1,  17.9460,  35.2830,2, -999.000,9,   -999.0,9,    13.02,2,    13.03,2,     0.01,2,     1.21,2,  -999.00,9,-999,9,   -999.0,9,   -999.0,9,  -999.00,9
  35A319940923,    34,  1,     15,     15,2,19941004,1153, -0.0200, 166.4100, -999,    198.3,  16.6760,  35.1840,2, -999.000,9,   -999.0,9,    14.55,2,    14.56,2,     0.01,2,     1.32,2,  -999.00,9,-999,9,   -999.0,9,   -999.0,9,  -999.00,9
  35A319940923,    35,  1,      1,      1,2,19941004,1609,  0.0000, 166.3800, -999,      3.0,  28.9280,  33.7710,2,    4.373,2,    191.0,2,     0.00,2,     0.00,2,     0.00,2,  -999.00,9,     0.01,2,0.2,2,   -999.0,9,   -999.0,9,  -999.00,9
  35A319940923,    35,  1,      2,      2,2,19941004,1609,  0.0000, 166.3800, -999,      9.1,  28.9380,  33.7740,2,    4.380,2,    191.3,2,     0.00,2,     0.00,2,     0.00,2,     0.04,2,     0.01,2,0.05,2,   -999.0,9,   -999.0,9,  -999.00,9
  35A319940923,    35,  1,      3,      3,2,19941004,1609,  0.0000, 166.3800, -999,     19.1,  28.9720,  33.7980,2,    4.391,2,    191.8,2,     0.00,2,     0.00,2,     0.00,2,     0.03,2,     0.01,2,0.05,2,   -999.0,9,   -999.0,9,  -999.00,9
  35A319940923,    35,  1,      4,      4,2,19941004,1609,  0.0000, 166.3800, -999,     29.2,  29.0460,  33.8590,2,    4.350,2,    190.0,2,     0.00,2,     0.00,2,     0.00,2,     0.04,2,     0.01,2,0.09,2,   -999.0,9,   -999.0,9,  -999.00,9
  35A319940923,    35,  1,      5,      5,2,19941004,1609,  0.0000, 166.3800, -999,     39.2,  29.0930,  33.8950,2,    4.350,2,    190.0,2,     0.00,2,     0.00,2,     0.00,2,     0.04,2,     0.01,2,0.11,2,   -999.0,9,   -999.0,9,  -999.00,9
  35A319940923,    35,  1,      6,      6,2,19941004,1609,  0.0000, 166.3800, -999,     49.3,  29.0940,  33.8970,2,    4.332,2,    189.2,2,     0.00,2,     0.00,2,     0.00,2,     0.05,2,     0.01,2,0.48,2,   -999.0,9,   -999.0,9,  -999.00,9
  35A319940923,    35,  1,      7,      7,2,19941004,1609,  0.0000, 166.3800, -999,     59.4,  29.0970,  33.8980,2,    4.339,2,    189.5,2,     0.00,2,     0.00,2,     0.00,2,     0.05,2,     0.01,2,0.32,2,   -999.0,9,   -999.0,9,  -999.00,9
  35A319940923,    35,  1,      8,      8,2,19941004,1609,  0.0000, 166.3800, -999,     69.4,  29.1100,  33.9100,2,    4.284,2,    187.1,2,     0.00,2,     0.00,2,     0.00,2,     0.05,2,     0.02,2,0.33,2,   -999.0,9,   -999.0,9,  -999.00,9
  35A319940923,    35,  1,      9,      9,2,19941004,1609,  0.0000, 166.3800, -999,     79.5,  29.1480,  33.9480,2,    4.357,2,    190.3,2,     0.00,2,     0.00,2,     0.00,2,     0.07,2,     0.02,2,0.11,2,   -999.0,9,   -999.0,9,  -999.00,9
  35A319940923,    35,  1,     10,     10,2,19941004,1609,  0.0000, 166.3800, -999,     99.6,  29.1360,  34.3140,2,    4.216,2,    184.1,2,     0.25,2,     0.27,2,     0.02,2,     0.16,2,     0.02,2,0.5,2,   -999.0,9,   -999.0,9,  -999.00,9
  35A319940923,    35,  1,     11,     11,2,19941004,1609,  0.0000, 166.3800, -999,    119.7,  22.5460,  35.1960,2,    2.760,2,    120.2,2,    10.05,2,    10.08,2,     0.03,2,     0.85,2,     0.02,2,0.18,2,   -999.0,9,   -999.0,9,  -999.00,9
  35A319940923,    35,  1,     12,     12,2,19941004,1609,  0.0000, 166.3800, -999,    150.9,  18.9230,  35.2870,2,    2.700,2,    117.6,2,    12.01,2,    12.02,2,     0.01,2,     1.12,2,     0.02,2,0.34,2,   -999.0,9,   -999.0,9,  -999.00,9
  35A319940923,    36,  1,      1,      1,2,19941004,2038,  0.0000, 166.4700, -999,      4.0,  28.9240,  33.7290,2, -999.000,9,   -999.0,9,     0.00,2,     0.00,2,     0.00,2,  -999.00,9,  -999.00,9,-999,9,   1865.0,2,   2206.0,2,  -999.00,9
  35A319940923,    36,  1,      2,      2,2,19941004,2038,  0.0000, 166.4700, -999,     19.1,  29.0920,  33.8760,2, -999.000,9,   -999.0,9,     0.00,2,     0.00,2,     0.00,2,  -999.00,9,  -999.00,9,-999,9,   1874.0,2,   2218.0,2,  -999.00,9
  35A319940923,    36,  1,      3,      3,2,19941004,2038,  0.0000, 166.4700, -999,     40.2,  29.0990,  33.8800,2, -999.000,9,   -999.0,9,     0.00,2,     0.00,2,     0.00,2,  -999.00,9,  -999.00,9,-999,9,   1878.0,2,   2219.0,2,  -999.00,9
  35A319940923,    36,  1,      4,      4,2,19941004,2038,  0.0000, 166.4700, -999,     61.4,  29.1230,  33.8920,2, -999.000,9,   -999.0,9,     0.00,2,     0.00,2,     0.00,2,  -999.00,9,  -999.00,9,-999,9,   1879.0,2,   2227.0,2,  -999.00,9
  35A319940923,    36,  1,      5,      5,2,19941004,2038,  0.0000, 166.4700, -999,     81.5,  29.2340,  34.0030,2, -999.000,9,   -999.0,9,     0.00,2,     0.00,2,     0.00,2,  -999.00,9,  -999.00,9,-999,9,   1884.0,2,   2230.0,2,  -999.00,9
  35A319940923,    36,  1,      6,      6,2,19941004,2038,  0.0000, 166.4700, -999,     89.5,  29.1020,  34.6240,2, -999.000,9,   -999.0,9,     0.45,2,     0.51,2,     0.06,2,     0.12,2,  -999.00,9,-999,9,   1935.0,2,   2270.0,2,  -999.00,9
  35A319940923,    36,  1,      7,      7,2,19941004,2038,  0.0000, 166.4700, -999,     99.6,  24.3240,  34.9540,2, -999.000,9,   -999.0,9,     8.17,2,     8.33,2,     0.16,2,     0.54,2,  -999.00,9,-999,9,   2029.0,2,   2289.0,2,  -999.00,9
  35A319940923,    36,  1,      8,      8,2,19941004,2038,  0.0000, 166.4700, -999,    110.7,  22.0180,  35.2140,2, -999.000,9,   -999.0,9,    10.34,2,    10.37,2,     0.03,2,     0.75,2,  -999.00,9,-999,9,   2068.0,2,   2305.0,2,  -999.00,9
  35A319940923,    36,  1,      9,      9,2,19941004,2038,  0.0000, 166.4700, -999,    118.7,  20.6270,  35.2500,2, -999.000,9,   -999.0,9,    10.96,2,    10.98,2,     0.02,2,     0.80,2,  -999.00,9,-999,9,   2080.0,2,   2312.0,2,  -999.00,9
  35A319940923,    36,  1,     10,     10,2,19941004,2038,  0.0000, 166.4700, -999,    140.9,  18.9620,  35.3260,2, -999.000,9,   -999.0,9,    12.00,2,    12.01,2,     0.01,2,     0.90,2,  -999.00,9,-999,9,   2099.0,2,   2320.0,2,  -999.00,9
  35A319940923,    36,  1,     11,     11,2,19941004,2038,  0.0000, 166.4700, -999,    162.0,  18.1590,  35.2640,2, -999.000,9,   -999.0,9,    12.79,2,    12.81,2,     0.02,2,     0.97,2,  -999.00,9,-999,9,   2102.0,2,   2313.0,2,  -999.00,9
  35A319940923,    36,  1,     12,     12,2,19941004,2038,  0.0000, 166.4700, -999,    201.3,  16.0370,  35.1450,2, -999.000,9,   -999.0,9,    14.56,2,    14.65,2,     0.09,2,     1.13,2,  -999.00,9,-999,9,   2121.0,2,   2313.0,2,  -999.00,9
  35A319940923,    36,  1,     13,     13,2,19941004,2038,  0.0000, 166.4700, -999,    250.6,  13.6900,  35.0170,2, -999.000,9,   -999.0,9,  -999.00,9,  -999.00,9,  -999.00,9,  -999.00,9,  -999.00,9,-999,9,   2111.0,2,   2313.0,2,  -999.00,9
  35A319940923,    36,  1,     14,     14,2,19941004,2038,  0.0000, 166.4700, -999,    299.0,  12.4470,  34.8970,2, -999.000,9,   -999.0,9,    19.24,2,    19.25,2,     0.01,2,     1.60,2,  -999.00,9,-999,9,   2153.0,2,   2297.0,2,  -999.00,9
  35A319940923,    37,  1,      1,      1,2,19941005,0012, -0.0200, 166.4500, -999,      2.0,  29.1470,  33.7250,2, -999.000,9,   -999.0,9,     0.00,2,     0.00,2,     0.00,2,     0.07,2,  -999.00,9,-999,9,   -999.0,9,   -999.0,9,  -999.00,9
  35A319940923,    37,  1,      2,      2,2,19941005,0012, -0.0200, 166.4500, -999,     19.1,  29.0890,  33.8590,2, -999.000,9,   -999.0,9,     0.00,2,     0.00,2,     0.00,2,     0.06,2,  -999.00,9,-999,9,   -999.0,9,   -999.0,9,  -999.00,9
  35A319940923,    37,  1,      3,      3,2,19941005,0012, -0.0200, 166.4500, -999,     41.2,  29.0870,  33.8740,2, -999.000,9,   -999.0,9,     0.00,2,     0.00,2,     0.00,2,     0.05,2,  -999.00,9,-999,9,   -999.0,9,   -999.0,9,  -999.00,9
  35A319940923,    37,  1,      4,      4,2,19941005,0012, -0.0200, 166.4500, -999,     60.4,  29.1010,  33.8800,2, -999.000,9,   -999.0,9,     0.00,2,     0.00,2,     0.00,2,     0.05,2,  -999.00,9,-999,9,   -999.0,9,   -999.0,9,  -999.00,9
  35A319940923,    37,  1,      5,      5,2,19941005,0012, -0.0200, 166.4500, -999,     80.5,  29.1780,  33.9350,2, -999.000,9,   -999.0,9,     0.00,2,     0.00,2,     0.00,2,     0.04,2,  -999.00,9,-999,9,   -999.0,9,   -999.0,9,  -999.00,9
  35A319940923,    37,  1,      6,      6,2,19941005,0012, -0.0200, 166.4500, -999,     99.6,  24.3950,  34.9480,2, -999.000,9,   -999.0,9,     6.90,2,     7.07,2,     0.17,2,     0.50,2,  -999.00,9,-999,9,   -999.0,9,   -999.0,9,  -999.00,9
  35A319940923,    37,  1,      7,      7,2,19941005,0012, -0.0200, 166.4500, -999,    108.7,  22.2390,  35.2190,2, -999.000,9,   -999.0,9,    10.12,2,    10.16,2,     0.04,2,     0.74,2,  -999.00,9,-999,9,   -999.0,9,   -999.0,9,  -999.00,9
  35A319940923,    37,  1,      8,      8,2,19941005,0012, -0.0200, 166.4500, -999,    119.7,  20.8460,  35.2300,2, -999.000,9,   -999.0,9,  -999.00,9,  -999.00,9,  -999.00,9,  -999.00,9,  -999.00,9,-999,9,   -999.0,9,   -999.0,9,  -999.00,9
  35A319940923,    37,  1,      9,      9,2,19941005,0012, -0.0200, 166.4500, -999,    139.9,  18.9960,  35.3260,2, -999.000,9,   -999.0,9,    11.99,2,    12.01,2,     0.02,2,     0.93,2,  -999.00,9,-999,9,   -999.0,9,   -999.0,9,  -999.00,9
  35A319940923,    37,  1,     10,     10,2,19941005,0012, -0.0200, 166.4500, -999,    150.9,  18.9620,  35.3210,2, -999.000,9,   -999.0,9,  -999.00,9,  -999.00,9,  -999.00,9,  -999.00,9,  -999.00,9,-999,9,   -999.0,9,   -999.0,9,  -999.00,9
  35A319940923,    37,  1,     11,     11,2,19941005,0012, -0.0200, 166.4500, -999,    181.1,  17.9550,  35.2910,2, -999.000,9,   -999.0,9,  -999.00,9,  -999.00,9,  -999.00,9,  -999.00,9,  -999.00,9,-999,9,   -999.0,9,   -999.0,9,  -999.00,9
  35A319940923,    37,  1,     12,     12,2,19941005,0012, -0.0200, 166.4500, -999,    201.3,  16.1160,  35.1400,2, -999.000,9,   -999.0,9,  -999.00,9,  -999.00,9,  -999.00,9,  -999.00,9,  -999.00,9,-999,9,   -999.0,9,   -999.0,9,  -999.00,9
  35A319940923,    37,  1,     13,     13,2,19941005,0012, -0.0200, 166.4500, -999,    304.0,  12.7270,  34.9290,2, -999.000,9,   -999.0,9,  -999.00,9,  -999.00,9,  -999.00,9,  -999.00,9,  -999.00,9,-999,9,   -999.0,9,   -999.0,9,  -999.00,9