BOTTLE,20120829IOSDFOJC
EXPOCODE,STNNBR,CASTNO,SAMPNO,BTLNBR,BTLNBR_FLAG_W,DATE,TIME,LATITUDE,LONGITUDE,DEPTH,CTDPRS,CTDTMP,CTDSAL,CTDSAL_FLAG_W,CTDOXY,CTDOXY_FLAG_W,OXYGEN,OXYGEN_FLAG_W,NITRAT,NITRAT_FLAG_W,NO2+NO3,NO2+NO3_FLAG_W,NITRIT,NITRIT_FLAG_W,PHSPHT,PHSPHT_FLAG_W,SILCAT,SILCAT_FLAG_W,NH4,NH4_FLAG_W,TCARBN,TCARBN_FLAG_W,ALKALI,ALKALI_FLAG_W,DOC,DOC_FLAG_W
,,,,,,,,,,METERS,DBARS,,,,ML/L,,UMOL/KG,,UMOL/KG,,UMOL/KG,,UMOL/KG,,UMOL/KG,,UMOL/KG,,UMOL/KG,,UMOL/KG,,UMOL/KG,,UMOL/KG,
  35A319940923,    53,  1,      1,      1,2,19941007,1610,  0.2100, 166.2100, -999,      2.0,  29.5940,  33.9030,2,    4.265,2,    186.3,2,     0.00,2,     0.00,2,     0.00,2,     0.06,2,     0.01,2,0.29,2,   -999.0,9,   -999.0,9,  -999.00,9
  35A319940923,    53,  1,      2,      2,2,19941007,1610,  0.2100, 166.2100, -999,     10.1,  29.4480,  33.9000,2,    4.290,2,    187.4,2,     0.00,2,     0.00,2,     0.00,2,     0.06,2,     0.01,2,0.21,2,   -999.0,9,   -999.0,9,  -999.00,9
  35A319940923,    53,  1,      3,      3,2,19941007,1610,  0.2100, 166.2100, -999,     20.1,  29.3530,  33.9100,2,    4.279,2,    186.9,2,     0.00,2,     0.00,2,     0.00,2,     0.05,2,     0.01,2,0.23,2,   -999.0,9,   -999.0,9,  -999.00,9
  35A319940923,    53,  1,      4,      4,2,19941007,1610,  0.2100, 166.2100, -999,     29.2,  29.3130,  33.9340,2, -999.000,9,   -999.0,9,     0.00,2,     0.00,2,     0.00,2,     0.05,2,     0.01,2,-999,9,   -999.0,9,   -999.0,9,  -999.00,9
  35A319940923,    53,  1,      5,      5,2,19941007,1610,  0.2100, 166.2100, -999,     39.2,  29.2940,  33.9360,2,    4.286,2,    187.2,2,     0.00,2,     0.00,2,     0.00,2,     0.05,2,     0.01,2,0.16,2,   -999.0,9,   -999.0,9,  -999.00,9
  35A319940923,    53,  1,      6,      6,2,19941007,1610,  0.2100, 166.2100, -999,     50.3,  29.2860,  33.9390,2,    4.288,2,    187.3,2,     0.01,2,     0.01,2,     0.00,2,     0.06,2,     0.01,2,0.01,2,   -999.0,9,   -999.0,9,  -999.00,9
  35A319940923,    53,  1,      7,      7,2,19941007,1610,  0.2100, 166.2100, -999,     59.4,  29.2920,  33.9470,2,    4.284,2,    187.1,2,     0.00,2,     0.00,2,     0.00,2,     0.06,2,     0.01,2,0.18,2,   -999.0,9,   -999.0,9,  -999.00,9
  35A319940923,    53,  1,      8,      8,2,19941007,1610,  0.2100, 166.2100, -999,     69.4,  29.3010,  33.9520,2,    4.261,2,    186.1,2,     0.00,2,     0.00,2,     0.00,2,     0.06,2,     0.02,2,0.07,2,   -999.0,9,   -999.0,9,  -999.00,9
  35A319940923,    53,  1,      9,      9,2,19941007,1610,  0.2100, 166.2100, -999,     80.5,  29.3060,  33.9750,2,    4.128,2,    180.3,2,     0.53,2,     0.54,2,     0.01,2,     0.12,2,     0.02,2,0,2,   -999.0,9,   -999.0,9,  -999.00,9
  35A319940923,    53,  1,     10,     10,2,19941007,1610,  0.2100, 166.2100, -999,    100.6,  22.0760,  35.1990,2,    2.700,2,    117.6,2,    10.01,2,    10.04,2,     0.03,2,     0.80,2,     0.03,2,0.73,2,   -999.0,9,   -999.0,9,  -999.00,9
  35A319940923,    53,  1,     11,     11,2,19941007,1610,  0.2100, 166.2100, -999,    119.7,  21.2750,  35.2490,2,    2.692,2,    117.2,2,    10.40,2,    10.45,2,     0.05,2,     0.86,2,     0.03,2,0.14,2,   -999.0,9,   -999.0,9,  -999.00,9
  35A319940923,    53,  1,     12,     12,2,19941007,1610,  0.2100, 166.2100, -999,    150.9,  19.5760,  35.3480,2,    2.740,2,    119.4,2,    11.39,2,    11.42,2,     0.03,2,     0.95,2,     0.02,2,0.31,2,   -999.0,9,   -999.0,9,  -999.00,9
  35A319940923,    54,  1,      1,      1,2,19941007,2000,  0.2100, 166.1800, -999,      2.0,  29.4420,  33.8920,2, -999.000,9,   -999.0,9,     0.00,2,     0.00,2,     0.00,2,     0.05,2,  -999.00,9,-999,9,   1857.0,2,   -999.0,9,  -999.00,9
  35A319940923,    54,  1,      2,      2,2,19941007,2000,  0.2100, 166.1800, -999,     20.1,  29.3560,  33.9150,2, -999.000,9,   -999.0,9,     0.00,2,     0.00,2,     0.00,2,     0.05,2,  -999.00,9,-999,9,   1863.0,2,   -999.0,9,  -999.00,9
  35A319940923,    54,  1,      3,      3,2,19941007,2000,  0.2100, 166.1800, -999,     40.2,  29.2880,  33.9330,2, -999.000,9,   -999.0,9,     0.00,2,     0.00,2,     0.00,2,     0.06,2,  -999.00,9,-999,9,   1877.0,2,   2224.0,2,  -999.00,9
  35A319940923,    54,  1,      4,      4,2,19941007,2000,  0.2100, 166.1800, -999,     60.4,  29.2650,  33.9390,2, -999.000,9,   -999.0,9,     0.00,2,     0.00,2,     0.00,2,     0.06,2,  -999.00,9,-999,9,   1872.0,2,   2212.0,2,  -999.00,9
  35A319940923,    54,  1,      5,      5,2,19941007,2000,  0.2100, 166.1800, -999,     78.5,  29.1570,  34.0900,2, -999.000,9,   -999.0,9,     0.03,2,     0.03,2,     0.00,2,     0.08,2,  -999.00,9,-999,9,   -999.0,9,   -999.0,9,  -999.00,9
  35A319940923,    54,  1,      6,      6,2,19941007,2000,  0.2100, 166.1800, -999,     88.5,  23.4200,  35.0510,2, -999.000,9,   -999.0,9,     8.41,2,     8.50,2,     0.09,2,     0.70,2,  -999.00,9,-999,9,   2039.0,2,   2295.0,2,  -999.00,9
  35A319940923,    54,  1,      7,      7,2,19941007,2000,  0.2100, 166.1800, -999,    100.6,  22.1000,  35.2040,2, -999.000,9,   -999.0,9,    10.01,2,    10.05,2,     0.04,2,     0.82,2,  -999.00,9,-999,9,   2050.0,2,   -999.0,9,  -999.00,9
  35A319940923,    54,  1,      8,      8,2,19941007,2000,  0.2100, 166.1800, -999,    109.7,  21.8650,  35.2570,2, -999.000,9,   -999.0,9,    10.21,2,    10.27,2,     0.06,2,     0.86,2,  -999.00,9,-999,9,   2060.0,2,   2302.0,2,  -999.00,9
  35A319940923,    54,  1,      9,      9,2,19941007,2000,  0.2100, 166.1800, -999,    120.7,  20.9080,  35.2540,2, -999.000,9,   -999.0,9,    10.71,2,    10.75,2,     0.04,2,     0.89,2,  -999.00,9,-999,9,   2071.0,2,   2305.0,2,  -999.00,9
  35A319940923,    54,  1,     10,     10,2,19941007,2000,  0.2100, 166.1800, -999,    140.9,  19.9880,  35.3230,2, -999.000,9,   -999.0,9,    11.21,2,    11.24,2,     0.03,2,     0.95,2,  -999.00,9,-999,9,   2084.0,2,   2319.0,2,  -999.00,9
  35A319940923,    54,  1,     11,     11,2,19941007,2000,  0.2100, 166.1800, -999,    161.0,  18.8890,  35.2910,2, -999.000,9,   -999.0,9,    11.85,2,    11.90,2,     0.05,2,     0.99,2,  -999.00,9,-999,9,   2090.0,2,   2311.0,2,  -999.00,9
  35A319940923,    54,  1,     12,     12,2,19941007,2000,  0.2100, 166.1800, -999,    201.3,  15.8000,  35.1650,2, -999.000,9,   -999.0,9,    14.27,2,    14.30,2,     0.03,2,     1.23,2,  -999.00,9,-999,9,   2118.0,2,   2309.0,2,  -999.00,9
  35A319940923,    54,  1,     13,     13,2,19941007,2000,  0.2100, 166.1800, -999,    252.6,  14.1270,  35.0760,2, -999.000,9,   -999.0,9,    15.57,2,    15.61,2,     0.04,2,     1.33,2,  -999.00,9,-999,9,   2129.0,2,   2307.0,2,  -999.00,9
  35A319940923,    54,  1,     14,     14,2,19941007,2000,  0.2100, 166.1800, -999,    302.0,  12.7180,  34.9190,2, -999.000,9,   -999.0,9,    17.93,2,    17.94,2,     0.01,2,     1.62,2,  -999.00,9,-999,9,   2148.0,2,   2296.0,2,  -999.00,9
  35A319940923,    55,  1,      1,      1,2,19941007,2359,  0.2300, 166.1600, -999,      2.0,  29.6740,  33.8920,2, -999.000,9,   -999.0,9,     0.00,2,     0.00,2,     0.00,2,     0.08,2,  -999.00,9,-999,9,   -999.0,9,   -999.0,9,  -999.00,9
  35A319940923,    55,  1,      2,      2,2,19941007,2359,  0.2300, 166.1600, -999,     20.1,  29.3250,  33.9120,2, -999.000,9,   -999.0,9,     0.00,2,     0.00,2,     0.00,2,     0.07,2,  -999.00,9,-999,9,   -999.0,9,   -999.0,9,  -999.00,9
  35A319940923,    55,  1,      3,      3,2,19941007,2359,  0.2300, 166.1600, -999,     40.2,  29.2990,  33.9360,2, -999.000,9,   -999.0,9,     0.03,2,     0.03,2,     0.00,2,     0.09,2,  -999.00,9,-999,9,   -999.0,9,   -999.0,9,  -999.00,9
  35A319940923,    55,  1,      4,      4,2,19941007,2359,  0.2300, 166.1600, -999,     59.4,  29.2510,  33.9300,2, -999.000,9,   -999.0,9,     0.05,2,     0.05,2,     0.00,2,     0.07,2,  -999.00,9,-999,9,   -999.0,9,   -999.0,9,  -999.00,9
  35A319940923,    55,  1,      5,      5,2,19941007,2359,  0.2300, 166.1600, -999,     79.5,  29.2780,  34.0560,2, -999.000,9,   -999.0,9,     0.04,2,     0.04,2,     0.00,2,     0.09,2,  -999.00,9,-999,9,   -999.0,9,   -999.0,9,  -999.00,9
  35A319940923,    55,  1,      6,      6,2,19941007,2359,  0.2300, 166.1600, -999,     99.6,  23.1080,  35.0640,2, -999.000,9,   -999.0,9,     8.48,2,     8.55,2,     0.07,2,     0.70,2,  -999.00,9,-999,9,   -999.0,9,   -999.0,9,  -999.00,9
  35A319940923,    55,  1,      7,      7,2,19941007,2359,  0.2300, 166.1600, -999,    109.7,  22.1480,  35.1970,2, -999.000,9,   -999.0,9,    10.00,2,    10.04,2,     0.04,2,     0.82,2,  -999.00,9,-999,9,   -999.0,9,   -999.0,9,  -999.00,9
  35A319940923,    55,  1,      8,      8,2,19941007,2359,  0.2300, 166.1600, -999,    119.7,  21.7380,  35.2550,2, -999.000,9,   -999.0,9,    10.42,2,    10.47,2,     0.05,2,     0.86,2,  -999.00,9,-999,9,   -999.0,9,   -999.0,9,  -999.00,9
  35A319940923,    55,  1,      9,      9,2,19941007,2359,  0.2300, 166.1600, -999,    138.9,  20.5020,  35.2880,2, -999.000,9,   -999.0,9,    10.99,2,    11.03,2,     0.04,2,     0.92,2,  -999.00,9,-999,9,   -999.0,9,   -999.0,9,  -999.00,9
  35A319940923,    55,  1,     10,     10,2,19941007,2359,  0.2300, 166.1600, -999,    153.0,  19.9550,  35.3460,2, -999.000,9,   -999.0,9,    11.30,2,    11.33,2,     0.03,2,     0.93,2,  -999.00,9,-999,9,   -999.0,9,   -999.0,9,  -999.00,9
  35A319940923,    55,  1,     11,     11,2,19941007,2359,  0.2300, 166.1600, -999,    181.1,  17.6480,  35.1950,2, -999.000,9,   -999.0,9,    12.88,2,    12.92,2,     0.04,2,     1.07,2,  -999.00,9,-999,9,   -999.0,9,   -999.0,9,  -999.00,9
  35A319940923,    55,  1,     12,     12,2,19941007,2359,  0.2300, 166.1600, -999,    200.3,  15.7960,  35.1470,2, -999.000,9,   -999.0,9,    14.49,2,    14.52,2,     0.03,2,     1.19,2,  -999.00,9,-999,9,   -999.0,9,   -999.0,9,  -999.00,9
  35A319940923,    55,  1,     13,     13,2,19941007,2359,  0.2300, 166.1600, -999,    301.0,  12.6620,  34.9190,2, -999.000,9,   -999.0,9,    18.43,2,    18.47,2,     0.04,2,     1.57,2,  -999.00,9,-999,9,   -999.0,9,   -999.0,9,  -999.00,9
  35A319940923,    57,  1,      1,      1,2,19941008,0401,  0.2500, 166.1400, -999,      2.0,  29.6480,  33.8850,2,    4.281,2,    187.0,2,     0.00,2,     0.00,2,     0.00,2,     0.07,2,  -999.00,9,0.05,2,   1873.0,2,   2213.0,2,  -999.00,9
  35A319940923,    57,  1,      2,      2,2,19941008,0401,  0.2500, 166.1400, -999,     20.1,  29.2720,  33.8760,2,    4.291,2,    187.4,2,     0.00,2,     0.00,2,     0.00,2,     0.07,2,  -999.00,9,0.04,2,   1873.0,2,   2215.0,2,  -999.00,9
  35A319940923,    57,  1,      3,      3,2,19941008,0401,  0.2500, 166.1400, -999,     38.2,  29.2950,  33.9230,2,    4.293,2,    187.5,2,     0.00,2,     0.00,2,     0.00,2,     0.06,2,  -999.00,9,0.08,2,   1873.0,2,   2216.0,2,  -999.00,9
  35A319940923,    57,  1,      4,      4,2,19941008,0401,  0.2500, 166.1400, -999,     60.4,  29.2640,  33.9290,2,    4.277,2,    186.8,2,     0.00,2,     0.00,2,     0.00,2,     0.06,2,  -999.00,9,0.02,2,   1872.0,2,   2217.0,2,  -999.00,9
  35A319940923,    57,  1,      5,      5,2,19941008,0401,  0.2500, 166.1400, -999,     79.5,  29.2940,  33.9470,2,    4.231,2,    184.8,2,     0.01,2,     0.01,2,     0.00,2,     0.07,2,  -999.00,9,0,2,   1875.0,2,   2216.0,2,  -999.00,9
  35A319940923,    57,  1,      6,      6,2,19941008,0401,  0.2500, 166.1400, -999,     89.5,  29.2670,  34.0660,2,    4.216,2,    184.1,2,     0.02,2,     0.02,2,     0.00,2,     0.10,2,  -999.00,9,0.28,2,   1898.0,2,   2239.0,2,  -999.00,9
  35A319940923,    57,  1,      7,      7,2,19941008,0401,  0.2500, 166.1400, -999,     98.6,  27.5180,  34.8200,2, -999.000,9,   -999.0,9,     6.76,2,     6.85,2,     0.09,2,     0.58,2,  -999.00,9,0.07,2,   2020.0,2,   2292.0,2,  -999.00,9
  35A319940923,    57,  1,      8,      8,2,19941008,0401,  0.2500, 166.1400, -999,    108.7,  22.1990,  35.1990,2,    2.662,2,    115.9,2,    10.18,2,    10.24,2,     0.06,2,     0.80,2,  -999.00,9,0.17,2,   2062.0,2,   2308.0,2,  -999.00,9
  35A319940923,    57,  1,      9,      9,2,19941008,0401,  0.2500, 166.1400, -999,    118.7,  22.0550,  35.2460,2,    2.621,2,    114.1,2,    10.52,2,    10.59,2,     0.07,2,     0.84,2,  -999.00,9,0.12,2,   -999.0,9,   -999.0,9,  -999.00,9
  35A319940923,    57,  1,     10,     10,2,19941008,0401,  0.2500, 166.1400, -999,    138.9,  20.2200,  35.2880,2,    2.649,2,    115.3,2,    11.34,2,    11.39,2,     0.05,2,     0.90,2,  -999.00,9,0.32,2,   2085.0,2,   2319.0,2,  -999.00,9
  35A319940923,    57,  1,     11,     11,2,19941008,0401,  0.2500, 166.1400, -999,    160.0,  18.7080,  35.2510,2,    2.754,2,    119.8,2,    12.18,2,    12.21,2,     0.03,2,     0.97,2,  -999.00,9,0.19,2,   -999.0,9,   -999.0,9,  -999.00,9
  35A319940923,    57,  1,     12,     12,2,19941008,0401,  0.2500, 166.1400, -999,    201.3,  15.4050,  35.1160,2,    2.770,2,    120.4,2,    15.44,2,    15.48,2,     0.04,2,     1.25,2,  -999.00,9,0.45,2,   2120.0,2,   2306.0,2,  -999.00,9
  35A319940923,    57,  1,     13,     13,2,19941008,0401,  0.2500, 166.1400, -999,    302.0,  12.1710,  34.8670,2, -999.000,9,   -999.0,9,    11.59,2,    11.64,2,     0.05,2,     0.93,2,  -999.00,9,0.35,2,   -999.0,9,   2294.0,2,  -999.00,9
  35A319940923,    57,  1,     14,     14,2,19941008,0401,  0.2500, 166.1400, -999,   1010.2,   4.7300,  34.5500,2,    1.740,2,     75.7,2,  -999.00,9,  -999.00,9,  -999.00,9,  -999.00,9,  -999.00,9,-999,9,   2286.0,2,   2350.0,2,  -999.00,9
  35A319940923,    59,  1,      1,      1,2,19941008,0809,  0.2800, 166.1200, -999,      3.0,  29.8140,  33.8660,2, -999.000,9,   -999.0,9,     0.00,2,     0.00,2,     0.00,2,     0.07,2,  -999.00,9,-999,9,   1870.0,2,   2207.0,2,  -999.00,9
  35A319940923,    59,  1,      2,      2,2,19941008,0809,  0.2800, 166.1200, -999,     19.1,  29.2460,  33.8680,2, -999.000,9,   -999.0,9,     0.00,2,     0.00,2,     0.00,2,     0.05,2,  -999.00,9,-999,9,   1870.0,2,   2211.0,2,  -999.00,9
  35A319940923,    59,  1,      3,      3,2,19941008,0809,  0.2800, 166.1200, -999,     39.2,  29.2970,  33.9250,2, -999.000,9,   -999.0,9,     0.00,2,     0.00,2,     0.00,2,     0.06,2,  -999.00,9,-999,9,   1869.0,2,   2212.0,2,  -999.00,9
  35A319940923,    59,  1,      4,      4,2,19941008,0809,  0.2800, 166.1200, -999,     50.3,  29.2600,  33.9200,2, -999.000,9,   -999.0,9,  -999.00,9,  -999.00,9,  -999.00,9,  -999.00,9,  -999.00,9,-999,9,   1872.0,2,   2212.0,2,  -999.00,9
  35A319940923,    59,  1,      5,      5,2,19941008,0809,  0.2800, 166.1200, -999,     70.4,  29.3030,  33.9460,2, -999.000,9,   -999.0,9,     0.00,2,     0.00,2,     0.00,2,     0.06,2,  -999.00,9,-999,9,   -999.0,9,   -999.0,9,  -999.00,9
  35A319940923,    59,  1,      6,      6,2,19941008,0809,  0.2800, 166.1200, -999,     81.5,  29.3080,  33.9550,2, -999.000,9,   -999.0,9,     0.01,2,     0.01,2,     0.00,2,     0.06,2,  -999.00,9,-999,9,   1875.0,2,   2220.0,2,  -999.00,9
  35A319940923,    59,  1,      7,      7,2,19941008,0809,  0.2800, 166.1200, -999,     98.6,  23.8200,  35.0380,2, -999.000,9,   -999.0,9,     8.67,2,     8.79,2,     0.12,2,     0.66,2,  -999.00,9,-999,9,   2035.0,2,   2296.0,2,  -999.00,9
  35A319940923,    59,  1,      8,      8,2,19941008,0809,  0.2800, 166.1200, -999,    109.7,  22.2120,  35.2240,2, -999.000,9,   -999.0,9,    11.31,2,    11.37,2,     0.06,2,     0.82,2,  -999.00,9,-999,9,   2061.0,2,   2306.0,2,  -999.00,9
  35A319940923,    59,  1,      9,      9,2,19941008,0809,  0.2800, 166.1200, -999,    119.7,  21.5450,  35.2500,2, -999.000,9,   -999.0,9,    11.77,2,    11.83,2,     0.06,2,     0.86,2,  -999.00,9,-999,9,   2074.0,2,   2313.0,2,  -999.00,9
  35A319940923,    59,  1,     10,     10,2,19941008,0809,  0.2800, 166.1200, -999,    129.8,  20.6460,  35.2650,2, -999.000,9,   -999.0,9,    12.27,2,    12.32,2,     0.05,2,     0.90,2,  -999.00,9,-999,9,   2076.0,2,   2309.0,2,  -999.00,9
  35A319940923,    59,  1,     11,     11,2,19941008,0809,  0.2800, 166.1200, -999,    139.9,  20.1060,  35.2920,2, -999.000,9,   -999.0,9,    12.52,2,    12.57,2,     0.05,2,     0.91,2,  -999.00,9,-999,9,   2084.0,2,   2316.0,2,  -999.00,9
  35A319940923,    59,  1,     12,     12,2,19941008,0809,  0.2800, 166.1200, -999,    152.0,  19.0930,  35.3010,2, -999.000,9,   -999.0,9,  -999.00,9,  -999.00,9,  -999.00,9,  -999.00,9,  -999.00,9,-999,9,   -999.0,9,   -999.0,9,  -999.00,9
  35A319940923,    59,  1,     13,     13,2,19941008,0809,  0.2800, 166.1200, -999,    161.0,  18.5900,  35.2910,2, -999.000,9,   -999.0,9,    13.66,2,    13.70,2,     0.04,2,     1.00,2,  -999.00,9,-999,9,   2093.0,2,   2309.0,2,  -999.00,9
  35A319940923,    59,  1,     14,     14,2,19941008,0809,  0.2800, 166.1200, -999,    181.1,  17.7620,  35.2630,2, -999.000,9,   -999.0,9,    14.31,2,    14.35,2,     0.04,2,     1.06,2,  -999.00,9,-999,9,   2107.0,2,   2319.0,2,  -999.00,9
  35A319940923,    59,  1,     15,     15,2,19941008,0809,  0.2800, 166.1200, -999,    201.3,  15.5240,  35.1370,2, -999.000,9,   -999.0,9,    16.73,2,    16.76,2,     0.03,2,     1.27,2,  -999.00,9,-999,9,   2121.0,2,   2305.0,2,  -999.00,9