BOTTLE,20120829IOSDFOJC
EXPOCODE,STNNBR,CASTNO,SAMPNO,BTLNBR,BTLNBR_FLAG_W,DATE,TIME,LATITUDE,LONGITUDE,DEPTH,CTDPRS,CTDTMP,CTDSAL,CTDSAL_FLAG_W,CTDOXY,CTDOXY_FLAG_W,OXYGEN,OXYGEN_FLAG_W,NITRAT,NITRAT_FLAG_W,NO2+NO3,NO2+NO3_FLAG_W,NITRIT,NITRIT_FLAG_W,PHSPHT,PHSPHT_FLAG_W,SILCAT,SILCAT_FLAG_W,NH4,NH4_FLAG_W,TCARBN,TCARBN_FLAG_W,ALKALI,ALKALI_FLAG_W,DOC,DOC_FLAG_W
,,,,,,,,,,METERS,DBARS,,,,ML/L,,UMOL/KG,,UMOL/KG,,UMOL/KG,,UMOL/KG,,UMOL/KG,,UMOL/KG,,UMOL/KG,,UMOL/KG,,UMOL/KG,,UMOL/KG,
  35A319940923,    67,  1,      1,      1,2,19941011,2309,  0.0000, 179.3400, -999,      2.0,  30.9570,  34.3240,2,    4.247,2,    185.5,2,     0.00,2,     0.00,2,     0.00,2,     0.09,2,  -999.00,9,-999,9,   1894.0,2,   2251.0,2,    72.26,2
  35A319940923,    67,  1,      2,      2,2,19941011,2309,  0.0000, 179.3400, -999,     20.1,  30.5100,  34.3310,2,    4.270,2,    186.5,2,     0.00,2,     0.00,2,     0.00,2,     0.08,2,  -999.00,9,-999,9,   1898.0,2,   2255.0,2,    72.85,2
  35A319940923,    67,  1,      3,      3,2,19941011,2309,  0.0000, 179.3400, -999,     50.3,  30.3880,  34.8070,2,    4.365,2,    190.6,2,     0.00,2,     0.00,2,     0.00,2,     0.14,2,  -999.00,9,-999,9,   1926.0,2,   2287.0,2,    73.25,2
  35A319940923,    67,  1,      4,      4,2,19941011,2309,  0.0000, 179.3400, -999,     69.4,  29.8800,  35.0590,2,    4.314,2,    188.3,2,     0.01,2,     0.01,2,     0.00,2,     0.18,2,  -999.00,9,-999,9,   1955.0,2,   2303.0,2,    67.96,2
  35A319940923,    67,  1,      5,      5,2,19941011,2309,  0.0000, 179.3400, -999,     80.5,  29.7140,  35.1800,2,    4.299,2,    187.6,2,     0.09,2,     0.09,2,     0.00,2,     0.19,2,  -999.00,9,-999,9,   1961.0,2,   2312.0,2,    69.78,2
  35A319940923,    67,  1,      6,      6,2,19941011,2309,  0.0000, 179.3400, -999,     90.6,  29.7210,  35.2350,2,    4.219,2,    184.1,2,     0.05,2,     0.06,2,     0.01,2,     0.21,2,  -999.00,9,-999,9,   1970.0,2,   2319.0,2,    69.60,2
  35A319940923,    67,  1,      7,      7,2,19941011,2309,  0.0000, 179.3400, -999,     98.6,  29.6820,  35.3630,2,    4.203,2,    183.4,2,     0.16,2,     0.21,2,     0.06,2,     0.24,2,  -999.00,9,-999,9,   1980.0,2,   2326.0,2,    67.85,2
  35A319940923,    67,  1,      8,      8,2,19941011,2309,  0.0000, 179.3400, -999,    109.7,  29.1100,  35.3780,2,    3.897,2,    170.0,2,     1.71,2,     2.57,2,     0.86,2,     0.37,2,  -999.00,9,-999,9,   1997.0,2,   2323.0,2,    65.80,2
  35A319940923,    67,  1,      9,      9,2,19941011,2309,  0.0000, 179.3400, -999,    120.7,  28.0990,  35.2260,2,    3.744,2,    163.2,2,     2.98,2,     3.82,2,     0.84,2,     0.44,2,  -999.00,9,-999,9,   2002.0,2,   2312.0,2,    62.06,2
  35A319940923,    67,  1,     10,     10,2,19941011,2309,  0.0000, 179.3400, -999,    140.9,  22.8360,  35.0130,2,    2.817,2,    122.7,2,     9.14,2,     9.21,2,     0.07,2,     0.74,2,  -999.00,9,-999,9,   2048.0,2,   2295.0,2,    58.14,2
  35A319940923,    67,  1,     11,     11,2,19941011,2309,  0.0000, 179.3400, -999,    161.0,  17.3400,  34.9960,2,    2.788,2,    121.3,2,    13.12,2,    13.13,2,     0.01,2,     1.10,2,  -999.00,9,-999,9,   2096.0,2,   2293.0,2,    55.54,2
  35A319940923,    67,  1,     12,     12,2,19941011,2309,  0.0000, 179.3400, -999,    181.1,  15.8580,  35.1760,2, -999.000,9,   -999.0,9,    14.60,2,    14.62,2,     0.02,2,     1.27,2,  -999.00,9,-999,9,   -999.0,9,   -999.0,9,    53.32,2
  35A319940923,    67,  1,     13,     13,2,19941011,2309,  0.0000, 179.3400, -999,   1009.2,   4.6770,  34.5480,2,    1.550,2,     67.5,2,    43.59,2,    43.60,2,     0.01,2,     3.09,2,  -999.00,9,-999,9,   2289.0,2,   2350.0,2,    39.02,2
  35A319940923,    68,  1,      1,      1,2,19941012,1106,  0.0000,-178.3200, -999,      2.0,  30.5330,  34.3340,2,    4.180,2,    182.6,2,     0.00,2,     0.00,2,     0.00,2,     0.10,2,     0.01,2,0.19,2,   1898.0,2,   2248.0,2,    74.07,2
  35A319940923,    68,  1,      2,      2,2,19941012,1106,  0.0000,-178.3200, -999,     18.1,  30.3550,  34.3220,2,    4.247,2,    185.5,2,     0.00,2,     0.00,2,     0.00,2,     0.09,2,     0.01,2,0.04,2,   1895.0,2,   2249.0,2,    73.61,2
  35A319940923,    68,  1,      3,      3,2,19941012,1106,  0.0000,-178.3200, -999,     50.3,  30.2460,  34.7090,2,    4.282,2,    187.0,2,     0.01,2,     0.01,2,     0.00,2,     0.12,2,     0.01,2,0.07,2,   1919.0,2,   2272.0,2,    72.83,2
  35A319940923,    68,  1,      4,      4,2,19941012,1106,  0.0000,-178.3200, -999,     69.4,  29.8740,  34.9500,2, -999.000,9,   -999.0,9,     0.01,2,     0.01,2,     0.00,2,     0.14,2,     0.01,2,0.1,2,   -999.0,9,   -999.0,9,    71.98,2
  35A319940923,    68,  1,      5,      5,2,19941012,1106,  0.0000,-178.3200, -999,     79.5,  29.8330,  35.0520,2,    4.255,2,    185.7,2,     0.01,2,     0.01,2,     0.00,2,     0.16,2,     0.01,2,0.29,2,   1954.0,2,   2303.0,2,    75.01,2
  35A319940923,    68,  1,      6,      6,2,19941012,1106,  0.0000,-178.3200, -999,     88.5,  29.7820,  35.0910,2,    4.303,2,    187.8,2,     0.01,2,     0.01,2,     0.00,2,     0.17,2,     0.01,2,0.11,2,   1956.0,2,   2303.0,2,    68.36,2
  35A319940923,    68,  1,      7,      7,2,19941012,1106,  0.0000,-178.3200, -999,     99.6,  29.8340,  35.1340,2,    4.244,2,    185.2,2,     0.06,2,     0.09,2,     0.03,2,     0.19,2,     0.02,2,0.07,2,   1962.0,2,   2313.0,2,    69.55,2
  35A319940923,    68,  1,      8,      8,2,19941012,1106,  0.0000,-178.3200, -999,    109.7,  29.7400,  35.3330,2,    4.040,2,    176.3,2,     0.98,2,     1.31,2,     0.33,2,     0.28,2,     0.02,2,0.16,2,   1982.0,2,   2320.0,2,    68.97,2
  35A319940923,    68,  1,      9,      9,2,19941012,1106,  0.0000,-178.3200, -999,    119.7,  27.6950,  35.2540,2,    3.536,2,    154.2,2,     3.86,2,     4.60,2,     0.74,2,     0.47,2,     0.02,2,0.37,2,   2010.0,2,   2311.0,2,    61.64,2
  35A319940923,    68,  1,     10,     10,2,19941012,1106,  0.0000,-178.3200, -999,    140.9,  22.9420,  35.4440,2,    2.574,2,    112.1,2,    10.27,2,    10.32,2,     0.05,2,     0.85,2,     0.02,2,0.33,2,   2076.0,2,   2317.0,2,    60.34,2
  35A319940923,    68,  1,     11,     11,2,19941012,1106,  0.0000,-178.3200, -999,    160.0,  17.8220,  34.9650,2,    2.701,2,    117.5,2,    12.97,2,    12.98,2,     0.01,2,     1.08,2,     0.02,2,0.32,2,   2101.0,2,   2303.0,2,    48.52,2
  35A319940923,    68,  1,     12,     12,2,19941012,1106,  0.0000,-178.3200, -999,    179.1,  15.9580,  35.1610,2, -999.000,9,   -999.0,9,    14.26,2,    14.27,2,     0.01,2,     1.22,2,     0.01,2,0.26,2,   -999.0,9,   -999.0,9,    47.93,2
  35A319940923,    68,  1,     13,     13,2,19941012,1106,  0.0000,-178.3200, -999,   1017.3,   4.5480,  34.5520,2,    1.460,2,     63.3,2,    43.41,2,    43.45,2,     0.04,2,     3.09,2,  -999.00,9,-999,9,   2294.0,2,   2354.0,2,    41.41,2
  35A319940923,    69,  1,      1,      1,2,19941012,2309,  0.0000,-176.2200, -999,      2.0,  30.6730,  34.3270,2,    4.272,2,    186.6,2,     0.00,2,     0.00,2,     0.00,2,     0.13,2,  -999.00,9,-999,9,   1897.0,2,   2250.0,2,    72.06,2
  35A319940923,    69,  1,      2,      2,2,19941012,2309,  0.0000,-176.2200, -999,     19.1,  30.3840,  34.7500,2, -999.000,9,   -999.0,9,     0.00,2,     0.00,2,     0.00,2,     0.14,2,  -999.00,9,-999,9,   1922.0,2,   2278.0,2,    72.74,2
  35A319940923,    69,  1,      3,      3,2,19941012,2309,  0.0000,-176.2200, -999,     39.2,  30.2530,  34.8190,2,    4.354,2,    190.1,2,     0.03,2,     0.03,2,     0.00,2,     0.14,2,  -999.00,9,-999,9,   1927.0,2,   2277.0,2,    72.66,2
  35A319940923,    69,  1,      4,      4,2,19941012,2309,  0.0000,-176.2200, -999,     59.4,  30.0310,  34.9850,2,    4.313,2,    188.3,2,     0.01,2,     0.01,2,     0.00,2,     0.16,2,  -999.00,9,-999,9,   1948.0,2,   2297.0,2,    68.47,2
  35A319940923,    69,  1,      5,      5,2,19941012,2309,  0.0000,-176.2200, -999,     79.5,  29.6000,  35.2140,2,    4.273,2,    186.5,2,     0.06,2,     0.09,2,     0.03,2,     0.22,2,  -999.00,9,-999,9,   1960.0,2,   2302.0,2,    66.85,2
  35A319940923,    69,  1,      6,      6,2,19941012,2309,  0.0000,-176.2200, -999,     90.6,  29.7090,  35.3400,2, -999.000,9,   -999.0,9,     0.12,2,     0.15,2,     0.03,2,     0.24,2,  -999.00,9,-999,9,   -999.0,9,   -999.0,9,    66.53,2
  35A319940923,    69,  1,      7,      7,2,19941012,2309,  0.0000,-176.2200, -999,    100.6,  29.5180,  35.3790,2,    4.164,2,    181.7,2,     0.44,2,     0.56,2,     0.13,2,     0.32,2,  -999.00,9,-999,9,   1978.0,2,   2321.0,2,  -999.00,9
  35A319940923,    69,  1,      8,      8,2,19941012,2309,  0.0000,-176.2200, -999,    110.7,  28.9550,  35.3960,2,    3.814,2,    166.4,2,     2.70,2,     3.90,2,     1.20,2,     0.47,2,  -999.00,9,-999,9,   2000.0,2,   2322.0,2,    66.23,2
  35A319940923,    69,  1,      9,      9,2,19941012,2309,  0.0000,-176.2200, -999,    120.7,  27.0620,  35.3090,2,    3.228,2,    140.8,2,     7.44,2,     7.58,2,     0.14,2,     0.70,2,  -999.00,9,-999,9,   2029.0,2,   2313.0,2,    64.09,2
  35A319940923,    69,  1,     10,     10,2,19941012,2309,  0.0000,-176.2200, -999,    139.9,  19.9760,  35.0250,2,    2.724,2,    118.6,2,    12.28,2,    12.30,2,     0.02,2,     1.06,2,  -999.00,9,-999,9,   2082.0,2,   2309.0,2,    60.82,2
  35A319940923,    69,  1,     11,     11,2,19941012,2309,  0.0000,-176.2200, -999,    161.0,  17.8460,  35.3510,2,    2.534,2,    110.2,2,    14.76,2,    14.83,2,     0.07,2,     1.37,2,  -999.00,9,-999,9,   2124.0,2,   2330.0,2,    60.96,2
  35A319940923,    69,  1,     12,     12,2,19941012,2309,  0.0000,-176.2200, -999,    181.1,  16.9520,  35.3060,2, -999.000,9,   -999.0,9,    15.43,2,    15.44,2,     0.01,2,     1.43,2,  -999.00,9,-999,9,   -999.0,9,   -999.0,9,    52.76,2
  35A319940923,    69,  1,     13,     13,2,19941012,2309,  0.0000,-176.2200, -999,   1009.2,   4.8030,  34.5460,2,    1.600,2,     69.3,2,    47.96,2,    47.96,2,     0.00,2,     3.56,2,  -999.00,9,-999,9,   2287.0,2,   2351.0,2,    48.00,2
  35A319940923,    70,  1,      1,      1,2,19941013,1101,  0.0000,-174.2100, -999,      2.0,  30.3190,  34.4270,2,    4.247,2,    185.5,2,     0.00,2,     0.00,2,     0.00,2,     0.11,2,     0.01,2,0.05,2,   1903.0,2,   2263.0,2,    70.39,2
  35A319940923,    70,  1,      2,      2,2,19941013,1101,  0.0000,-174.2100, -999,     29.2,  30.1980,  34.7630,2,    4.312,2,    188.3,2,     0.00,2,     0.00,2,     0.00,2,     0.13,2,     0.01,2,0.03,2,   1928.0,2,   2284.0,2,    70.16,2
  35A319940923,    70,  1,      3,      3,2,19941013,1101,  0.0000,-174.2100, -999,     49.3,  30.0170,  34.9980,2,    4.343,2,    189.6,2,     0.01,2,     0.01,2,     0.00,2,     0.17,2,     0.01,2,0.06,2,   1947.0,2,   2298.0,2,    69.48,2
  35A319940923,    70,  1,      4,      4,2,19941013,1101,  0.0000,-174.2100, -999,     60.4,  29.8390,  35.0440,2, -999.000,9,   -999.0,9,  -999.00,9,  -999.00,9,  -999.00,9,  -999.00,9,     0.02,2,-999,9,   -999.0,9,   -999.0,9,  -999.00,9
  35A319940923,    70,  1,      5,      5,2,19941013,1101,  0.0000,-174.2100, -999,     69.4,  29.6210,  35.0740,2,    4.378,2,    191.1,2,     0.02,2,     0.02,2,     0.01,2,     0.19,2,     0.01,2,0.11,2,   1963.0,2,   -999.0,9,    70.36,2
  35A319940923,    70,  1,      6,      6,2,19941013,1101,  0.0000,-174.2100, -999,     80.5,  29.5570,  35.2120,2, -999.000,9,   -999.0,9,     0.10,2,     0.14,2,     0.04,2,     0.23,2,  -999.00,9,0.02,2,   1978.0,2,   -999.0,9,    74.98,2
  35A319940923,    70,  1,      7,      7,2,19941013,1101,  0.0000,-174.2100, -999,     89.5,  29.5360,  35.2800,2,    4.340,2,    189.4,2,     0.25,2,     0.32,2,     0.07,2,     0.25,2,     0.02,2,0.19,2,   -999.0,9,   -999.0,9,    72.31,2
  35A319940923,    70,  1,      8,      8,2,19941013,1101,  0.0000,-174.2100, -999,     99.6,  29.3220,  35.3110,2,    4.079,2,    178.0,2,     1.94,2,     2.39,2,     0.45,2,     0.38,2,     0.02,2,0.17,2,   1992.0,2,   2326.0,2,    64.09,2
  35A319940923,    70,  1,      9,      9,2,19941013,1101,  0.0000,-174.2100, -999,    119.7,  25.9310,  35.4210,2, -999.000,9,   -999.0,9,     8.02,2,     8.23,2,     0.21,2,     0.74,2,     0.01,2,0.03,2,   2043.0,2,   2324.0,2,    56.98,2
  35A319940923,    70,  1,     10,     10,2,19941013,1101,  0.0000,-174.2100, -999,    139.9,  20.0670,  35.1450,2,    3.032,2,    132.0,2,    11.80,2,    11.82,2,     0.02,2,     0.95,2,     0.03,2,0.37,2,   2088.0,2,   2314.0,2,    53.67,2
  35A319940923,    70,  1,     11,     11,2,19941013,1101,  0.0000,-174.2100, -999,    160.0,  16.6060,  34.9900,2,    2.704,2,    117.6,2,    14.19,2,    14.21,2,     0.02,2,     1.17,2,     0.02,2,0.06,2,   2110.0,2,   2305.0,2,    54.20,2
  35A319940923,    70,  1,     12,     12,2,19941013,1101,  0.0000,-174.2100, -999,    176.1,  16.4490,  35.0390,2,    2.769,2,    120.4,2,    14.35,2,    14.36,2,     0.01,2,     1.21,2,  -999.00,9,0.06,2,   2115.0,2,   2313.0,2,    52.79,2
  35A319940923,    70,  1,     13,     13,2,19941013,1101,  0.0000,-174.2100, -999,   1013.3,   4.6880,  34.5500,2,    1.440,2,     62.7,2,    45.61,2,    45.62,2,     0.01,2,     3.03,2,  -999.00,9,-999,9,   2294.0,2,   2351.0,2,    47.10,2
  35A319940923,    71,  1,      1,      1,2,19941013,2208,  0.0000,-172.2500, -999,      2.0,  30.2840,  34.7190,2,    4.078,2,    181.9,2,     0.01,2,     0.01,2,     0.00,2,     0.13,2,  -999.00,9,-999,9,   1922.0,2,   2277.0,2,    75.44,2
  35A319940923,    71,  1,      2,      2,2,19941013,2208,  0.0000,-172.2500, -999,     19.1,  30.1670,  34.7800,2,    4.246,2,    185.4,2,     0.01,2,     0.01,2,     0.00,2,     0.13,2,  -999.00,9,-999,9,   1930.0,2,   2288.0,2,    70.11,2
  35A319940923,    71,  1,      3,      3,2,19941013,2208,  0.0000,-172.2500, -999,     39.2,  29.9050,  34.9950,2,    4.238,2,    185.0,2,     0.00,2,     0.01,2,     0.00,2,     0.16,2,  -999.00,9,-999,9,   1948.0,2,   2299.0,2,    71.58,2
  35A319940923,    71,  1,      4,      4,2,19941013,2208,  0.0000,-172.2500, -999,     59.4,  29.5920,  35.1270,2,    4.308,2,    188.0,2,     0.01,2,     0.02,2,     0.01,2,     0.18,2,  -999.00,9,-999,9,   1958.0,2,   2307.0,2,    70.44,2
  35A319940923,    71,  1,      5,      5,2,19941013,2208,  0.0000,-172.2500, -999,     69.4,  29.5740,  35.1410,2,    4.271,2,    186.4,2,     0.01,2,     0.02,2,     0.01,2,     0.18,2,  -999.00,9,-999,9,   1963.0,2,   2308.0,2,    70.45,2
  35A319940923,    71,  1,      6,      6,2,19941013,2208,  0.0000,-172.2500, -999,     80.5,  29.5220,  35.1580,2,    4.278,2,    186.7,2,     0.02,2,     0.04,2,     0.02,2,     0.19,2,  -999.00,9,-999,9,   1964.0,2,   2311.0,2,    70.07,2
  35A319940923,    71,  1,      7,      7,2,19941013,2208,  0.0000,-172.2500, -999,     90.6,  29.5510,  35.1940,2,    4.258,2,    185.8,2,     0.04,2,     0.07,2,     0.03,2,     0.21,2,  -999.00,9,-999,9,   1959.0,2,   2300.0,2,    70.09,2
  35A319940923,    71,  1,      8,      8,2,19941013,2208,  0.0000,-172.2500, -999,    100.6,  29.5440,  35.2790,2,    4.247,2,    185.3,2,     0.21,2,     0.28,2,     0.07,2,     0.22,2,  -999.00,9,-999,9,   1974.0,2,   2321.0,2,    69.22,2
  35A319940923,    71,  1,      9,      9,2,19941013,2208,  0.0000,-172.2500, -999,    117.7,  28.1770,  35.3680,2,    3.696,2,    161.2,2,     5.02,2,     6.10,2,     1.08,2,     0.47,2,  -999.00,9,-999,9,   2000.0,2,   2310.0,2,    60.00,2
  35A319940923,    71,  1,     10,     10,2,19941013,2208,  0.0000,-172.2500, -999,    140.9,  18.7960,  35.2030,2,    2.634,2,    114.6,2,    15.53,2,    15.56,2,     0.03,2,     0.97,2,  -999.00,9,-999,9,   2095.0,2,   2315.0,2,    59.47,2
  35A319940923,    71,  1,     11,     11,2,19941013,2208,  0.0000,-172.2500, -999,    160.0,  17.4190,  35.1010,2,    2.699,2,    117.4,2,    19.06,2,    19.09,2,     0.03,2,     1.06,2,  -999.00,9,-999,9,   2104.0,2,   2308.0,2,    55.14,2
  35A319940923,    71,  1,     12,     12,2,19941013,2208,  0.0000,-172.2500, -999,    180.1,  16.5260,  35.0700,2, -999.000,9,   -999.0,9,  -999.00,9,  -999.00,9,  -999.00,9,     1.02,2,  -999.00,9,-999,9,   -999.0,9,   -999.0,9,    53.87,2
  35A319940923,    71,  1,     13,     13,2,19941013,2208,  0.0000,-172.2500, -999,   1009.2,   4.5720,  34.5520,2,    1.420,2,     61.8,2,    58.06,2,    58.08,2,     0.01,2,     3.00,2,  -999.00,9,-999,9,   2294.0,2,   2354.0,2,    45.42,2
  35A319940923,    72,  1,      1,      1,2,19941014,1012,  0.0000,-170.3500, -999,      2.0,  29.7980,  35.1560,2,    4.333,2,    189.1,2,     0.00,2,     0.01,2,     0.01,2,     0.18,2,     0.02,2,0.22,2,   1966.0,2,   2310.0,2,  -999.00,9
  35A319940923,    72,  1,      2,      2,2,19941014,1012,  0.0000,-170.3500, -999,     28.2,  29.7530,  35.1610,2,    4.365,2,    190.5,2,     0.01,2,     0.02,2,     0.01,2,     0.23,2,     0.02,2,0.95,2,   1955.0,2,   2298.0,2,  -999.00,9
  35A319940923,    72,  1,      3,      3,2,19941014,1012,  0.0000,-170.3500, -999,     49.3,  29.7510,  35.2000,2,    4.384,2,    191.3,2,     0.02,2,     0.05,2,     0.02,2,     0.24,2,     0.02,2,0.82,2,   1960.0,2,   2306.0,2,  -999.00,9
  35A319940923,    72,  1,      4,      4,2,19941014,1012,  0.0000,-170.3500, -999,     59.4,  29.6590,  35.2260,2,    4.430,2,    193.3,2,     0.12,2,     0.17,2,     0.05,2,     0.26,2,  -999.00,9,0.19,2,   1965.0,2,   2313.0,2,  -999.00,9
  35A319940923,    72,  1,      5,      5,2,19941014,1012,  0.0000,-170.3500, -999,     69.4,  29.5990,  35.2600,2,    4.322,2,    188.6,2,     0.26,2,     0.34,2,     0.09,2,     0.27,2,     0.03,2,0.22,2,   1970.0,2,   2315.0,2,  -999.00,9
  35A319940923,    72,  1,      6,      6,2,19941014,1012,  0.0000,-170.3500, -999,     80.5,  29.5220,  35.3060,2,    4.123,2,    179.9,2,     0.24,2,     0.32,2,     0.08,2,     0.28,2,     0.03,2,0.27,2,   1962.0,2,   2307.0,2,  -999.00,9
  35A319940923,    72,  1,      7,      7,2,19941014,1012,  0.0000,-170.3500, -999,     90.6,  29.2290,  35.2960,2,    4.203,2,    183.4,2,     1.71,2,     2.15,2,     0.44,2,     0.35,2,     0.03,2,1.9,2,   1982.0,2,   2318.0,2,  -999.00,9
  35A319940923,    72,  1,      8,      8,2,19941014,1012,  0.0000,-170.3500, -999,     99.6,  28.5400,  35.1200,2,    3.860,2,    168.4,2,     3.82,2,     5.22,2,     1.40,2,     0.47,2,     0.02,2,0.92,2,   1989.0,2,   2310.0,2,  -999.00,9
  35A319940923,    72,  1,      9,      9,2,19941014,1012,  0.0000,-170.3500, -999,    118.7,  27.9450,  35.2460,2,    3.650,2,    159.2,2,     6.68,2,     8.06,2,     1.38,2,     0.56,2,     0.02,2,0.46,2,   2003.0,2,   2306.0,2,  -999.00,9
  35A319940923,    72,  1,     10,     10,2,19941014,1012,  0.0000,-170.3500, -999,    139.9,  20.9360,  34.9350,2,    2.736,2,    119.1,2,    17.86,2,    17.90,2,     0.04,2,     0.89,2,     0.02,2,0.11,2,   2065.0,2,   2296.0,2,  -999.00,9
  35A319940923,    72,  1,     11,     11,2,19941014,1012,  0.0000,-170.3500, -999,    160.0,  18.6180,  35.1690,2,    2.699,2,    117.4,2,    20.59,2,    20.62,2,     0.04,2,     1.05,2,     0.03,2,0.19,2,   2099.0,2,   2315.0,2,  -999.00,9
  35A319940923,    72,  1,     12,     12,2,19941014,1012,  0.0000,-170.3500, -999,    182.2,  17.0660,  35.0850,2, -999.000,9,   -999.0,9,    22.69,2,    22.73,2,     0.04,2,     1.15,2,     0.01,2,0.21,2,   -999.0,9,   -999.0,9,  -999.00,9
  35A319940923,    72,  1,     13,     13,2,19941014,1012,  0.0000,-170.3500, -999,   1011.2,   4.6050,  34.5510,2,    1.420,2,     61.7,2,  -999.00,9,    84.26,3,     0.03,2,     3.03,2,  -999.00,9,-999,9,   2290.0,2,   2347.0,2,  -999.00,9