BOTTLE,20120829IOSDFOJC
EXPOCODE,STNNBR,CASTNO,SAMPNO,BTLNBR,BTLNBR_FLAG_W,DATE,TIME,LATITUDE,LONGITUDE,DEPTH,CTDPRS,CTDTMP,CTDSAL,CTDSAL_FLAG_W,CTDOXY,CTDOXY_FLAG_W,OXYGEN,OXYGEN_FLAG_W,NITRAT,NITRAT_FLAG_W,NO2+NO3,NO2+NO3_FLAG_W,NITRIT,NITRIT_FLAG_W,PHSPHT,PHSPHT_FLAG_W,SILCAT,SILCAT_FLAG_W,NH4,NH4_FLAG_W,TCARBN,TCARBN_FLAG_W,ALKALI,ALKALI_FLAG_W,DOC,DOC_FLAG_W
,,,,,,,,,,METERS,DBARS,,,,ML/L,,UMOL/KG,,UMOL/KG,,UMOL/KG,,UMOL/KG,,UMOL/KG,,UMOL/KG,,UMOL/KG,,UMOL/KG,,UMOL/KG,,UMOL/KG,
  35A319940923,    38,  1,      1,      1,2,19941005,0410,  0.0300, 166.4300, -999,      2.0,  29.3390,  33.7040,2,    4.320,2,    188.7,2,     0.00,2,     0.00,2,     0.00,2,     0.03,2,  -999.00,9,0.05,2,   1868.0,2,   2207.0,2,    68.76,2
  35A319940923,    38,  1,      2,      2,2,19941005,0410,  0.0300, 166.4300, -999,     19.1,  29.1770,  33.9000,2,    4.323,2,    188.8,2,     0.00,2,     0.00,2,     0.00,2,     0.04,2,  -999.00,9,0.19,2,   1879.0,2,   2220.0,2,    70.63,2
  35A319940923,    38,  1,      3,      3,2,19941005,0410,  0.0300, 166.4300, -999,     39.2,  29.1460,  33.8980,2,    4.323,2,    188.8,2,     0.00,2,     0.00,2,     0.00,2,     0.04,2,  -999.00,9,0.08,2,   1876.0,2,   2217.0,2,    70.12,2
  35A319940923,    38,  1,      4,      4,2,19941005,0410,  0.0300, 166.4300, -999,     50.3,  29.1530,  33.9020,2,    4.339,2,    189.5,2,     0.00,2,     0.00,2,     0.00,2,     0.05,2,  -999.00,9,0.02,2,   1876.0,2,   2220.0,2,    69.58,2
  35A319940923,    38,  1,      5,      5,2,19941005,0410,  0.0300, 166.4300, -999,     59.4,  29.1540,  33.9040,2,    4.344,2,    189.7,2,     0.00,2,     0.00,2,     0.00,2,     0.05,2,  -999.00,9,0.02,2,   1878.0,2,   2219.0,2,    69.60,2
  35A319940923,    38,  1,      6,      6,2,19941005,0410,  0.0300, 166.4300, -999,     68.4,  29.1590,  33.9080,2,    4.305,2,    188.0,2,     0.00,2,     0.00,2,     0.00,2,     0.05,2,  -999.00,9,0.03,2,   1876.0,2,   2217.0,2,    69.18,2
  35A319940923,    38,  1,      7,      7,2,19941005,0410,  0.0300, 166.4300, -999,     79.5,  29.1770,  33.9260,2,    4.341,2,    189.6,2,     0.00,2,     0.00,2,     0.00,2,     0.07,2,  -999.00,9,0.04,2,   1878.0,2,   2220.0,2,    69.46,2
  35A319940923,    38,  1,      8,      8,2,19941005,0410,  0.0300, 166.4300, -999,     88.5,  29.2760,  34.4210,2,    4.113,2,    179.6,2,     0.44,2,     0.49,2,     0.05,2,     0.15,2,  -999.00,9,0.02,2,   1931.0,2,   2260.0,2,    65.83,2
  35A319940923,    38,  1,      9,      9,2,19941005,0410,  0.0300, 166.4300, -999,     99.6,  23.5910,  35.0110,2,    2.900,2,    126.5,2,     8.74,2,     8.84,2,     0.10,2,     0.64,2,  -999.00,9,0.71,2,   2040.0,2,   2292.0,2,    52.76,2
  35A319940923,    38,  1,     10,     10,2,19941005,0410,  0.0300, 166.4300, -999,    109.7,  21.8790,  35.2140,2,    2.700,2,    117.6,2,    10.14,2,    10.17,2,     0.03,2,     0.78,2,  -999.00,9,0,2,   2067.0,2,   2308.0,2,    53.23,2
  35A319940923,    38,  1,     11,     11,2,19941005,0410,  0.0300, 166.4300, -999,    120.7,  20.8820,  35.2140,2,    2.802,2,    122.0,2,    10.71,2,    10.73,2,     0.02,2,     0.84,2,  -999.00,9,0.01,2,   2075.0,2,   2307.0,2,    58.54,2
  35A319940923,    38,  1,     12,     12,2,19941005,0410,  0.0300, 166.4300, -999,    158.0,  19.0340,  35.3430,2,    2.777,2,    120.8,2,    11.70,2,    11.71,2,     0.01,2,     0.95,2,  -999.00,9,0.07,2,   2097.0,2,   2316.0,2,    50.57,2
  35A319940923,    38,  1,     13,     13,2,19941005,0410,  0.0300, 166.4300, -999,    196.2,  17.8140,  35.2680,2,    2.881,2,    125.3,2,    12.81,2,    12.82,2,     0.01,2,     1.03,2,  -999.00,9,-999,9,   2102.0,2,   2319.0,2,    50.41,2
  35A319940923,    38,  1,     14,     14,2,19941005,0410,  0.0300, 166.4300, -999,    246.6,  14.6540,  35.1340,2,    2.857,2,    124.2,2,    15.47,2,    15.47,2,     0.00,2,     1.29,2,  -999.00,9,-999,9,   2134.0,2,   2319.0,2,    49.45,2
  35A319940923,    38,  1,     15,     15,2,19941005,0410,  0.0300, 166.4300, -999,    302.0,  12.8780,  34.9360,2,    2.895,2,    125.8,2,    13.46,2,    13.47,2,     0.01,2,     1.11,2,  -999.00,9,-999,9,   -999.0,9,   2307.0,2,    54.20,2
  35A319940923,    38,  1,     16,     16,2,19941005,0410,  0.0300, 166.4300, -999,    603.4,   7.1140,  34.5680,2,    1.884,2,     81.8,2,    42.02,2,    42.02,2,     0.00,2,     2.51,2,  -999.00,9,-999,9,   -999.0,9,   -999.0,9,    43.69,2
  35A319940923,    38,  1,     17,     17,2,19941005,0410,  0.0300, 166.4300, -999,   1008.2,   4.8420,  34.5450,2,    1.893,2,     82.2,2,    42.57,2,    42.57,2,     0.00,2,     2.85,2,  -999.00,9,-999,9,   2281.0,2,   2346.0,2,    46.70,2
  35A319940923,    38,  1,     18,     18,2,19941005,0410,  0.0300, 166.4300, -999,   1513.0,   3.0540,  34.6000,2,    1.952,2,     84.7,2,    44.22,2,    44.22,2,     0.00,2,     2.95,2,  -999.00,9,-999,9,   2324.0,2,   2385.0,2,  -999.00,9
  35A319940923,    38,  1,     19,     19,2,19941005,0410,  0.0300, 166.4300, -999,   2020.0,   2.2820,  34.6370,2,    2.166,2,     94.0,2,    40.26,2,    40.26,2,     0.00,2,     2.70,2,  -999.00,9,-999,9,   -999.0,9,   -999.0,9,  -999.00,9
  35A319940923,    38,  1,     20,     20,2,19941005,0410,  0.0300, 166.4300, -999,   2529.1,   1.9610,  34.6540,2,    2.537,2,    110.1,2,    40.00,2,    40.00,2,     0.00,2,     2.84,2,  -999.00,9,-999,9,   2328.0,2,   2410.0,2,  -999.00,9
  35A319940923,    38,  1,     21,     21,2,19941005,0410,  0.0300, 166.4300, -999,   3038.4,   1.6820,  34.6690,2,    2.929,2,    127.1,2,    40.80,2,    40.80,2,     0.00,2,     2.77,2,  -999.00,9,-999,9,   2332.0,2,   2414.0,2,  -999.00,9
  35A319940923,    38,  1,     22,     22,2,19941005,0410,  0.0300, 166.4300, -999,   3548.8,   1.5560,  34.6790,2,    3.102,2,    134.6,2,    40.40,2,    40.40,2,     0.00,2,     2.71,2,  -999.00,9,-999,9,   2327.0,2,   2415.0,2,  -999.00,9
  35A319940923,    38,  1,     23,     23,2,19941005,0410,  0.0300, 166.4300, -999,   4058.4,   1.4640,  34.6890,2, -999.000,9,   -999.0,9,    38.00,2,    38.00,2,     0.00,2,     2.65,2,  -999.00,9,-999,9,   -999.0,9,   -999.0,9,  -999.00,9
  35A319940923,    38,  1,     24,     24,2,19941005,0410,  0.0300, 166.4300, -999,   4372.1,   1.3300,  34.7000,2,    3.940,2,    171.0,2,    39.40,2,    39.40,2,     0.00,2,     2.73,2,  -999.00,9,-999,9,   -999.0,9,   -999.0,9,  -999.00,9
  35A319940923,    39,  1,      1,      1,2,19941005,0837, -0.0400, 166.3900, -999,      2.0,  29.1370,  33.6990,2, -999.000,9,   -999.0,9,     0.00,2,     0.00,2,     0.00,2,     0.03,2,  -999.00,9,-999,9,   1868.0,2,   2212.0,2,  -999.00,9
  35A319940923,    39,  1,      2,      2,2,19941005,0837, -0.0400, 166.3900, -999,     21.1,  29.1210,  33.8800,2, -999.000,9,   -999.0,9,     0.00,2,     0.00,2,     0.00,2,     0.04,2,  -999.00,9,-999,9,   1876.0,2,   2221.0,2,  -999.00,9
  35A319940923,    39,  1,      3,      3,2,19941005,0837, -0.0400, 166.3900, -999,     38.2,  29.1490,  33.9000,2, -999.000,9,   -999.0,9,     0.00,2,     0.00,2,     0.00,2,     0.04,2,  -999.00,9,-999,9,   1877.0,2,   2224.0,2,  -999.00,9
  35A319940923,    39,  1,      4,      4,2,19941005,0837, -0.0400, 166.3900, -999,     50.3,  29.1600,  33.9000,2, -999.000,9,   -999.0,9,  -999.00,9,  -999.00,9,  -999.00,9,     0.04,2,  -999.00,9,-999,9,   1878.0,2,   2224.0,2,  -999.00,9
  35A319940923,    39,  1,      5,      5,2,19941005,0837, -0.0400, 166.3900, -999,     60.4,  29.1580,  33.9070,2, -999.000,9,   -999.0,9,     0.00,2,     0.00,2,     0.00,2,     0.04,2,  -999.00,9,-999,9,   1879.0,2,   2224.0,2,  -999.00,9
  35A319940923,    39,  1,      6,      6,2,19941005,0837, -0.0400, 166.3900, -999,     74.5,  29.1760,  33.9300,2, -999.000,9,   -999.0,9,     8.43,2,     8.53,2,     0.10,2,     0.58,2,  -999.00,9,-999,9,   1880.0,2,   2227.0,2,  -999.00,9
  35A319940923,    39,  1,      7,      7,2,19941005,0837, -0.0400, 166.3900, -999,     99.6,  23.4440,  35.0350,2, -999.000,9,   -999.0,9,     8.46,2,     8.57,2,     0.11,2,     0.64,2,  -999.00,9,-999,9,   2066.0,2,   -999.0,9,  -999.00,9
  35A319940923,    39,  1,      8,      8,2,19941005,0837, -0.0400, 166.3900, -999,    110.7,  22.2360,  35.2220,2, -999.000,9,   -999.0,9,     9.92,2,     9.95,2,     0.03,2,     0.76,2,  -999.00,9,-999,9,   -999.0,9,   -999.0,9,  -999.00,9
  35A319940923,    39,  1,      9,      9,2,19941005,0837, -0.0400, 166.3900, -999,    120.7,  20.7900,  35.2470,2, -999.000,9,   -999.0,9,    10.65,2,    10.67,2,     0.02,2,     0.84,2,  -999.00,9,-999,9,   2076.0,2,   2310.0,2,  -999.00,9
  35A319940923,    39,  1,     10,     10,2,19941005,0837, -0.0400, 166.3900, -999,    130.8,  20.1180,  35.2920,2, -999.000,9,   -999.0,9,    10.92,2,    10.94,2,     0.02,2,     0.88,2,  -999.00,9,-999,9,   2088.0,2,   2318.0,2,  -999.00,9
  35A319940923,    39,  1,     11,     11,2,19941005,0837, -0.0400, 166.3900, -999,    140.9,  19.1550,  35.3190,2, -999.000,9,   -999.0,9,    11.65,2,    11.66,2,     0.01,2,     0.94,2,  -999.00,9,-999,9,   2094.0,2,   2317.0,2,  -999.00,9
  35A319940923,    39,  1,     12,     12,2,19941005,0837, -0.0400, 166.3900, -999,    150.9,  19.1500,  35.3320,2, -999.000,9,   -999.0,9,    11.72,2,    11.74,2,     0.01,2,     0.94,2,  -999.00,9,-999,9,   2090.0,2,   2316.0,2,  -999.00,9
  35A319940923,    39,  1,     13,     13,2,19941005,0837, -0.0400, 166.3900, -999,    162.0,  18.3510,  35.2650,2, -999.000,9,   -999.0,9,    12.27,2,    12.28,2,     0.01,2,     1.00,2,  -999.00,9,-999,9,   2101.0,2,   2318.0,2,  -999.00,9
  35A319940923,    39,  1,     14,     14,2,19941005,0837, -0.0400, 166.3900, -999,    182.2,  17.8680,  35.2580,2, -999.000,9,   -999.0,9,    12.60,2,    12.61,2,     0.01,2,     1.03,2,  -999.00,9,-999,9,   2101.0,2,   2312.0,2,  -999.00,9
  35A319940923,    39,  1,     15,     15,2,19941005,0837, -0.0400, 166.3900, -999,    200.3,  16.7040,  35.1870,2, -999.000,9,   -999.0,9,    13.50,2,    13.51,2,     0.01,2,     1.12,2,  -999.00,9,-999,9,   2114.0,2,   2312.0,2,  -999.00,9
  35A319940923,    40,  1,      1,      1,2,19941005,1201,  0.0700, 166.4000, -999,      6.0,  29.0410,  33.5950,2, -999.000,9,   -999.0,9,     0.00,2,     0.00,2,     0.00,2,     0.04,2,  -999.00,9,-999,9,   -999.0,9,   -999.0,9,  -999.00,9
  35A319940923,    40,  1,      2,      2,2,19941005,1201,  0.0700, 166.4000, -999,     11.1,  29.2080,  33.8840,2, -999.000,9,   -999.0,9,     0.00,2,     0.00,2,     0.00,2,     0.04,2,  -999.00,9,-999,9,   -999.0,9,   -999.0,9,  -999.00,9
  35A319940923,    40,  1,      3,      3,2,19941005,1201,  0.0700, 166.4000, -999,     20.1,  29.1760,  33.9000,2, -999.000,9,   -999.0,9,     0.00,2,     0.00,2,     0.00,2,     0.04,2,  -999.00,9,-999,9,   -999.0,9,   -999.0,9,  -999.00,9
  35A319940923,    40,  1,      4,      4,2,19941005,1201,  0.0700, 166.4000, -999,     39.2,  29.1670,  33.9050,2, -999.000,9,   -999.0,9,     0.00,2,     0.00,2,     0.00,2,     0.03,2,  -999.00,9,-999,9,   -999.0,9,   -999.0,9,  -999.00,9
  35A319940923,    40,  1,      5,      5,2,19941005,1201,  0.0700, 166.4000, -999,     50.3,  29.1510,  33.9030,2, -999.000,9,   -999.0,9,     0.00,2,     0.00,2,     0.00,2,     0.04,2,  -999.00,9,-999,9,   -999.0,9,   -999.0,9,  -999.00,9
  35A319940923,    40,  1,      6,      6,2,19941005,1201,  0.0700, 166.4000, -999,     60.4,  29.1490,  33.9040,2, -999.000,9,   -999.0,9,     0.00,2,     0.00,2,     0.00,2,     0.03,2,  -999.00,9,-999,9,   -999.0,9,   -999.0,9,  -999.00,9
  35A319940923,    40,  1,      7,      7,2,19941005,1201,  0.0700, 166.4000, -999,     70.4,  29.1830,  33.9260,2, -999.000,9,   -999.0,9,     0.01,2,     0.01,2,     0.00,2,     0.04,2,  -999.00,9,-999,9,   -999.0,9,   -999.0,9,  -999.00,9
  35A319940923,    40,  1,      8,      8,2,19941005,1201,  0.0700, 166.4000, -999,     79.5,  29.3020,  34.1190,2, -999.000,9,   -999.0,9,     1.96,2,     2.01,2,     0.04,2,     0.18,2,  -999.00,9,-999,9,   -999.0,9,   -999.0,9,  -999.00,9
  35A319940923,    40,  1,      9,      9,2,19941005,1201,  0.0700, 166.4000, -999,    100.6,  23.0710,  35.0790,2, -999.000,9,   -999.0,9,     9.11,2,     9.16,2,     0.05,2,     0.64,2,  -999.00,9,-999,9,   -999.0,9,   -999.0,9,  -999.00,9
  35A319940923,    40,  1,     10,     10,2,19941005,1201,  0.0700, 166.4000, -999,    110.7,  22.0760,  35.2160,2, -999.000,9,   -999.0,9,    10.15,2,    10.18,2,     0.03,2,     0.77,2,  -999.00,9,-999,9,   -999.0,9,   -999.0,9,  -999.00,9
  35A319940923,    40,  1,     11,     11,2,19941005,1201,  0.0700, 166.4000, -999,    120.7,  20.8770,  35.2140,2, -999.000,9,   -999.0,9,  -999.00,9,  -999.00,9,  -999.00,9,  -999.00,9,  -999.00,9,-999,9,   -999.0,9,   -999.0,9,  -999.00,9
  35A319940923,    40,  1,     12,     12,2,19941005,1201,  0.0700, 166.4000, -999,    140.9,  19.1790,  35.3170,2, -999.000,9,   -999.0,9,    11.62,2,    11.64,2,     0.02,2,     0.88,2,  -999.00,9,-999,9,   -999.0,9,   -999.0,9,  -999.00,9
  35A319940923,    40,  1,     13,     13,2,19941005,1201,  0.0700, 166.4000, -999,    152.0,  19.1710,  35.3350,2, -999.000,9,   -999.0,9,    11.23,2,    11.25,2,     0.02,2,     0.87,2,  -999.00,9,-999,9,   -999.0,9,   -999.0,9,  -999.00,9
  35A319940923,    40,  1,     14,     14,2,19941005,1201,  0.0700, 166.4000, -999,    180.1,  17.7710,  35.2470,2, -999.000,9,   -999.0,9,    12.71,2,    12.72,2,     0.01,2,     1.01,2,  -999.00,9,-999,9,   -999.0,9,   -999.0,9,  -999.00,9
  35A319940923,    40,  1,     15,     15,2,19941005,1201,  0.0700, 166.4000, -999,    201.3,  16.1240,  35.1310,2, -999.000,9,   -999.0,9,    14.19,2,    14.20,2,     0.01,2,     1.15,2,  -999.00,9,-999,9,   -999.0,9,   -999.0,9,  -999.00,9
  35A319940923,    41,  1,      1,      1,2,19941005,1608,  0.0700, 166.3900, -999,      3.0,  29.1120,  33.7550,2,    4.366,2,    190.7,2,     0.00,2,     0.00,2,     0.00,2,  -999.00,9,     0.01,2,0.4,2,   -999.0,9,   -999.0,9,  -999.00,9
  35A319940923,    41,  1,      2,      2,2,19941005,1608,  0.0700, 166.3900, -999,      9.1,  29.1180,  33.7820,2,    4.375,2,    191.1,2,     0.00,2,     0.00,2,     0.00,2,  -999.00,9,     0.01,2,0.31,2,   -999.0,9,   -999.0,9,  -999.00,9
  35A319940923,    41,  1,      3,      3,2,19941005,1608,  0.0700, 166.3900, -999,     18.1,  29.1860,  33.9070,2,    4.394,2,    191.9,2,     0.00,2,     0.00,2,     0.00,2,  -999.00,9,     0.01,2,0.07,2,   -999.0,9,   -999.0,9,  -999.00,9
  35A319940923,    41,  1,      4,      4,2,19941005,1608,  0.0700, 166.3900, -999,     29.2,  29.1760,  33.9100,2,    4.350,2,    190.0,2,     0.00,2,     0.00,2,     0.00,2,  -999.00,9,     0.02,2,0.48,2,   -999.0,9,   -999.0,9,  -999.00,9
  35A319940923,    41,  1,      5,      5,2,19941005,1608,  0.0700, 166.3900, -999,     39.2,  29.1770,  33.9130,2,    4.360,2,    190.4,2,     0.00,2,     0.00,2,     0.00,2,  -999.00,9,     0.02,2,0.56,2,   -999.0,9,   -999.0,9,  -999.00,9
  35A319940923,    41,  1,      6,      6,2,19941005,1608,  0.0700, 166.3900, -999,     49.3,  29.1810,  33.9160,2,    4.327,2,    189.0,2,     0.00,2,     0.00,2,     0.00,2,  -999.00,9,     0.02,2,0.35,2,   -999.0,9,   -999.0,9,  -999.00,9
  35A319940923,    41,  1,      7,      7,2,19941005,1608,  0.0700, 166.3900, -999,     60.4,  29.2030,  33.9300,2,    4.337,2,    189.4,2,     0.00,2,     0.00,2,     0.00,2,  -999.00,9,     0.02,2,0.07,2,   -999.0,9,   -999.0,9,  -999.00,9
  35A319940923,    41,  1,      8,      8,2,19941005,1608,  0.0700, 166.3900, -999,     69.4,  29.2400,  33.9660,2,    4.245,2,    185.4,2,     0.03,2,     0.03,2,     0.00,2,  -999.00,9,     0.03,2,0.4,2,   -999.0,9,   -999.0,9,  -999.00,9
  35A319940923,    41,  1,      9,      9,2,19941005,1608,  0.0700, 166.3900, -999,     79.5,  29.2780,  34.4150,2, -999.000,9,   -999.0,9,     2.34,2,     2.42,2,     0.08,2,     0.20,2,     0.03,2,1.2,2,   -999.0,9,   -999.0,9,  -999.00,9
  35A319940923,    41,  1,     10,     10,2,19941005,1608,  0.0700, 166.3900, -999,     98.6,  22.9320,  35.0970,2,    2.774,2,    120.8,2,     9.18,2,     9.23,2,     0.05,2,     0.68,2,     0.04,2,0.16,2,   -999.0,9,   -999.0,9,  -999.00,9
  35A319940923,    41,  1,     11,     11,2,19941005,1608,  0.0700, 166.3900, -999,    118.7,  21.2420,  35.2220,2,    2.770,2,    120.6,2,    10.09,2,    10.12,2,     0.03,2,     0.79,2,     0.03,2,0.44,2,   -999.0,9,   -999.0,9,  -999.00,9
  35A319940923,    41,  1,     12,     12,2,19941005,1608,  0.0700, 166.3900, -999,    149.9,  19.2600,  35.3240,2,    2.730,2,    118.7,2,    11.28,2,    11.29,2,     0.01,2,     0.91,2,     0.03,2,0.27,2,   -999.0,9,   -999.0,9,  -999.00,9
  35A319940923,    42,  1,      1,      1,2,19941005,1944,  0.0700, 166.3900, -999,      2.0,  29.0180,  33.7490,2, -999.000,9,   -999.0,9,     0.00,2,     0.00,2,     0.00,2,  -999.00,9,  -999.00,9,-999,9,   1866.0,2,   2204.0,2,  -999.00,9
  35A319940923,    42,  1,      2,      2,2,19941005,1944,  0.0700, 166.3900, -999,     20.1,  29.2030,  33.9140,2, -999.000,9,   -999.0,9,     0.00,2,     0.00,2,     0.00,2,     0.04,2,  -999.00,9,-999,9,   1876.0,2,   2218.0,2,  -999.00,9
  35A319940923,    42,  1,      3,      3,2,19941005,1944,  0.0700, 166.3900, -999,     40.2,  29.1860,  33.9190,2, -999.000,9,   -999.0,9,     0.00,2,     0.00,2,     0.00,2,     0.05,2,  -999.00,9,-999,9,   1877.0,2,   2218.0,2,  -999.00,9
  35A319940923,    42,  1,      4,      4,2,19941005,1944,  0.0700, 166.3900, -999,     60.4,  29.2050,  33.9320,2, -999.000,9,   -999.0,9,     0.00,2,     0.00,2,     0.00,2,     0.05,2,  -999.00,9,-999,9,   1879.0,2,   2221.0,2,  -999.00,9
  35A319940923,    42,  1,      5,      5,2,19941005,1944,  0.0700, 166.3900, -999,     80.5,  29.3400,  34.1680,2, -999.000,9,   -999.0,9,     0.02,2,     0.02,2,     0.00,2,     0.05,2,  -999.00,9,-999,9,   1900.0,2,   2237.0,2,  -999.00,9
  35A319940923,    42,  1,      6,      6,2,19941005,1944,  0.0700, 166.3900, -999,     90.6,  23.1240,  35.0310,2, -999.000,9,   -999.0,9,     8.57,2,     8.65,2,     0.08,2,     0.61,2,  -999.00,9,-999,9,   2043.0,2,   2291.0,2,  -999.00,9
  35A319940923,    42,  1,      7,      7,2,19941005,1944,  0.0700, 166.3900, -999,    100.6,  22.1630,  35.2220,2, -999.000,9,   -999.0,9,     9.82,2,     9.85,2,     0.03,2,     0.74,2,  -999.00,9,-999,9,   2067.0,2,   2303.0,2,  -999.00,9
  35A319940923,    42,  1,      8,      8,2,19941005,1944,  0.0700, 166.3900, -999,    110.7,  21.5970,  35.2270,2, -999.000,9,   -999.0,9,    10.18,2,    10.21,2,     0.03,2,     0.79,2,  -999.00,9,-999,9,   2067.0,2,   2303.0,2,  -999.00,9
  35A319940923,    42,  1,      9,      9,2,19941005,1944,  0.0700, 166.3900, -999,    119.7,  21.0110,  35.2290,2, -999.000,9,   -999.0,9,    10.43,2,    10.45,2,     0.02,2,     0.83,2,  -999.00,9,-999,9,   2076.0,2,   2308.0,2,  -999.00,9
  35A319940923,    42,  1,     10,     10,2,19941005,1944,  0.0700, 166.3900, -999,    141.9,  19.6910,  35.3120,2, -999.000,9,   -999.0,9,    11.19,2,    11.21,2,     0.02,2,     0.91,2,  -999.00,9,-999,9,   2089.0,2,   2312.0,2,  -999.00,9
  35A319940923,    42,  1,     11,     11,2,19941005,1944,  0.0700, 166.3900, -999,    161.0,  19.2920,  35.3450,2, -999.000,9,   -999.0,9,    11.43,2,    11.45,2,     0.02,2,     0.81,2,  -999.00,9,-999,9,   2093.0,2,   2316.0,2,  -999.00,9
  35A319940923,    42,  1,     12,     12,2,19941005,1944,  0.0700, 166.3900, -999,    201.3,  17.3820,  35.2800,2, -999.000,9,   -999.0,9,    12.69,2,    12.70,2,     0.01,2,     0.97,2,  -999.00,9,-999,9,   2106.0,2,   2314.0,2,  -999.00,9
  35A319940923,    42,  1,     13,     13,2,19941005,1944,  0.0700, 166.3900, -999,    251.6,  14.2400,  35.0900,2, -999.000,9,   -999.0,9,    15.93,2,    15.94,2,     0.01,2,     1.30,2,  -999.00,9,-999,9,   2138.0,2,   2306.0,2,  -999.00,9
  35A319940923,    42,  1,     14,     14,2,19941005,1944,  0.0700, 166.3900, -999,    302.0,  12.6930,  34.9250,2, -999.000,9,   -999.0,9,    17.55,2,    17.56,2,     0.01,2,     1.43,2,  -999.00,9,-999,9,   2150.0,2,   2300.0,2,  -999.00,9