BOTTLE,20120829IOSDFOJC
EXPOCODE,STNNBR,CASTNO,SAMPNO,BTLNBR,BTLNBR_FLAG_W,DATE,TIME,LATITUDE,LONGITUDE,DEPTH,CTDPRS,CTDTMP,CTDSAL,CTDSAL_FLAG_W,CTDOXY,CTDOXY_FLAG_W,OXYGEN,OXYGEN_FLAG_W,NITRAT,NITRAT_FLAG_W,NO2+NO3,NO2+NO3_FLAG_W,NITRIT,NITRIT_FLAG_W,PHSPHT,PHSPHT_FLAG_W,SILCAT,SILCAT_FLAG_W,NH4,NH4_FLAG_W,TCARBN,TCARBN_FLAG_W,ALKALI,ALKALI_FLAG_W,DOC,DOC_FLAG_W
,,,,,,,,,,METERS,DBARS,,,,ML/L,,UMOL/KG,,UMOL/KG,,UMOL/KG,,UMOL/KG,,UMOL/KG,,UMOL/KG,,UMOL/KG,,UMOL/KG,,UMOL/KG,,UMOL/KG,
  35A319940923,    73,  1,      1,      1,2,19941014,2210,  0.0000,-168.3100, -999,      3.0,  30.2510,  35.2500,2,    4.260,2,    185.9,2,     0.00,2,     0.01,2,     0.01,2,     0.19,2,  -999.00,9,-999,9,   1963.0,2,   2313.0,2,    70.94,2
  35A319940923,    73,  1,      2,      2,2,19941014,2210,  0.0000,-168.3100, -999,     20.1,  29.7040,  35.2360,2,    4.310,2,    188.1,2,     0.02,2,     0.02,2,     0.01,2,     0.18,2,  -999.00,9,-999,9,   1964.0,2,   2308.0,2,    71.78,2
  35A319940923,    73,  1,      3,      3,2,19941014,2210,  0.0000,-168.3100, -999,     40.2,  29.5080,  35.2500,2,    4.194,2,    183.0,2,     0.59,2,     0.74,2,     0.15,2,     0.26,2,  -999.00,9,-999,9,   1972.0,2,   2315.0,2,    71.16,2
  35A319940923,    73,  1,      4,      4,2,19941014,2210,  0.0000,-168.3100, -999,     50.3,  29.1530,  35.3610,2,    4.172,2,    182.0,2,     1.26,2,     1.50,2,     0.24,2,     0.31,2,  -999.00,9,-999,9,   1988.0,2,   2326.0,2,    71.14,2
  35A319940923,    73,  1,      5,      5,2,19941014,2210,  0.0000,-168.3100, -999,     60.4,  29.1610,  35.3850,2,    4.128,2,    180.1,2,     1.26,2,     1.49,2,     0.23,2,     0.31,2,  -999.00,9,-999,9,   1984.0,2,   2321.0,2,    70.28,2
  35A319940923,    73,  1,      6,      6,2,19941014,2210,  0.0000,-168.3100, -999,     80.5,  28.8050,  35.3990,2,    4.076,2,    177.8,2,     2.19,2,     2.62,2,     0.43,2,     0.38,2,  -999.00,9,-999,9,   1997.0,2,   2324.0,2,    70.24,2
  35A319940923,    73,  1,      7,      7,2,19941014,2210,  0.0000,-168.3100, -999,     88.5,  28.4870,  35.3860,2,    4.000,2,    174.5,2,     2.94,2,     3.58,2,     0.64,2,     0.44,2,  -999.00,9,-999,9,   2005.0,2,   2325.0,2,    67.43,2
  35A319940923,    73,  1,      8,      8,2,19941014,2210,  0.0000,-168.3100, -999,     99.6,  28.3710,  35.4080,2,    3.822,2,    166.7,2,     3.46,2,     4.69,2,     1.23,2,     0.47,2,  -999.00,9,-999,9,   2004.0,2,   2319.0,2,    67.61,2
  35A319940923,    73,  1,      9,      9,2,19941014,2210,  0.0000,-168.3100, -999,    117.7,  27.1200,  35.2910,2,    3.279,2,    143.0,2,     6.39,2,     6.78,2,     0.39,2,     0.57,2,  -999.00,9,-999,9,   2023.0,2,   2313.0,2,    62.88,2
  35A319940923,    73,  1,     10,     10,2,19941014,2210,  0.0000,-168.3100, -999,    139.9,  23.3410,  34.9580,2,    2.767,2,    120.6,2,     9.63,2,     9.69,2,     0.06,2,     0.70,2,  -999.00,9,-999,9,   2044.0,2,   2295.0,2,    47.59,2
  35A319940923,    73,  1,     11,     11,2,19941014,2210,  0.0000,-168.3100, -999,    161.0,  17.9060,  35.1530,2,    2.635,2,    114.6,2,    13.80,2,    13.84,2,     0.04,2,     1.04,2,  -999.00,9,-999,9,   2106.0,2,   2312.0,2,    53.83,2
  35A319940923,    73,  1,     12,     12,2,19941014,2210,  0.0000,-168.3100, -999,    181.1,  16.7590,  35.1420,2, -999.000,9,   -999.0,9,    14.92,2,    14.96,2,     0.04,2,     1.16,2,  -999.00,9,-999,9,   -999.0,9,   -999.0,9,   104.30,2
  35A319940923,    73,  1,     13,     13,2,19941014,2210,  0.0000,-168.3100, -999,   1008.2,   4.7390,  34.5480,2,    1.490,2,     64.8,2,    47.57,2,    47.60,2,     0.03,2,     2.99,2,  -999.00,9,-999,9,   2292.0,2,   2351.0,2,    41.51,2
  35A319940923,    74,  1,      1,      1,2,19941015,1004,  0.0000,-166.3600, -999,      2.0,  29.5580,  35.2420,2,    4.400,2,    192.0,2,     0.01,2,     0.03,2,     0.01,2,     0.20,2,     0.01,2,0.06,2,   1974.0,2,   -999.0,9,    73.60,2
  35A319940923,    74,  1,      2,      2,2,19941015,1004,  0.0000,-166.3600, -999,     19.1,  29.5200,  35.2370,2,    4.425,2,    193.1,2,     0.01,2,     0.03,2,     0.01,2,     0.19,2,     0.02,2,1.11,2,   1972.0,2,   2320.0,2,    73.25,2
  35A319940923,    74,  1,      3,      3,2,19941015,1004,  0.0000,-166.3600, -999,     39.2,  29.4500,  35.2990,2,    4.354,2,    190.0,2,     0.40,2,     0.46,2,     0.06,2,     0.23,2,     0.02,2,0.13,2,   1978.0,2,   -999.0,9,    73.63,2
  35A319940923,    74,  1,      4,      4,2,19941015,1004,  0.0000,-166.3600, -999,     49.3,  29.4990,  35.3760,2,    4.387,2,    191.4,2,     0.57,2,     0.64,2,     0.07,2,     0.24,2,     0.02,2,0.19,2,   1979.0,2,   2331.0,2,    70.54,2
  35A319940923,    74,  1,      5,      5,2,19941015,1004,  0.0000,-166.3600, -999,     59.4,  29.3440,  35.3730,2,    4.279,2,    186.7,2,     0.74,2,     0.85,2,     0.11,2,     0.26,2,     0.04,2,0.23,2,   1981.0,2,   2330.0,2,    70.98,2
  35A319940923,    74,  1,      6,      6,2,19941015,1004,  0.0000,-166.3600, -999,     79.5,  29.0820,  35.3860,2,    4.275,2,    186.5,2,     1.49,2,     1.65,2,     0.16,2,     0.31,2,     0.03,2,0.57,2,   1986.0,2,   2332.0,2,    71.41,2
  35A319940923,    74,  1,      7,      7,2,19941015,1004,  0.0000,-166.3600, -999,     99.6,  28.7410,  35.3960,2,    4.188,2,    182.7,2,     2.35,2,     2.73,2,     0.38,2,     0.38,2,     0.02,2,0.6,2,   1996.0,2,   2331.0,2,    63.77,2
  35A319940923,    74,  1,      8,      8,2,19941015,1004,  0.0000,-166.3600, -999,    109.7,  28.6960,  35.4130,2,    4.046,2,    176.5,2,     2.95,2,     3.84,2,     0.89,2,     0.43,2,     0.02,2,0.29,2,   1997.0,2,   2326.0,2,    64.16,2
  35A319940923,    74,  1,      9,      9,2,19941015,1004,  0.0000,-166.3600, -999,    118.7,  28.0040,  35.4220,2,    3.845,2,    167.7,2,     4.56,2,     5.60,2,     1.04,2,     0.52,2,     0.02,2,0.47,2,   2013.0,2,   2329.0,2,    64.06,2
  35A319940923,    74,  1,     10,     10,2,19941015,1004,  0.0000,-166.3600, -999,    138.9,  24.3240,  35.2100,2,    2.791,2,    121.6,2,    10.29,2,    10.35,2,     0.06,2,     0.79,2,     0.02,2,0.17,2,   2057.0,2,   2310.0,2,    55.24,2
  35A319940923,    74,  1,     11,     11,2,19941015,1004,  0.0000,-166.3600, -999,    160.0,  20.0280,  35.1550,2,    2.656,2,    115.6,2,    12.52,2,    12.56,2,     0.04,2,     0.93,2,     0.03,2,0.16,2,   2085.0,2,   2314.0,2,    53.78,2
  35A319940923,    74,  1,     12,     12,2,19941015,1004,  0.0000,-166.3600, -999,    178.1,  18.1180,  35.1540,2, -999.000,9,   -999.0,9,    13.84,2,    13.87,2,     0.03,2,     1.05,2,  -999.00,9,0.15,2,   -999.0,9,   -999.0,9,  -999.00,9
  35A319940923,    74,  1,     13,     13,2,19941015,1004,  0.0000,-166.3600, -999,   1009.2,   4.7270,  34.5480,2,    1.530,2,     66.6,2,    47.08,2,    47.10,2,     0.02,2,     3.00,2,  -999.00,9,-999,9,   2289.0,2,   2352.0,2,    41.64,2
  35A319940923,    75,  1,      1,      1,2,19941015,2205,  0.0000,-164.3000, -999,      2.0,  29.1900,  35.2370,2,    4.389,2,    191.5,2,     1.08,2,     1.28,2,     0.20,2,     0.26,2,  -999.00,9,-999,9,   1981.0,2,   2319.0,2,    72.68,2
  35A319940923,    75,  1,      2,      2,2,19941015,2205,  0.0000,-164.3000, -999,     18.1,  28.9640,  35.2320,2,    4.419,2,    192.8,2,     1.09,2,     1.30,2,     0.21,2,     0.26,2,  -999.00,9,-999,9,   1977.0,2,   2316.0,2,    65.71,2
  35A319940923,    75,  1,      3,      3,2,19941015,2205,  0.0000,-164.3000, -999,     30.2,  28.9560,  35.2390,2,    4.387,2,    191.4,2,     1.23,2,     1.46,2,     0.23,2,     0.27,2,  -999.00,9,-999,9,   1980.0,2,   2317.0,2,    66.62,2
  35A319940923,    75,  1,      4,      4,2,19941015,2205,  0.0000,-164.3000, -999,     39.2,  28.9430,  35.2790,2,    4.309,2,    188.0,2,     1.43,2,     1.69,2,     0.26,2,     0.31,2,  -999.00,9,-999,9,   1984.0,2,   2322.0,2,    64.88,2
  35A319940923,    75,  1,      5,      5,2,19941015,2205,  0.0000,-164.3000, -999,     48.3,  28.8320,  35.3040,2,    4.151,2,    181.1,2,     2.03,2,     2.55,2,     0.52,2,     0.37,2,  -999.00,9,-999,9,   1996.0,2,   2325.0,2,    65.31,2
  35A319940923,    75,  1,      6,      6,2,19941015,2205,  0.0000,-164.3000, -999,     60.4,  28.6040,  35.3230,2,    4.039,2,    176.2,2,     2.52,2,     3.21,2,     0.69,2,     0.42,2,  -999.00,9,-999,9,   1996.0,2,   2320.0,2,    61.78,2
  35A319940923,    75,  1,      7,      7,2,19941015,2205,  0.0000,-164.3000, -999,     80.5,  28.5940,  35.3550,2,    4.159,2,    181.4,2,     2.62,2,     3.12,2,     0.50,2,     0.42,2,  -999.00,9,-999,9,   1994.0,2,   2323.0,2,    62.05,2
  35A319940923,    75,  1,      8,      8,2,19941015,2205,  0.0000,-164.3000, -999,     99.6,  28.2900,  35.4310,2,    3.865,2,    168.6,2,     3.60,2,     5.19,2,     1.59,2,     0.51,2,  -999.00,9,-999,9,   2011.0,2,   2330.0,2,  -999.00,9
  35A319940923,    75,  1,      9,      9,2,19941015,2205,  0.0000,-164.3000, -999,    119.7,  27.3070,  35.4820,2,    3.504,2,    152.8,2,     6.78,2,     7.08,2,     0.30,2,     0.62,2,  -999.00,9,-999,9,   2028.0,2,   2329.0,2,    59.23,2
  35A319940923,    75,  1,     10,     10,2,19941015,2205,  0.0000,-164.3000, -999,    140.9,  22.5810,  35.0910,2,    2.740,2,    119.4,2,    10.66,2,    10.71,2,     0.05,2,     0.82,2,  -999.00,9,-999,9,   2054.0,2,   2304.0,2,    52.59,2
  35A319940923,    75,  1,     11,     11,2,19941015,2205,  0.0000,-164.3000, -999,    160.0,  19.2380,  35.2600,2,    2.672,2,    116.3,2,    13.10,2,    13.13,2,     0.04,2,     1.03,2,  -999.00,9,-999,9,   2089.0,2,   2309.0,2,    50.36,2
  35A319940923,    75,  1,     12,     12,2,19941015,2205,  0.0000,-164.3000, -999,    180.1,  18.7530,  35.1880,2, -999.000,9,   -999.0,9,    13.68,2,    13.72,2,     0.04,2,     1.08,2,  -999.00,9,-999,9,   -999.0,9,   -999.0,9,    53.04,2
  35A319940923,    75,  1,     13,     13,2,19941015,2205,  0.0000,-164.3000, -999,   1009.2,   4.5620,  34.5520,2,    1.530,2,     66.4,2,    52.67,2,    52.69,2,     0.02,2,     3.07,2,  -999.00,9,-999,9,   2294.0,2,   2351.0,2,    53.18,2
  35A319940923,    76,  1,      1,      1,2,19941016,1002,  0.0000,-162.4100, -999,      3.0,  28.4860,  35.1600,2,    4.335,2,    189.1,2,     2.18,2,     2.90,2,     0.72,2,     0.34,2,     0.01,2,0.13,2,   1991.0,2,   2311.0,2,    59.67,2
  35A319940923,    76,  1,      2,      2,2,19941016,1002,  0.0000,-162.4100, -999,     19.1,  28.4770,  35.1570,2,    4.142,2,    180.7,2,     2.16,2,     2.88,2,     0.72,2,     0.34,2,     0.06,2,0.11,2,   1981.0,2,   2304.0,2,    59.92,2
  35A319940923,    76,  1,      3,      3,2,19941016,1002,  0.0000,-162.4100, -999,     39.2,  28.2150,  35.1240,2,    4.188,2,    182.7,2,     2.43,2,     3.41,2,     0.98,2,     0.36,2,     0.08,2,0.22,2,   1988.0,2,   2307.0,2,    58.94,2
  35A319940923,    76,  1,      4,      4,2,19941016,1002,  0.0000,-162.4100, -999,     49.3,  28.2780,  35.1950,2,    3.966,2,    173.0,2,     2.73,2,     3.91,2,     1.18,2,     0.42,2,     0.06,2,0.19,2,   1995.0,2,   2312.0,2,    60.39,2
  35A319940923,    76,  1,      5,      5,2,19941016,1002,  0.0000,-162.4100, -999,     60.4,  28.4310,  35.3180,2,    3.943,2,    172.0,2,     2.97,2,     4.34,2,     1.37,2,     0.48,2,     0.03,2,0.11,2,   1999.0,2,   2321.0,2,    60.38,2
  35A319940923,    76,  1,      6,      6,2,19941016,1002,  0.0000,-162.4100, -999,     79.5,  27.9530,  35.2100,2,    3.863,2,    168.5,2,     3.90,2,     5.20,2,     1.30,2,     0.51,2,     0.02,2,0.14,2,   2006.0,2,   2312.0,2,    56.90,2
  35A319940923,    76,  1,      7,      7,2,19941016,1002,  0.0000,-162.4100, -999,     99.6,  28.0820,  35.3510,2,    3.714,2,    162.0,2,     4.54,2,     5.69,2,     1.15,2,     0.54,2,     0.02,2,0.24,2,   2013.0,2,   2322.0,2,    57.50,2
  35A319940923,    76,  1,      8,      8,2,19941016,1002,  0.0000,-162.4100, -999,    119.7,  28.0910,  35.3860,2,    3.623,2,    158.0,2,     4.99,2,     5.97,2,     0.98,2,     0.57,2,     0.01,2,0.3,2,   2017.0,2,   2325.0,2,    55.87,2
  35A319940923,    76,  1,      9,      9,2,19941016,1002,  0.0000,-162.4100, -999,    129.8,  28.0120,  35.4020,2,    3.382,2,    147.5,2,     6.63,2,     7.10,2,     0.47,2,     0.64,2,     0.02,2,0.25,2,   -999.0,9,   2322.0,2,    53.37,2
  35A319940923,    76,  1,     10,     10,2,19941016,1002,  0.0000,-162.4100, -999,    139.9,  26.6580,  35.4120,2,    3.087,2,    134.6,2,     8.45,2,     8.53,2,     0.08,2,     0.74,2,     0.02,2,0.17,2,   2042.0,2,   2326.0,2,    53.12,2
  35A319940923,    76,  1,     11,     11,2,19941016,1002,  0.0000,-162.4100, -999,    159.0,  19.8560,  35.3670,2,    2.554,2,    111.2,2,    13.23,2,    13.27,2,     0.04,2,     1.05,2,     0.02,2,0.37,2,   2100.0,2,   2317.0,2,    51.91,2
  35A319940923,    76,  1,     12,     12,2,19941016,1002,  0.0000,-162.4100, -999,   1014.3,   4.6080,  34.5520,2,    1.497,2,     65.0,2,  -999.00,9,  -999.00,9,     0.02,2,     3.11,2,  -999.00,9,-999,9,   2298.0,2,   2352.0,2,  -999.00,9
  35A319940923,    77,  1,      1,      1,2,19941016,2206,  0.0000,-160.3600, -999,      1.0,  28.4120,  35.1340,2,    4.424,2,    193.0,2,     1.83,2,     2.02,2,     0.19,2,     0.32,2,     9.00,2,-999,9,   1986.0,2,   2312.0,2,  -999.00,9
  35A319940923,    77,  1,      2,      2,2,19941016,2206,  0.0000,-160.3600, -999,     19.1,  28.2140,  35.1370,2,    4.406,2,    192.2,2,     1.90,2,     2.15,2,     0.25,2,     0.35,2,     9.00,2,-999,9,   1986.0,2,   2307.0,2,    64.15,2
  35A319940923,    77,  1,      3,      3,2,19941016,2206,  0.0000,-160.3600, -999,     29.2,  28.2010,  35.1450,2,    4.363,2,    190.3,2,     1.98,2,     2.31,2,     0.33,2,     0.34,2,     9.00,2,-999,9,   1982.0,2,   2305.0,2,    64.32,2
  35A319940923,    77,  1,      4,      4,2,19941016,2206,  0.0000,-160.3600, -999,     40.2,  28.1920,  35.1560,2,    4.250,2,    185.4,2,     2.11,2,     2.56,2,     0.45,2,     0.35,2,     9.00,2,-999,9,   1987.0,2,   2306.0,2,    66.80,2
  35A319940923,    77,  1,      5,      5,2,19941016,2206,  0.0000,-160.3600, -999,     50.3,  28.1650,  35.1710,2,    4.124,2,    179.9,2,     2.34,2,     2.99,2,     0.65,2,     0.38,2,     9.00,2,-999,9,   1991.0,2,   2309.0,2,    63.70,2
  35A319940923,    77,  1,      6,      6,2,19941016,2206,  0.0000,-160.3600, -999,     60.4,  28.1290,  35.1840,2,    4.030,2,    175.8,2,     2.50,2,     3.29,2,     0.79,2,     0.40,2,     9.00,2,-999,9,   1990.0,2,   2302.0,2,    63.66,2
  35A319940923,    77,  1,      7,      7,2,19941016,2206,  0.0000,-160.3600, -999,     80.5,  27.8090,  35.1420,2,    3.769,2,    164.4,2,     3.06,2,     4.20,2,     1.14,2,     0.51,2,     9.00,2,-999,9,   1996.0,2,   2301.0,2,    60.70,2
  35A319940923,    77,  1,      8,      8,2,19941016,2206,  0.0000,-160.3600, -999,    100.6,  28.1760,  35.3400,2,    3.701,2,    161.4,2,     3.39,2,     4.44,2,     1.05,2,     0.55,2,     9.00,2,-999,9,   2007.0,2,   2318.0,2,    57.85,2
  35A319940923,    77,  1,      9,      9,2,19941016,2206,  0.0000,-160.3600, -999,    120.7,  26.2110,  34.9500,2,    3.357,2,    146.4,2,     5.21,2,     5.36,2,     0.15,2,     0.57,2,     9.00,2,-999,9,   2009.0,2,   2294.0,2,    57.95,2
  35A319940923,    77,  1,     10,     10,2,19941016,2206,  0.0000,-160.3600, -999,    138.9,  24.2810,  35.3300,2,    2.750,2,    119.8,2,     9.27,2,     9.33,2,     0.06,2,     0.81,2,     9.00,2,-999,9,   2050.0,2,   2310.0,2,    52.53,2
  35A319940923,    77,  1,     11,     11,2,19941016,2206,  0.0000,-160.3600, -999,    161.0,  18.3650,  35.2210,2,    2.673,2,    116.3,2,    13.43,2,    13.47,2,     0.04,2,     1.10,2,     9.00,2,-999,9,   2100.0,2,   2312.0,2,    47.81,2
  35A319940923,    77,  1,     12,     12,2,19941016,2206,  0.0000,-160.3600, -999,    185.2,  17.2130,  35.2720,2, -999.000,9,   -999.0,9,    15.42,2,    15.45,2,     0.03,2,     1.27,2,     9.00,2,-999,9,   -999.0,9,   -999.0,9,    46.11,2
  35A319940923,    77,  1,     13,     13,2,19941016,2206,  0.0000,-160.3600, -999,   1009.2,   4.4570,  34.5550,2,    1.587,2,     68.9,2,    40.90,2,    40.92,2,     0.02,2,     3.03,2,     9.00,2,-999,9,   2299.0,2,   2356.0,2,    42.01,2
  35A319940923,    78,  1,      1,      1,2,19941017,0902,  0.0000,-158.5600, -999,      3.0,  28.5620,  35.1870,2,    4.616,2,    201.4,2,     1.81,2,     1.91,2,     0.10,2,     0.29,2,     0.12,2,0.06,2,   1990.0,2,   -999.0,9,    67.39,2
  35A319940923,    78,  1,      2,      2,2,19941017,0902,  0.0000,-158.5600, -999,     19.1,  28.3210,  35.1990,2,    4.397,2,    191.8,2,     1.94,2,     2.08,2,     0.14,2,     0.29,2,     0.13,2,0.09,2,   1989.0,2,   2319.0,2,    67.24,2
  35A319940923,    78,  1,      3,      3,2,19941017,0902,  0.0000,-158.5600, -999,     29.2,  28.2300,  35.1950,2,    4.544,2,    198.2,2,     2.06,2,     2.26,2,     0.20,2,     0.30,2,     0.14,2,0.41,2,   1990.0,2,   2318.0,2,    65.62,2
  35A319940923,    78,  1,      4,      4,2,19941017,0902,  0.0000,-158.5600, -999,     39.2,  28.1870,  35.1940,2,    4.299,2,    187.5,2,     2.19,2,     2.47,2,     0.28,2,     0.32,2,     0.15,2,0.55,2,   1987.0,2,   2311.0,2,    64.69,2
  35A319940923,    78,  1,      5,      5,2,19941017,0902,  0.0000,-158.5600, -999,     49.3,  28.1500,  35.1990,2,    4.225,2,    184.3,2,     2.33,2,     2.71,2,     0.38,2,     0.35,2,     0.14,2,0.49,2,   1994.0,2,   2318.0,2,    65.31,2
  35A319940923,    78,  1,      6,      6,2,19941017,0902,  0.0000,-158.5600, -999,     60.4,  28.0980,  35.2140,2,    4.092,2,    178.5,2,     2.53,2,     3.04,2,     0.51,2,     0.37,2,     0.10,2,0.61,2,   1992.0,2,   2312.0,2,    62.55,2
  35A319940923,    78,  1,      7,      7,2,19941017,0902,  0.0000,-158.5600, -999,     80.5,  28.0110,  35.2780,2,    3.996,2,    174.3,2,     3.08,2,     4.00,2,     0.92,2,     0.44,2,     0.04,2,0.51,2,   2006.0,2,   2324.0,2,    63.42,2
  35A319940923,    78,  1,      8,      8,2,19941017,0902,  0.0000,-158.5600, -999,     99.6,  27.7380,  35.2800,2,    3.841,2,    167.5,2,     3.45,2,     4.52,2,     1.07,2,     0.47,2,     0.03,2,0.21,2,   2009.0,2,   2320.0,2,    58.38,2
  35A319940923,    78,  1,      9,      9,2,19941017,0902,  0.0000,-158.5600, -999,    121.8,  26.5280,  35.0830,2,    3.263,2,    142.3,2,     5.67,2,     5.84,2,     0.17,2,     0.54,2,     0.02,2,0.32,2,   2016.0,2,   2306.0,2,    55.94,2
  35A319940923,    78,  1,     10,     10,2,19941017,0902,  0.0000,-158.5600, -999,    139.9,  23.5270,  35.0520,2,    2.724,2,    118.7,2,     9.04,2,     9.09,2,     0.05,2,     0.71,2,     0.02,2,0.5,2,   2034.0,2,   2288.0,2,    55.40,2
  35A319940923,    78,  1,     11,     11,2,19941017,0902,  0.0000,-158.5600, -999,    159.0,  20.2120,  35.2600,2,    2.560,2,    111.4,2,    12.07,2,    12.11,2,     0.04,2,     0.93,2,     0.03,2,0.2,2,   2086.0,2,   2317.0,2,    54.74,2
  35A319940923,    78,  1,     12,     12,2,19941017,0902,  0.0000,-158.5600, -999,   1010.2,   4.6090,  34.5520,2,    1.490,2,     64.7,2,    47.16,2,    47.19,2,     0.03,2,     2.99,2,     9.00,2,-999,9,   2296.0,2,   2354.0,2,    42.21,2