BOTTLE,20120829IOSDFOJC
EXPOCODE,STNNBR,CASTNO,SAMPNO,BTLNBR,BTLNBR_FLAG_W,DATE,TIME,LATITUDE,LONGITUDE,DEPTH,CTDPRS,CTDTMP,CTDSAL,CTDSAL_FLAG_W,CTDOXY,CTDOXY_FLAG_W,OXYGEN,OXYGEN_FLAG_W,NITRAT,NITRAT_FLAG_W,NO2+NO3,NO2+NO3_FLAG_W,NITRIT,NITRIT_FLAG_W,PHSPHT,PHSPHT_FLAG_W,SILCAT,SILCAT_FLAG_W,NH4,NH4_FLAG_W,TCARBN,TCARBN_FLAG_W,ALKALI,ALKALI_FLAG_W,DOC,DOC_FLAG_W
,,,,,,,,,,METERS,DBARS,,,,ML/L,,UMOL/KG,,UMOL/KG,,UMOL/KG,,UMOL/KG,,UMOL/KG,,UMOL/KG,,UMOL/KG,,UMOL/KG,,UMOL/KG,,UMOL/KG,
  35A319940923,    17,  1,      1,      1,2,19940929,1734,  1.0000, 165.0000, -999,      4.0,-999.0000,-999.0000,9, -999.000,9,   -999.0,9,     0.00,2,     0.00,2,     0.00,2,     0.04,2,     0.01,2,-999,9,   1880.0,2,   2216.0,2,    68.82,2
  35A319940923,    17,  1,      2,      2,2,19940929,1734,  1.0000, 165.0000, -999,     20.1,  28.9100,  34.0010,2, -999.000,9,   -999.0,9,     0.00,2,     0.00,2,     0.00,2,     0.04,2,     0.02,2,-999,9,   1886.0,2,   2229.0,2,    69.95,2
  35A319940923,    17,  1,      3,      3,2,19940929,1734,  1.0000, 165.0000, -999,     39.2,  28.8890,  34.0020,2, -999.000,9,   -999.0,9,     0.00,2,     0.00,2,     0.00,2,     0.03,2,     0.02,2,-999,9,   1876.0,2,   -999.0,9,    71.55,2
  35A319940923,    17,  1,      4,      4,2,19940929,1734,  1.0000, 165.0000, -999,     59.4,  28.5520,  34.0460,2, -999.000,9,   -999.0,9,     0.00,2,     0.00,2,     0.00,2,     0.04,2,     0.02,2,-999,9,   1892.0,2,   2231.0,2,    69.82,2
  35A319940923,    17,  1,      5,      5,2,19940929,1734,  1.0000, 165.0000, -999,     81.5,  28.4370,  34.1000,2, -999.000,9,   -999.0,9,     0.01,2,     0.01,2,     0.00,2,     0.05,2,     0.05,2,-999,9,   1896.0,2,   2229.0,2,    67.52,2
  35A319940923,    17,  1,      6,      6,2,19940929,1734,  1.0000, 165.0000, -999,    100.6,  27.1160,  34.4990,2, -999.000,9,   -999.0,9,     3.52,2,     3.72,2,     0.20,2,     0.26,2,     0.03,2,-999,9,   1956.0,2,   2260.0,2,    61.11,2
  35A319940923,    17,  1,      7,      7,2,19940929,1734,  1.0000, 165.0000, -999,    110.7,  23.1110,  35.1500,2, -999.000,9,   -999.0,9,     9.21,2,     9.29,2,     0.08,2,     0.67,2,     0.02,2,-999,9,   2050.0,2,   2299.0,2,    56.15,2
  35A319940923,    17,  1,      8,      8,2,19940929,1734,  1.0000, 165.0000, -999,    118.7,  22.1980,  35.1480,2, -999.000,9,   -999.0,9,     9.70,2,     9.74,2,     0.04,2,     0.73,2,     0.02,2,-999,9,   2051.0,2,   2297.0,2,    56.43,2
  35A319940923,    17,  1,      9,      9,2,19940929,1734,  1.0000, 165.0000, -999,    159.0,  18.9530,  35.1360,2, -999.000,9,   -999.0,9,    11.40,2,    11.42,2,     0.02,2,     0.87,2,     0.02,2,-999,9,   2079.0,2,   2303.0,2,    53.27,2
  35A319940923,    17,  1,     10,     10,2,19940929,1734,  1.0000, 165.0000, -999,    178.1,  17.1860,  35.0600,2, -999.000,9,   -999.0,9,    13.25,2,    13.26,2,     0.01,2,     1.03,2,     0.02,2,-999,9,   2100.0,2,   2300.0,2,    51.17,2
  35A319940923,    17,  1,     11,     11,2,19940929,1734,  1.0000, 165.0000, -999,   1010.2,   4.7150,  34.5470,2, -999.000,9,   -999.0,9,    39.00,2,    39.00,2,     0.00,2,     2.75,2,  -999.00,9,-999,9,   2283.0,2,   2347.0,2,  -999.00,9
  35A319940923,    18,  1,      1,      1,2,19940930,0034,  2.0100, 164.5900, -999,      3.0,  29.1470,  34.0240,2, -999.000,9,   -999.0,9,     0.00,2,     0.00,2,     0.00,2,     0.02,2,     0.01,2,0.11,2,   1884.0,2,   2238.0,2,    69.35,2
  35A319940923,    18,  1,      2,      2,2,19940930,0034,  2.0100, 164.5900, -999,     20.1,  29.1140,  34.0210,2, -999.000,9,   -999.0,9,     0.00,2,     0.00,2,     0.00,2,     0.02,2,     0.02,2,0.04,2,   1885.0,2,   2231.0,2,  -999.00,9
  35A319940923,    18,  1,      3,      3,2,19940930,0034,  2.0100, 164.5900, -999,     39.2,  29.0840,  34.0180,2, -999.000,9,   -999.0,9,     0.00,2,     0.00,2,     0.00,2,     0.02,2,     0.02,2,0.03,2,   1890.0,2,   2237.0,2,    68.37,2
  35A319940923,    18,  1,      4,      4,2,19940930,0034,  2.0100, 164.5900, -999,     59.4,  28.6540,  34.1050,2, -999.000,9,   -999.0,9,     0.00,2,     0.00,2,     0.00,2,     0.03,2,     0.04,2,0.1,2,   1892.0,2,   2232.0,2,    67.69,2
  35A319940923,    18,  1,      5,      5,2,19940930,0034,  2.0100, 164.5900, -999,     69.4,  28.4510,  34.1800,2, -999.000,9,   -999.0,9,     0.01,2,     0.01,2,     0.00,2,     0.04,2,     0.04,2,0.07,2,   1902.0,2,   2242.0,2,    68.35,2
  35A319940923,    18,  1,      6,      6,2,19940930,0034,  2.0100, 164.5900, -999,     79.5,  28.4390,  34.1870,2, -999.000,9,   -999.0,9,     0.07,2,     0.08,2,     0.01,2,     0.05,2,     0.06,2,0.08,2,   1906.0,2,   2247.0,2,    67.71,2
  35A319940923,    18,  1,      7,      7,2,19940930,0034,  2.0100, 164.5900, -999,     89.5,  27.7990,  34.3810,2, -999.000,9,   -999.0,9,     1.49,2,     1.59,2,     0.10,2,     0.14,2,  -999.00,9,0.1,2,   1936.0,2,   2256.0,2,    65.70,2
  35A319940923,    18,  1,      8,      8,2,19940930,0034,  2.0100, 164.5900, -999,     99.6,  26.2900,  34.7840,2, -999.000,9,   -999.0,9,     5.32,2,     5.67,2,     0.35,2,     0.40,2,     0.04,2,0.05,2,   1995.0,2,   2285.0,2,    56.77,2
  35A319940923,    18,  1,      9,      9,2,19940930,0034,  2.0100, 164.5900, -999,    119.7,  24.4010,  35.1300,2, -999.000,9,   -999.0,9,     7.73,2,     8.02,2,     0.29,2,     0.58,2,     0.02,2,0.06,2,   2033.0,2,   2298.0,2,    56.62,2
  35A319940923,    18,  1,     10,     10,2,19940930,0034,  2.0100, 164.5900, -999,    141.9,  22.7250,  35.0960,2, -999.000,9,   -999.0,9,     9.28,2,     9.35,2,     0.07,2,     0.66,2,     0.02,2,0.04,2,   2046.0,2,   2297.0,2,    55.43,2
  35A319940923,    18,  1,     11,     11,2,19940930,0034,  2.0100, 164.5900, -999,    162.0,  20.0580,  35.0220,2, -999.000,9,   -999.0,9,    10.92,2,    10.94,2,     0.02,2,     0.78,2,     0.02,2,0.07,2,   2066.0,2,   2296.0,2,    55.51,2
  35A319940923,    18,  1,     12,     12,2,19940930,0034,  2.0100, 164.5900, -999,    180.1,  19.0650,  35.0070,2, -999.000,9,   -999.0,9,    12.52,2,    12.54,2,     0.02,2,     0.92,2,     0.03,2,0.11,2,   -999.0,9,   -999.0,9,    55.05,2
  35A319940923,    18,  1,     13,     13,2,19940930,0034,  2.0100, 164.5900, -999,   1011.3,   4.4530,  34.5550,2, -999.000,9,   -999.0,9,    38.30,2,    38.30,2,     0.01,2,     2.30,2,  -999.00,9,-999,9,   2291.0,2,   2355.0,2,    41.47,2
  35A319940923,    19,  1,      1,      1,2,19940930,0859,  3.0000, 165.0000, -999,      2.0,  28.7940,  34.1730,2,    4.398,2,    192.0,2,     0.00,2,     0.00,2,     0.00,2,     0.06,2,     0.08,2,-999,9,   1901.0,2,   2237.0,2,    71.69,2
  35A319940923,    19,  1,      2,      2,2,19940930,0859,  3.0000, 165.0000, -999,     19.1,  28.7900,  34.1750,2,    4.326,2,    188.9,2,     0.00,2,     0.00,2,     0.00,2,     0.06,2,     0.08,2,-999,9,   1899.0,2,   2234.0,2,    74.72,2
  35A319940923,    19,  1,      3,      3,2,19940930,0859,  3.0000, 165.0000, -999,     39.2,  28.5480,  34.2410,2,    4.306,2,    188.0,2,     0.03,2,     0.03,2,     0.00,2,     0.07,2,     0.21,2,-999,9,   1908.0,2,   2242.0,2,    66.87,2
  35A319940923,    19,  1,      4,      4,2,19940930,0859,  3.0000, 165.0000, -999,     60.4,  28.1760,  34.3000,2,    4.362,2,    190.4,2,     0.15,2,     0.16,2,     0.01,2,     0.09,2,     0.20,2,-999,9,   1911.0,2,   2240.0,2,    65.82,2
  35A319940923,    19,  1,      5,      5,2,19940930,0859,  3.0000, 165.0000, -999,     69.4,  28.1010,  34.3320,2,    4.236,2,    184.9,2,     0.17,2,     0.18,2,     0.02,2,     0.12,2,     0.34,2,-999,9,   1919.0,2,   2246.0,2,    65.81,2
  35A319940923,    19,  1,      6,      6,2,19940930,0859,  3.0000, 165.0000, -999,     80.5,  28.0170,  34.3970,2, -999.000,9,   -999.0,9,     0.61,2,     0.67,2,     0.06,2,     0.20,2,     0.17,2,-999,9,   1929.0,2,   2250.0,2,    64.75,2
  35A319940923,    19,  1,      7,      7,2,19940930,0859,  3.0000, 165.0000, -999,     90.6,  27.5440,  34.8330,2,    3.700,2,    161.4,2,     2.71,2,     2.95,2,     0.24,2,     0.35,2,     0.07,2,-999,9,   1982.0,2,   2290.0,2,    64.78,2
  35A319940923,    19,  1,      8,      8,2,19940930,0859,  3.0000, 165.0000, -999,     98.6,  26.6090,  34.9480,2,    3.488,2,    152.1,2,     4.27,2,     4.60,2,     0.33,2,     0.44,2,     0.10,2,-999,9,   2042.0,2,   2294.0,2,    63.98,2
  35A319940923,    19,  1,      9,      9,2,19940930,0859,  3.0000, 165.0000, -999,    119.7,  24.0960,  35.0100,2,    3.031,2,    132.1,2,     7.89,2,     8.10,2,     0.21,2,     0.64,2,     0.05,2,-999,9,   2032.0,2,   2299.0,2,    60.80,2
  35A319940923,    19,  1,     10,     10,2,19940930,0859,  3.0000, 165.0000, -999,    140.9,  22.0410,  34.9800,2,    2.918,2,    127.1,2,     9.35,2,     9.38,2,     0.03,2,     0.72,2,     0.04,2,-999,9,   2048.0,2,   2296.0,2,    58.31,2
  35A319940923,    19,  1,     11,     11,2,19940930,0859,  3.0000, 165.0000, -999,    161.0,  20.3080,  34.9960,2,    2.773,2,    120.7,2,    10.62,2,    10.64,2,     0.02,2,     0.82,2,     0.02,2,-999,9,   2068.0,2,   2297.0,2,    55.05,2
  35A319940923,    19,  1,     12,     12,2,19940930,0859,  3.0000, 165.0000, -999,   1010.3,   4.4920,  34.5550,2, -999.000,9,     75.2,2,  -999.00,9,  -999.00,9,  -999.00,9,  -999.00,9,  -999.00,9,-999,9,   2290.0,2,   2353.0,2,  -999.00,9
  35A319940923,    20,  1,      1,      1,2,19940930,1553,  3.5900, 165.0000, -999,      3.0,  28.8700,  33.8110,2,    4.314,2,    188.4,2,     0.00,2,     0.00,2,     0.00,2,     0.03,2,     0.03,2,-999,9,   1876.0,2,   2218.0,2,    71.01,2
  35A319940923,    20,  1,      2,      2,2,19940930,1553,  3.5900, 165.0000, -999,     20.1,  28.8600,  33.8810,2,    4.335,2,    189.3,2,     0.00,2,     0.00,2,     0.00,2,     0.03,2,     0.03,2,-999,9,   1882.0,2,   2222.0,2,    69.12,2
  35A319940923,    20,  1,      3,      3,2,19940930,1553,  3.5900, 165.0000, -999,     39.2,  28.1990,  34.3000,2,    4.334,2,    189.2,2,     0.00,2,     0.00,2,     0.00,2,     0.08,2,     0.15,2,-999,9,   1918.0,2,   2253.0,2,    70.97,2
  35A319940923,    20,  1,      4,      4,2,19940930,1553,  3.5900, 165.0000, -999,     60.4,  27.9380,  34.3950,2,    4.248,2,    185.4,2,     0.01,2,     0.02,2,     0.01,2,     0.12,2,     0.34,2,-999,9,   1932.0,2,   2263.0,2,    71.02,2
  35A319940923,    20,  1,      5,      5,2,19940930,1553,  3.5900, 165.0000, -999,     69.4,  27.1940,  35.0680,2,    3.705,2,    161.6,2,     1.83,2,     2.03,2,     0.20,2,     0.32,2,     0.26,2,-999,9,   1993.0,2,   2291.0,2,    67.21,2
  35A319940923,    20,  1,      6,      6,2,19940930,1553,  3.5900, 165.0000, -999,     79.5,  26.0530,  34.9540,2,    3.472,2,    151.4,2,     2.94,2,     3.21,2,     0.27,2,     0.37,2,     0.17,2,-999,9,   -999.0,9,   -999.0,9,    65.05,2
  35A319940923,    20,  1,      7,      7,2,19940930,1553,  3.5900, 165.0000, -999,     89.5,  25.4660,  34.9580,2,    3.076,2,    134.1,2,     4.70,2,     5.32,2,     0.62,2,     0.47,2,     0.13,2,-999,9,   2010.0,2,   2294.0,2,    59.31,2
  35A319940923,    20,  1,      8,      8,2,19940930,1553,  3.5900, 165.0000, -999,     99.6,  25.1330,  34.9680,2,    2.842,2,    123.9,2,     6.98,2,     7.13,2,     0.15,2,     0.57,2,     0.07,2,-999,9,   2013.0,2,   2282.0,2,    65.46,2
  35A319940923,    20,  1,      9,      9,2,19940930,1553,  3.5900, 165.0000, -999,    120.7,  24.2150,  34.9210,2,    2.788,2,    121.5,2,     8.21,2,     8.26,2,     0.05,2,     0.63,2,     0.03,2,-999,9,   2033.0,2,   2291.0,2,    55.65,2
  35A319940923,    20,  1,     10,     10,2,19940930,1553,  3.5900, 165.0000, -999,    139.9,  22.0910,  34.9910,2,    2.742,2,    119.4,2,     9.34,2,     9.36,2,     0.02,2,     0.72,2,     0.03,2,-999,9,   2049.0,2,   2290.0,2,    56.40,2
  35A319940923,    20,  1,     11,     11,2,19940930,1553,  3.5900, 165.0000, -999,    159.0,  20.7040,  35.0650,2,    2.779,2,    121.0,2,    10.16,2,    10.18,2,     0.02,2,     0.74,2,     0.02,2,-999,9,   2061.0,2,   2296.0,2,    55.54,2
  35A319940923,    20,  1,     12,     12,2,19940930,1553,  3.5900, 165.0000, -999,    182.2,  18.9480,  35.0280,2,    2.830,2,    123.3,2,    11.26,2,    11.28,2,     0.02,2,     0.88,2,     0.02,2,-999,9,   2077.0,2,   2299.0,2,    55.66,2
  35A319940923,    21,  1,      1,      1,2,19940930,2307,  5.0000, 165.0000, -999,      3.0,  29.0730,  33.8090,2,    4.394,2,    191.9,2,     0.00,2,     0.00,2,     0.00,2,     0.04,2,     0.01,2,0.05,2,   1867.0,2,   2210.0,2,    73.15,2
  35A319940923,    21,  1,      2,      2,2,19940930,2307,  5.0000, 165.0000, -999,     20.1,  29.0590,  33.8360,2,    4.371,2,    190.9,2,     0.00,2,     0.00,2,     0.00,2,     0.04,2,     0.01,2,0.14,2,   1867.0,2,   2211.0,2,  -999.00,9
  35A319940923,    21,  1,      3,      3,2,19940930,2307,  5.0000, 165.0000, -999,     39.2,  29.0480,  33.8370,2,    4.517,2,    197.3,2,     0.00,2,     0.00,2,     0.00,2,     0.03,2,     0.02,2,0.32,2,   1870.0,2,   2214.0,2,    70.36,2
  35A319940923,    21,  1,      4,      4,2,19940930,2307,  5.0000, 165.0000, -999,     60.4,  25.9320,  34.5890,2,    4.432,2,    193.4,2,     0.00,2,     0.00,2,     0.00,2,     0.12,2,     0.05,2,0.03,2,   1947.0,2,   2265.0,2,    68.10,2
  35A319940923,    21,  1,      5,      5,2,19940930,2307,  5.0000, 165.0000, -999,     71.4,  25.4690,  34.7430,2,    4.311,2,    188.0,2,     0.09,2,     0.10,2,     0.01,2,     0.17,2,     0.09,2,0.24,2,   1966.0,2,   2278.0,2,    67.08,2
  35A319940923,    21,  1,      6,      6,2,19940930,2307,  5.0000, 165.0000, -999,     80.5,  24.5860,  34.8500,2,    3.886,2,    169.4,2,     1.73,2,     1.81,2,     0.08,2,     0.28,2,     0.39,2,0.19,2,   -999.0,9,   -999.0,9,    66.88,2
  35A319940923,    21,  1,      7,      7,2,19940930,2307,  5.0000, 165.0000, -999,     90.6,  24.1630,  35.0820,2,    3.080,2,    134.2,2,     6.65,2,     6.96,2,     0.31,2,     0.55,2,     0.23,2,0.08,2,   -999.0,9,   -999.0,9,    60.57,2
  35A319940923,    21,  1,      8,      8,2,19940930,2307,  5.0000, 165.0000, -999,    100.6,  23.0910,  35.0560,2,    3.014,2,    131.3,2,     7.68,2,     7.77,2,     0.09,2,     0.61,2,     0.13,2,0.05,2,   2034.0,2,   2294.0,2,    54.31,2
  35A319940923,    21,  1,      9,      9,2,19940930,2307,  5.0000, 165.0000, -999,    110.7,  22.2010,  34.9550,2,    3.201,2,    139.4,2,     7.01,2,     7.20,2,     0.19,2,     0.58,2,     0.14,2,0.12,2,   2034.0,2,   2288.0,2,    54.52,2
  35A319940923,    21,  1,     10,     10,2,19940930,2307,  5.0000, 165.0000, -999,    119.7,  21.8550,  35.0200,2,    3.054,2,    133.0,2,     9.12,2,     9.16,2,     0.04,2,     0.70,2,     0.09,2,0.06,2,   -999.0,9,   -999.0,9,    54.02,2
  35A319940923,    21,  1,     11,     11,2,19940930,2307,  5.0000, 165.0000, -999,    139.9,  21.0860,  35.0260,2,    2.954,2,    128.6,2,     8.50,2,     8.58,2,     0.08,2,     0.67,2,     0.07,2,0,2,   2055.0,2,   2295.0,2,    53.51,2
  35A319940923,    21,  1,     12,     12,2,19940930,2307,  5.0000, 165.0000, -999,    164.0,  19.4870,  34.9470,2,    3.035,2,    132.1,2,     9.79,2,     9.82,2,     0.03,2,     0.76,2,     0.06,2,0.03,2,   2062.0,2,   2288.0,2,  -999.00,9
  35A319940923,    21,  1,     13,     13,2,19940930,2307,  5.0000, 165.0000, -999,    180.1,  17.4320,  34.7810,2,    2.926,2,    127.3,2,    12.40,2,    12.43,2,     0.03,2,     0.98,2,  -999.00,9,0.01,2,   -999.0,9,   -999.0,9,    54.82,2
  35A319940923,    21,  1,     14,     14,2,19940930,2307,  5.0000, 165.0000, -999,   1008.3,   4.5920,  34.5530,2, -999.000,9,   -999.0,9,  -999.00,9,  -999.00,9,  -999.00,9,  -999.00,9,  -999.00,9,-999,9,   -999.0,9,   -999.0,9,  -999.00,9
  35A319940923,    22,  1,      1,      1,2,19941001,0823,  5.5900, 165.0000, -999,      3.0,  29.1190,  33.7500,2,    4.364,2,    190.6,2,     0.00,2,     0.00,2,     0.00,2,     0.03,2,     0.01,2,0.02,2,   1867.0,2,   2209.0,2,    71.40,2
  35A319940923,    22,  1,      2,      2,2,19941001,0823,  5.5900, 165.0000, -999,     29.2,  29.1570,  33.8040,2,    4.375,2,    191.1,2,     0.00,2,     0.00,2,     0.00,2,     0.03,2,     0.01,2,0.05,2,   1867.0,2,   2207.0,2,    71.35,2
  35A319940923,    22,  1,      3,      3,2,19941001,0823,  5.5900, 165.0000, -999,     59.4,  29.1080,  33.8190,2,    4.396,2,    192.0,2,     0.00,2,     0.00,2,     0.00,2,     0.04,2,     0.01,2,0.03,2,   1871.0,2,   2215.0,2,    70.83,2
  35A319940923,    22,  1,      4,      4,2,19941001,0823,  5.5900, 165.0000, -999,     79.5,  25.6120,  34.6420,2,    4.151,2,    181.1,2,     0.00,2,     0.00,2,     0.00,2,     0.13,2,     0.02,2,0.02,2,   1964.0,2,   2267.0,2,    65.96,2
  35A319940923,    22,  1,      5,      5,2,19941001,0823,  5.5900, 165.0000, -999,     89.6,  24.2620,  34.7310,2,    3.982,2,    173.6,2,     0.65,2,     0.69,2,     0.05,2,     0.21,2,     0.06,2,0.06,2,   1991.0,2,   2285.0,2,    65.11,2
  35A319940923,    22,  1,      6,      6,2,19941001,0823,  5.5900, 165.0000, -999,     98.6,  23.3330,  34.8000,2,    3.562,2,    155.2,2,     4.00,2,     4.38,2,     0.38,2,     0.37,2,     0.07,2,0.06,2,   2005.0,2,   2279.0,2,    60.05,2
  35A319940923,    22,  1,      7,      7,2,19941001,0823,  5.5900, 165.0000, -999,    107.7,  21.9020,  34.8290,2,    3.402,2,    148.2,2,     6.08,2,     6.32,2,     0.24,2,     0.50,2,     0.04,2,0.01,2,   2025.0,2,   2277.0,2,    59.51,2
  35A319940923,    22,  1,      8,      8,2,19941001,0823,  5.5900, 165.0000, -999,    119.7,  20.2580,  34.8340,2,    3.174,2,    138.2,2,     8.36,2,     8.41,2,     0.05,2,     0.64,2,     0.04,2,0.02,2,   2049.0,2,   2285.0,2,    52.47,2
  35A319940923,    22,  1,      9,      9,2,19941001,0823,  5.5900, 165.0000, -999,    129.8,  19.8390,  34.8830,2,    3.118,2,    135.7,2,     9.29,2,     9.34,2,     0.05,2,     0.71,2,     0.03,2,0.02,2,   2056.0,2,   2287.0,2,    52.03,2
  35A319940923,    22,  1,     10,     10,2,19941001,0823,  5.5900, 165.0000, -999,    139.9,  18.6950,  34.7910,2,    2.960,2,    128.8,2,    10.84,2,    10.88,2,     0.04,2,     0.83,2,     0.03,2,0.06,2,   2071.0,2,   2288.0,2,    55.59,2
  35A319940923,    22,  1,     11,     11,2,19941001,0823,  5.5900, 165.0000, -999,    159.0,  16.7160,  34.7130,2,    2.819,2,    122.6,2,    13.45,2,    13.47,2,     0.02,2,     1.03,2,     0.03,2,0.02,2,   2096.0,2,   2282.0,2,    47.00,2
  35A319940923,    22,  1,     12,     12,2,19941001,0823,  5.5900, 165.0000, -999,    180.1,  14.6560,  34.6340,2,    2.574,2,    111.9,2,    15.89,2,    15.91,2,     0.02,2,     1.26,2,     0.03,2,0.03,2,   -999.0,9,   -999.0,9,    38.50,2
  35A319940923,    22,  1,     13,     13,2,19941001,0823,  5.5900, 165.0000, -999,   1011.3,   4.6670,  34.5520,2, -999.000,9,   -999.0,9,    44.79,2,    44.80,2,     0.01,2,     2.90,2,  -999.00,9,-999,9,   2305.0,2,   2353.0,2,  -999.00,9