BOTTLE,20120829IOSDFOJC
EXPOCODE,STNNBR,CASTNO,SAMPNO,BTLNBR,BTLNBR_FLAG_W,DATE,TIME,LATITUDE,LONGITUDE,DEPTH,CTDPRS,CTDTMP,CTDSAL,CTDSAL_FLAG_W,CTDOXY,CTDOXY_FLAG_W,OXYGEN,OXYGEN_FLAG_W,NITRAT,NITRAT_FLAG_W,NO2+NO3,NO2+NO3_FLAG_W,NITRIT,NITRIT_FLAG_W,PHSPHT,PHSPHT_FLAG_W,SILCAT,SILCAT_FLAG_W,NH4,NH4_FLAG_W,TCARBN,TCARBN_FLAG_W,ALKALI,ALKALI_FLAG_W,DOC,DOC_FLAG_W
,,,,,,,,,,METERS,DBARS,,,,ML/L,,UMOL/KG,,UMOL/KG,,UMOL/KG,,UMOL/KG,,UMOL/KG,,UMOL/KG,,UMOL/KG,,UMOL/KG,,UMOL/KG,,UMOL/KG,
  35A319940923,   121,  1,      1,      1,2,19941025,2303, -0.2900,-149.2100, -999,      3.0,  27.7150,  35.1690,2, -999.000,9,   -999.0,9,  -999.00,9,  -999.00,9,  -999.00,9,  -999.00,9,  -999.00,9,-999,9,   -999.0,9,   -999.0,9,  -999.00,9
  35A319940923,   121,  1,      2,      2,2,19941025,2303, -0.2900,-149.2100, -999,     18.1,  27.5760,  35.1690,2, -999.000,9,   -999.0,9,  -999.00,9,  -999.00,9,  -999.00,9,  -999.00,9,  -999.00,9,-999,9,   -999.0,9,   -999.0,9,  -999.00,9
  35A319940923,   121,  1,      3,      3,2,19941025,2303, -0.2900,-149.2100, -999,     29.2,  27.5610,  35.1690,2, -999.000,9,   -999.0,9,  -999.00,9,  -999.00,9,  -999.00,9,  -999.00,9,  -999.00,9,-999,9,   -999.0,9,   -999.0,9,  -999.00,9
  35A319940923,   121,  1,      4,      4,2,19941025,2303, -0.2900,-149.2100, -999,     39.2,  27.5430,  35.1690,2, -999.000,9,   -999.0,9,  -999.00,9,  -999.00,9,  -999.00,9,  -999.00,9,  -999.00,9,-999,9,   -999.0,9,   -999.0,9,  -999.00,9
  35A319940923,   121,  1,      5,      5,2,19941025,2303, -0.2900,-149.2100, -999,     49.3,  27.5390,  35.1710,2, -999.000,9,   -999.0,9,  -999.00,9,  -999.00,9,  -999.00,9,  -999.00,9,  -999.00,9,-999,9,   -999.0,9,   -999.0,9,  -999.00,9
  35A319940923,   121,  1,      6,      6,2,19941025,2303, -0.2900,-149.2100, -999,     59.4,  27.5290,  35.1720,2, -999.000,9,   -999.0,9,  -999.00,9,  -999.00,9,  -999.00,9,  -999.00,9,  -999.00,9,-999,9,   -999.0,9,   -999.0,9,  -999.00,9
  35A319940923,   121,  1,      7,      7,2,19941025,2303, -0.2900,-149.2100, -999,     69.4,  27.5160,  35.1740,2, -999.000,9,   -999.0,9,  -999.00,9,  -999.00,9,  -999.00,9,  -999.00,9,  -999.00,9,-999,9,   -999.0,9,   -999.0,9,  -999.00,9
  35A319940923,   121,  1,      8,      8,2,19941025,2303, -0.2900,-149.2100, -999,     79.5,  27.4860,  35.1720,2, -999.000,9,   -999.0,9,  -999.00,9,  -999.00,9,  -999.00,9,  -999.00,9,  -999.00,9,-999,9,   -999.0,9,   -999.0,9,  -999.00,9
  35A319940923,   121,  1,      9,      9,2,19941025,2303, -0.2900,-149.2100, -999,     89.5,  27.4010,  35.1610,2, -999.000,9,   -999.0,9,  -999.00,9,  -999.00,9,  -999.00,9,  -999.00,9,  -999.00,9,-999,9,   -999.0,9,   -999.0,9,  -999.00,9
  35A319940923,   121,  1,     10,     10,2,19941025,2303, -0.2900,-149.2100, -999,    101.6,  26.6120,  35.0330,2, -999.000,9,   -999.0,9,  -999.00,9,  -999.00,9,  -999.00,9,  -999.00,9,  -999.00,9,-999,9,   -999.0,9,   -999.0,9,  -999.00,9
  35A319940923,   121,  1,     11,     11,2,19941025,2303, -0.2900,-149.2100, -999,    118.7,  26.4620,  35.4570,2, -999.000,9,   -999.0,9,  -999.00,9,  -999.00,9,  -999.00,9,  -999.00,9,  -999.00,9,-999,9,   -999.0,9,   -999.0,9,  -999.00,9
  35A319940923,   121,  1,     12,     12,2,19941025,2303, -0.2900,-149.2100, -999,    150.9,  18.8760,  35.4120,2, -999.000,9,   -999.0,9,  -999.00,9,  -999.00,9,  -999.00,9,  -999.00,9,  -999.00,9,-999,9,   -999.0,9,   -999.0,9,  -999.00,9
  35A319940923,   122,  1,      1,      1,2,19941026,0101, -0.3000,-149.2200, -999,      3.0,  27.8340,  35.1670,2,    4.349,2,    189.7,2,     2.87,2,     3.09,2,     0.22,2,     0.36,2,  -999.00,9,0.58,2,   1993.0,2,   2303.0,2,  -999.00,9
  35A319940923,   122,  1,      2,      2,2,19941026,0101, -0.3000,-149.2200, -999,     19.1,  27.5880,  35.1620,2,    4.444,2,    193.8,2,     2.89,2,     3.12,2,     0.23,2,     0.36,2,  -999.00,9,0.2,2,   1993.0,2,   2305.0,2,  -999.00,9
  35A319940923,   122,  1,      3,      3,2,19941026,0101, -0.3000,-149.2200, -999,     29.2,  27.5650,  35.1630,2,    4.444,2,    193.8,2,     2.89,2,     3.13,2,     0.24,2,     0.37,2,  -999.00,9,0.64,2,   1992.0,2,   2304.0,2,  -999.00,9
  35A319940923,   122,  1,      4,      4,2,19941026,0101, -0.3000,-149.2200, -999,     40.2,  27.5560,  35.1640,2,    4.453,2,    194.2,2,     2.92,2,     3.16,2,     0.24,2,     0.37,2,  -999.00,9,0.29,2,   1994.0,2,   2303.0,2,  -999.00,9
  35A319940923,   122,  1,      5,      5,2,19941026,0101, -0.3000,-149.2200, -999,     59.4,  27.5380,  35.1680,2,    4.398,2,    191.8,2,     2.97,2,     3.24,2,     0.27,2,     0.39,2,  -999.00,9,0.26,2,   1994.0,2,   2306.0,2,  -999.00,9
  35A319940923,   122,  1,      6,      6,2,19941026,0101, -0.3000,-149.2200, -999,     69.4,  27.5220,  35.1700,2,    4.318,2,    188.3,2,     3.05,2,     3.35,2,     0.30,2,     0.40,2,  -999.00,9,0.19,2,   1996.0,2,   2307.0,2,  -999.00,9
  35A319940923,   122,  1,      7,      7,2,19941026,0101, -0.3000,-149.2200, -999,     80.5,  27.4960,  35.1700,2,    4.295,2,    187.3,2,     3.18,2,     3.55,2,     0.37,2,     0.43,2,  -999.00,9,0.35,2,   2000.0,2,   2305.0,2,  -999.00,9
  35A319940923,   122,  1,      8,      8,2,19941026,0101, -0.3000,-149.2200, -999,    100.6,  26.4880,  35.0150,2,    3.889,2,    169.6,2,     4.62,2,     5.81,2,     1.19,2,     0.56,2,  -999.00,9,0.15,2,   2014.0,2,   2295.0,2,  -999.00,9
  35A319940923,   122,  1,      9,      9,2,19941026,0101, -0.3000,-149.2200, -999,    119.7,  25.9220,  35.5800,2,    3.028,2,    132.0,2,     8.56,2,     8.61,2,     0.05,2,     0.77,2,  -999.00,9,0.25,2,   2055.0,2,   2330.0,2,  -999.00,9
  35A319940923,   122,  1,     10,     10,2,19941026,0101, -0.3000,-149.2200, -999,    138.9,  19.3680,  35.4370,2,    2.445,2,    106.4,2,    14.18,2,    14.20,2,     0.02,2,     1.15,2,  -999.00,9,0,2,   2118.0,2,   2327.0,2,  -999.00,9
  35A319940923,   122,  1,     11,     11,2,19941026,0101, -0.3000,-149.2200, -999,    159.0,  16.0560,  35.0620,2,    2.681,2,    116.6,2,    15.89,2,    15.90,2,     0.01,2,     1.26,2,  -999.00,9,0.06,2,   2124.0,2,   2308.0,2,  -999.00,9
  35A319940923,   122,  1,     12,     12,2,19941026,0101, -0.3000,-149.2200, -999,    199.3,  13.7960,  34.9380,2,    2.616,2,    113.7,2,    17.59,2,    17.60,2,     0.01,2,     1.37,2,  -999.00,9,0.02,2,   -999.0,9,   -999.0,9,  -999.00,9
  35A319940923,   122,  1,     13,     13,2,19941026,0101, -0.3000,-149.2200, -999,    301.0,  11.3880,  34.8070,2,    0.387,2,     16.8,2,    34.00,2,    34.00,2,     0.00,2,     2.41,2,  -999.00,9,0.09,2,   2234.0,2,   2299.0,2,  -999.00,9
  35A319940923,   124,  1,      1,      1,2,19941026,0500, -0.3000,-149.2000, -999,      2.0,  27.6420,  35.1580,2, -999.000,9,   -999.0,9,     2.80,2,     3.00,2,     0.20,2,     0.40,2,  -999.00,9,-999,9,   1993.0,2,   2304.0,2,  -999.00,9
  35A319940923,   124,  1,      2,      2,2,19941026,0500, -0.3000,-149.2000, -999,     20.1,  27.6510,  35.1570,2, -999.000,9,   -999.0,9,     2.84,2,     3.03,2,     0.19,2,     0.40,2,  -999.00,9,-999,9,   1993.0,2,   2305.0,2,  -999.00,9
  35A319940923,   124,  1,      3,      3,2,19941026,0500, -0.3000,-149.2000, -999,     30.2,  27.5800,  35.1500,2, -999.000,9,   -999.0,9,  -999.00,9,  -999.00,9,  -999.00,9,  -999.00,9,  -999.00,9,-999,9,   1992.0,2,   2303.0,2,  -999.00,9
  35A319940923,   124,  1,      4,      4,2,19941026,0500, -0.3000,-149.2000, -999,     40.2,  27.5580,  35.1600,2, -999.000,9,   -999.0,9,     2.86,2,     3.07,2,     0.21,2,     0.41,2,  -999.00,9,-999,9,   1994.0,2,   2305.0,2,  -999.00,9
  35A319940923,   124,  1,      5,      5,2,19941026,0500, -0.3000,-149.2000, -999,     50.3,  27.5480,  35.1630,2, -999.000,9,   -999.0,9,     2.90,2,     3.12,2,     0.22,2,     0.42,2,  -999.00,9,-999,9,   -999.0,9,   -999.0,9,  -999.00,9
  35A319940923,   124,  1,      6,      6,2,19941026,0500, -0.3000,-149.2000, -999,     59.4,  27.5360,  35.1660,2, -999.000,9,   -999.0,9,     2.94,2,     3.18,2,     0.24,2,     0.41,2,  -999.00,9,-999,9,   1954.0,2,   -999.0,9,  -999.00,9
  35A319940923,   124,  1,      7,      7,2,19941026,0500, -0.3000,-149.2000, -999,     68.4,  27.5310,  35.1700,2, -999.000,9,   -999.0,9,     3.00,2,     3.26,2,     0.26,2,     0.42,2,  -999.00,9,-999,9,   1996.0,2,   2306.0,2,  -999.00,9
  35A319940923,   124,  1,      8,      8,2,19941026,0500, -0.3000,-149.2000, -999,     80.5,  27.5200,  35.1740,2, -999.000,9,   -999.0,9,  -999.00,9,  -999.00,9,  -999.00,9,  -999.00,9,  -999.00,9,-999,9,   -999.0,9,   -999.0,9,  -999.00,9
  35A319940923,   124,  1,      9,      9,2,19941026,0500, -0.3000,-149.2000, -999,     99.6,  27.3250,  35.1390,2, -999.000,9,   -999.0,9,     3.39,2,     3.83,2,     0.44,2,     0.49,2,  -999.00,9,-999,9,   2003.0,2,   2304.0,2,  -999.00,9
  35A319940923,   124,  1,     10,     10,2,19941026,0500, -0.3000,-149.2000, -999,    120.7,  26.1150,  35.1350,2, -999.000,9,   -999.0,9,     6.97,2,     7.22,2,     0.25,2,     0.69,2,  -999.00,9,-999,9,   2032.0,2,   2307.0,2,  -999.00,9
  35A319940923,   124,  1,     11,     11,2,19941026,0500, -0.3000,-149.2000, -999,    140.9,  22.7680,  35.4080,2, -999.000,9,   -999.0,9,    10.65,2,    10.67,2,     0.03,2,     0.93,2,  -999.00,9,-999,9,   2077.0,2,   2322.0,2,  -999.00,9
  35A319940923,   124,  1,     12,     12,2,19941026,0500, -0.3000,-149.2000, -999,    149.9,  19.6990,  35.4530,2, -999.000,9,   -999.0,9,  -999.00,9,  -999.00,9,  -999.00,9,  -999.00,9,  -999.00,9,-999,9,   -999.0,9,   -999.0,9,  -999.00,9
  35A319940923,   124,  1,     13,     13,2,19941026,0500, -0.3000,-149.2000, -999,    160.0,  18.7170,  35.3950,2, -999.000,9,   -999.0,9,    14.38,2,    14.40,2,     0.02,2,     1.20,2,  -999.00,9,-999,9,   2125.0,2,   2324.0,2,  -999.00,9
  35A319940923,   124,  1,     14,     14,2,19941026,0500, -0.3000,-149.2000, -999,    181.1,  15.8750,  35.0490,2, -999.000,9,   -999.0,9,    14.58,2,    14.60,2,     0.02,2,     1.22,2,  -999.00,9,-999,9,   -999.0,9,   -999.0,9,  -999.00,9
  35A319940923,   124,  1,     15,     15,2,19941026,0500, -0.3000,-149.2000, -999,    199.3,  14.4470,  35.0120,2, -999.000,9,   -999.0,9,    18.09,2,    18.10,2,     0.01,2,     1.46,2,  -999.00,9,-999,9,   2144.0,2,   2308.0,2,  -999.00,9
  35A319940923,   126,  1,      1,      1,2,19941026,0854, -0.3000,-149.1800, -999,      4.0,  27.5730,  35.0840,2, -999.000,9,   -999.0,9,     2.54,2,     2.70,2,     0.17,2,     0.41,2,  -999.00,9,-999,9,   -999.0,9,   -999.0,9,  -999.00,9
  35A319940923,   126,  1,      2,      2,2,19941026,0854, -0.3000,-149.1800, -999,     19.1,  27.5890,  35.0920,2, -999.000,9,   -999.0,9,     2.56,2,     2.72,2,     0.16,2,     0.39,2,  -999.00,9,-999,9,   -999.0,9,   -999.0,9,  -999.00,9
  35A319940923,   126,  1,      3,      3,2,19941026,0854, -0.3000,-149.1800, -999,     29.2,  27.5910,  35.0970,2, -999.000,9,   -999.0,9,     2.56,2,     2.72,2,     0.16,2,     0.40,2,  -999.00,9,-999,9,   -999.0,9,   -999.0,9,  -999.00,9
  35A319940923,   126,  1,      4,      4,2,19941026,0854, -0.3000,-149.1800, -999,     39.2,  27.5860,  35.1150,2, -999.000,9,   -999.0,9,     2.55,2,     2.70,2,     0.15,2,     0.40,2,  -999.00,9,-999,9,   -999.0,9,   -999.0,9,  -999.00,9
  35A319940923,   126,  1,      5,      5,2,19941026,0854, -0.3000,-149.1800, -999,     49.3,  27.5500,  35.1430,2, -999.000,9,   -999.0,9,     2.57,2,     2.76,2,     0.19,2,     0.41,2,  -999.00,9,-999,9,   -999.0,9,   -999.0,9,  -999.00,9
  35A319940923,   126,  1,      6,      6,2,19941026,0854, -0.3000,-149.1800, -999,     59.4,  27.5390,  35.1560,2, -999.000,9,   -999.0,9,     2.66,2,     2.87,2,     0.21,2,     0.43,2,  -999.00,9,-999,9,   -999.0,9,   -999.0,9,  -999.00,9
  35A319940923,   126,  1,      7,      7,2,19941026,0854, -0.3000,-149.1800, -999,     69.4,  27.5290,  35.1640,2, -999.000,9,   -999.0,9,     2.76,2,     3.00,2,     0.24,2,     0.43,2,  -999.00,9,-999,9,   -999.0,9,   -999.0,9,  -999.00,9
  35A319940923,   126,  1,      8,      8,2,19941026,0854, -0.3000,-149.1800, -999,     79.5,  27.5120,  35.1720,2, -999.000,9,   -999.0,9,     2.89,2,     3.20,2,     0.31,2,     0.45,2,  -999.00,9,-999,9,   -999.0,9,   -999.0,9,  -999.00,9
  35A319940923,   126,  1,      9,      9,2,19941026,0854, -0.3000,-149.1800, -999,    100.6,  26.2850,  35.0100,2, -999.000,9,   -999.0,9,     4.79,2,     6.05,2,     1.26,2,     0.65,2,  -999.00,9,-999,9,   -999.0,9,   -999.0,9,  -999.00,9
  35A319940923,   126,  1,     10,     10,2,19941026,0854, -0.3000,-149.1800, -999,    120.7,  25.8060,  35.6230,2, -999.000,9,   -999.0,9,     9.11,2,     9.14,2,     0.03,2,     0.89,2,  -999.00,9,-999,9,   -999.0,9,   -999.0,9,  -999.00,9
  35A319940923,   126,  1,     11,     11,2,19941026,0854, -0.3000,-149.1800, -999,    139.9,  21.2110,  35.5330,2, -999.000,9,   -999.0,9,    13.39,2,    13.40,2,     0.01,2,     1.13,2,  -999.00,9,-999,9,   -999.0,9,   -999.0,9,  -999.00,9
  35A319940923,   126,  1,     12,     12,2,19941026,0854, -0.3000,-149.1800, -999,    150.9,  19.3780,  35.4650,2, -999.000,9,   -999.0,9,    14.99,2,    15.00,2,     0.01,2,     1.24,2,  -999.00,9,-999,9,   -999.0,9,   -999.0,9,  -999.00,9
  35A319940923,   126,  1,     13,     13,2,19941026,0854, -0.3000,-149.1800, -999,    161.0,  17.8440,  35.2860,2, -999.000,9,   -999.0,9,    16.00,2,    16.00,2,     0.00,2,     1.28,2,  -999.00,9,-999,9,   -999.0,9,   -999.0,9,  -999.00,9