BOTTLE,20120829IOSDFOJC
EXPOCODE,STNNBR,CASTNO,SAMPNO,BTLNBR,BTLNBR_FLAG_W,DATE,TIME,LATITUDE,LONGITUDE,DEPTH,CTDPRS,CTDTMP,CTDSAL,CTDSAL_FLAG_W,CTDOXY,CTDOXY_FLAG_W,OXYGEN,OXYGEN_FLAG_W,NITRAT,NITRAT_FLAG_W,NO2+NO3,NO2+NO3_FLAG_W,NITRIT,NITRIT_FLAG_W,PHSPHT,PHSPHT_FLAG_W,SILCAT,SILCAT_FLAG_W,NH4,NH4_FLAG_W,TCARBN,TCARBN_FLAG_W,ALKALI,ALKALI_FLAG_W,DOC,DOC_FLAG_W
,,,,,,,,,,METERS,DBARS,,,,ML/L,,UMOL/KG,,UMOL/KG,,UMOL/KG,,UMOL/KG,,UMOL/KG,,UMOL/KG,,UMOL/KG,,UMOL/KG,,UMOL/KG,,UMOL/KG,
  35A319940923,   100,  1,      1,      1,2,19941022,1308, -0.0100,-149.5200, -999,      2.0,  27.6400,  35.2880,2,    4.242,2,    185.0,2,     3.28,2,     3.80,2,     0.52,2,     0.42,2,  -999.00,9,0.19,2,   -999.0,9,   -999.0,9,  -999.00,9
  35A319940923,   100,  1,      2,      2,2,19941022,1308, -0.0100,-149.5200, -999,      9.1,  27.6510,  35.2880,2,    4.254,2,    185.5,2,     3.29,2,     3.81,2,     0.52,2,     0.42,2,  -999.00,9,0.06,2,   -999.0,9,   -999.0,9,  -999.00,9
  35A319940923,   100,  1,      3,      3,2,19941022,1308, -0.0100,-149.5200, -999,     19.1,  27.6520,  35.2870,2,    4.228,2,    184.4,2,     3.29,2,     3.81,2,     0.52,2,     0.43,2,  -999.00,9,0,2,   -999.0,9,   -999.0,9,  -999.00,9
  35A319940923,   100,  1,      4,      4,2,19941022,1308, -0.0100,-149.5200, -999,     30.2,  27.6410,  35.2850,2,    4.242,2,    185.0,2,     3.32,2,     3.84,2,     0.53,2,     0.43,2,  -999.00,9,0.11,2,   -999.0,9,   -999.0,9,  -999.00,9
  35A319940923,   100,  1,      5,      5,2,19941022,1308, -0.0100,-149.5200, -999,     38.2,  27.5990,  35.2770,2,    4.199,2,    183.1,2,     3.35,2,     3.91,2,     0.56,2,     0.44,2,  -999.00,9,0.09,2,   -999.0,9,   -999.0,9,  -999.00,9
  35A319940923,   100,  1,      6,      6,2,19941022,1308, -0.0100,-149.5200, -999,     48.3,  27.5220,  35.2530,2,    4.135,2,    180.3,2,     3.44,2,     4.05,2,     0.61,2,     0.46,2,  -999.00,9,0.05,2,   -999.0,9,   -999.0,9,  -999.00,9
  35A319940923,   100,  1,      7,      7,2,19941022,1308, -0.0100,-149.5200, -999,     59.4,  27.3560,  35.2020,2,    4.089,2,    178.3,2,     3.59,2,     4.30,2,     0.71,2,     0.47,2,  -999.00,9,0.17,2,   -999.0,9,   -999.0,9,  -999.00,9
  35A319940923,   100,  1,      8,      8,2,19941022,1308, -0.0100,-149.5200, -999,     69.4,  26.6270,  35.0330,2,    3.940,2,    171.8,2,     4.16,2,     5.56,2,     1.40,2,     0.55,2,  -999.00,9,0.19,2,   -999.0,9,   -999.0,9,  -999.00,9
  35A319940923,   100,  1,      9,      9,2,19941022,1308, -0.0100,-149.5200, -999,     81.5,  26.2320,  35.0280,2,    3.711,2,    161.8,2,     5.08,2,     6.35,2,     1.27,2,     0.60,2,  -999.00,9,0,2,   -999.0,9,   -999.0,9,  -999.00,9
  35A319940923,   100,  1,     10,     10,2,19941022,1308, -0.0100,-149.5200, -999,    100.6,  26.2280,  35.0820,2,    3.374,2,    147.1,2,     6.15,2,     6.62,2,     0.47,2,     0.62,2,  -999.00,9,0.02,2,   -999.0,9,   -999.0,9,  -999.00,9
  35A319940923,   100,  1,     11,     11,2,19941022,1308, -0.0100,-149.5200, -999,    119.7,  25.6120,  35.1010,2,    3.070,2,    133.8,2,     7.25,2,     7.33,2,     0.08,2,     0.67,2,  -999.00,9,0.11,2,   -999.0,9,   -999.0,9,  -999.00,9
  35A319940923,   100,  1,     12,     12,2,19941022,1308, -0.0100,-149.5200, -999,    149.9,  21.4770,  35.3010,2,    2.527,2,    110.0,2,    11.58,2,    11.60,2,     0.03,2,     0.93,2,  -999.00,9,0.24,2,   -999.0,9,   -999.0,9,  -999.00,9
  35A319940923,   101,  1,      1,      1,2,19941022,1655,  0.0400,-149.4800, -999,      2.0,  27.6450,  35.2850,2, -999.000,9,   -999.0,9,     3.28,2,     3.79,2,     0.51,2,     0.41,2,  -999.00,9,-999,9,   2001.0,2,   2317.0,2,  -999.00,9
  35A319940923,   101,  1,      2,      2,2,19941022,1655,  0.0400,-149.4800, -999,     20.1,  27.6400,  35.2840,2, -999.000,9,   -999.0,9,     3.29,2,     3.81,2,     0.52,2,     0.41,2,  -999.00,9,-999,9,   2004.0,2,   2317.0,2,  -999.00,9
  35A319940923,   101,  1,      3,      3,2,19941022,1655,  0.0400,-149.4800, -999,     30.2,  27.6310,  35.2810,2, -999.000,9,   -999.0,9,     3.31,2,     3.83,2,     0.53,2,     0.41,2,  -999.00,9,-999,9,   2003.0,2,   2317.0,2,  -999.00,9
  35A319940923,   101,  1,      4,      4,2,19941022,1655,  0.0400,-149.4800, -999,     39.2,  27.5980,  35.2730,2, -999.000,9,   -999.0,9,     3.35,2,     3.90,2,     0.55,2,     0.41,2,  -999.00,9,-999,9,   2004.0,2,   2317.0,2,  -999.00,9
  35A319940923,   101,  1,      5,      5,2,19941022,1655,  0.0400,-149.4800, -999,     58.4,  27.4270,  35.2250,2, -999.000,9,   -999.0,9,     3.53,2,     4.22,2,     0.69,2,     0.46,2,  -999.00,9,-999,9,   2006.0,2,   2312.0,2,  -999.00,9
  35A319940923,   101,  1,      6,      6,2,19941022,1655,  0.0400,-149.4800, -999,     70.4,  26.3790,  35.0160,2, -999.000,9,   -999.0,9,     4.50,2,     6.06,2,     1.56,2,     0.58,2,  -999.00,9,-999,9,   2014.0,2,   2298.0,2,  -999.00,9
  35A319940923,   101,  1,      7,      7,2,19941022,1655,  0.0400,-149.4800, -999,     80.5,  26.1350,  35.0270,2, -999.000,9,   -999.0,9,     5.51,2,     6.47,2,     0.96,2,     0.60,2,  -999.00,9,-999,9,   2017.0,2,   2297.0,2,  -999.00,9
  35A319940923,   101,  1,      8,      8,2,19941022,1655,  0.0400,-149.4800, -999,    100.6,  25.5940,  35.0940,2, -999.000,9,   -999.0,9,     7.25,2,     7.33,2,     0.08,2,     0.65,2,  -999.00,9,-999,9,   2030.0,2,   2303.0,2,  -999.00,9
  35A319940923,   101,  1,      9,      9,2,19941022,1655,  0.0400,-149.4800, -999,    120.7,  25.9490,  35.4740,2, -999.000,9,   -999.0,9,     8.25,2,     8.30,2,     0.06,2,     0.73,2,  -999.00,9,-999,9,   2048.0,2,   2327.0,2,  -999.00,9
  35A319940923,   101,  1,     10,     10,2,19941022,1655,  0.0400,-149.4800, -999,    139.9,  24.0500,  35.1050,2, -999.000,9,   -999.0,9,     9.39,2,     9.45,2,     0.06,2,     0.76,2,  -999.00,9,-999,9,   -999.0,9,   -999.0,9,  -999.00,9
  35A319940923,   101,  1,     11,     11,2,19941022,1655,  0.0400,-149.4800, -999,    159.0,  18.4740,  35.2610,2, -999.000,9,   -999.0,9,    14.48,2,    14.50,2,     0.02,2,     1.16,2,  -999.00,9,-999,9,   2114.0,2,   2316.0,2,  -999.00,9
  35A319940923,   101,  1,     12,     12,2,19941022,1655,  0.0400,-149.4800, -999,    179.1,  16.2080,  35.0890,2, -999.000,9,   -999.0,9,    16.28,2,    16.30,2,     0.02,2,     1.23,2,  -999.00,9,-999,9,   -999.0,9,   -999.0,9,  -999.00,9
  35A319940923,   101,  1,     13,     13,2,19941022,1655,  0.0400,-149.4800, -999,    200.3,  14.7300,  35.0170,2, -999.000,9,   -999.0,9,    18.39,2,    18.40,2,     0.01,2,     1.38,2,  -999.00,9,-999,9,   2136.0,2,   2309.0,2,  -999.00,9
  35A319940923,   101,  1,     14,     14,2,19941022,1655,  0.0400,-149.4800, -999,    249.6,  12.7850,  34.8920,2, -999.000,9,   -999.0,9,    21.09,2,    21.10,2,     0.01,2,     1.54,2,  -999.00,9,-999,9,   -999.0,9,   -999.0,9,  -999.00,9
  35A319940923,   101,  1,     15,     15,2,19941022,1655,  0.0400,-149.4800, -999,    300.0,  11.8230,  34.8350,2, -999.000,9,   -999.0,9,    31.89,2,    31.90,2,     0.01,2,     2.36,2,  -999.00,9,-999,9,   2222.0,2,   2301.0,2,  -999.00,9
  35A319940923,   102,  1,      1,      1,2,19941022,2027, -0.0700,-149.4800, -999,      3.0,  27.8670,  35.2890,2, -999.000,9,   -999.0,9,     3.27,2,     3.77,2,     0.50,2,     0.39,2,  -999.00,9,-999,9,   -999.0,9,   -999.0,9,  -999.00,9
  35A319940923,   102,  1,      2,      2,2,19941022,2027, -0.0700,-149.4800, -999,     21.1,  27.6570,  35.2830,2, -999.000,9,   -999.0,9,     3.28,2,     3.79,2,     0.51,2,     0.40,2,  -999.00,9,-999,9,   -999.0,9,   -999.0,9,  -999.00,9
  35A319940923,   102,  1,      3,      3,2,19941022,2027, -0.0700,-149.4800, -999,     30.2,  27.6450,  35.2810,2, -999.000,9,   -999.0,9,     3.28,2,     3.80,2,     0.52,2,     0.40,2,  -999.00,9,-999,9,   -999.0,9,   -999.0,9,  -999.00,9
  35A319940923,   102,  1,      4,      4,2,19941022,2027, -0.0700,-149.4800, -999,     40.2,  27.6290,  35.2780,2, -999.000,9,   -999.0,9,     3.31,2,     3.84,2,     0.53,2,     0.40,2,  -999.00,9,-999,9,   -999.0,9,   -999.0,9,  -999.00,9
  35A319940923,   102,  1,      5,      5,2,19941022,2027, -0.0700,-149.4800, -999,     59.4,  27.5620,  35.2610,2, -999.000,9,   -999.0,9,     3.40,2,     3.98,2,     0.58,2,     0.44,2,  -999.00,9,-999,9,   -999.0,9,   -999.0,9,  -999.00,9
  35A319940923,   102,  1,      6,      6,2,19941022,2027, -0.0700,-149.4800, -999,     69.4,  27.2260,  35.1690,2, -999.000,9,   -999.0,9,     3.78,2,     4.71,2,     0.93,2,     0.49,2,  -999.00,9,-999,9,   -999.0,9,   -999.0,9,  -999.00,9
  35A319940923,   102,  1,      7,      7,2,19941022,2027, -0.0700,-149.4800, -999,     78.5,  26.3210,  35.0210,2, -999.000,9,   -999.0,9,     4.93,2,     6.28,2,     1.35,2,     0.57,2,  -999.00,9,-999,9,   -999.0,9,   -999.0,9,  -999.00,9
  35A319940923,   102,  1,      8,      8,2,19941022,2027, -0.0700,-149.4800, -999,    101.6,  25.7940,  35.0750,2, -999.000,9,   -999.0,9,     6.78,2,     6.95,2,     0.17,2,     0.63,2,  -999.00,9,-999,9,   -999.0,9,   -999.0,9,  -999.00,9
  35A319940923,   102,  1,      9,      9,2,19941022,2027, -0.0700,-149.4800, -999,    119.7,  25.7370,  35.4730,2, -999.000,9,   -999.0,9,     8.47,2,     8.52,2,     0.05,2,     0.74,2,  -999.00,9,-999,9,   -999.0,9,   -999.0,9,  -999.00,9
  35A319940923,   102,  1,     10,     10,2,19941022,2027, -0.0700,-149.4800, -999,    140.9,  22.4940,  35.2030,2, -999.000,9,   -999.0,9,    10.67,2,    10.70,2,     0.03,2,     0.86,2,  -999.00,9,-999,9,   -999.0,9,   -999.0,9,  -999.00,9
  35A319940923,   102,  1,     11,     11,2,19941022,2027, -0.0700,-149.4800, -999,    159.0,  16.9790,  35.1140,2, -999.000,9,   -999.0,9,    17.18,2,    17.20,2,     0.02,2,     1.16,2,  -999.00,9,-999,9,   -999.0,9,   -999.0,9,  -999.00,9
  35A319940923,   102,  1,     12,     12,2,19941022,2027, -0.0700,-149.4800, -999,    201.3,  13.8800,  34.9250,2, -999.000,9,   -999.0,9,    20.29,2,    20.30,2,     0.01,2,     1.41,2,  -999.00,9,-999,9,   -999.0,9,   -999.0,9,  -999.00,9
  35A319940923,   102,  1,     13,     13,2,19941022,2027, -0.0700,-149.4800, -999,    302.0,  11.8640,  34.8370,2, -999.000,9,   -999.0,9,    32.89,2,    32.90,2,     0.01,2,     2.09,2,  -999.00,9,-999,9,   -999.0,9,   -999.0,9,  -999.00,9
  35A319940923,   103,  1,      1,      1,2,19941023,0138, -0.0100,-149.5000, -999,      2.0,  27.9100,  35.2810,2,    4.308,2,    187.9,2,     3.03,2,     3.49,2,     0.46,2,     0.39,2,  -999.00,9,0,2,   2003.0,2,   2317.0,2,    69.72,2
  35A319940923,   103,  1,      2,      2,2,19941023,0138, -0.0100,-149.5000, -999,     20.1,  27.6830,  35.2780,2,    4.384,2,    191.2,2,     3.02,2,     3.49,2,     0.47,2,     0.39,2,  -999.00,9,0.08,2,   1999.0,2,   2315.0,2,    68.12,2
  35A319940923,   103,  1,      3,      3,2,19941023,0138, -0.0100,-149.5000, -999,     29.2,  27.6600,  35.2800,2,    4.361,2,    190.2,2,     3.05,2,     3.54,2,     0.49,2,     0.39,2,  -999.00,9,0.22,2,   2004.0,2,   2315.0,2,    67.01,2
  35A319940923,   103,  1,      4,      4,2,19941023,0138, -0.0100,-149.5000, -999,     38.2,  27.6260,  35.2780,2,    4.343,2,    189.4,2,     3.11,2,     3.63,2,     0.52,2,     0.39,2,  -999.00,9,0.35,2,   2002.0,2,   2312.0,2,    67.31,2
  35A319940923,   103,  1,      5,      5,2,19941023,0138, -0.0100,-149.5000, -999,     59.4,  27.3680,  35.2010,2,    4.201,2,    183.2,2,     3.31,2,     3.97,2,     0.66,2,     0.42,2,  -999.00,9,0.18,2,   2004.0,2,   2308.0,2,    62.50,2
  35A319940923,   103,  1,      6,      6,2,19941023,0138, -0.0100,-149.5000, -999,     70.4,  26.6470,  35.0210,2,    3.983,2,    173.7,2,     3.92,2,     5.02,2,     1.10,2,     0.50,2,  -999.00,9,0.36,2,   2006.0,2,   2295.0,2,  -999.00,9
  35A319940923,   103,  1,      7,      7,2,19941023,0138, -0.0100,-149.5000, -999,     80.5,  26.1730,  35.0080,2,    3.872,2,    168.8,2,     4.65,2,     6.19,2,     1.54,2,     0.56,2,  -999.00,9,0,2,   2016.0,2,   2292.0,2,    60.32,2
  35A319940923,   103,  1,      8,      8,2,19941023,0138, -0.0100,-149.5000, -999,    101.6,  25.4200,  34.9740,2,    3.269,2,    142.5,2,     6.69,2,     6.90,2,     0.21,2,     0.60,2,  -999.00,9,0.07,2,   2023.0,2,   2291.0,2,    58.80,2
  35A319940923,   103,  1,      9,      9,2,19941023,0138, -0.0100,-149.5000, -999,    119.7,  24.7530,  35.0370,2,    3.004,2,    130.9,2,     7.72,2,     7.77,2,     0.05,2,     0.66,2,  -999.00,9,0.04,2,   2034.0,2,   2294.0,2,    56.29,2
  35A319940923,   103,  1,     10,     10,2,19941023,0138, -0.0100,-149.5000, -999,    139.9,  23.0830,  35.1860,2,    2.714,2,    118.2,2,     9.85,2,     9.88,2,     0.03,2,     0.80,2,  -999.00,9,0.12,2,   2059.0,2,   2305.0,2,    54.01,2
  35A319940923,   103,  1,     11,     11,2,19941023,0138, -0.0100,-149.5000, -999,    159.0,  16.1830,  35.0310,2,    2.684,2,    116.7,2,    15.28,2,    15.30,2,     0.02,2,     1.20,2,  -999.00,9,0,2,   2120.0,2,   2303.0,2,    50.77,2
  35A319940923,   103,  1,     12,     12,2,19941023,0138, -0.0100,-149.5000, -999,    199.3,  14.9190,  35.0290,2,    2.696,2,    117.2,2,    17.99,2,    18.00,2,     0.01,2,     1.38,2,  -999.00,9,0.01,2,   -999.0,9,   -999.0,9,    48.63,2
  35A319940923,   103,  1,     13,     13,2,19941023,0138, -0.0100,-149.5000, -999,    300.0,  11.8720,  34.8370,2,    0.675,2,     29.2,2,    30.59,2,    30.60,2,     0.01,2,     2.18,2,  -999.00,9,0.21,2,   2220.0,2,   2301.0,2,    46.69,2
  35A319940923,   104,  1,      1,      1,2,19941023,0514, -0.1600,-149.4500, -999,      3.0,  27.7880,  35.2890,2, -999.000,9,   -999.0,9,     3.25,2,     3.68,2,     0.43,2,     0.43,2,  -999.00,9,-999,9,   2003.0,2,   2314.0,2,  -999.00,9
  35A319940923,   104,  1,      2,      2,2,19941023,0514, -0.1600,-149.4500, -999,     20.1,  27.6790,  35.2820,2, -999.000,9,   -999.0,9,     3.25,2,     3.69,2,     0.44,2,     0.41,2,  -999.00,9,-999,9,   2001.0,2,   2312.0,2,  -999.00,9
  35A319940923,   104,  1,      3,      3,2,19941023,0514, -0.1600,-149.4500, -999,     30.2,  27.6400,  35.2800,2, -999.000,9,   -999.0,9,  -999.00,9,  -999.00,9,  -999.00,9,  -999.00,9,  -999.00,9,-999,9,   2002.0,2,   2312.0,2,  -999.00,9
  35A319940923,   104,  1,      4,      4,2,19941023,0514, -0.1600,-149.4500, -999,     41.2,  27.6160,  35.2750,2, -999.000,9,   -999.0,9,     3.34,2,     3.81,2,     0.47,2,     0.43,2,  -999.00,9,-999,9,   2002.0,2,   2312.0,2,  -999.00,9
  35A319940923,   104,  1,      5,      5,2,19941023,0514, -0.1600,-149.4500, -999,     50.3,  27.5780,  35.2650,2, -999.000,9,   -999.0,9,     3.34,2,     3.83,2,     0.49,2,     0.43,2,  -999.00,9,-999,9,   -999.0,9,   -999.0,9,  -999.00,9
  35A319940923,   104,  1,      6,      6,2,19941023,0514, -0.1600,-149.4500, -999,     59.4,  27.4450,  35.2280,2, -999.000,9,   -999.0,9,     3.46,2,     4.00,2,     0.54,2,     0.45,2,  -999.00,9,-999,9,   -999.0,9,   -999.0,9,  -999.00,9
  35A319940923,   104,  1,      7,      7,2,19941023,0514, -0.1600,-149.4500, -999,     69.4,  26.8820,  35.0780,2, -999.000,9,   -999.0,9,     4.09,2,     5.07,2,     0.98,2,     0.52,2,  -999.00,9,-999,9,   2007.0,2,   2299.0,2,  -999.00,9
  35A319940923,   104,  1,      8,      8,2,19941023,0514, -0.1600,-149.4500, -999,     78.5,  26.2870,  35.0350,2, -999.000,9,   -999.0,9,     5.25,2,     6.27,2,     1.02,2,     0.58,2,  -999.00,9,-999,9,   2017.0,2,   2295.0,2,  -999.00,9
  35A319940923,   104,  1,      9,      9,2,19941023,0514, -0.1600,-149.4500, -999,    100.6,  26.1860,  35.4800,2, -999.000,9,   -999.0,9,     7.94,2,     8.02,2,     0.08,2,     0.69,2,  -999.00,9,-999,9,   2050.0,2,   2325.0,2,  -999.00,9
  35A319940923,   104,  1,     10,     10,2,19941023,0514, -0.1600,-149.4500, -999,    120.7,  24.4180,  35.1510,2, -999.000,9,   -999.0,9,     8.81,2,     8.85,2,     0.04,2,     0.71,2,  -999.00,9,-999,9,   2047.0,2,   2302.0,2,  -999.00,9
  35A319940923,   104,  1,     11,     11,2,19941023,0514, -0.1600,-149.4500, -999,    139.9,  19.2820,  35.1910,2, -999.000,9,   -999.0,9,    13.08,2,    13.10,2,     0.02,2,     1.02,2,  -999.00,9,-999,9,   2102.0,2,   2312.0,2,  -999.00,9
  35A319940923,   104,  1,     12,     12,2,19941023,0514, -0.1600,-149.4500, -999,    149.9,  16.5950,  35.0760,2, -999.000,9,   -999.0,9,    15.38,2,    15.40,2,     0.02,2,     1.18,2,  -999.00,9,-999,9,   -999.0,9,   -999.0,9,  -999.00,9
  35A319940923,   104,  1,     13,     13,2,19941023,0514, -0.1600,-149.4500, -999,    161.0,  16.2310,  35.0940,2, -999.000,9,   -999.0,9,    16.09,2,    16.10,2,     0.01,2,     1.25,2,  -999.00,9,-999,9,   2126.0,2,   2307.0,2,  -999.00,9
  35A319940923,   104,  1,     14,     14,2,19941023,0514, -0.1600,-149.4500, -999,    180.1,  15.2220,  35.0940,2, -999.000,9,   -999.0,9,    17.78,2,    17.80,2,     0.02,2,     1.34,2,  -999.00,9,-999,9,   -999.0,9,   -999.0,9,  -999.00,9
  35A319940923,   104,  1,     15,     15,2,19941023,0514, -0.1600,-149.4500, -999,    201.3,  13.6340,  34.9170,2, -999.000,9,   -999.0,9,    21.59,2,    21.60,2,     0.01,2,     1.51,2,  -999.00,9,-999,9,   2155.0,2,   2304.0,2,  -999.00,9