BOTTLE,20120829IOSDFOJC
EXPOCODE,STNNBR,CASTNO,SAMPNO,BTLNBR,BTLNBR_FLAG_W,DATE,TIME,LATITUDE,LONGITUDE,DEPTH,CTDPRS,CTDTMP,CTDSAL,CTDSAL_FLAG_W,CTDOXY,CTDOXY_FLAG_W,OXYGEN,OXYGEN_FLAG_W,NITRAT,NITRAT_FLAG_W,NO2+NO3,NO2+NO3_FLAG_W,NITRIT,NITRIT_FLAG_W,PHSPHT,PHSPHT_FLAG_W,SILCAT,SILCAT_FLAG_W,NH4,NH4_FLAG_W,TCARBN,TCARBN_FLAG_W,ALKALI,ALKALI_FLAG_W,DOC,DOC_FLAG_W
,,,,,,,,,,METERS,DBARS,,,,ML/L,,UMOL/KG,,UMOL/KG,,UMOL/KG,,UMOL/KG,,UMOL/KG,,UMOL/KG,,UMOL/KG,,UMOL/KG,,UMOL/KG,,UMOL/KG,
  35A319940923,    85,  1,      1,      1,2,19941020,0116,  0.0200,-150.1400, -999,      3.0,  27.7610,  35.2980,2,    4.228,2,    184.4,2,     3.33,2,     3.80,2,     0.47,2,     0.46,2,  -999.00,9,0.21,2,   2002.0,2,   2320.0,2,  -999.00,9
  35A319940923,    85,  1,      2,      2,2,19941020,0116,  0.0200,-150.1400, -999,     19.1,  27.7020,  35.2960,2,    4.219,2,    184.0,2,     3.34,2,     3.82,2,     0.48,2,     0.46,2,  -999.00,9,0.21,2,   1999.0,2,   2316.0,2,  -999.00,9
  35A319940923,    85,  1,      3,      3,2,19941020,0116,  0.0200,-150.1400, -999,     29.2,  27.6390,  35.2910,2,    4.201,2,    183.2,2,     3.35,2,     3.84,2,     0.49,2,     0.45,2,  -999.00,9,0.09,2,   2001.0,2,   2319.0,2,  -999.00,9
  35A319940923,    85,  1,      4,      4,2,19941020,0116,  0.0200,-150.1400, -999,     39.2,  27.6220,  35.2870,2,    4.210,2,    183.6,2,     3.42,2,     3.92,2,     0.50,2,     0.45,2,  -999.00,9,0.13,2,   -999.0,9,   -999.0,9,  -999.00,9
  35A319940923,    85,  1,      5,      5,2,19941020,0116,  0.0200,-150.1400, -999,     59.4,  27.4730,  35.2430,2,    4.128,2,    180.0,2,     3.55,2,     4.09,2,     0.54,2,     0.47,2,  -999.00,9,0.11,2,   1999.0,2,   2310.0,2,  -999.00,9
  35A319940923,    85,  1,      6,      6,2,19941020,0116,  0.0200,-150.1400, -999,     70.4,  27.2910,  35.1880,2,    4.082,2,    178.0,2,     3.84,2,     4.48,2,     0.64,2,     0.51,2,  -999.00,9,0.22,2,   2002.0,2,   2310.0,2,  -999.00,9
  35A319940923,    85,  1,      7,      7,2,19941020,0116,  0.0200,-150.1400, -999,     79.5,  26.7770,  35.0580,2,    3.942,2,    171.9,2,     4.30,2,     5.24,2,     0.94,2,     0.58,2,  -999.00,9,0.6,2,   1999.0,2,   2291.0,2,  -999.00,9
  35A319940923,    85,  1,      8,      8,2,19941020,0116,  0.0200,-150.1400, -999,     99.6,  26.2540,  35.0250,2,    3.608,2,    157.3,2,     5.53,2,     6.20,2,     0.67,2,     0.61,2,  -999.00,9,0.19,2,   2018.0,2,   2303.0,2,  -999.00,9
  35A319940923,    85,  1,      9,      9,2,19941020,0116,  0.0200,-150.1400, -999,    119.7,  25.6830,  35.0890,2,    3.093,2,    134.8,2,     7.22,2,     7.29,2,     0.07,2,     0.69,2,  -999.00,9,0.06,2,   2014.0,2,   2291.0,2,  -999.00,9
  35A319940923,    85,  1,     10,     10,2,19941020,0116,  0.0200,-150.1400, -999,    140.9,  23.4280,  35.1120,2,    2.691,2,    117.2,2,     9.66,2,     9.70,2,     0.04,2,     0.80,2,  -999.00,9,0.13,2,   2050.0,2,   2306.0,2,  -999.00,9
  35A319940923,    85,  1,     11,     11,2,19941020,0116,  0.0200,-150.1400, -999,    159.0,  19.7800,  35.1770,2,    2.621,2,    114.1,2,    12.68,2,    12.70,2,     0.02,2,     1.01,2,  -999.00,9,0.1,2,   2094.0,2,   2311.0,2,  -999.00,9
  35A319940923,    85,  1,     12,     12,2,19941020,0116,  0.0200,-150.1400, -999,    200.3,  13.5250,  34.9230,2,    2.453,2,    106.6,2,    20.19,2,    20.20,2,     0.01,2,     1.54,2,  -999.00,9,0.33,2,   2145.0,2,   2301.0,2,  -999.00,9
  35A319940923,    85,  1,     13,     13,2,19941020,0116,  0.0200,-150.1400, -999,    301.0,  11.7220,  34.8300,2, -999.000,9,   -999.0,9,    31.49,2,    31.50,2,     0.01,2,     2.26,2,  -999.00,9,-999,9,   2218.0,2,   2302.0,2,  -999.00,9
  35A319940923,    85,  1,     14,     14,2,19941020,0116,  0.0200,-150.1400, -999,   1014.3,   4.4700,  34.5600,2,    1.080,2,     47.1,2,  -999.00,9,  -999.00,9,  -999.00,9,  -999.00,9,  -999.00,9,-999,9,   2301.0,2,   2355.0,2,  -999.00,9
  35A319940923,    86,  1,      1,      1,2,19941020,0450,  0.0100,-150.1400, -999,      2.0,  27.7260,  35.3080,2, -999.000,9,   -999.0,9,     3.28,2,     3.75,2,     0.47,2,     0.47,2,  -999.00,9,-999,9,   -999.0,9,   -999.0,9,  -999.00,9
  35A319940923,    86,  1,      2,      2,2,19941020,0450,  0.0100,-150.1400, -999,     10.1,  27.7230,  35.3070,2, -999.000,9,   -999.0,9,     3.33,2,     3.81,2,     0.48,2,     0.46,2,  -999.00,9,-999,9,   2004.0,2,   2320.0,2,  -999.00,9
  35A319940923,    86,  1,      3,      3,2,19941020,0450,  0.0100,-150.1400, -999,     20.1,  27.7200,  35.3070,2, -999.000,9,   -999.0,9,     3.32,2,     3.80,2,     0.48,2,     0.45,2,  -999.00,9,-999,9,   1993.0,2,   2305.0,2,  -999.00,9
  35A319940923,    86,  1,      4,      4,2,19941020,0450,  0.0100,-150.1400, -999,     30.2,-999.0000,-999.0000,9, -999.000,9,   -999.0,9,  -999.00,9,  -999.00,9,  -999.00,9,  -999.00,9,  -999.00,9,-999,9,   1988.0,2,   2306.0,2,  -999.00,9
  35A319940923,    86,  1,      5,      5,2,19941020,0450,  0.0100,-150.1400, -999,     39.2,  27.6720,  35.3030,2, -999.000,9,   -999.0,9,     3.34,2,     3.83,2,     0.49,2,     0.44,2,  -999.00,9,-999,9,   2003.0,2,   2318.0,2,  -999.00,9
  35A319940923,    86,  1,      6,      6,2,19941020,0450,  0.0100,-150.1400, -999,     49.3,  27.6330,  35.2930,2, -999.000,9,   -999.0,9,     3.35,2,     3.85,2,     0.50,2,     0.45,2,  -999.00,9,-999,9,   -999.0,9,   -999.0,9,  -999.00,9
  35A319940923,    86,  1,      7,      7,2,19941020,0450,  0.0100,-150.1400, -999,     60.4,  27.5370,  35.2630,2, -999.000,9,   -999.0,9,     3.52,2,     4.05,2,     0.53,2,     0.47,2,  -999.00,9,-999,9,   1997.0,2,   2310.0,2,  -999.00,9
  35A319940923,    86,  1,      8,      8,2,19941020,0450,  0.0100,-150.1400, -999,     69.4,  27.3300,  35.2050,2, -999.000,9,   -999.0,9,     3.72,2,     4.33,2,     0.61,2,     0.48,2,  -999.00,9,-999,9,   1999.0,2,   2308.0,2,  -999.00,9
  35A319940923,    86,  1,      9,      9,2,19941020,0450,  0.0100,-150.1400, -999,     79.5,  27.0870,  35.1330,2, -999.000,9,   -999.0,9,     3.93,2,     4.62,2,     0.69,2,     0.51,2,  -999.00,9,-999,9,   2003.0,2,   2303.0,2,  -999.00,9
  35A319940923,    86,  1,     10,     10,2,19941020,0450,  0.0100,-150.1400, -999,    100.6,  26.2030,  35.0300,2, -999.000,9,   -999.0,9,     5.42,2,     6.15,2,     0.73,2,     0.61,2,  -999.00,9,-999,9,   2009.0,2,   2294.0,2,  -999.00,9
  35A319940923,    86,  1,     11,     11,2,19941020,0450,  0.0100,-150.1400, -999,    120.7,  25.4370,  35.0520,2, -999.000,9,   -999.0,9,     7.23,2,     7.31,2,     0.08,2,     0.65,2,  -999.00,9,-999,9,   2025.0,2,   2297.0,2,  -999.00,9
  35A319940923,    86,  1,     12,     12,2,19941020,0450,  0.0100,-150.1400, -999,    141.9,  22.5620,  35.1820,2, -999.000,9,   -999.0,9,    10.49,2,    10.52,2,     0.04,2,     0.85,2,  -999.00,9,-999,9,   2062.0,2,   2307.0,2,  -999.00,9
  35A319940923,    86,  1,     13,     13,2,19941020,0450,  0.0100,-150.1400, -999,    150.9,  21.9710,  35.3440,2, -999.000,9,   -999.0,9,    11.27,2,    11.30,2,     0.03,2,     0.92,2,  -999.00,9,-999,9,   2077.0,2,   2319.0,2,  -999.00,9
  35A319940923,    86,  1,     14,     14,2,19941020,0450,  0.0100,-150.1400, -999,    161.0,  18.0280,  35.1440,2, -999.000,9,   -999.0,9,    13.88,2,    13.90,2,     0.02,2,     1.11,2,  -999.00,9,-999,9,   2099.0,2,   2305.0,2,  -999.00,9
  35A319940923,    86,  1,     15,     15,2,19941020,0450,  0.0100,-150.1400, -999,    180.1,  15.8890,  35.1650,2, -999.000,9,   -999.0,9,    16.98,2,    17.00,2,     0.02,2,     1.35,2,  -999.00,9,-999,9,   2136.0,2,   2314.0,2,  -999.00,9
  35A319940923,    86,  1,     16,     16,2,19941020,0450,  0.0100,-150.1400, -999,    206.3,  13.4410,  34.9220,2, -999.000,9,   -999.0,9,    20.39,2,    20.40,2,     0.01,2,     1.56,2,  -999.00,9,-999,9,   2145.0,2,   2301.0,2,  -999.00,9
  35A319940923,    87,  1,      1,      1,2,19941020,0857,  0.0100,-150.1200, -999,      4.0,  27.6760,  35.3050,2, -999.000,9,   -999.0,9,     3.25,2,     3.73,2,     0.48,2,     0.45,2,  -999.00,9,-999,9,   -999.0,9,   -999.0,9,  -999.00,9
  35A319940923,    87,  1,      2,      2,2,19941020,0857,  0.0100,-150.1200, -999,     19.1,  27.6820,  35.3040,2, -999.000,9,   -999.0,9,     3.26,2,     3.74,2,     0.48,2,     0.43,2,  -999.00,9,-999,9,   -999.0,9,   -999.0,9,  -999.00,9
  35A319940923,    87,  1,      3,      3,2,19941020,0857,  0.0100,-150.1200, -999,     29.2,  27.6780,  35.3020,2, -999.000,9,   -999.0,9,     3.28,2,     3.76,2,     0.48,2,     0.43,2,  -999.00,9,-999,9,   -999.0,9,   -999.0,9,  -999.00,9
  35A319940923,    87,  1,      4,      4,2,19941020,0857,  0.0100,-150.1200, -999,     39.2,  27.6410,  35.2920,2, -999.000,9,   -999.0,9,     3.23,2,     3.71,2,     0.48,2,     0.43,2,  -999.00,9,-999,9,   -999.0,9,   -999.0,9,  -999.00,9
  35A319940923,    87,  1,      5,      5,2,19941020,0857,  0.0100,-150.1200, -999,     50.3,  27.5420,  35.2640,2, -999.000,9,   -999.0,9,     3.43,2,     3.95,2,     0.53,2,     0.44,2,  -999.00,9,-999,9,   -999.0,9,   -999.0,9,  -999.00,9
  35A319940923,    87,  1,      6,      6,2,19941020,0857,  0.0100,-150.1200, -999,     59.4,  27.3320,  35.2030,2, -999.000,9,   -999.0,9,     3.64,2,     4.24,2,     0.60,2,     0.48,2,  -999.00,9,-999,9,   -999.0,9,   -999.0,9,  -999.00,9
  35A319940923,    87,  1,      7,      7,2,19941020,0857,  0.0100,-150.1200, -999,     69.4,  27.1470,  35.1490,2, -999.000,9,   -999.0,9,     3.85,2,     4.56,2,     0.71,2,     0.50,2,  -999.00,9,-999,9,   -999.0,9,   -999.0,9,  -999.00,9
  35A319940923,    87,  1,      8,      8,2,19941020,0857,  0.0100,-150.1200, -999,     79.5,  26.4200,  35.0350,2, -999.000,9,   -999.0,9,     4.93,2,     5.87,2,     0.94,2,     0.58,2,  -999.00,9,-999,9,   -999.0,9,   -999.0,9,  -999.00,9
  35A319940923,    87,  1,      9,      9,2,19941020,0857,  0.0100,-150.1200, -999,     98.6,  26.1310,  35.0620,2, -999.000,9,   -999.0,9,     6.73,2,     6.92,2,     0.19,2,     0.62,2,  -999.00,9,-999,9,   -999.0,9,   -999.0,9,  -999.00,9
  35A319940923,    87,  1,     10,     10,2,19941020,0857,  0.0100,-150.1200, -999,    120.7,  24.1990,  34.9470,2, -999.000,9,   -999.0,9,     7.95,2,     8.01,2,     0.06,2,     0.67,2,  -999.00,9,-999,9,   -999.0,9,   -999.0,9,  -999.00,9
  35A319940923,    87,  1,     11,     11,2,19941020,0857,  0.0100,-150.1200, -999,    139.9,  22.3730,  35.2510,2, -999.000,9,   -999.0,9,    10.55,2,    10.59,2,     0.04,2,     0.86,2,  -999.00,9,-999,9,   -999.0,9,   -999.0,9,  -999.00,9
  35A319940923,    87,  1,     12,     12,2,19941020,0857,  0.0100,-150.1200, -999,    150.9,  20.7400,  35.1890,2, -999.000,9,   -999.0,9,    11.50,2,    11.54,2,     0.04,2,     0.92,2,  -999.00,9,-999,9,   -999.0,9,   -999.0,9,  -999.00,9
  35A319940923,    87,  1,     13,     13,2,19941020,0857,  0.0100,-150.1200, -999,    161.0,  18.7230,  35.1870,2, -999.000,9,   -999.0,9,    13.41,2,    13.44,2,     0.03,2,     1.07,2,  -999.00,9,-999,9,   -999.0,9,   -999.0,9,  -999.00,9
  35A319940923,    87,  1,     14,     14,2,19941020,0857,  0.0100,-150.1200, -999,    203.3,  13.6040,  34.9230,2, -999.000,9,   -999.0,9,  -999.00,9,  -999.00,9,  -999.00,9,     1.49,2,  -999.00,9,-999,9,   -999.0,9,   -999.0,9,  -999.00,9
  35A319940923,    88,  1,      1,      1,2,19941020,1305,  0.0100,-150.1300, -999,      2.0,  27.6530,  35.3010,2,    4.245,2,    185.1,2,     3.27,2,     3.81,2,     0.54,2,     0.45,2,     0.08,2,0.01,2,   -999.0,9,   -999.0,9,  -999.00,9
  35A319940923,    88,  1,      2,      2,2,19941020,1305,  0.0100,-150.1300, -999,      9.1,  27.6530,  35.3020,2,    4.217,2,    183.9,2,     3.28,2,     3.83,2,     0.55,2,     0.44,2,     0.11,2,0.08,2,   -999.0,9,   -999.0,9,  -999.00,9
  35A319940923,    88,  1,      3,      3,2,19941020,1305,  0.0100,-150.1300, -999,     20.1,  27.6610,  35.3000,2,    4.210,2,    183.6,2,     3.25,2,     3.79,2,     0.55,2,     0.44,2,     0.08,2,0,2,   -999.0,9,   -999.0,9,  -999.00,9
  35A319940923,    88,  1,      4,      4,2,19941020,1305,  0.0100,-150.1300, -999,     30.2,  27.6630,  35.2990,2,    4.206,2,    183.4,2,     3.27,2,     3.82,2,     0.55,2,     0.44,2,     0.10,2,0.02,2,   -999.0,9,   -999.0,9,  -999.00,9
  35A319940923,    88,  1,      5,      5,2,19941020,1305,  0.0100,-150.1300, -999,     39.2,  27.6660,  35.2990,2,    4.192,2,    182.8,2,     3.27,2,     3.82,2,     0.55,2,     0.44,2,     0.10,2,0.07,2,   -999.0,9,   -999.0,9,  -999.00,9
  35A319940923,    88,  1,      6,      6,2,19941020,1305,  0.0100,-150.1300, -999,     49.3,  27.6240,  35.2850,2,    4.162,2,    181.5,2,     3.32,2,     3.88,2,     0.56,2,     0.45,2,     0.08,2,0.01,2,   -999.0,9,   -999.0,9,  -999.00,9
  35A319940923,    88,  1,      7,      7,2,19941020,1305,  0.0100,-150.1300, -999,     60.4,  27.5760,  35.2700,2,    4.146,2,    180.8,2,     3.41,2,     4.00,2,     0.59,2,     0.46,2,     0.08,2,0.1,2,   -999.0,9,   -999.0,9,  -999.00,9
  35A319940923,    88,  1,      8,      8,2,19941020,1305,  0.0100,-150.1300, -999,     69.4,  27.4190,  35.2260,2,    4.066,2,    177.3,2,     3.64,2,     4.33,2,     0.69,2,     0.49,2,     0.07,2,0.16,2,   -999.0,9,   -999.0,9,  -999.00,9
  35A319940923,    88,  1,      9,      9,2,19941020,1305,  0.0100,-150.1300, -999,     80.5,  27.0790,  35.1290,2,    4.020,2,    175.3,2,     3.86,2,     4.69,2,     0.83,2,     0.52,2,     0.06,2,0.4,2,   -999.0,9,   -999.0,9,  -999.00,9
  35A319940923,    88,  1,     10,     10,2,19941020,1305,  0.0100,-150.1300, -999,    100.6,  26.2260,  35.0240,2,    3.635,2,    158.5,2,     5.25,2,     6.11,2,     0.86,2,     0.60,2,     0.02,2,0.14,2,   -999.0,9,   -999.0,9,  -999.00,9
  35A319940923,    88,  1,     11,     11,2,19941020,1305,  0.0100,-150.1300, -999,    121.8,  25.5170,  35.0400,2,    3.092,2,    134.8,2,     7.03,2,     7.11,2,     0.08,2,     0.64,2,     0.04,2,0.27,2,   -999.0,9,   -999.0,9,  -999.00,9
  35A319940923,    88,  1,     12,     12,2,19941020,1305,  0.0100,-150.1300, -999,    153.0,  22.0120,  35.3270,2,    2.540,2,    110.6,2,    11.05,2,    11.08,2,     0.03,2,     0.91,2,     0.02,2,0.07,2,   -999.0,9,   -999.0,9,  -999.00,9
  35A319940923,    89,  1,      1,      1,2,19941020,1702,  0.0100,-150.1000, -999,      3.0,  27.6190,  35.2940,2, -999.000,9,   -999.0,9,     3.32,2,     3.86,2,     0.54,2,     0.44,2,  -999.00,9,-999,9,   2000.0,2,   2314.0,2,  -999.00,9
  35A319940923,    89,  1,      2,      2,2,19941020,1702,  0.0100,-150.1000, -999,     19.1,  27.6210,  35.2950,2, -999.000,9,   -999.0,9,     3.33,2,     3.87,2,     0.54,2,     0.45,2,  -999.00,9,-999,9,   1994.0,2,   2306.0,2,  -999.00,9
  35A319940923,    89,  1,      3,      3,2,19941020,1702,  0.0100,-150.1000, -999,     29.2,  27.6240,  35.2940,2, -999.000,9,   -999.0,9,     3.29,2,     3.83,2,     0.54,2,     0.44,2,  -999.00,9,-999,9,   1999.0,2,   2314.0,2,  -999.00,9
  35A319940923,    89,  1,      4,      4,2,19941020,1702,  0.0100,-150.1000, -999,     39.2,  27.6260,  35.2940,2, -999.000,9,   -999.0,9,     3.32,2,     3.86,2,     0.54,2,     0.45,2,  -999.00,9,-999,9,   2000.0,2,   2315.0,2,  -999.00,9
  35A319940923,    89,  1,      5,      5,2,19941020,1702,  0.0100,-150.1000, -999,     60.4,  27.5410,  35.2650,2, -999.000,9,   -999.0,9,     3.44,2,     4.02,2,     0.58,2,     0.46,2,  -999.00,9,-999,9,   2006.0,2,   2317.0,2,  -999.00,9
  35A319940923,    89,  1,      6,      6,2,19941020,1702,  0.0100,-150.1000, -999,     69.4,  27.4350,  35.2330,2, -999.000,9,   -999.0,9,     3.57,2,     4.22,2,     0.65,2,     0.47,2,  -999.00,9,-999,9,   2000.0,2,   2304.0,2,  -999.00,9
  35A319940923,    89,  1,      7,      7,2,19941020,1702,  0.0100,-150.1000, -999,     78.5,  27.1120,  35.1380,2, -999.000,9,   -999.0,9,     3.82,2,     4.61,2,     0.79,2,     0.50,2,  -999.00,9,-999,9,   -999.0,9,   -999.0,9,  -999.00,9
  35A319940923,    89,  1,      8,      8,2,19941020,1702,  0.0100,-150.1000, -999,     99.6,  26.1480,  35.0340,2, -999.000,9,   -999.0,9,     5.64,2,     6.37,2,     0.73,2,     0.60,2,  -999.00,9,-999,9,   2015.0,2,   2294.0,2,  -999.00,9
  35A319940923,    89,  1,      9,      9,2,19941020,1702,  0.0100,-150.1000, -999,    120.7,  24.9000,  35.0160,2, -999.000,9,   -999.0,9,     8.10,2,     8.16,2,     0.06,2,     0.69,2,  -999.00,9,-999,9,   2028.0,2,   2290.0,2,  -999.00,9
  35A319940923,    89,  1,     10,     10,2,19941020,1702,  0.0100,-150.1000, -999,    141.9,  22.3190,  35.3200,2, -999.000,9,   -999.0,9,    11.21,2,    11.24,2,     0.04,2,     0.91,2,  -999.00,9,-999,9,   -999.0,9,   -999.0,9,  -999.00,9
  35A319940923,    89,  1,     11,     11,2,19941020,1702,  0.0100,-150.1000, -999,    162.0,  17.7140,  35.1170,2, -999.000,9,   -999.0,9,    14.15,2,    14.17,2,     0.02,2,     1.11,2,  -999.00,9,-999,9,   2097.0,2,   2297.0,2,  -999.00,9
  35A319940923,    89,  1,     12,     12,2,19941020,1702,  0.0100,-150.1000, -999,    183.2,  16.0520,  35.1380,2, -999.000,9,   -999.0,9,    16.28,2,    16.30,2,     0.02,2,     1.27,2,  -999.00,9,-999,9,   -999.0,9,   -999.0,9,  -999.00,9
  35A319940923,    89,  1,     13,     13,2,19941020,1702,  0.0100,-150.1000, -999,    202.3,  14.1300,  34.9660,2, -999.000,9,   -999.0,9,    18.69,2,    18.70,2,     0.01,2,     1.45,2,  -999.00,9,-999,9,   2127.0,2,   2293.0,2,  -999.00,9
  35A319940923,    89,  1,     14,     14,2,19941020,1702,  0.0100,-150.1000, -999,    251.6,  12.5760,  34.8870,2, -999.000,9,   -999.0,9,    22.09,2,    22.10,2,     0.01,2,     1.70,2,  -999.00,9,-999,9,   2162.0,2,   2302.0,2,  -999.00,9
  35A319940923,    89,  1,     15,     15,2,19941020,1702,  0.0100,-150.1000, -999,    301.0,  11.7310,  34.8310,2, -999.000,9,   -999.0,9,    31.29,2,    31.30,2,     0.01,2,     2.35,2,  -999.00,9,-999,9,   2216.0,2,   2294.0,2,  -999.00,9