BOTTLE,20120829IOSDFOJC
EXPOCODE,STNNBR,CASTNO,SAMPNO,BTLNBR,BTLNBR_FLAG_W,DATE,TIME,LATITUDE,LONGITUDE,DEPTH,CTDPRS,CTDTMP,CTDSAL,CTDSAL_FLAG_W,CTDOXY,CTDOXY_FLAG_W,OXYGEN,OXYGEN_FLAG_W,NITRAT,NITRAT_FLAG_W,NO2+NO3,NO2+NO3_FLAG_W,NITRIT,NITRIT_FLAG_W,PHSPHT,PHSPHT_FLAG_W,SILCAT,SILCAT_FLAG_W,NH4,NH4_FLAG_W,TCARBN,TCARBN_FLAG_W,ALKALI,ALKALI_FLAG_W,DOC,DOC_FLAG_W
,,,,,,,,,,METERS,DBARS,,,,ML/L,,UMOL/KG,,UMOL/KG,,UMOL/KG,,UMOL/KG,,UMOL/KG,,UMOL/KG,,UMOL/KG,,UMOL/KG,,UMOL/KG,,UMOL/KG,
  35A319940923,   105,  1,      1,      1,2,19941023,0853, -0.1300,-149.4400, -999,      5.0,  27.6690,  35.2730,2, -999.000,9,   -999.0,9,     3.23,2,     3.65,2,     0.42,2,     0.39,2,  -999.00,9,-999,9,   -999.0,9,   -999.0,9,  -999.00,9
  35A319940923,   105,  1,      2,      2,2,19941023,0853, -0.1300,-149.4400, -999,     20.1,  27.6700,  35.2730,2, -999.000,9,   -999.0,9,     3.24,2,     3.67,2,     0.43,2,     0.41,2,  -999.00,9,-999,9,   -999.0,9,   -999.0,9,  -999.00,9
  35A319940923,   105,  1,      3,      3,2,19941023,0853, -0.1300,-149.4400, -999,     30.2,  27.6570,  35.2740,2, -999.000,9,   -999.0,9,     3.24,2,     3.68,2,     0.44,2,     0.39,2,  -999.00,9,-999,9,   -999.0,9,   -999.0,9,  -999.00,9
  35A319940923,   105,  1,      4,      4,2,19941023,0853, -0.1300,-149.4400, -999,     39.2,  27.6260,  35.2740,2, -999.000,9,   -999.0,9,     3.28,2,     3.74,2,     0.46,2,     0.38,2,  -999.00,9,-999,9,   -999.0,9,   -999.0,9,  -999.00,9
  35A319940923,   105,  1,      5,      5,2,19941023,0853, -0.1300,-149.4400, -999,     49.3,  27.5820,  35.2650,2, -999.000,9,   -999.0,9,     3.37,2,     3.84,2,     0.47,2,     0.39,2,  -999.00,9,-999,9,   -999.0,9,   -999.0,9,  -999.00,9
  35A319940923,   105,  1,      6,      6,2,19941023,0853, -0.1300,-149.4400, -999,     60.4,  27.4050,  35.2140,2, -999.000,9,   -999.0,9,     3.50,2,     4.09,2,     0.59,2,     0.44,2,  -999.00,9,-999,9,   -999.0,9,   -999.0,9,  -999.00,9
  35A319940923,   105,  1,      7,      7,2,19941023,0853, -0.1300,-149.4400, -999,     69.4,  26.8030,  35.0640,2, -999.000,9,   -999.0,9,     4.14,2,     5.13,2,     0.99,2,     0.50,2,  -999.00,9,-999,9,   -999.0,9,   -999.0,9,  -999.00,9
  35A319940923,   105,  1,      8,      8,2,19941023,0853, -0.1300,-149.4400, -999,     79.5,  26.2720,  35.0170,2, -999.000,9,   -999.0,9,     4.88,2,     6.19,2,     1.31,2,     0.54,2,  -999.00,9,-999,9,   -999.0,9,   -999.0,9,  -999.00,9
  35A319940923,   105,  1,      9,      9,2,19941023,0853, -0.1300,-149.4400, -999,     99.6,  25.8320,  35.0410,2, -999.000,9,   -999.0,9,     6.75,2,     6.96,2,     0.21,2,     0.58,2,  -999.00,9,-999,9,   -999.0,9,   -999.0,9,  -999.00,9
  35A319940923,   105,  1,     10,     10,2,19941023,0853, -0.1300,-149.4400, -999,    120.7,  25.8180,  35.4450,2, -999.000,9,   -999.0,9,     8.41,2,     8.46,2,     0.05,2,     0.70,2,  -999.00,9,-999,9,   -999.0,9,   -999.0,9,  -999.00,9
  35A319940923,   105,  1,     11,     11,2,19941023,0853, -0.1300,-149.4400, -999,    143.9,  21.3610,  35.3150,2, -999.000,9,   -999.0,9,    11.17,2,    11.20,2,     0.03,2,     0.86,2,  -999.00,9,-999,9,   -999.0,9,   -999.0,9,  -999.00,9
  35A319940923,   105,  1,     12,     12,2,19941023,0853, -0.1300,-149.4400, -999,    149.9,  19.3210,  35.2860,2, -999.000,9,   -999.0,9,    12.35,2,    12.40,2,     0.05,2,     0.95,2,  -999.00,9,-999,9,   -999.0,9,   -999.0,9,  -999.00,9
  35A319940923,   105,  1,     13,     13,2,19941023,0853, -0.1300,-149.4400, -999,    160.0,  16.2560,  35.0480,2, -999.000,9,   -999.0,9,    15.59,2,    15.60,2,     0.01,2,     1.20,2,  -999.00,9,-999,9,   -999.0,9,   -999.0,9,  -999.00,9
  35A319940923,   105,  1,     14,     14,2,19941023,0853, -0.1300,-149.4400, -999,    198.3,  13.9550,  34.9240,2, -999.000,9,   -999.0,9,    23.49,2,    23.50,2,     0.01,2,     1.43,2,  -999.00,9,-999,9,   -999.0,9,   -999.0,9,  -999.00,9
  35A319940923,   106,  1,      1,      1,2,19941023,1306, -0.1300,-149.4200, -999,      2.0,  27.5870,  35.2610,2,    4.352,2,    189.8,2,     3.17,2,     3.60,2,     0.43,2,     0.44,2,  -999.00,9,0.03,2,   -999.0,9,   -999.0,9,  -999.00,9
  35A319940923,   106,  1,      2,      2,2,19941023,1306, -0.1300,-149.4200, -999,      9.1,  27.6000,  35.2600,2,    4.361,2,    190.2,2,     3.15,2,     3.58,2,     0.43,2,     0.43,2,  -999.00,9,0,2,   -999.0,9,   -999.0,9,  -999.00,9
  35A319940923,   106,  1,      3,      3,2,19941023,1306, -0.1300,-149.4200, -999,     19.1,  27.6030,  35.2600,2,    4.368,2,    190.5,2,     3.15,2,     3.58,2,     0.43,2,     0.44,2,  -999.00,9,0.05,2,   -999.0,9,   -999.0,9,  -999.00,9
  35A319940923,   106,  1,      4,      4,2,19941023,1306, -0.1300,-149.4200, -999,     29.2,  27.5990,  35.2600,2,    4.323,2,    188.5,2,     3.16,2,     3.61,2,     0.45,2,     0.43,2,  -999.00,9,0.02,2,   -999.0,9,   -999.0,9,  -999.00,9
  35A319940923,   106,  1,      5,      5,2,19941023,1306, -0.1300,-149.4200, -999,     39.2,  27.6050,  35.2590,2,    4.297,2,    187.4,2,     3.14,2,     3.58,2,     0.44,2,     0.43,2,  -999.00,9,0.06,2,   -999.0,9,   -999.0,9,  -999.00,9
  35A319940923,   106,  1,      6,      6,2,19941023,1306, -0.1300,-149.4200, -999,     50.3,  27.5860,  35.2570,2,    4.277,2,    186.5,2,     3.19,2,     3.68,2,     0.49,2,     0.44,2,  -999.00,9,0.25,2,   -999.0,9,   -999.0,9,  -999.00,9
  35A319940923,   106,  1,      7,      7,2,19941023,1306, -0.1300,-149.4200, -999,     60.4,  27.4800,  35.2310,2,    4.213,2,    183.7,2,     3.38,2,     4.00,2,     0.62,2,     0.48,2,  -999.00,9,0.2,2,   -999.0,9,   -999.0,9,  -999.00,9
  35A319940923,   106,  1,      8,      8,2,19941023,1306, -0.1300,-149.4200, -999,     69.4,  26.9790,  35.0800,2,    4.077,2,    177.8,2,     3.78,2,     4.63,2,     0.85,2,     0.51,2,  -999.00,9,0.31,2,   -999.0,9,   -999.0,9,  -999.00,9
  35A319940923,   106,  1,      9,      9,2,19941023,1306, -0.1300,-149.4200, -999,     79.5,  26.3840,  35.0060,2,    3.931,2,    171.4,2,     4.57,2,     5.92,2,     1.35,2,     0.59,2,  -999.00,9,0.22,2,   -999.0,9,   -999.0,9,  -999.00,9
  35A319940923,   106,  1,     10,     10,2,19941023,1306, -0.1300,-149.4200, -999,    100.6,  25.7770,  34.9850,2,    3.613,2,    157.5,2,     5.95,2,     6.75,2,     0.80,2,     0.65,2,  -999.00,9,0.1,2,   -999.0,9,   -999.0,9,  -999.00,9
  35A319940923,   106,  1,     11,     11,2,19941023,1306, -0.1300,-149.4200, -999,    120.7,  25.9750,  35.3340,2,    3.123,2,    136.1,2,     7.87,2,     7.94,2,     0.07,2,     0.72,2,  -999.00,9,0.04,2,   -999.0,9,   -999.0,9,  -999.00,9
  35A319940923,   106,  1,     12,     12,2,19941023,1306, -0.1300,-149.4200, -999,    149.9,  19.7910,  35.1850,2,    2.710,2,    118.0,2,    12.27,2,    12.30,2,     0.03,2,     0.99,2,  -999.00,9,0.11,2,   -999.0,9,   -999.0,9,  -999.00,9
  35A319940923,   107,  1,      1,      1,2,19941023,1652, -0.1600,-149.4000, -999,      2.0,  27.5660,  35.2560,2, -999.000,9,   -999.0,9,     3.06,2,     3.50,2,     0.44,2,     0.45,2,  -999.00,9,-999,9,   2007.0,2,   2315.0,2,  -999.00,9
  35A319940923,   107,  1,      2,      2,2,19941023,1652, -0.1600,-149.4000, -999,     19.1,  27.5670,  35.2560,2, -999.000,9,   -999.0,9,     3.04,2,     3.48,2,     0.44,2,     0.44,2,  -999.00,9,-999,9,   2002.0,2,   2311.0,2,  -999.00,9
  35A319940923,   107,  1,      3,      3,2,19941023,1652, -0.1600,-149.4000, -999,     30.2,  27.5700,  35.2550,2, -999.000,9,   -999.0,9,     3.02,2,     3.46,2,     0.44,2,     0.45,2,  -999.00,9,-999,9,   2001.0,2,   2310.0,2,  -999.00,9
  35A319940923,   107,  1,      4,      4,2,19941023,1652, -0.1600,-149.4000, -999,     39.2,  27.5730,  35.2550,2, -999.000,9,   -999.0,9,     3.02,2,     3.46,2,     0.44,2,     0.44,2,  -999.00,9,-999,9,   2001.0,2,   2312.0,2,  -999.00,9
  35A319940923,   107,  1,      5,      5,2,19941023,1652, -0.1600,-149.4000, -999,     59.4,  27.5250,  35.2410,2, -999.000,9,   -999.0,9,     3.24,2,     3.73,2,     0.49,2,     0.45,2,  -999.00,9,-999,9,   2003.0,2,   2309.0,2,  -999.00,9
  35A319940923,   107,  1,      6,      6,2,19941023,1652, -0.1600,-149.4000, -999,     70.4,  27.3990,  35.2030,2, -999.000,9,   -999.0,9,     3.27,2,     3.85,2,     0.58,2,     0.47,2,  -999.00,9,-999,9,   2004.0,2,   2306.0,2,  -999.00,9
  35A319940923,   107,  1,      7,      7,2,19941023,1652, -0.1600,-149.4000, -999,     78.5,  26.7950,  35.0500,2, -999.000,9,   -999.0,9,     3.83,2,     4.83,2,     1.00,2,     0.53,2,  -999.00,9,-999,9,   2009.0,2,   2295.0,2,  -999.00,9
  35A319940923,   107,  1,      8,      8,2,19941023,1652, -0.1600,-149.4000, -999,     99.6,  25.8140,  34.9850,2, -999.000,9,   -999.0,9,     5.23,2,     6.23,2,     1.00,2,     0.61,2,  -999.00,9,-999,9,   2020.0,2,   2293.0,2,  -999.00,9
  35A319940923,   107,  1,      9,      9,2,19941023,1652, -0.1600,-149.4000, -999,    120.7,  25.6520,  35.4490,2, -999.000,9,   -999.0,9,     8.24,2,     8.29,2,     0.05,2,     0.81,2,  -999.00,9,-999,9,   2051.0,2,   2321.0,2,  -999.00,9
  35A319940923,   107,  1,     10,     10,2,19941023,1652, -0.1600,-149.4000, -999,    139.9,  20.4360,  35.2670,2, -999.000,9,   -999.0,9,    11.87,2,    11.90,2,     0.03,2,     1.05,2,  -999.00,9,-999,9,   -999.0,9,   -999.0,9,  -999.00,9
  35A319940923,   107,  1,     11,     11,2,19941023,1652, -0.1600,-149.4000, -999,    161.0,  16.4540,  35.0640,2, -999.000,9,   -999.0,9,    15.28,2,    15.30,2,     0.02,2,     1.25,2,  -999.00,9,-999,9,   2121.0,2,   2305.0,2,  -999.00,9
  35A319940923,   107,  1,     12,     12,2,19941023,1652, -0.1600,-149.4000, -999,    183.2,  15.5220,  35.1250,2, -999.000,9,   -999.0,9,    16.78,2,    16.80,2,     0.02,2,     1.38,2,  -999.00,9,-999,9,   -999.0,9,   -999.0,9,  -999.00,9
  35A319940923,   107,  1,     13,     13,2,19941023,1652, -0.1600,-149.4000, -999,    200.3,  14.7910,  35.0360,2, -999.000,9,   -999.0,9,    17.39,2,    17.40,2,     0.01,2,     1.42,2,  -999.00,9,-999,9,   2137.0,2,   2305.0,2,  -999.00,9
  35A319940923,   107,  1,     14,     14,2,19941023,1652, -0.1600,-149.4000, -999,    250.6,  12.8880,  34.8990,2, -999.000,9,   -999.0,9,    22.69,2,    22.70,2,     0.01,2,     1.72,2,  -999.00,9,-999,9,   -999.0,9,   -999.0,9,  -999.00,9
  35A319940923,   107,  1,     15,     15,2,19941023,1652, -0.1600,-149.4000, -999,    302.0,  12.0200,  34.8490,2, -999.000,9,   -999.0,9,    29.69,2,    29.70,2,     0.01,2,     2.18,2,  -999.00,9,-999,9,   2208.0,2,   2299.0,2,  -999.00,9
  35A319940923,   108,  1,      1,      1,2,19941023,2037, -0.1900,-149.4000, -999,      3.0,  27.6880,  35.2580,2, -999.000,9,   -999.0,9,     3.09,2,     3.50,2,     0.41,2,     0.42,2,  -999.00,9,-999,9,   -999.0,9,   -999.0,9,  -999.00,9
  35A319940923,   108,  1,      2,      2,2,19941023,2037, -0.1900,-149.4000, -999,     20.1,  27.5770,  35.2540,2, -999.000,9,   -999.0,9,     3.06,2,     3.48,2,     0.42,2,     0.41,2,  -999.00,9,-999,9,   -999.0,9,   -999.0,9,  -999.00,9
  35A319940923,   108,  1,      3,      3,2,19941023,2037, -0.1900,-149.4000, -999,     29.2,  27.5730,  35.2530,2, -999.000,9,   -999.0,9,     3.03,2,     3.45,2,     0.42,2,     0.41,2,  -999.00,9,-999,9,   -999.0,9,   -999.0,9,  -999.00,9
  35A319940923,   108,  1,      4,      4,2,19941023,2037, -0.1900,-149.4000, -999,     39.2,  27.5680,  35.2520,2, -999.000,9,   -999.0,9,     3.04,2,     3.47,2,     0.43,2,     0.40,2,  -999.00,9,-999,9,   -999.0,9,   -999.0,9,  -999.00,9
  35A319940923,   108,  1,      5,      5,2,19941023,2037, -0.1900,-149.4000, -999,     60.4,  27.5310,  35.2410,2, -999.000,9,   -999.0,9,     3.08,2,     3.54,2,     0.46,2,     0.41,2,  -999.00,9,-999,9,   -999.0,9,   -999.0,9,  -999.00,9
  35A319940923,   108,  1,      6,      6,2,19941023,2037, -0.1900,-149.4000, -999,     70.4,  27.4660,  35.2230,2, -999.000,9,   -999.0,9,     3.20,2,     3.75,2,     0.55,2,     0.42,2,  -999.00,9,-999,9,   -999.0,9,   -999.0,9,  -999.00,9
  35A319940923,   108,  1,      7,      7,2,19941023,2037, -0.1900,-149.4000, -999,     80.5,  26.5050,  35.0230,2, -999.000,9,   -999.0,9,     4.45,2,     5.67,2,     1.22,2,     0.54,2,  -999.00,9,-999,9,   -999.0,9,   -999.0,9,  -999.00,9
  35A319940923,   108,  1,      8,      8,2,19941023,2037, -0.1900,-149.4000, -999,    100.6,  25.7930,  35.0420,2, -999.000,9,   -999.0,9,     6.44,2,     6.80,2,     0.36,2,     0.60,2,  -999.00,9,-999,9,   -999.0,9,   -999.0,9,  -999.00,9
  35A319940923,   108,  1,      9,      9,2,19941023,2037, -0.1900,-149.4000, -999,    120.7,  26.1920,  35.5550,2, -999.000,9,   -999.0,9,     8.26,2,     8.30,2,     0.04,2,     0.72,2,  -999.00,9,-999,9,   -999.0,9,   -999.0,9,  -999.00,9
  35A319940923,   108,  1,     10,     10,2,19941023,2037, -0.1900,-149.4000, -999,    139.9,  23.4180,  35.3010,2, -999.000,9,   -999.0,9,    10.60,2,    10.62,2,     0.02,2,     0.83,2,  -999.00,9,-999,9,   -999.0,9,   -999.0,9,  -999.00,9
  35A319940923,   108,  1,     11,     11,2,19941023,2037, -0.1900,-149.4000, -999,    160.0,  18.9070,  35.3390,2, -999.000,9,   -999.0,9,    13.99,2,    14.00,2,     0.01,2,     1.11,2,  -999.00,9,-999,9,   -999.0,9,   -999.0,9,  -999.00,9
  35A319940923,   108,  1,     12,     12,2,19941023,2037, -0.1900,-149.4000, -999,    199.3,  15.0310,  35.0690,2, -999.000,9,   -999.0,9,    17.90,2,    17.90,2,     0.00,2,     1.35,2,  -999.00,9,-999,9,   -999.0,9,   -999.0,9,  -999.00,9
  35A319940923,   108,  1,     13,     13,2,19941023,2037, -0.1900,-149.4000, -999,    303.0,  12.0460,  34.8510,2, -999.000,9,   -999.0,9,    26.60,2,    26.60,2,     0.00,2,     1.83,2,  -999.00,9,-999,9,   -999.0,9,   -999.0,9,  -999.00,9
  35A319940923,   109,  1,      1,      1,2,19941024,0103, -0.2200,-149.3700, -999,      2.0,  27.7760,  35.2530,2,    4.274,2,    186.4,2,     3.30,2,     3.70,2,     0.40,2,     0.42,2,  -999.00,9,0.79,2,   2003.0,2,   2309.0,2,  -999.00,9
  35A319940923,   109,  1,      2,      2,2,19941024,0103, -0.2200,-149.3700, -999,     19.1,  27.5970,  35.2470,2,    4.267,2,    186.1,2,     3.27,2,     3.68,2,     0.41,2,     0.46,2,  -999.00,9,0.52,2,   2002.0,2,   2309.0,2,  -999.00,9
  35A319940923,   109,  1,      3,      3,2,19941024,0103, -0.2200,-149.3700, -999,     30.2,  27.5790,  35.2460,2,    4.274,2,    186.4,2,     3.18,2,     3.59,2,     0.41,2,     0.43,2,  -999.00,9,0.25,2,   2001.0,2,   2310.0,2,  -999.00,9
  35A319940923,   109,  1,      4,      4,2,19941024,0103, -0.2200,-149.3700, -999,     40.2,  27.5620,  35.2440,2,    4.238,2,    184.8,2,     3.12,2,     3.54,2,     0.42,2,     0.43,2,  -999.00,9,0.33,2,   2000.0,2,   2307.0,2,  -999.00,9
  35A319940923,   109,  1,      5,      5,2,19941024,0103, -0.2200,-149.3700, -999,     60.4,  27.5320,  35.2370,2,    4.240,2,    184.9,2,     3.15,2,     3.60,2,     0.45,2,     0.43,2,  -999.00,9,0.23,2,   2001.0,2,   2309.0,2,  -999.00,9
  35A319940923,   109,  1,      6,      6,2,19941024,0103, -0.2200,-149.3700, -999,     70.4,  27.4680,  35.2180,2,    4.155,2,    181.2,2,     3.26,2,     3.80,2,     0.54,2,     0.46,2,  -999.00,9,0.24,2,   2004.0,2,   2308.0,2,  -999.00,9
  35A319940923,   109,  1,      7,      7,2,19941024,0103, -0.2200,-149.3700, -999,     80.5,  27.0110,  35.0840,2,    4.020,2,    175.3,2,     3.69,2,     4.48,2,     0.79,2,     0.51,2,  -999.00,9,0.4,2,   2005.0,2,   2298.0,2,  -999.00,9
  35A319940923,   109,  1,      8,      8,2,19941024,0103, -0.2200,-149.3700, -999,    100.6,  25.8780,  35.0180,2,    3.480,2,    151.7,2,     5.93,2,     6.59,2,     0.66,2,     0.61,2,  -999.00,9,0.17,2,   2022.0,2,   2293.0,2,  -999.00,9
  35A319940923,   109,  1,      9,      9,2,19941024,0103, -0.2200,-149.3700, -999,    120.7,  26.0710,  35.5300,2,    2.999,2,    130.7,2,     8.29,2,     8.33,2,     0.04,2,     0.75,2,  -999.00,9,0.43,2,   2053.0,2,   2326.0,2,  -999.00,9
  35A319940923,   109,  1,     10,     10,2,19941024,0103, -0.2200,-149.3700, -999,    139.9,  23.9600,  35.4880,2,    2.679,2,    116.7,2,    10.05,2,    10.08,2,     0.03,2,     0.85,2,  -999.00,9,0.22,2,   2072.0,2,   2324.0,2,  -999.00,9
  35A319940923,   109,  1,     11,     11,2,19941024,0103, -0.2200,-149.3700, -999,    160.0,  18.3060,  35.2860,2,    2.494,2,    108.5,2,    15.19,2,    15.20,2,     0.01,2,     1.17,2,  -999.00,9,0.21,2,   2120.0,2,   2316.0,2,  -999.00,9
  35A319940923,   109,  1,     12,     12,2,19941024,0103, -0.2200,-149.3700, -999,    199.3,  14.5580,  35.0110,2,    2.602,2,    113.1,2,    17.89,2,    17.90,2,     0.01,2,     1.37,2,  -999.00,9,0.23,2,   -999.0,9,   -999.0,9,  -999.00,9
  35A319940923,   109,  1,     13,     13,2,19941024,0103, -0.2200,-149.3700, -999,    302.0,  11.9000,  34.8400,2,    0.614,2,     26.7,2,    30.50,2,    30.50,2,     0.00,2,     2.21,2,  -999.00,9,0.86,2,   2219.0,2,   2300.0,2,  -999.00,9