BOTTLE,20120829IOSDFOJC
EXPOCODE,STNNBR,CASTNO,SAMPNO,BTLNBR,BTLNBR_FLAG_W,DATE,TIME,LATITUDE,LONGITUDE,DEPTH,CTDPRS,CTDTMP,CTDSAL,CTDSAL_FLAG_W,CTDOXY,CTDOXY_FLAG_W,OXYGEN,OXYGEN_FLAG_W,NITRAT,NITRAT_FLAG_W,NO2+NO3,NO2+NO3_FLAG_W,NITRIT,NITRIT_FLAG_W,PHSPHT,PHSPHT_FLAG_W,SILCAT,SILCAT_FLAG_W,NH4,NH4_FLAG_W,TCARBN,TCARBN_FLAG_W,ALKALI,ALKALI_FLAG_W,DOC,DOC_FLAG_W
,,,,,,,,,,METERS,DBARS,,,,ML/L,,UMOL/KG,,UMOL/KG,,UMOL/KG,,UMOL/KG,,UMOL/KG,,UMOL/KG,,UMOL/KG,,UMOL/KG,,UMOL/KG,,UMOL/KG,
  35A319940923,    90,  1,      1,      1,2,19941020,2034,  0.0100,-150.0600, -999,      4.0,  27.7030,  35.2960,2, -999.000,9,   -999.0,9,     3.25,2,     3.78,2,     0.53,2,     0.44,2,  -999.00,9,-999,9,   -999.0,9,   -999.0,9,  -999.00,9
  35A319940923,    90,  1,      2,      2,2,19941020,2034,  0.0100,-150.0600, -999,     20.1,  27.6350,  35.2930,2, -999.000,9,   -999.0,9,     3.28,2,     3.81,2,     0.53,2,     0.44,2,  -999.00,9,-999,9,   -999.0,9,   -999.0,9,  -999.00,9
  35A319940923,    90,  1,      3,      3,2,19941020,2034,  0.0100,-150.0600, -999,     30.2,  27.6300,  35.2930,2, -999.000,9,   -999.0,9,     3.25,2,     3.78,2,     0.53,2,     0.43,2,  -999.00,9,-999,9,   -999.0,9,   -999.0,9,  -999.00,9
  35A319940923,    90,  1,      4,      4,2,19941020,2034,  0.0100,-150.0600, -999,     39.2,  27.6160,  35.2890,2, -999.000,9,   -999.0,9,     3.30,2,     3.84,2,     0.54,2,     0.44,2,  -999.00,9,-999,9,   -999.0,9,   -999.0,9,  -999.00,9
  35A319940923,    90,  1,      5,      5,2,19941020,2034,  0.0100,-150.0600, -999,     59.4,  27.5300,  35.2630,2, -999.000,9,   -999.0,9,     3.41,2,     3.99,2,     0.58,2,     0.45,2,  -999.00,9,-999,9,   -999.0,9,   -999.0,9,  -999.00,9
  35A319940923,    90,  1,      6,      6,2,19941020,2034,  0.0100,-150.0600, -999,     69.4,  27.2870,  35.1890,2, -999.000,9,   -999.0,9,     3.63,2,     4.32,2,     0.69,2,     0.47,2,  -999.00,9,-999,9,   -999.0,9,   -999.0,9,  -999.00,9
  35A319940923,    90,  1,      7,      7,2,19941020,2034,  0.0100,-150.0600, -999,     79.5,  26.8190,  35.0640,2, -999.000,9,   -999.0,9,     4.04,2,     5.27,2,     1.23,2,     0.53,2,  -999.00,9,-999,9,   -999.0,9,   -999.0,9,  -999.00,9
  35A319940923,    90,  1,      8,      8,2,19941020,2034,  0.0100,-150.0600, -999,    100.6,  26.1510,  35.0420,2, -999.000,9,   -999.0,9,     5.69,2,     6.37,2,     0.69,2,     0.58,2,  -999.00,9,-999,9,   -999.0,9,   -999.0,9,  -999.00,9
  35A319940923,    90,  1,      9,      9,2,19941020,2034,  0.0100,-150.0600, -999,    118.7,  24.3780,  34.9660,2, -999.000,9,   -999.0,9,     7.95,2,     8.00,2,     0.05,2,     0.66,2,  -999.00,9,-999,9,   -999.0,9,   -999.0,9,  -999.00,9
  35A319940923,    90,  1,     10,     10,2,19941020,2034,  0.0100,-150.0600, -999,    139.9,  21.4040,  35.2830,2, -999.000,9,   -999.0,9,    11.64,2,    11.66,2,     0.03,2,     0.90,2,  -999.00,9,-999,9,   -999.0,9,   -999.0,9,  -999.00,9
  35A319940923,    90,  1,     11,     11,2,19941020,2034,  0.0100,-150.0600, -999,    160.0,  16.8140,  35.0780,2, -999.000,9,   -999.0,9,    15.49,2,    15.50,2,     0.01,2,     1.16,2,  -999.00,9,-999,9,   -999.0,9,   -999.0,9,  -999.00,9
  35A319940923,    90,  1,     12,     12,2,19941020,2034,  0.0100,-150.0600, -999,    201.3,  13.9900,  34.9540,2, -999.000,9,   -999.0,9,    19.29,2,    19.30,2,     0.01,2,     1.42,2,  -999.00,9,-999,9,   -999.0,9,   -999.0,9,  -999.00,9
  35A319940923,    90,  1,     13,     13,2,19941020,2034,  0.0100,-150.0600, -999,    300.0,  11.7430,  34.8310,2, -999.000,9,   -999.0,9,    36.29,2,    36.30,2,     0.01,2,     2.24,2,  -999.00,9,-999,9,   -999.0,9,   -999.0,9,  -999.00,9
  35A319940923,    91,  1,      1,      1,2,19941021,0037,  0.0200,-150.0200, -999,      3.0,  27.7870,  35.2930,2,    4.354,2,    189.9,2,     3.29,2,     3.82,2,     0.53,2,     0.44,2,  -999.00,9,0.13,2,   2010.0,2,   2318.0,2,  -999.00,9
  35A319940923,    91,  1,      2,      2,2,19941021,0037,  0.0200,-150.0200, -999,     19.1,  27.6930,  35.2890,2,    4.318,2,    188.3,2,     3.28,2,     3.81,2,     0.53,2,     0.43,2,  -999.00,9,0.09,2,   2007.0,2,   2319.0,2,  -999.00,9
  35A319940923,    91,  1,      3,      3,2,19941021,0037,  0.0200,-150.0200, -999,     40.2,  27.6180,  35.2870,2,    4.339,2,    189.2,2,     3.28,2,     3.83,2,     0.55,2,     0.42,2,  -999.00,9,0,2,   2007.0,2,   2317.0,2,  -999.00,9
  35A319940923,    91,  1,      4,      4,2,19941021,0037,  0.0200,-150.0200, -999,     49.3,  27.6000,  35.2810,2,    4.249,2,    185.3,2,     3.32,2,     3.87,2,     0.55,2,     0.44,2,  -999.00,9,0.48,2,   2007.0,2,   2317.0,2,  -999.00,9
  35A319940923,    91,  1,      5,      5,2,19941021,0037,  0.0200,-150.0200, -999,     59.4,  27.5600,  35.2680,2,    4.245,2,    185.1,2,     3.39,2,     3.98,2,     0.59,2,     0.45,2,  -999.00,9,0.27,2,   2008.0,2,   2315.0,2,  -999.00,9
  35A319940923,    91,  1,      6,      6,2,19941021,0037,  0.0200,-150.0200, -999,     69.4,  27.4860,  35.2440,2,    4.151,2,    181.0,2,     3.53,2,     4.19,2,     0.66,2,     0.47,2,  -999.00,9,0.03,2,   2008.0,2,   2313.0,2,  -999.00,9
  35A319940923,    91,  1,      7,      7,2,19941021,0037,  0.0200,-150.0200, -999,     79.5,  27.2230,  35.1670,2,    4.181,2,    182.3,2,     3.63,2,     4.37,2,     0.74,2,     0.47,2,  -999.00,9,1.13,2,   2009.0,2,   2310.0,2,  -999.00,9
  35A319940923,    91,  1,      8,      8,2,19941021,0037,  0.0200,-150.0200, -999,     90.6,  26.4970,  35.0200,2,    3.917,2,    170.8,2,     4.83,2,     5.88,2,     1.05,2,     0.55,2,  -999.00,9,1.85,2,   2015.0,2,   2297.0,2,  -999.00,9
  35A319940923,    91,  1,      9,      9,2,19941021,0037,  0.0200,-150.0200, -999,     98.6,  26.3910,  35.0310,2,    3.984,2,    173.7,2,     5.24,2,     5.88,2,     0.64,2,     0.56,2,  -999.00,9,0.96,2,   2015.0,2,   2299.0,2,  -999.00,9
  35A319940923,    91,  1,     10,     10,2,19941021,0037,  0.0200,-150.0200, -999,    109.7,  26.0450,  35.0550,2,    3.431,2,    149.6,2,     6.12,2,     6.59,2,     0.47,2,     0.60,2,  -999.00,9,0.68,2,   2026.0,2,   2301.0,2,  -999.00,9
  35A319940923,    91,  1,     11,     11,2,19941021,0037,  0.0200,-150.0200, -999,    120.7,  24.9690,  35.0150,2,    3.134,2,    136.6,2,     7.73,2,     7.79,2,     0.06,2,     0.66,2,  -999.00,9,0.32,2,   2036.0,2,   2295.0,2,  -999.00,9
  35A319940923,    91,  1,     12,     12,2,19941021,0037,  0.0200,-150.0200, -999,    161.0,  17.6490,  35.1340,2,    2.658,2,    115.6,2,  -999.00,9,  -999.00,9,     0.02,2,     1.13,2,  -999.00,9,0.16,2,   2118.0,2,   2312.0,2,  -999.00,9
  35A319940923,    91,  1,     13,     13,2,19941021,0037,  0.0200,-150.0200, -999,    200.3,  14.0810,  34.9500,2,    2.602,2,    113.1,2,    19.28,2,    19.30,2,     0.02,2,     1.42,2,  -999.00,9,-999,9,   2147.0,2,   2307.0,2,  -999.00,9
  35A319940923,    91,  1,     14,     14,2,19941021,0037,  0.0200,-150.0200, -999,    251.6,  12.5570,  34.8850,2,    1.880,2,     81.7,2,    24.59,2,    24.60,2,     0.01,2,     1.77,2,  -999.00,9,-999,9,   2179.0,2,   2304.0,2,  -999.00,9
  35A319940923,    91,  1,     15,     15,2,19941021,0037,  0.0200,-150.0200, -999,    301.0,  11.7240,  34.8280,2, -999.000,9,   -999.0,9,    30.29,2,    30.30,2,     0.01,2,     2.16,2,  -999.00,9,-999,9,   2217.0,2,   2302.0,2,  -999.00,9
  35A319940923,    91,  1,     16,     16,2,19941021,0037,  0.0200,-150.0200, -999,    600.4,   6.9310,  34.5770,2,    0.776,2,     33.7,2,    40.49,2,    40.50,2,     0.01,2,     2.93,2,  -999.00,9,-999,9,   -999.0,9,   -999.0,9,  -999.00,9
  35A319940923,    91,  1,     17,     17,2,19941021,0037,  0.0200,-150.0200, -999,   1011.2,   4.7810,  34.5490,2,    1.585,2,     68.8,2,    40.79,2,    40.80,2,     0.01,2,     2.98,2,  -999.00,9,-999,9,   2296.0,2,   2348.0,2,  -999.00,9
  35A319940923,    91,  1,     18,     18,2,19941021,0037,  0.0200,-150.0200, -999,   1509.0,   3.0010,  34.6010,2,    1.848,2,     80.2,2,    40.59,2,    40.60,2,     0.01,2,     3.00,2,  -999.00,9,-999,9,   2337.0,2,   2395.0,2,  -999.00,9
  35A319940923,    91,  1,     19,     19,2,19941021,0037,  0.0200,-150.0200, -999,   2017.9,   2.2740,  34.6390,2, -999.000,9,   -999.0,9,    40.19,2,    40.20,2,     0.01,2,     2.64,2,  -999.00,9,-999,9,   -999.0,9,   -999.0,9,  -999.00,9
  35A319940923,    91,  1,     20,     20,2,19941021,0037,  0.0200,-150.0200, -999,   2529.1,   1.8660,  34.6610,2,    2.466,2,    107.0,2,    39.58,2,    39.60,2,     0.02,2,     2.51,2,  -999.00,9,-999,9,   2351.0,2,   2426.0,2,  -999.00,9
  35A319940923,    91,  1,     21,     21,2,19941021,0037,  0.0200,-150.0200, -999,   3035.3,   1.7130,  34.6710,2, -999.000,9,   -999.0,9,    38.58,2,    38.60,2,     0.02,2,     2.63,2,  -999.00,9,-999,9,   2346.0,2,   2425.0,2,  -999.00,9
  35A319940923,    91,  1,     22,     22,2,19941021,0037,  0.0200,-150.0200, -999,   3549.9,   1.5520,  34.6810,2,    3.097,2,    134.4,2,    37.39,2,    37.40,2,     0.01,2,     2.42,2,  -999.00,9,-999,9,   2338.0,2,   2425.0,2,  -999.00,9
  35A319940923,    91,  1,     23,     23,2,19941021,0037,  0.0200,-150.0200, -999,   4058.4,   1.4050,  34.6920,2, -999.000,9,   -999.0,9,    37.59,2,    37.60,2,     0.01,2,     2.74,2,  -999.00,9,-999,9,   2339.0,2,   2421.0,2,  -999.00,9
  35A319940923,    91,  1,     24,     24,2,19941021,0037,  0.0200,-150.0200, -999,   4472.7,   1.3930,  34.6940,2,    3.602,2,    156.3,2,    36.00,2,    36.00,2,     0.00,2,     2.38,2,  -999.00,9,-999,9,   2323.0,2,   2422.0,2,  -999.00,9
  35A319940923,    92,  1,      1,      1,2,19941021,0452,  0.0100,-150.0400, -999,      3.0,  27.7250,  35.2990,2, -999.000,9,   -999.0,9,     3.22,2,     3.75,2,     0.53,2,     0.42,2,  -999.00,9,-999,9,   1998.0,2,   2317.0,2,  -999.00,9
  35A319940923,    92,  1,      2,      2,2,19941021,0452,  0.0100,-150.0400, -999,     20.1,  27.7290,  35.2980,2, -999.000,9,   -999.0,9,     3.22,2,     3.75,2,     0.53,2,     0.43,2,  -999.00,9,-999,9,   2000.0,2,   2315.0,2,  -999.00,9
  35A319940923,    92,  1,      3,      3,2,19941021,0452,  0.0100,-150.0400, -999,     30.2,  27.6900,  35.2900,2, -999.000,9,   -999.0,9,  -999.00,9,  -999.00,9,  -999.00,9,  -999.00,9,  -999.00,9,-999,9,   1995.0,2,   2312.0,2,  -999.00,9
  35A319940923,    92,  1,      4,      4,2,19941021,0452,  0.0100,-150.0400, -999,     39.2,  27.6340,  35.2900,2, -999.000,9,   -999.0,9,     3.26,2,     3.81,2,     0.55,2,     0.43,2,  -999.00,9,-999,9,   1998.0,2,   2312.0,2,  -999.00,9
  35A319940923,    92,  1,      5,      5,2,19941021,0452,  0.0100,-150.0400, -999,     49.3,  27.6110,  35.2850,2, -999.000,9,   -999.0,9,     3.29,2,     3.85,2,     0.56,2,     0.46,2,  -999.00,9,-999,9,   -999.0,9,   -999.0,9,  -999.00,9
  35A319940923,    92,  1,      6,      6,2,19941021,0452,  0.0100,-150.0400, -999,     59.4,  27.5630,  35.2700,2, -999.000,9,   -999.0,9,     3.35,2,     3.93,2,     0.58,2,     0.44,2,  -999.00,9,-999,9,   2004.0,2,   -999.0,9,  -999.00,9
  35A319940923,    92,  1,      7,      7,2,19941021,0452,  0.0100,-150.0400, -999,     69.4,  27.4940,  35.2490,2, -999.000,9,   -999.0,9,     3.45,2,     4.07,2,     0.62,2,     0.45,2,  -999.00,9,-999,9,   2008.0,2,   2319.0,2,  -999.00,9
  35A319940923,    92,  1,      8,      8,2,19941021,0452,  0.0100,-150.0400, -999,     79.5,  27.3310,  35.2000,2, -999.000,9,   -999.0,9,     3.59,2,     4.29,2,     0.70,2,     0.48,2,  -999.00,9,-999,9,   2007.0,2,   2315.0,2,  -999.00,9
  35A319940923,    92,  1,      9,      9,2,19941021,0452,  0.0100,-150.0400, -999,     99.6,  26.3970,  35.0270,2, -999.000,9,   -999.0,9,     4.87,2,     5.98,2,     1.11,2,     0.58,2,  -999.00,9,-999,9,   2016.0,2,   2302.0,2,  -999.00,9
  35A319940923,    92,  1,     10,     10,2,19941021,0452,  0.0100,-150.0400, -999,    120.7,  25.9660,  35.0760,2, -999.000,9,   -999.0,9,     6.43,2,     6.68,2,     0.25,2,     0.62,2,  -999.00,9,-999,9,   2025.0,2,   2304.0,2,  -999.00,9
  35A319940923,    92,  1,     11,     11,2,19941021,0452,  0.0100,-150.0400, -999,    140.9,  22.3910,  35.3020,2, -999.000,9,   -999.0,9,    10.81,2,    10.84,2,     0.03,2,     0.87,2,  -999.00,9,-999,9,   2078.0,2,   2319.0,2,  -999.00,9
  35A319940923,    92,  1,     12,     12,2,19941021,0452,  0.0100,-150.0400, -999,    150.9,  19.5260,  35.1140,2, -999.000,9,   -999.0,9,    12.52,2,    12.54,2,     0.02,2,     0.98,2,  -999.00,9,-999,9,   -999.0,9,   -999.0,9,  -999.00,9
  35A319940923,    92,  1,     13,     13,2,19941021,0452,  0.0100,-150.0400, -999,    163.0,  17.0380,  35.0850,2, -999.000,9,   -999.0,9,    15.28,2,    15.30,2,     0.02,2,     1.18,2,  -999.00,9,-999,9,   2121.0,2,   2313.0,2,  -999.00,9
  35A319940923,    92,  1,     14,     14,2,19941021,0452,  0.0100,-150.0400, -999,    179.1,  16.1250,  35.0600,2, -999.000,9,   -999.0,9,    16.09,2,    16.10,2,     0.01,2,     1.24,2,  -999.00,9,-999,9,   -999.0,9,   -999.0,9,  -999.00,9
  35A319940923,    92,  1,     15,     15,2,19941021,0452,  0.0100,-150.0400, -999,    202.3,  13.9780,  34.9480,2, -999.000,9,   -999.0,9,    19.09,2,    19.10,2,     0.01,2,     1.46,2,  -999.00,9,-999,9,   2147.0,2,   2309.0,2,  -999.00,9
  35A319940923,    93,  1,      1,      1,2,19941021,0857,  0.0100,-150.0200, -999,      5.0,  27.6960,  35.2980,2, -999.000,9,   -999.0,9,     3.22,2,     3.74,2,     0.53,2,     0.44,2,  -999.00,9,-999,9,   -999.0,9,   -999.0,9,  -999.00,9
  35A319940923,    93,  1,      2,      2,2,19941021,0857,  0.0100,-150.0200, -999,     19.1,  27.6990,  35.2980,2, -999.000,9,   -999.0,9,     3.23,2,     3.75,2,     0.53,2,     0.44,2,  -999.00,9,-999,9,   -999.0,9,   -999.0,9,  -999.00,9
  35A319940923,    93,  1,      3,      3,2,19941021,0857,  0.0100,-150.0200, -999,     29.2,  27.6950,  35.2970,2, -999.000,9,   -999.0,9,     3.18,2,     3.70,2,     0.52,2,     0.44,2,  -999.00,9,-999,9,   -999.0,9,   -999.0,9,  -999.00,9
  35A319940923,    93,  1,      4,      4,2,19941021,0857,  0.0100,-150.0200, -999,     40.2,  27.6560,  35.2920,2, -999.000,9,   -999.0,9,     3.20,2,     3.74,2,     0.54,2,     0.43,2,  -999.00,9,-999,9,   -999.0,9,   -999.0,9,  -999.00,9
  35A319940923,    93,  1,      5,      5,2,19941021,0857,  0.0100,-150.0200, -999,     49.3,  27.5820,  35.2760,2, -999.000,9,   -999.0,9,     3.31,2,     3.87,2,     0.56,2,     0.44,2,  -999.00,9,-999,9,   -999.0,9,   -999.0,9,  -999.00,9
  35A319940923,    93,  1,      6,      6,2,19941021,0857,  0.0100,-150.0200, -999,     60.4,  27.5210,  35.2570,2, -999.000,9,   -999.0,9,     3.32,2,     3.89,2,     0.57,2,     0.45,2,  -999.00,9,-999,9,   -999.0,9,   -999.0,9,  -999.00,9
  35A319940923,    93,  1,      7,      7,2,19941021,0857,  0.0100,-150.0200, -999,     70.4,  27.4440,  35.2330,2, -999.000,9,   -999.0,9,     3.51,2,     4.15,2,     0.64,2,     0.46,2,  -999.00,9,-999,9,   -999.0,9,   -999.0,9,  -999.00,9
  35A319940923,    93,  1,      8,      8,2,19941021,0857,  0.0100,-150.0200, -999,     80.5,  27.2180,  35.1620,2, -999.000,9,   -999.0,9,     3.68,2,     4.46,2,     0.78,2,     0.48,2,  -999.00,9,-999,9,   -999.0,9,   -999.0,9,  -999.00,9
  35A319940923,    93,  1,      9,      9,2,19941021,0857,  0.0100,-150.0200, -999,     99.6,  26.2950,  35.0280,2, -999.000,9,   -999.0,9,     4.93,2,     6.04,2,     1.11,2,     0.57,2,  -999.00,9,-999,9,   -999.0,9,   -999.0,9,  -999.00,9
  35A319940923,    93,  1,     10,     10,2,19941021,0857,  0.0100,-150.0200, -999,    120.7,  25.4620,  35.0220,2, -999.000,9,   -999.0,9,     7.34,2,     7.41,2,     0.07,2,     0.65,2,  -999.00,9,-999,9,   -999.0,9,   -999.0,9,  -999.00,9
  35A319940923,    93,  1,     11,     11,2,19941021,0857,  0.0100,-150.0200, -999,    140.9,  22.3940,  35.3310,2, -999.000,9,   -999.0,9,    10.87,2,    10.90,2,     0.03,2,     0.88,2,  -999.00,9,-999,9,   -999.0,9,   -999.0,9,  -999.00,9
  35A319940923,    93,  1,     12,     12,2,19941021,0857,  0.0100,-150.0200, -999,    149.9,  20.5830,  35.1190,2, -999.000,9,   -999.0,9,    11.47,2,    11.50,2,     0.03,2,     0.90,2,  -999.00,9,-999,9,   -999.0,9,   -999.0,9,  -999.00,9
  35A319940923,    93,  1,     13,     13,2,19941021,0857,  0.0100,-150.0200, -999,    160.0,  18.9590,  35.2630,2, -999.000,9,   -999.0,9,    13.58,2,    13.60,2,     0.02,2,     1.08,2,  -999.00,9,-999,9,   -999.0,9,   -999.0,9,  -999.00,9
  35A319940923,    93,  1,     14,     14,2,19941021,0857,  0.0100,-150.0200, -999,    203.3,  15.0970,  35.0880,2, -999.000,9,   -999.0,9,    17.18,2,    17.20,2,     0.02,2,     1.37,2,  -999.00,9,-999,9,   -999.0,9,   -999.0,9,  -999.00,9
  35A319940923,    94,  1,      1,      1,2,19941021,1306,  0.0100,-150.0000, -999,      2.0,  27.6390,  35.2950,2,    4.206,2,    183.4,2,     3.20,2,     3.72,2,     0.52,2,     0.43,2,  -999.00,9,0.28,2,   -999.0,9,   -999.0,9,  -999.00,9
  35A319940923,    94,  1,      2,      2,2,19941021,1306,  0.0100,-150.0000, -999,      9.1,  27.6490,  35.2940,2,    4.224,2,    184.2,2,     3.23,2,     3.75,2,     0.52,2,     0.44,2,  -999.00,9,0.58,2,   -999.0,9,   -999.0,9,  -999.00,9
  35A319940923,    94,  1,      3,      3,2,19941021,1306,  0.0100,-150.0000, -999,     20.1,  27.6470,  35.2930,2,    4.196,2,    183.0,2,     3.14,2,     3.66,2,     0.52,2,     0.43,2,  -999.00,9,0.38,2,   -999.0,9,   -999.0,9,  -999.00,9
  35A319940923,    94,  1,      4,      4,2,19941021,1306,  0.0100,-150.0000, -999,     29.2,  27.6500,  35.2930,2,    4.222,2,    184.1,2,     3.20,2,     3.73,2,     0.53,2,     0.44,2,  -999.00,9,0.68,2,   -999.0,9,   -999.0,9,  -999.00,9
  35A319940923,    94,  1,      5,      5,2,19941021,1306,  0.0100,-150.0000, -999,     39.2,  27.6600,  35.2940,2,    4.213,2,    183.7,2,     3.18,2,     3.71,2,     0.53,2,     0.43,2,  -999.00,9,0.52,2,   -999.0,9,   -999.0,9,  -999.00,9
  35A319940923,    94,  1,      6,      6,2,19941021,1306,  0.0100,-150.0000, -999,     49.3,  27.5960,  35.2760,2,    4.185,2,    182.5,2,     3.26,2,     3.79,2,     0.53,2,     0.44,2,  -999.00,9,0.44,2,   -999.0,9,   -999.0,9,  -999.00,9
  35A319940923,    94,  1,      7,      7,2,19941021,1306,  0.0100,-150.0000, -999,     59.4,  27.5670,  35.2670,2,    4.148,2,    180.9,2,     3.29,2,     3.86,2,     0.57,2,     0.45,2,  -999.00,9,0.54,2,   -999.0,9,   -999.0,9,  -999.00,9
  35A319940923,    94,  1,      8,      8,2,19941021,1306,  0.0100,-150.0000, -999,     69.4,  27.4480,  35.2330,2,    4.089,2,    178.3,2,     3.46,2,     4.08,2,     0.62,2,     0.47,2,  -999.00,9,0.46,2,   -999.0,9,   -999.0,9,  -999.00,9
  35A319940923,    94,  1,      9,      9,2,19941021,1306,  0.0100,-150.0000, -999,     79.5,  27.2340,  35.1680,2,    4.057,2,    176.9,2,     3.61,2,     4.33,2,     0.72,2,     0.49,2,  -999.00,9,0.2,2,   -999.0,9,   -999.0,9,  -999.00,9
  35A319940923,    94,  1,     10,     10,2,19941021,1306,  0.0100,-150.0000, -999,     99.6,  26.4030,  35.0220,2,    3.860,2,    168.3,2,     4.37,2,     5.93,2,     1.56,2,     0.58,2,  -999.00,9,0.6,2,   -999.0,9,   -999.0,9,  -999.00,9
  35A319940923,    94,  1,     11,     11,2,19941021,1306,  0.0100,-150.0000, -999,    118.7,  26.0850,  35.0770,2,    3.308,2,    144.2,2,     6.20,2,     6.52,2,     0.32,2,     0.60,2,  -999.00,9,0.4,2,   -999.0,9,   -999.0,9,  -999.00,9
  35A319940923,    94,  1,     12,     12,2,19941021,1306,  0.0100,-150.0000, -999,    150.9,  21.7070,  35.3380,2,    2.520,2,    109.9,2,    11.37,2,    11.40,2,     0.03,2,     0.92,2,  -999.00,9,0.48,2,   -999.0,9,   -999.0,9,  -999.00,9