BOTTLE,20120829IOSDFOJC
EXPOCODE,STNNBR,CASTNO,SAMPNO,BTLNBR,BTLNBR_FLAG_W,DATE,TIME,LATITUDE,LONGITUDE,DEPTH,CTDPRS,CTDTMP,CTDSAL,CTDSAL_FLAG_W,CTDOXY,CTDOXY_FLAG_W,OXYGEN,OXYGEN_FLAG_W,NITRAT,NITRAT_FLAG_W,NO2+NO3,NO2+NO3_FLAG_W,NITRIT,NITRIT_FLAG_W,PHSPHT,PHSPHT_FLAG_W,SILCAT,SILCAT_FLAG_W,NH4,NH4_FLAG_W,TCARBN,TCARBN_FLAG_W,ALKALI,ALKALI_FLAG_W,DOC,DOC_FLAG_W
,,,,,,,,,,METERS,DBARS,,,,ML/L,,UMOL/KG,,UMOL/KG,,UMOL/KG,,UMOL/KG,,UMOL/KG,,UMOL/KG,,UMOL/KG,,UMOL/KG,,UMOL/KG,,UMOL/KG,
  35A319940923,    48,  1,      1,      1,2,19941006,1957,  0.1300, 166.2900, -999,      2.0,  29.3590,  33.8780,2, -999.000,9,   -999.0,9,     0.00,2,     0.00,2,     0.00,2,     0.03,2,  -999.00,9,-999,9,   1873.0,2,   2214.0,2,  -999.00,9
  35A319940923,    48,  1,      2,      2,2,19941006,1957,  0.1300, 166.2900, -999,     19.1,  29.2710,  33.9100,2, -999.000,9,   -999.0,9,     0.00,2,     0.00,2,     0.00,2,     0.04,2,  -999.00,9,-999,9,   1878.0,2,   2219.0,2,  -999.00,9
  35A319940923,    48,  1,      3,      3,2,19941006,1957,  0.1300, 166.2900, -999,     40.2,  29.2540,  33.9280,2, -999.000,9,   -999.0,9,     0.00,2,     0.00,2,     0.00,2,     0.04,2,  -999.00,9,-999,9,   1880.0,2,   2222.0,2,  -999.00,9
  35A319940923,    48,  1,      4,      4,2,19941006,1957,  0.1300, 166.2900, -999,     60.4,  29.2460,  33.9370,2, -999.000,9,   -999.0,9,     0.00,2,     0.00,2,     0.00,2,     0.04,2,  -999.00,9,-999,9,   1877.0,2,   2221.0,2,  -999.00,9
  35A319940923,    48,  1,      5,      5,2,19941006,1957,  0.1300, 166.2900, -999,     80.5,  29.2580,  33.9480,2, -999.000,9,   -999.0,9,     0.00,2,     0.00,2,     0.00,2,     0.05,2,  -999.00,9,-999,9,   1879.0,2,   2224.0,2,  -999.00,9
  35A319940923,    48,  1,      6,      6,2,19941006,1957,  0.1300, 166.2900, -999,     90.6,  29.2400,  34.1350,2, -999.000,9,   -999.0,9,     0.15,2,     0.16,2,     0.01,2,     0.11,2,  -999.00,9,-999,9,   -999.0,9,   -999.0,9,  -999.00,9
  35A319940923,    48,  1,      7,      7,2,19941006,1957,  0.1300, 166.2900, -999,     98.6,  26.3580,  34.8610,2, -999.000,9,   -999.0,9,     5.10,2,     5.20,2,     0.10,2,     0.40,2,  -999.00,9,-999,9,   2005.0,2,   2288.0,2,  -999.00,9
  35A319940923,    48,  1,      8,      8,2,19941006,1957,  0.1300, 166.2900, -999,    110.7,  21.8100,  35.2190,2, -999.000,9,   -999.0,9,     9.95,2,    10.01,2,     0.06,2,     0.74,2,  -999.00,9,-999,9,   2070.0,2,   2309.0,2,  -999.00,9
  35A319940923,    48,  1,      9,      9,2,19941006,1957,  0.1300, 166.2900, -999,    118.7,  21.4580,  35.2370,2, -999.000,9,   -999.0,9,    10.28,2,    10.35,2,     0.07,2,     0.79,2,  -999.00,9,-999,9,   2074.0,2,   2309.0,2,  -999.00,9
  35A319940923,    48,  1,     10,     10,2,19941006,1957,  0.1300, 166.2900, -999,    139.9,  20.0900,  35.2900,2, -999.000,9,   -999.0,9,    11.07,2,    11.13,2,     0.06,2,     0.88,2,  -999.00,9,-999,9,   2089.0,2,   2315.0,2,  -999.00,9
  35A319940923,    48,  1,     11,     11,2,19941006,1957,  0.1300, 166.2900, -999,    159.0,  18.9820,  35.3340,2, -999.000,9,   -999.0,9,    11.83,2,    11.89,2,     0.06,2,     0.94,2,  -999.00,9,-999,9,   2098.0,2,   2317.0,2,  -999.00,9
  35A319940923,    48,  1,     12,     12,2,19941006,1957,  0.1300, 166.2900, -999,    200.3,  15.9760,  35.2190,2, -999.000,9,   -999.0,9,    14.14,2,    14.17,2,     0.03,2,     1.15,2,  -999.00,9,-999,9,   2125.0,2,   2315.0,2,  -999.00,9
  35A319940923,    48,  1,     13,     13,2,19941006,1957,  0.1300, 166.2900, -999,    250.6,  13.5920,  35.0010,2, -999.000,9,   -999.0,9,    16.87,2,    16.91,2,     0.04,2,     1.41,2,  -999.00,9,-999,9,   2147.0,2,   2309.0,2,  -999.00,9
  35A319940923,    48,  1,     14,     14,2,19941006,1957,  0.1300, 166.2900, -999,    303.0,  12.4200,  34.8870,2,    2.690,2,   -999.0,9,    18.73,2,    18.78,2,     0.04,2,     1.63,2,  -999.00,9,-999,9,   2157.0,2,   2296.0,2,  -999.00,9
  35A319940923,    49,  1,      1,      1,2,19941006,2355,  0.1400, 166.2600, -999,      2.0,  29.5500,  33.8870,2, -999.000,9,   -999.0,9,     0.00,2,     0.00,2,     0.00,2,     0.03,2,  -999.00,9,-999,9,   -999.0,9,   -999.0,9,  -999.00,9
  35A319940923,    49,  1,      2,      2,2,19941006,2355,  0.1400, 166.2600, -999,     20.1,  29.2920,  33.9260,2, -999.000,9,   -999.0,9,     0.00,2,     0.00,2,     0.00,2,     0.04,2,  -999.00,9,-999,9,   -999.0,9,   -999.0,9,  -999.00,9
  35A319940923,    49,  1,      3,      3,2,19941006,2355,  0.1400, 166.2600, -999,     40.2,  29.2400,  33.9220,2, -999.000,9,   -999.0,9,     0.00,2,     0.00,2,     0.00,2,     0.05,2,  -999.00,9,-999,9,   -999.0,9,   -999.0,9,  -999.00,9
  35A319940923,    49,  1,      4,      4,2,19941006,2355,  0.1400, 166.2600, -999,     60.4,  29.2490,  33.9320,2, -999.000,9,   -999.0,9,     0.00,2,     0.00,2,     0.00,2,     0.06,2,  -999.00,9,-999,9,   -999.0,9,   -999.0,9,  -999.00,9
  35A319940923,    49,  1,      5,      5,2,19941006,2355,  0.1400, 166.2600, -999,     80.5,  29.3460,  34.0210,2, -999.000,9,   -999.0,9,     0.00,2,     0.00,2,     0.00,2,     0.07,2,  -999.00,9,-999,9,   -999.0,9,   -999.0,9,  -999.00,9
  35A319940923,    49,  1,      6,      6,2,19941006,2355,  0.1400, 166.2600, -999,     99.6,  22.6800,  35.0680,2, -999.000,9,   -999.0,9,     9.19,2,     9.23,2,     0.04,2,     0.59,2,  -999.00,9,-999,9,   -999.0,9,   -999.0,9,  -999.00,9
  35A319940923,    49,  1,      7,      7,2,19941006,2355,  0.1400, 166.2600, -999,    109.7,  21.9020,  35.2140,2, -999.000,9,   -999.0,9,     9.94,2,     9.97,2,     0.03,2,     0.74,2,  -999.00,9,-999,9,   -999.0,9,   -999.0,9,  -999.00,9
  35A319940923,    49,  1,      8,      8,2,19941006,2355,  0.1400, 166.2600, -999,    119.7,  21.8360,  35.2190,2, -999.000,9,   -999.0,9,    10.05,2,    10.09,2,     0.04,2,     0.79,2,  -999.00,9,-999,9,   -999.0,9,   -999.0,9,  -999.00,9
  35A319940923,    49,  1,      9,      9,2,19941006,2355,  0.1400, 166.2600, -999,    140.9,  20.3240,  35.2760,2, -999.000,9,   -999.0,9,    11.03,2,    11.06,2,     0.04,2,     0.88,2,  -999.00,9,-999,9,   -999.0,9,   -999.0,9,  -999.00,9
  35A319940923,    49,  1,     10,     10,2,19941006,2355,  0.1400, 166.2600, -999,    152.0,  19.9480,  35.3420,2, -999.000,9,   -999.0,9,    11.13,2,    11.16,2,     0.03,2,     0.92,2,  -999.00,9,-999,9,   -999.0,9,   -999.0,9,  -999.00,9
  35A319940923,    49,  1,     11,     11,2,19941006,2355,  0.1400, 166.2600, -999,    181.1,  17.9120,  35.2180,2, -999.000,9,   -999.0,9,  -999.00,9,  -999.00,9,  -999.00,9,  -999.00,9,  -999.00,9,-999,9,   -999.0,9,   -999.0,9,  -999.00,9
  35A319940923,    49,  1,     12,     12,2,19941006,2355,  0.1400, 166.2600, -999,    199.3,  16.1140,  35.2410,2, -999.000,9,   -999.0,9,    17.43,2,    17.45,2,     0.02,2,     1.46,2,  -999.00,9,-999,9,   -999.0,9,   -999.0,9,  -999.00,9
  35A319940923,    49,  1,     13,     13,2,19941006,2355,  0.1400, 166.2600, -999,    302.0,  12.5630,  34.9070,2, -999.000,9,   -999.0,9,    18.35,2,    18.37,2,     0.02,2,     1.57,2,  -999.00,9,-999,9,   -999.0,9,   -999.0,9,  -999.00,9
  35A319940923,    50,  1,      1,      1,2,19941007,0356,  0.1500, 166.2300, -999,      3.0,  29.8530,  33.8790,2,    4.319,2,    188.7,2,     0.00,2,     0.00,2,     0.00,2,     0.05,2,  -999.00,9,0.48,2,   1878.0,2,   2218.0,2,  -999.00,9
  35A319940923,    50,  1,      2,      2,2,19941007,0356,  0.1500, 166.2300, -999,     18.1,  29.3080,  33.9210,2,    4.396,2,    192.0,2,     0.00,2,     0.00,2,     0.00,2,     0.05,2,  -999.00,9,0.28,2,   1876.0,2,   2219.0,2,  -999.00,9
  35A319940923,    50,  1,      3,      3,2,19941007,0356,  0.1500, 166.2300, -999,     39.2,  29.2580,  33.9290,2,    4.385,2,    191.5,2,     0.00,2,     0.00,2,     0.00,2,     0.05,2,  -999.00,9,0,2,   1881.0,2,   2223.0,2,  -999.00,9
  35A319940923,    50,  1,      4,      4,2,19941007,0356,  0.1500, 166.2300, -999,     59.4,  29.2150,  33.9190,2,    4.389,2,    191.7,2,     0.00,2,     0.00,2,     0.00,2,     0.05,2,  -999.00,9,0.06,2,   1866.0,2,   -999.0,9,  -999.00,9
  35A319940923,    50,  1,      5,      5,2,19941007,0356,  0.1500, 166.2300, -999,     79.5,  29.2960,  33.9780,2,    4.396,2,    192.0,2,     0.00,2,     0.00,2,     0.00,2,     0.05,2,  -999.00,9,0.06,2,   1878.0,2,   2218.0,2,  -999.00,9
  35A319940923,    50,  1,      6,      6,2,19941007,0356,  0.1500, 166.2300, -999,     89.5,  29.2790,  34.0830,2,    4.316,2,    188.5,2,     0.02,2,     0.02,2,     0.00,2,     0.07,2,  -999.00,9,0.24,2,   1884.0,2,   2221.0,2,  -999.00,9
  35A319940923,    50,  1,      7,      7,2,19941007,0356,  0.1500, 166.2300, -999,     99.6,  27.8850,  34.7020,2,    3.514,2,   -999.0,9,     7.98,2,     8.03,2,     0.05,2,     0.65,2,  -999.00,9,0.36,2,   -999.0,9,   -999.0,9,  -999.00,9
  35A319940923,    50,  1,      8,      8,2,19941007,0356,  0.1500, 166.2300, -999,    109.7,  22.0510,  35.1930,2,    2.718,2,    118.4,2,     9.91,2,     9.94,2,     0.03,2,     0.79,2,  -999.00,9,0.18,2,   2053.0,2,   2294.0,2,  -999.00,9
  35A319940923,    50,  1,      9,      9,2,19941007,0356,  0.1500, 166.2300, -999,    119.7,  21.9580,  35.2200,2,    2.752,2,    119.8,2,     9.99,2,    10.02,2,     0.03,2,     0.80,2,  -999.00,9,0.54,2,   2053.0,2,   -999.0,9,  -999.00,9
  35A319940923,    50,  1,     10,     10,2,19941007,0356,  0.1500, 166.2300, -999,    140.9,  20.8000,  35.2450,2,    2.702,2,    117.6,2,    10.77,2,    10.80,2,     0.03,2,     0.87,2,  -999.00,9,0.34,2,   2075.0,2,   2306.0,2,  -999.00,9
  35A319940923,    50,  1,     11,     11,2,19941007,0356,  0.1500, 166.2300, -999,    163.0,  19.7510,  35.3610,2,    2.889,2,    125.7,2,    11.26,2,    11.28,2,     0.03,2,     0.91,2,  -999.00,9,0.48,2,   2080.0,2,   2307.0,2,  -999.00,9
  35A319940923,    50,  1,     12,     12,2,19941007,0356,  0.1500, 166.2300, -999,    200.3,  16.1350,  35.0980,2,    2.838,2,    123.4,2,    14.24,2,    14.25,2,     0.01,2,     1.17,2,  -999.00,9,0.56,2,   2105.0,2,   2295.0,2,  -999.00,9
  35A319940923,    50,  1,     13,     13,2,19941007,0356,  0.1500, 166.2300, -999,    302.0,  12.5830,  34.9100,2,    2.686,2,    116.7,2,    18.41,2,    18.42,2,     0.01,2,     1.58,2,  -999.00,9,-999,9,   2155.0,2,   2303.0,2,  -999.00,9
  35A319940923,    50,  1,     14,     14,2,19941007,0356,  0.1500, 166.2300, -999,   1012.3,   4.7000,  34.5500,2, -999.000,9,     75.8,2,  -999.00,9,  -999.00,9,  -999.00,9,  -999.00,9,  -999.00,9,-999,9,   -999.0,9,   -999.0,9,  -999.00,9
  35A319940923,    51,  1,      1,      1,2,19941007,0806,  0.1700, 166.2400, -999,      2.0,  29.5550,  33.8500,2, -999.000,9,   -999.0,9,     0.00,2,     0.00,2,     0.00,2,     0.06,2,  -999.00,9,-999,9,   -999.0,9,   -999.0,9,  -999.00,9
  35A319940923,    51,  1,      2,      2,2,19941007,0806,  0.1700, 166.2400, -999,     20.1,  29.2730,  33.9100,2, -999.000,9,   -999.0,9,     0.00,2,     0.00,2,     0.00,2,     0.05,2,  -999.00,9,-999,9,   1878.0,2,   2219.0,2,  -999.00,9
  35A319940923,    51,  1,      3,      3,2,19941007,0806,  0.1700, 166.2400, -999,     40.2,  29.2650,  33.9350,2,    4.316,2,    188.5,2,     0.00,2,     0.00,2,     0.00,2,     0.05,2,  -999.00,9,-999,9,   1877.0,2,   2219.0,2,  -999.00,9
  35A319940923,    51,  1,      4,      4,2,19941007,0806,  0.1700, 166.2400, -999,     50.3,  29.2610,  33.9390,2,    4.305,2,    188.0,2,  -999.00,9,  -999.00,9,  -999.00,9,  -999.00,9,  -999.00,9,-999,9,   1880.0,2,   2221.0,2,  -999.00,9
  35A319940923,    51,  1,      5,      5,2,19941007,0806,  0.1700, 166.2400, -999,     60.4,  29.2710,  33.9600,2, -999.000,9,   -999.0,9,     0.00,2,     0.00,2,     0.00,2,     0.06,2,  -999.00,9,-999,9,   1879.0,2,   2215.0,2,  -999.00,9
  35A319940923,    51,  1,      6,      6,2,19941007,0806,  0.1700, 166.2400, -999,     70.4,  29.2830,  34.0230,2, -999.000,9,   -999.0,9,     0.02,2,     0.02,2,     0.00,2,     0.07,2,  -999.00,9,-999,9,   1878.0,2,   2219.0,2,  -999.00,9
  35A319940923,    51,  1,      7,      7,2,19941007,0806,  0.1700, 166.2400, -999,     80.5,  29.1290,  34.2360,2, -999.000,9,   -999.0,9,     0.14,2,     0.14,2,     0.01,2,     0.11,2,  -999.00,9,-999,9,   1892.0,2,   2231.0,2,  -999.00,9
  35A319940923,    51,  1,      8,      8,2,19941007,0806,  0.1700, 166.2400, -999,    100.6,  22.0500,  35.1940,2, -999.000,9,   -999.0,9,     9.96,2,     9.99,2,     0.03,2,     0.80,2,  -999.00,9,-999,9,   2058.0,2,   2298.0,2,  -999.00,9
  35A319940923,    51,  1,      9,      9,2,19941007,0806,  0.1700, 166.2400, -999,    110.7,  22.0090,  35.2120,2, -999.000,9,   -999.0,9,    10.08,2,    10.11,2,     0.03,2,     0.81,2,  -999.00,9,-999,9,   2064.0,2,   2307.0,2,  -999.00,9
  35A319940923,    51,  1,     10,     10,2,19941007,0806,  0.1700, 166.2400, -999,    119.7,  21.7710,  35.2610,2, -999.000,9,   -999.0,9,    10.29,2,    10.34,2,     0.05,2,     0.84,2,  -999.00,9,-999,9,   2061.0,2,   -999.0,9,  -999.00,9
  35A319940923,    51,  1,     11,     11,2,19941007,0806,  0.1700, 166.2400, -999,    129.8,  20.8200,  35.2550,2, -999.000,9,   -999.0,9,    10.78,2,    10.81,2,     0.03,2,     0.89,2,  -999.00,9,-999,9,   2071.0,2,   2306.0,2,  -999.00,9
  35A319940923,    51,  1,     12,     12,2,19941007,0806,  0.1700, 166.2400, -999,    140.9,  20.5620,  35.2720,2, -999.000,9,   -999.0,9,    11.03,2,    11.06,2,     0.03,2,     0.91,2,  -999.00,9,-999,9,   2074.0,2,   2302.0,2,  -999.00,9
  35A319940923,    51,  1,     13,     13,2,19941007,0806,  0.1700, 166.2400, -999,    150.9,  20.0050,  35.3280,2, -999.000,9,   -999.0,9,    11.28,2,    11.31,2,     0.03,2,     0.93,2,  -999.00,9,-999,9,   2071.0,2,   -999.0,9,  -999.00,9
  35A319940923,    51,  1,     14,     14,2,19941007,0806,  0.1700, 166.2400, -999,    160.0,  19.6940,  35.3450,2, -999.000,9,   -999.0,9,    11.42,2,    11.44,2,     0.02,2,     0.96,2,  -999.00,9,-999,9,   2088.0,2,   2311.0,2,  -999.00,9
  35A319940923,    51,  1,     15,     15,2,19941007,0806,  0.1700, 166.2400, -999,    181.1,  18.5290,  35.3040,2, -999.000,9,   -999.0,9,    12.17,2,    12.19,2,     0.02,2,     1.00,2,  -999.00,9,-999,9,   2093.0,2,   2312.0,2,  -999.00,9
  35A319940923,    51,  1,     16,     16,2,19941007,0806,  0.1700, 166.2400, -999,    200.3,  16.8780,  35.1880,2, -999.000,9,   -999.0,9,    13.55,2,    13.57,2,     0.02,2,     1.13,2,  -999.00,9,-999,9,   2095.0,2,   -999.0,9,  -999.00,9
  35A319940923,    52,  1,      1,      1,2,19941007,1405,  0.2000, 166.2200, -999,      5.0,  29.5920,  33.9130,2, -999.000,9,   -999.0,9,     0.00,2,     0.00,2,     0.00,2,     0.05,2,  -999.00,9,-999,9,   -999.0,9,   -999.0,9,  -999.00,9
  35A319940923,    52,  1,      2,      2,2,19941007,1405,  0.2000, 166.2200, -999,      9.1,  29.5510,  33.9080,2, -999.000,9,   -999.0,9,     0.00,2,     0.00,2,     0.00,2,     0.05,2,  -999.00,9,-999,9,   -999.0,9,   -999.0,9,  -999.00,9
  35A319940923,    52,  1,      3,      3,2,19941007,1405,  0.2000, 166.2200, -999,     19.1,  29.3500,  33.9280,2, -999.000,9,   -999.0,9,     0.00,2,     0.00,2,     0.00,2,     0.07,2,  -999.00,9,-999,9,   -999.0,9,   -999.0,9,  -999.00,9
  35A319940923,    52,  1,      4,      4,2,19941007,1405,  0.2000, 166.2200, -999,     40.2,  29.3010,  33.9370,2, -999.000,9,   -999.0,9,     0.00,2,     0.00,2,     0.00,2,     0.07,2,  -999.00,9,-999,9,   -999.0,9,   -999.0,9,  -999.00,9
  35A319940923,    52,  1,      5,      5,2,19941007,1405,  0.2000, 166.2200, -999,     50.3,  29.2890,  33.9370,2, -999.000,9,   -999.0,9,     0.00,2,     0.00,2,     0.00,2,     0.07,2,  -999.00,9,-999,9,   -999.0,9,   -999.0,9,  -999.00,9
  35A319940923,    52,  1,      6,      6,2,19941007,1405,  0.2000, 166.2200, -999,     60.4,  29.2720,  33.9410,2, -999.000,9,   -999.0,9,     0.00,2,     0.00,2,     0.00,2,     0.07,2,  -999.00,9,-999,9,   -999.0,9,   -999.0,9,  -999.00,9
  35A319940923,    52,  1,      7,      7,2,19941007,1405,  0.2000, 166.2200, -999,     70.4,  29.2920,  33.9510,2, -999.000,9,   -999.0,9,     0.00,2,     0.00,2,     0.00,2,     0.07,2,  -999.00,9,-999,9,   -999.0,9,   -999.0,9,  -999.00,9
  35A319940923,    52,  1,      8,      8,2,19941007,1405,  0.2000, 166.2200, -999,     80.5,  29.2980,  33.9630,2, -999.000,9,   -999.0,9,     0.07,2,     0.07,2,     0.00,2,     0.07,2,  -999.00,9,-999,9,   -999.0,9,   -999.0,9,  -999.00,9
  35A319940923,    52,  1,      9,      9,2,19941007,1405,  0.2000, 166.2200, -999,     99.6,  23.0270,  35.0700,2, -999.000,9,   -999.0,9,     8.56,2,     8.61,2,     0.05,2,     0.71,2,  -999.00,9,-999,9,   -999.0,9,   -999.0,9,  -999.00,9
  35A319940923,    52,  1,     10,     10,2,19941007,1405,  0.2000, 166.2200, -999,    109.7,  22.0520,  35.2110,2, -999.000,9,   -999.0,9,    10.17,2,    10.21,2,     0.04,2,     0.84,2,  -999.00,9,-999,9,   -999.0,9,   -999.0,9,  -999.00,9
  35A319940923,    52,  1,     11,     11,2,19941007,1405,  0.2000, 166.2200, -999,    119.7,  21.7070,  35.2580,2, -999.000,9,   -999.0,9,    10.54,2,    10.59,2,     0.05,2,     0.86,2,  -999.00,9,-999,9,   -999.0,9,   -999.0,9,  -999.00,9
  35A319940923,    52,  1,     12,     12,2,19941007,1405,  0.2000, 166.2200, -999,    139.9,  20.5290,  35.2870,2, -999.000,9,   -999.0,9,    11.19,2,    11.21,2,     0.02,2,     0.93,2,  -999.00,9,-999,9,   -999.0,9,   -999.0,9,  -999.00,9
  35A319940923,    52,  1,     13,     13,2,19941007,1405,  0.2000, 166.2200, -999,    152.0,  19.9560,  35.3230,2, -999.000,9,   -999.0,9,    11.00,2,    11.02,2,     0.02,2,     0.91,2,  -999.00,9,-999,9,   -999.0,9,   -999.0,9,  -999.00,9
  35A319940923,    52,  1,     14,     14,2,19941007,1405,  0.2000, 166.2200, -999,    180.1,  18.3540,  35.2840,2, -999.000,9,   -999.0,9,    13.61,2,    13.62,2,     0.01,2,     1.06,2,  -999.00,9,-999,9,   -999.0,9,   -999.0,9,  -999.00,9
  35A319940923,    52,  1,     15,     15,2,19941007,1405,  0.2000, 166.2200, -999,    200.3,  16.2010,  35.1220,2, -999.000,9,   -999.0,9,    14.41,2,    14.42,2,     0.01,2,     1.21,2,  -999.00,9,-999,9,   -999.0,9,   -999.0,9,  -999.00,9