BOTTLE,20120829IOSDFOJC
EXPOCODE,STNNBR,CASTNO,SAMPNO,BTLNBR,BTLNBR_FLAG_W,DATE,TIME,LATITUDE,LONGITUDE,DEPTH,CTDPRS,CTDTMP,CTDSAL,CTDSAL_FLAG_W,CTDOXY,CTDOXY_FLAG_W,OXYGEN,OXYGEN_FLAG_W,NITRAT,NITRAT_FLAG_W,NO2+NO3,NO2+NO3_FLAG_W,NITRIT,NITRIT_FLAG_W,PHSPHT,PHSPHT_FLAG_W,SILCAT,SILCAT_FLAG_W,NH4,NH4_FLAG_W,TCARBN,TCARBN_FLAG_W,ALKALI,ALKALI_FLAG_W,DOC,DOC_FLAG_W
,,,,,,,,,,METERS,DBARS,,,,ML/L,,UMOL/KG,,UMOL/KG,,UMOL/KG,,UMOL/KG,,UMOL/KG,,UMOL/KG,,UMOL/KG,,UMOL/KG,,UMOL/KG,,UMOL/KG,
  35A319940923,    28,  1,      1,      1,2,19941003,1206, -0.0600, 166.5000, -999,      4.0,  29.0410,  33.8590,2, -999.000,9,   -999.0,9,     0.00,2,     0.00,2,     0.00,2,  -999.00,9,  -999.00,9,-999,9,   -999.0,9,   -999.0,9,  -999.00,9
  35A319940923,    28,  1,      2,      2,2,19941003,1206, -0.0600, 166.5000, -999,     10.1,  29.0370,  33.8580,2, -999.000,9,   -999.0,9,     0.00,2,     0.00,2,     0.00,2,  -999.00,9,  -999.00,9,-999,9,   -999.0,9,   -999.0,9,  -999.00,9
  35A319940923,    28,  1,      3,      3,2,19941003,1206, -0.0600, 166.5000, -999,     20.1,  29.0500,  33.8580,2, -999.000,9,   -999.0,9,     0.00,2,     0.00,2,     0.00,2,  -999.00,9,  -999.00,9,-999,9,   -999.0,9,   -999.0,9,  -999.00,9
  35A319940923,    28,  1,      4,      4,2,19941003,1206, -0.0600, 166.5000, -999,     39.2,  29.0520,  33.8580,2, -999.000,9,   -999.0,9,     0.00,2,     0.00,2,     0.00,2,  -999.00,9,  -999.00,9,-999,9,   -999.0,9,   -999.0,9,  -999.00,9
  35A319940923,    28,  1,      5,      5,2,19941003,1206, -0.0600, 166.5000, -999,     49.3,  29.0560,  33.8620,2, -999.000,9,   -999.0,9,     0.00,2,     0.00,2,     0.00,2,  -999.00,9,  -999.00,9,-999,9,   -999.0,9,   -999.0,9,  -999.00,9
  35A319940923,    28,  1,      6,      6,2,19941003,1206, -0.0600, 166.5000, -999,     61.4,  29.0600,  33.8690,2, -999.000,9,   -999.0,9,     0.00,2,     0.00,2,     0.00,2,  -999.00,9,  -999.00,9,-999,9,   -999.0,9,   -999.0,9,  -999.00,9
  35A319940923,    28,  1,      7,      7,2,19941003,1206, -0.0600, 166.5000, -999,     71.4,  29.1270,  33.9450,2, -999.000,9,   -999.0,9,     0.00,2,     0.00,2,     0.00,2,  -999.00,9,  -999.00,9,-999,9,   -999.0,9,   -999.0,9,  -999.00,9
  35A319940923,    28,  1,      8,      8,2,19941003,1206, -0.0600, 166.5000, -999,     81.5,  29.3090,  34.2320,2, -999.000,9,   -999.0,9,     0.05,2,     0.06,2,     0.01,2,     0.08,2,  -999.00,9,-999,9,   -999.0,9,   -999.0,9,  -999.00,9
  35A319940923,    28,  1,      9,      9,2,19941003,1206, -0.0600, 166.5000, -999,     97.6,  28.8470,  34.6960,2, -999.000,9,   -999.0,9,     2.04,2,     2.21,2,     0.17,2,     0.27,2,  -999.00,9,-999,9,   -999.0,9,   -999.0,9,  -999.00,9
  35A319940923,    28,  1,     10,     10,2,19941003,1206, -0.0600, 166.5000, -999,    109.7,  22.8240,  35.1680,2, -999.000,9,   -999.0,9,     9.86,2,     9.89,2,     0.03,2,     0.90,2,  -999.00,9,-999,9,   -999.0,9,   -999.0,9,  -999.00,9
  35A319940923,    28,  1,     11,     11,2,19941003,1206, -0.0600, 166.5000, -999,    118.7,  20.8660,  35.1940,2, -999.000,9,   -999.0,9,     8.80,2,     8.83,2,     0.03,2,     0.82,2,  -999.00,9,-999,9,   -999.0,9,   -999.0,9,  -999.00,9
  35A319940923,    28,  1,     12,     12,2,19941003,1206, -0.0600, 166.5000, -999,    139.9,  18.8900,  35.2740,2, -999.000,9,   -999.0,9,    11.91,2,    11.93,2,     0.02,2,     1.18,2,  -999.00,9,-999,9,   -999.0,9,   -999.0,9,  -999.00,9
  35A319940923,    28,  1,     13,     13,2,19941003,1206, -0.0600, 166.5000, -999,    153.0,  18.6000,  35.2450,2, -999.000,9,   -999.0,9,    12.17,2,    12.19,2,     0.02,2,     1.21,2,  -999.00,9,-999,9,   -999.0,9,   -999.0,9,  -999.00,9
  35A319940923,    28,  1,     14,     14,2,19941003,1206, -0.0600, 166.5000, -999,    185.2,  17.0100,  35.2050,2, -999.000,9,   -999.0,9,    13.33,2,    13.34,2,     0.01,2,     1.37,2,  -999.00,9,-999,9,   -999.0,9,   -999.0,9,  -999.00,9
  35A319940923,    28,  1,     15,     15,2,19941003,1206, -0.0600, 166.5000, -999,    198.3,  15.9430,  35.1970,2, -999.000,9,   -999.0,9,    14.21,2,    14.22,2,     0.01,2,     1.47,2,  -999.00,9,-999,9,   -999.0,9,   -999.0,9,  -999.00,9
  35A319940923,    29,  1,      1,      1,2,19941003,1727, -0.0700, 166.4900, -999,      3.0,  29.0350,  33.8750,2, -999.000,9,   -999.0,9,     0.00,2,     0.00,2,     0.00,2,     0.03,2,     0.01,2,0,2,   -999.0,9,   -999.0,9,  -999.00,9
  35A319940923,    29,  1,      2,      2,2,19941003,1727, -0.0700, 166.4900, -999,     10.1,  29.0450,  33.8740,2, -999.000,9,   -999.0,9,     0.00,2,     0.00,2,     0.00,2,     0.04,2,     0.02,2,0.24,2,   -999.0,9,   -999.0,9,  -999.00,9
  35A319940923,    29,  1,      3,      3,2,19941003,1727, -0.0700, 166.4900, -999,     14.1,  29.0400,  33.8740,2, -999.000,9,   -999.0,9,     0.00,2,     0.00,2,     0.00,2,     0.04,2,     0.02,2,0.04,2,   -999.0,9,   -999.0,9,  -999.00,9
  35A319940923,    29,  1,      4,      4,2,19941003,1727, -0.0700, 166.4900, -999,     19.1,  29.0460,  33.8740,2, -999.000,9,   -999.0,9,     0.00,2,     0.00,2,     0.00,2,     0.03,2,     0.01,2,0.02,2,   -999.0,9,   -999.0,9,  -999.00,9
  35A319940923,    29,  1,      5,      5,2,19941003,1727, -0.0700, 166.4900, -999,     30.2,  29.0520,  33.8730,2, -999.000,9,   -999.0,9,     0.00,2,     0.00,2,     0.00,2,     0.03,2,     0.02,2,0.1,2,   -999.0,9,   -999.0,9,  -999.00,9
  35A319940923,    29,  1,      6,      6,2,19941003,1727, -0.0700, 166.4900, -999,     40.2,  29.0610,  33.8750,2, -999.000,9,   -999.0,9,     0.00,2,     0.00,2,     0.00,2,     0.03,2,     0.01,2,0.08,2,   -999.0,9,   -999.0,9,  -999.00,9
  35A319940923,    29,  1,      7,      7,2,19941003,1727, -0.0700, 166.4900, -999,     50.3,  29.0590,  33.8720,2, -999.000,9,   -999.0,9,     0.00,2,     0.00,2,     0.00,2,     0.04,2,     0.01,2,0.06,2,   -999.0,9,   -999.0,9,  -999.00,9
  35A319940923,    29,  1,      8,      8,2,19941003,1727, -0.0700, 166.4900, -999,     59.4,  29.0700,  33.8780,2, -999.000,9,   -999.0,9,     0.01,2,     0.01,2,     0.00,2,     0.04,2,     0.02,2,0.12,2,   -999.0,9,   -999.0,9,  -999.00,9
  35A319940923,    29,  1,      9,      9,2,19941003,1727, -0.0700, 166.4900, -999,     79.5,  29.1340,  33.9340,2, -999.000,9,   -999.0,9,     0.01,2,     0.01,2,     0.00,2,     0.05,2,     0.02,2,0,2,   -999.0,9,   -999.0,9,  -999.00,9
  35A319940923,    29,  1,     10,     10,2,19941003,1727, -0.0700, 166.4900, -999,     99.6,  28.8210,  34.5560,2, -999.000,9,   -999.0,9,     2.44,2,     2.56,2,     0.12,2,     0.36,2,     0.03,2,0,2,   -999.0,9,   -999.0,9,  -999.00,9
  35A319940923,    29,  1,     11,     11,2,19941003,1727, -0.0700, 166.4900, -999,    118.7,  21.1280,  35.2100,2, -999.000,9,   -999.0,9,    10.40,2,    10.43,2,     0.03,2,     0.96,2,     0.03,2,0,2,   -999.0,9,   -999.0,9,  -999.00,9
  35A319940923,    29,  1,     12,     12,2,19941003,1727, -0.0700, 166.4900, -999,    150.9,  18.7330,  35.2670,2, -999.000,9,   -999.0,9,    12.08,2,    12.09,2,     0.01,2,     1.14,2,     0.02,2,0.02,2,   -999.0,9,   -999.0,9,  -999.00,9
  35A319940923,    30,  1,      1,      1,2,19941003,2037, -0.0100, 166.4500, -999,      3.0,  28.9980,  33.8700,2, -999.000,9,   -999.0,9,     0.00,2,     0.00,2,     0.00,2,     0.07,2,  -999.00,9,-999,9,   -999.0,9,   -999.0,9,  -999.00,9
  35A319940923,    30,  1,      2,      2,2,19941003,2037, -0.0100, 166.4500, -999,     19.1,  29.0320,  33.8790,2, -999.000,9,   -999.0,9,     0.00,2,     0.00,2,     0.00,2,     0.07,2,  -999.00,9,-999,9,   1878.0,2,   2218.0,2,  -999.00,9
  35A319940923,    30,  1,      3,      3,2,19941003,2037, -0.0100, 166.4500, -999,     39.2,  29.0280,  33.8750,2, -999.000,9,   -999.0,9,     0.00,2,     0.00,2,     0.00,2,  -999.00,9,  -999.00,9,-999,9,   1875.0,2,   2212.0,2,  -999.00,9
  35A319940923,    30,  1,      4,      4,2,19941003,2037, -0.0100, 166.4500, -999,     59.4,  29.0340,  33.8770,2, -999.000,9,   -999.0,9,     0.00,2,     0.00,2,     0.00,2,  -999.00,9,  -999.00,9,-999,9,   1871.0,2,   2211.0,2,  -999.00,9
  35A319940923,    30,  1,      5,      5,2,19941003,2037, -0.0100, 166.4500, -999,     82.5,  29.1010,  33.9150,2, -999.000,9,   -999.0,9,     0.00,2,     0.00,2,     0.00,2,  -999.00,9,  -999.00,9,-999,9,   1877.0,2,   2219.0,2,  -999.00,9
  35A319940923,    30,  1,      6,      6,2,19941003,2037, -0.0100, 166.4500, -999,     90.6,  29.2670,  34.2190,2, -999.000,9,   -999.0,9,     0.01,2,     0.01,2,     0.00,2,  -999.00,9,  -999.00,9,-999,9,   1897.0,2,   2236.0,2,  -999.00,9
  35A319940923,    30,  1,      7,      7,2,19941003,2037, -0.0100, 166.4500, -999,     99.6,  28.8790,  34.5300,2, -999.000,9,   -999.0,9,     0.52,2,     0.58,2,     0.06,2,     0.13,2,  -999.00,9,-999,9,   1925.0,2,   2254.0,2,  -999.00,9
  35A319940923,    30,  1,      8,      8,2,19941003,2037, -0.0100, 166.4500, -999,    108.7,  22.9540,  35.1550,2, -999.000,9,   -999.0,9,     9.64,2,     9.67,2,     0.03,2,     0.78,2,  -999.00,9,-999,9,   2051.0,2,   2299.0,2,  -999.00,9
  35A319940923,    30,  1,      9,      9,2,19941003,2037, -0.0100, 166.4500, -999,    118.7,  21.4150,  35.2050,2, -999.000,9,   -999.0,9,    10.54,2,    10.57,2,     0.03,2,     0.86,2,  -999.00,9,-999,9,   2069.0,2,   2301.0,2,  -999.00,9
  35A319940923,    30,  1,     10,     10,2,19941003,2037, -0.0100, 166.4500, -999,    139.9,  18.8110,  35.2610,2, -999.000,9,   -999.0,9,    12.03,2,    12.05,2,     0.02,2,     1.00,2,  -999.00,9,-999,9,   2086.0,2,   2309.0,2,  -999.00,9
  35A319940923,    30,  1,     11,     11,2,19941003,2037, -0.0100, 166.4500, -999,    164.0,  18.0670,  35.2370,2, -999.000,9,   -999.0,9,    12.62,2,    12.63,2,     0.01,2,     1.01,2,  -999.00,9,-999,9,   2096.0,2,   2308.0,2,  -999.00,9
  35A319940923,    30,  1,     12,     12,2,19941003,2037, -0.0100, 166.4500, -999,    203.3,  15.8460,  35.1620,2, -999.000,9,   -999.0,9,    14.56,2,    14.57,2,     0.01,2,     1.16,2,  -999.00,9,-999,9,   2116.0,2,   2311.0,2,  -999.00,9
  35A319940923,    30,  1,     13,     13,2,19941003,2037, -0.0100, 166.4500, -999,    250.6,  13.8160,  35.0340,2, -999.000,9,   -999.0,9,    16.65,2,    16.66,2,     0.01,2,  -999.00,9,  -999.00,9,-999,9,   2133.0,2,   2304.0,2,  -999.00,9
  35A319940923,    30,  1,     14,     14,2,19941003,2037, -0.0100, 166.4500, -999,    303.0,  12.0410,  34.8580,2, -999.000,9,   -999.0,9,    20.10,2,    20.12,2,     0.02,2,  -999.00,9,  -999.00,9,-999,9,   2170.0,2,   2298.0,2,  -999.00,9
  35A319940923,    31,  1,      1,      1,2,19941004,0032, -0.0600, 166.4300, -999,      4.0,  28.9810,  33.8450,2, -999.000,9,   -999.0,9,     0.00,2,     0.00,2,     0.00,2,  -999.00,9,  -999.00,9,-999,9,   -999.0,9,   -999.0,9,  -999.00,9
  35A319940923,    31,  1,      2,      2,2,19941004,0032, -0.0600, 166.4300, -999,     19.1,  29.0170,  33.8650,2, -999.000,9,   -999.0,9,     0.00,2,     0.00,2,     0.00,2,  -999.00,9,  -999.00,9,-999,9,   -999.0,9,   -999.0,9,  -999.00,9
  35A319940923,    31,  1,      3,      3,2,19941004,0032, -0.0600, 166.4300, -999,     40.2,  29.0310,  33.8720,2, -999.000,9,   -999.0,9,     0.00,2,     0.00,2,     0.00,2,  -999.00,9,  -999.00,9,-999,9,   -999.0,9,   -999.0,9,  -999.00,9
  35A319940923,    31,  1,      4,      4,2,19941004,0032, -0.0600, 166.4300, -999,     60.4,  29.0660,  33.8910,2, -999.000,9,   -999.0,9,     0.00,2,     0.00,2,     0.00,2,  -999.00,9,  -999.00,9,-999,9,   -999.0,9,   -999.0,9,  -999.00,9
  35A319940923,    31,  1,      5,      5,2,19941004,0032, -0.0600, 166.4300, -999,     80.5,  29.2190,  34.0870,2, -999.000,9,   -999.0,9,     0.00,2,     0.00,2,     0.00,2,     0.06,2,  -999.00,9,-999,9,   -999.0,9,   -999.0,9,  -999.00,9
  35A319940923,    31,  1,      6,      6,2,19941004,0032, -0.0600, 166.4300, -999,     98.6,  27.6850,  34.7570,2, -999.000,9,   -999.0,9,     5.53,2,     5.79,2,     0.26,2,     0.64,2,  -999.00,9,-999,9,   -999.0,9,   -999.0,9,  -999.00,9
  35A319940923,    31,  1,      7,      7,2,19941004,0032, -0.0600, 166.4300, -999,    108.7,  22.6060,  35.1820,2, -999.000,9,   -999.0,9,    10.03,2,    10.06,2,     0.03,2,     1.04,2,  -999.00,9,-999,9,   -999.0,9,   -999.0,9,  -999.00,9
  35A319940923,    31,  1,      8,      8,2,19941004,0032, -0.0600, 166.4300, -999,    119.7,  20.8140,  35.2120,2, -999.000,9,   -999.0,9,    10.97,2,    10.99,2,     0.02,2,     1.15,2,  -999.00,9,-999,9,   -999.0,9,   -999.0,9,  -999.00,9
  35A319940923,    31,  1,      9,      9,2,19941004,0032, -0.0600, 166.4300, -999,    138.9,  18.4430,  35.2540,2, -999.000,9,   -999.0,9,    12.34,2,    12.35,2,     0.01,2,     1.28,2,  -999.00,9,-999,9,   -999.0,9,   -999.0,9,  -999.00,9
  35A319940923,    31,  1,     10,     10,2,19941004,0032, -0.0600, 166.4300, -999,    149.9,  18.1200,  35.2370,2, -999.000,9,   -999.0,9,    12.52,2,    12.53,2,     0.01,2,     1.31,2,  -999.00,9,-999,9,   -999.0,9,   -999.0,9,  -999.00,9
  35A319940923,    31,  1,     11,     11,2,19941004,0032, -0.0600, 166.4300, -999,    180.1,  17.3670,  35.2310,2, -999.000,9,   -999.0,9,    12.63,2,    12.64,2,     0.01,2,     1.31,2,  -999.00,9,-999,9,   -999.0,9,   -999.0,9,  -999.00,9
  35A319940923,    31,  1,     12,     12,2,19941004,0032, -0.0600, 166.4300, -999,    202.3,  15.9020,  35.1630,2, -999.000,9,   -999.0,9,    14.50,2,    14.51,2,     0.01,2,     1.50,2,  -999.00,9,-999,9,   -999.0,9,   -999.0,9,  -999.00,9
  35A319940923,    31,  1,     13,     13,2,19941004,0032, -0.0600, 166.4300, -999,    303.0,  11.8350,  34.8430,2, -999.000,9,   -999.0,9,    24.21,2,    24.22,2,     0.01,2,     2.06,2,  -999.00,9,-999,9,   -999.0,9,   -999.0,9,  -999.00,9
  35A319940923,    32,  1,      1,      1,2,19941004,0444, -0.0700, 166.4200, -999,      2.0,  29.0070,  33.8610,2,    4.307,2,    188.1,2,     0.00,2,     0.00,2,     0.00,2,  -999.00,9,  -999.00,9,-999,9,   1875.0,2,   2213.0,2,  -999.00,9
  35A319940923,    32,  1,      2,      2,2,19941004,0444, -0.0700, 166.4200, -999,     19.1,  29.0160,  33.8630,2,    4.321,2,    188.7,2,     0.00,2,     0.00,2,     0.00,2,  -999.00,9,  -999.00,9,0.06,2,   1873.0,2,   2218.0,2,  -999.00,9
  35A319940923,    32,  1,      3,      3,2,19941004,0444, -0.0700, 166.4200, -999,     39.2,  29.0210,  33.8630,2,    4.392,2,    191.8,2,     0.00,2,     0.00,2,     0.00,2,  -999.00,9,  -999.00,9,0.02,2,   1875.0,2,   2214.0,2,  -999.00,9
  35A319940923,    32,  1,      4,      4,2,19941004,0444, -0.0700, 166.4200, -999,     58.4,  29.0660,  33.8870,2,    4.309,2,    188.2,2,     0.00,2,     0.00,2,     0.00,2,  -999.00,9,  -999.00,9,0.07,2,   1877.0,2,   2216.0,2,  -999.00,9
  35A319940923,    32,  1,      5,      5,2,19941004,0444, -0.0700, 166.4200, -999,     76.5,  29.1170,  33.9190,2,    4.378,2,    191.2,2,     0.00,2,     0.00,2,     0.00,2,     0.13,2,  -999.00,9,0.07,2,   1880.0,2,   2217.0,2,  -999.00,9
  35A319940923,    32,  1,      6,      6,2,19941004,0444, -0.0700, 166.4200, -999,     88.5,  29.2640,  34.2260,2,    4.280,2,    186.9,2,     0.00,2,     0.00,2,     0.00,2,     0.13,2,  -999.00,9,0.48,2,   1903.0,2,   2242.0,2,  -999.00,9
  35A319940923,    32,  1,      7,      7,2,19941004,0444, -0.0700, 166.4200, -999,     99.6,  29.0290,  34.4760,2,    4.212,2,    183.9,2,     0.01,2,     0.01,2,     0.00,2,     0.23,2,  -999.00,9,1.55,2,   1927.0,2,   2259.0,2,  -999.00,9
  35A319940923,    32,  1,      8,      8,2,19941004,0444, -0.0700, 166.4200, -999,    110.7,  29.0070,  34.6220,2,    4.101,2,    179.0,2,     0.28,2,     0.32,2,     0.04,2,     0.26,2,  -999.00,9,0.05,2,   1923.0,2,   2262.0,2,  -999.00,9
  35A319940923,    32,  1,      9,      9,2,19941004,0444, -0.0700, 166.4200, -999,    119.7,  22.4470,  35.1800,2,    2.704,2,    117.8,2,     9.98,2,    10.03,2,     0.05,2,     0.94,2,  -999.00,9,0.22,2,   2057.0,2,   2298.0,2,  -999.00,9
  35A319940923,    32,  1,     10,     10,2,19941004,0444, -0.0700, 166.4200, -999,    139.9,  19.7840,  35.2930,2,    2.732,2,    118.9,2,    11.48,2,    11.51,2,     0.03,2,     1.08,2,  -999.00,9,0.5,2,   2089.0,2,   2311.0,2,  -999.00,9
  35A319940923,    32,  1,     11,     11,2,19941004,0444, -0.0700, 166.4200, -999,    158.0,  18.2720,  35.2260,2, -999.000,9,   -999.0,9,  -999.00,9,  -999.00,9,  -999.00,9,  -999.00,9,  -999.00,9,0.11,2,   -999.0,9,   -999.0,9,  -999.00,9
  35A319940923,    32,  1,     12,     12,2,19941004,0444, -0.0700, 166.4200, -999,    198.3,  16.9820,  35.2090,2,    2.822,2,    122.7,2,    13.40,2,    13.43,2,     0.03,2,     1.26,2,  -999.00,9,0.12,2,   2113.0,2,   2312.0,2,  -999.00,9
  35A319940923,    32,  1,     13,     13,2,19941004,0444, -0.0700, 166.4200, -999,    294.9,  12.5350,  34.9060,2,    2.458,2,    106.8,2,    19.03,2,    19.04,2,     0.01,2,     1.79,2,  -999.00,9,-999,9,   2156.0,2,   2303.0,2,  -999.00,9
  35A319940923,    32,  1,     14,     14,2,19941004,0444, -0.0700, 166.4200, -999,   1011.2,-999.0000,-999.0000,9,    1.780,2,     77.4,2,  -999.00,9,  -999.00,9,  -999.00,9,  -999.00,9,  -999.00,9,-999,9,   -999.0,9,   -999.0,9,  -999.00,9