BOTTLE,20120829IOSDFOJC
EXPOCODE,STNNBR,CASTNO,SAMPNO,BTLNBR,BTLNBR_FLAG_W,DATE,TIME,LATITUDE,LONGITUDE,DEPTH,CTDPRS,CTDTMP,CTDSAL,CTDSAL_FLAG_W,CTDOXY,CTDOXY_FLAG_W,OXYGEN,OXYGEN_FLAG_W,NITRAT,NITRAT_FLAG_W,NO2+NO3,NO2+NO3_FLAG_W,NITRIT,NITRIT_FLAG_W,PHSPHT,PHSPHT_FLAG_W,SILCAT,SILCAT_FLAG_W,NH4,NH4_FLAG_W,TCARBN,TCARBN_FLAG_W,ALKALI,ALKALI_FLAG_W,DOC,DOC_FLAG_W
,,,,,,,,,,METERS,DBARS,,,,ML/L,,UMOL/KG,,UMOL/KG,,UMOL/KG,,UMOL/KG,,UMOL/KG,,UMOL/KG,,UMOL/KG,,UMOL/KG,,UMOL/KG,,UMOL/KG,
  35A319940923,   110,  1,      1,      1,2,19941024,0453, -0.2100,-149.3600, -999,      2.0,  27.6920,  35.2490,2, -999.000,9,   -999.0,9,     3.36,2,     3.74,2,     0.38,2,     0.40,2,  -999.00,9,-999,9,   2000.0,2,   2309.0,2,  -999.00,9
  35A319940923,   110,  1,      2,      2,2,19941024,0453, -0.2100,-149.3600, -999,     20.1,  27.6880,  35.2480,2, -999.000,9,   -999.0,9,     3.35,2,     3.73,2,     0.38,2,     0.41,2,  -999.00,9,-999,9,   2001.0,2,   2309.0,2,  -999.00,9
  35A319940923,   110,  1,      3,      3,2,19941024,0453, -0.2100,-149.3600, -999,     30.2,  27.5980,  35.2430,2, -999.000,9,   -999.0,9,     3.34,2,     3.75,2,     0.41,2,     0.41,2,  -999.00,9,-999,9,   2001.0,2,   2309.0,2,  -999.00,9
  35A319940923,   110,  1,      4,      4,2,19941024,0453, -0.2100,-149.3600, -999,     39.2,  27.5790,  35.2410,2, -999.000,9,   -999.0,9,     3.34,2,     3.75,2,     0.41,2,     0.41,2,  -999.00,9,-999,9,   2000.0,2,   2309.0,2,  -999.00,9
  35A319940923,   110,  1,      5,      5,2,19941024,0453, -0.2100,-149.3600, -999,     60.4,  27.5590,  35.2400,2, -999.000,9,   -999.0,9,     3.34,2,     3.78,2,     0.44,2,     0.42,2,  -999.00,9,-999,9,   2001.0,2,   2309.0,2,  -999.00,9
  35A319940923,   110,  1,      6,      6,2,19941024,0453, -0.2100,-149.3600, -999,     70.4,  27.5000,  35.2250,2, -999.000,9,   -999.0,9,     3.46,2,     3.95,2,     0.49,2,     0.43,2,  -999.00,9,-999,9,   2002.0,2,   2308.0,2,  -999.00,9
  35A319940923,   110,  1,      7,      7,2,19941024,0453, -0.2100,-149.3600, -999,     80.5,  26.8400,  35.0590,2, -999.000,9,   -999.0,9,     4.37,2,     5.49,2,     1.12,2,     0.54,2,  -999.00,9,-999,9,   2008.0,2,   2292.0,2,  -999.00,9
  35A319940923,   110,  1,      8,      8,2,19941024,0453, -0.2100,-149.3600, -999,    101.6,  25.8610,  34.9900,2, -999.000,9,   -999.0,9,     6.42,2,     6.90,2,     0.48,2,     0.60,2,  -999.00,9,-999,9,   2021.0,2,   2291.0,2,  -999.00,9
  35A319940923,   110,  1,      9,      9,2,19941024,0453, -0.2100,-149.3600, -999,    121.8,  25.5410,  35.5190,2, -999.000,9,   -999.0,9,     8.89,2,     8.94,2,     0.05,2,     0.77,2,  -999.00,9,-999,9,   2057.0,2,   2326.0,2,  -999.00,9
  35A319940923,   110,  1,     10,     10,2,19941024,0453, -0.2100,-149.3600, -999,    140.9,  23.8970,  35.5030,2, -999.000,9,   -999.0,9,    10.99,2,    11.02,2,     0.03,2,     0.89,2,  -999.00,9,-999,9,   2080.0,2,   2324.0,2,  -999.00,9
  35A319940923,   110,  1,     11,     11,2,19941024,0453, -0.2100,-149.3600, -999,    150.9,  19.0060,  35.3510,2, -999.000,9,   -999.0,9,    12.64,2,    12.69,2,     0.05,2,     1.00,2,  -999.00,9,-999,9,   -999.0,9,   -999.0,9,  -999.00,9
  35A319940923,   110,  1,     12,     12,2,19941024,0453, -0.2100,-149.3600, -999,    160.0,  16.1310,  35.0720,2, -999.000,9,   -999.0,9,    15.57,2,    15.59,2,     0.02,2,     1.23,2,  -999.00,9,-999,9,   2127.0,2,   2308.0,2,  -999.00,9
  35A319940923,   110,  1,     13,     13,2,19941024,0453, -0.2100,-149.3600, -999,    180.1,  15.0280,  35.0730,2, -999.000,9,   -999.0,9,    17.28,2,    17.29,2,     0.01,2,     1.36,2,  -999.00,9,-999,9,   -999.0,9,   -999.0,9,  -999.00,9
  35A319940923,   110,  1,     14,     14,2,19941024,0453, -0.2100,-149.3600, -999,    200.3,  13.6550,  34.9180,2, -999.000,9,   -999.0,9,    19.48,2,    19.49,2,     0.01,2,     1.51,2,  -999.00,9,-999,9,   2147.0,2,   2303.0,2,  -999.00,9
  35A319940923,   111,  1,      1,      1,2,19941024,0852, -0.2000,-149.3500, -999,      3.0,  27.6150,  35.2320,2, -999.000,9,   -999.0,9,     2.95,2,     3.28,2,     0.33,2,     0.45,2,  -999.00,9,-999,9,   -999.0,9,   -999.0,9,  -999.00,9
  35A319940923,   111,  1,      2,      2,2,19941024,0852, -0.2000,-149.3500, -999,     20.1,  27.6250,  35.2310,2, -999.000,9,   -999.0,9,     2.93,2,     3.26,2,     0.34,2,     0.47,2,  -999.00,9,-999,9,   -999.0,9,   -999.0,9,  -999.00,9
  35A319940923,   111,  1,      3,      3,2,19941024,0852, -0.2000,-149.3500, -999,     29.2,  27.6360,  35.2310,2, -999.000,9,   -999.0,9,     2.91,2,     3.24,2,     0.33,2,     0.45,2,  -999.00,9,-999,9,   -999.0,9,   -999.0,9,  -999.00,9
  35A319940923,   111,  1,      4,      4,2,19941024,0852, -0.2000,-149.3500, -999,     39.2,  27.6190,  35.2310,2, -999.000,9,   -999.0,9,     2.85,2,     3.19,2,     0.34,2,     0.45,2,  -999.00,9,-999,9,   -999.0,9,   -999.0,9,  -999.00,9
  35A319940923,   111,  1,      5,      5,2,19941024,0852, -0.2000,-149.3500, -999,     49.3,  27.6110,  35.2310,2, -999.000,9,   -999.0,9,     2.91,2,     3.26,2,     0.35,2,     0.45,2,  -999.00,9,-999,9,   -999.0,9,   -999.0,9,  -999.00,9
  35A319940923,   111,  1,      6,      6,2,19941024,0852, -0.2000,-149.3500, -999,     59.4,  27.5710,  35.2340,2, -999.000,9,   -999.0,9,     2.96,2,     3.38,2,     0.42,2,     0.46,2,  -999.00,9,-999,9,   -999.0,9,   -999.0,9,  -999.00,9
  35A319940923,   111,  1,      7,      7,2,19941024,0852, -0.2000,-149.3500, -999,     70.4,  27.5100,  35.2190,2, -999.000,9,   -999.0,9,     3.07,2,     3.57,2,     0.50,2,     0.47,2,  -999.00,9,-999,9,   -999.0,9,   -999.0,9,  -999.00,9
  35A319940923,   111,  1,      8,      8,2,19941024,0852, -0.2000,-149.3500, -999,     80.5,  27.1110,  35.0980,2, -999.000,9,   -999.0,9,     3.69,2,     4.56,2,     0.88,2,     0.55,2,  -999.00,9,-999,9,   -999.0,9,   -999.0,9,  -999.00,9
  35A319940923,   111,  1,      9,      9,2,19941024,0852, -0.2000,-149.3500, -999,    100.6,  26.1430,  35.0040,2, -999.000,9,   -999.0,9,     4.77,2,     6.03,2,     1.26,2,     0.63,2,  -999.00,9,-999,9,   -999.0,9,   -999.0,9,  -999.00,9
  35A319940923,   111,  1,     10,     10,2,19941024,0852, -0.2000,-149.3500, -999,    119.7,  25.5680,  35.4150,2, -999.000,9,   -999.0,9,     8.23,2,     8.28,2,     0.05,2,     0.79,2,  -999.00,9,-999,9,   -999.0,9,   -999.0,9,  -999.00,9
  35A319940923,   111,  1,     11,     11,2,19941024,0852, -0.2000,-149.3500, -999,    140.9,  24.0560,  35.5060,2, -999.000,9,   -999.0,9,    10.12,2,    10.16,2,     0.04,2,     0.91,2,  -999.00,9,-999,9,   -999.0,9,   -999.0,9,  -999.00,9
  35A319940923,   111,  1,     12,     12,2,19941024,0852, -0.2000,-149.3500, -999,    150.9,  19.2300,  35.3460,2, -999.000,9,   -999.0,9,    13.81,2,    13.83,2,     0.02,2,     1.15,2,  -999.00,9,-999,9,   -999.0,9,   -999.0,9,  -999.00,9
  35A319940923,   111,  1,     13,     13,2,19941024,0852, -0.2000,-149.3500, -999,    161.0,  17.2410,  35.1550,2, -999.000,9,   -999.0,9,    15.61,2,    15.63,2,     0.02,2,     1.25,2,  -999.00,9,-999,9,   -999.0,9,   -999.0,9,  -999.00,9
  35A319940923,   111,  1,     14,     14,2,19941024,0852, -0.2000,-149.3500, -999,    201.3,  13.5730,  34.9110,2, -999.000,9,   -999.0,9,    17.51,2,    17.53,2,     0.02,2,     1.55,2,  -999.00,9,-999,9,   -999.0,9,   -999.0,9,  -999.00,9
  35A319940923,   112,  1,      1,      1,2,19941024,1306, -0.2200,-149.3500, -999,      2.0,  27.6040,  35.2310,2,    4.377,2,    190.9,2,     3.36,2,     3.70,2,     0.34,2,     0.43,2,     0.10,2,0,2,   -999.0,9,   -999.0,9,  -999.00,9
  35A319940923,   112,  1,      2,      2,2,19941024,1306, -0.2200,-149.3500, -999,      9.1,  27.6110,  35.2300,2,    4.387,2,    191.3,2,     3.28,2,     3.61,2,     0.34,2,     0.42,2,     0.06,2,0.17,2,   -999.0,9,   -999.0,9,  -999.00,9
  35A319940923,   112,  1,      3,      3,2,19941024,1306, -0.2200,-149.3500, -999,     18.1,  27.6130,  35.2300,2,    4.396,2,    191.7,2,     3.25,2,     3.59,2,     0.34,2,     0.43,2,     0.08,2,0.03,2,   -999.0,9,   -999.0,9,  -999.00,9
  35A319940923,   112,  1,      4,      4,2,19941024,1306, -0.2200,-149.3500, -999,     30.2,  27.6160,  35.2290,2,    4.361,2,    190.2,2,     3.20,2,     3.54,2,     0.34,2,     0.43,2,     0.08,2,0.04,2,   -999.0,9,   -999.0,9,  -999.00,9
  35A319940923,   112,  1,      5,      5,2,19941024,1306, -0.2200,-149.3500, -999,     39.2,  27.6190,  35.2290,2,    4.322,2,    188.5,2,     3.16,2,     3.50,2,     0.34,2,     0.44,2,     0.07,2,0.14,2,   -999.0,9,   -999.0,9,  -999.00,9
  35A319940923,   112,  1,      6,      6,2,19941024,1306, -0.2200,-149.3500, -999,     49.3,  27.6160,  35.2290,2,    4.348,2,    189.6,2,     3.12,2,     3.47,2,     0.35,2,     0.43,2,     0.08,2,0.05,2,   -999.0,9,   -999.0,9,  -999.00,9
  35A319940923,   112,  1,      7,      7,2,19941024,1306, -0.2200,-149.3500, -999,     60.4,  27.6080,  35.2290,2,    4.341,2,    189.3,2,     3.12,2,     3.48,2,     0.36,2,     0.44,2,     0.07,2,0.09,2,   -999.0,9,   -999.0,9,  -999.00,9
  35A319940923,   112,  1,      8,      8,2,19941024,1306, -0.2200,-149.3500, -999,     69.4,  27.5700,  35.2310,2,    4.265,2,    186.0,2,     3.15,2,     3.58,2,     0.43,2,     0.46,2,     0.08,2,0.17,2,   -999.0,9,   -999.0,9,  -999.00,9
  35A319940923,   112,  1,      9,      9,2,19941024,1306, -0.2200,-149.3500, -999,     79.5,  27.1590,  35.1160,2,    4.148,2,    180.9,2,     3.54,2,     4.17,2,     0.63,2,     0.50,2,     0.06,2,0.46,2,   -999.0,9,   -999.0,9,  -999.00,9
  35A319940923,   112,  1,     10,     10,2,19941024,1306, -0.2200,-149.3500, -999,    103.6,  25.9010,  35.0010,2,    3.739,2,    163.0,2,     5.40,2,     6.57,2,     1.17,2,     0.62,2,     0.03,2,0.01,2,   -999.0,9,   -999.0,9,  -999.00,9
  35A319940923,   112,  1,     11,     11,2,19941024,1306, -0.2200,-149.3500, -999,    122.8,  25.4230,  35.4040,2,    2.962,2,    129.1,2,     9.00,2,     9.05,2,     0.05,2,     0.77,2,     0.03,2,0.16,2,   -999.0,9,   -999.0,9,  -999.00,9
  35A319940923,   113,  1,      1,      1,2,19941024,1654, -0.2200,-149.3000, -999,      2.0,  27.5750,  35.2060,2, -999.000,9,   -999.0,9,     2.79,2,     3.07,2,     0.28,2,     0.41,2,  -999.00,9,-999,9,   1998.0,2,   2310.0,2,  -999.00,9
  35A319940923,   113,  1,      2,      2,2,19941024,1654, -0.2200,-149.3000, -999,     20.1,  27.5690,  35.2040,2, -999.000,9,   -999.0,9,     2.70,2,     2.97,2,     0.27,2,     0.41,2,  -999.00,9,-999,9,   1997.0,2,   2310.0,2,  -999.00,9
  35A319940923,   113,  1,      3,      3,2,19941024,1654, -0.2200,-149.3000, -999,     31.2,  27.5700,  35.2040,2, -999.000,9,   -999.0,9,     2.68,2,     2.95,2,     0.27,2,     0.40,2,  -999.00,9,-999,9,   2001.0,2,   2312.0,2,  -999.00,9
  35A319940923,   113,  1,      4,      4,2,19941024,1654, -0.2200,-149.3000, -999,     39.2,  27.5630,  35.2040,2, -999.000,9,   -999.0,9,     2.70,2,     3.00,2,     0.30,2,     0.41,2,  -999.00,9,-999,9,   1999.0,2,   2310.0,2,  -999.00,9
  35A319940923,   113,  1,      5,      5,2,19941024,1654, -0.2200,-149.3000, -999,     60.4,  27.5550,  35.2040,2, -999.000,9,   -999.0,9,     2.71,2,     3.05,2,     0.34,2,     0.42,2,  -999.00,9,-999,9,   1998.0,2,   2311.0,2,  -999.00,9
  35A319940923,   113,  1,      6,      6,2,19941024,1654, -0.2200,-149.3000, -999,     70.4,  27.4020,  35.1780,2, -999.000,9,   -999.0,9,     2.93,2,     3.39,2,     0.47,2,     0.45,2,  -999.00,9,-999,9,   2004.0,2,   2308.0,2,  -999.00,9
  35A319940923,   113,  1,      7,      7,2,19941024,1654, -0.2200,-149.3000, -999,     79.5,  27.0470,  35.0900,2, -999.000,9,   -999.0,9,     3.26,2,     3.90,2,     0.64,2,     0.49,2,  -999.00,9,-999,9,   2006.0,2,   2303.0,2,  -999.00,9
  35A319940923,   113,  1,      8,      8,2,19941024,1654, -0.2200,-149.3000, -999,     99.6,  25.9310,  34.9990,2, -999.000,9,   -999.0,9,     5.27,2,     6.41,2,     1.14,2,     0.60,2,  -999.00,9,-999,9,   2020.0,2,   2297.0,2,  -999.00,9
  35A319940923,   113,  1,      9,      9,2,19941024,1654, -0.2200,-149.3000, -999,    119.7,  26.0560,  35.4820,2, -999.000,9,   -999.0,9,     7.67,2,     7.72,2,     0.05,2,     0.72,2,  -999.00,9,-999,9,   2047.0,2,   2328.0,2,  -999.00,9
  35A319940923,   113,  1,     10,     10,2,19941024,1654, -0.2200,-149.3000, -999,    140.9,  24.1130,  35.5370,2, -999.000,9,   -999.0,9,    10.09,2,    10.12,2,     0.04,2,     0.86,2,  -999.00,9,-999,9,   -999.0,9,   -999.0,9,  -999.00,9
  35A319940923,   113,  1,     11,     11,2,19941024,1654, -0.2200,-149.3000, -999,    160.0,  18.5010,  35.3240,2, -999.000,9,   -999.0,9,    14.85,2,    14.86,2,     0.01,2,     1.15,2,  -999.00,9,-999,9,   2121.0,2,   2319.0,2,  -999.00,9
  35A319940923,   113,  1,     12,     12,2,19941024,1654, -0.2200,-149.3000, -999,    181.1,  15.5840,  35.1330,2, -999.000,9,   -999.0,9,    17.75,2,    17.76,2,     0.01,2,     1.35,2,  -999.00,9,-999,9,   -999.0,9,   -999.0,9,  -999.00,9
  35A319940923,   113,  1,     13,     13,2,19941024,1654, -0.2200,-149.3000, -999,    200.3,  14.4020,  34.9780,2, -999.000,9,   -999.0,9,    21.25,2,    21.26,2,     0.01,2,     1.46,2,  -999.00,9,-999,9,   2147.0,2,   2305.0,2,  -999.00,9
  35A319940923,   113,  1,     14,     14,2,19941024,1654, -0.2200,-149.3000, -999,    251.6,  12.5900,  34.8900,2, -999.000,9,   -999.0,9,    26.95,2,    26.96,2,     0.01,2,     1.72,2,  -999.00,9,-999,9,   -999.0,9,   -999.0,9,  -999.00,9
  35A319940923,   113,  1,     15,     15,2,19941024,1654, -0.2200,-149.3000, -999,    302.0,  11.1290,  34.7910,2, -999.000,9,   -999.0,9,  -999.00,9,  -999.00,9,     0.01,2,     2.42,2,  -999.00,9,-999,9,   2238.0,2,   2299.0,2,  -999.00,9
  35A319940923,   114,  1,      1,      1,2,19941024,2029, -0.2500,-149.2900, -999,      2.0,  27.6550,  35.2060,2, -999.000,9,   -999.0,9,     4.03,2,     4.30,2,     0.27,2,     0.34,2,  -999.00,9,-999,9,   -999.0,9,   -999.0,9,  -999.00,9
  35A319940923,   114,  1,      2,      2,2,19941024,2029, -0.2500,-149.2900, -999,     20.1,  27.5880,  35.2040,2, -999.000,9,   -999.0,9,     3.92,2,     4.19,2,     0.27,2,     0.35,2,  -999.00,9,-999,9,   -999.0,9,   -999.0,9,  -999.00,9
  35A319940923,   114,  1,      3,      3,2,19941024,2029, -0.2500,-149.2900, -999,     30.2,  27.5780,  35.2040,2, -999.000,9,   -999.0,9,     3.75,2,     4.02,2,     0.27,2,     0.38,2,  -999.00,9,-999,9,   -999.0,9,   -999.0,9,  -999.00,9
  35A319940923,   114,  1,      4,      4,2,19941024,2029, -0.2500,-149.2900, -999,     40.2,  27.5720,  35.2060,2, -999.000,9,   -999.0,9,     3.59,2,     3.88,2,     0.29,2,     0.39,2,  -999.00,9,-999,9,   -999.0,9,   -999.0,9,  -999.00,9
  35A319940923,   114,  1,      5,      5,2,19941024,2029, -0.2500,-149.2900, -999,     61.4,  27.5480,  35.2060,2, -999.000,9,   -999.0,9,     3.54,2,     3.88,2,     0.34,2,     0.42,2,  -999.00,9,-999,9,   -999.0,9,   -999.0,9,  -999.00,9
  35A319940923,   114,  1,      6,      6,2,19941024,2029, -0.2500,-149.2900, -999,     69.4,  27.5180,  35.2010,2, -999.000,9,   -999.0,9,     3.46,2,     3.84,2,     0.38,2,     0.43,2,  -999.00,9,-999,9,   -999.0,9,   -999.0,9,  -999.00,9
  35A319940923,   114,  1,      7,      7,2,19941024,2029, -0.2500,-149.2900, -999,     79.5,  27.3970,  35.1720,2, -999.000,9,   -999.0,9,     3.49,2,     3.95,2,     0.47,2,     0.46,2,  -999.00,9,-999,9,   -999.0,9,   -999.0,9,  -999.00,9
  35A319940923,   114,  1,      8,      8,2,19941024,2029, -0.2500,-149.2900, -999,     98.6,  26.2140,  35.0080,2, -999.000,9,   -999.0,9,     4.99,2,     6.24,2,     1.25,2,     0.60,2,  -999.00,9,-999,9,   -999.0,9,   -999.0,9,  -999.00,9
  35A319940923,   114,  1,      9,      9,2,19941024,2029, -0.2500,-149.2900, -999,    120.7,  26.1860,  35.4960,2, -999.000,9,   -999.0,9,     8.67,2,     8.73,2,     0.06,2,     0.76,2,  -999.00,9,-999,9,   -999.0,9,   -999.0,9,  -999.00,9
  35A319940923,   114,  1,     10,     10,2,19941024,2029, -0.2500,-149.2900, -999,    140.9,  21.4940,  35.3200,2, -999.000,9,   -999.0,9,    11.86,2,    11.90,2,     0.04,2,     0.92,2,  -999.00,9,-999,9,   -999.0,9,   -999.0,9,  -999.00,9
  35A319940923,   114,  1,     11,     11,2,19941024,2029, -0.2500,-149.2900, -999,    161.0,  18.1860,  35.2770,2, -999.000,9,   -999.0,9,    15.15,2,    15.18,2,     0.03,2,     1.17,2,  -999.00,9,-999,9,   -999.0,9,   -999.0,9,  -999.00,9
  35A319940923,   114,  1,     12,     12,2,19941024,2029, -0.2500,-149.2900, -999,    200.3,  14.0350,  34.9470,2, -999.000,9,   -999.0,9,    18.26,2,    18.28,2,     0.02,2,     1.50,2,  -999.00,9,-999,9,   -999.0,9,   -999.0,9,  -999.00,9
  35A319940923,   114,  1,     13,     13,2,19941024,2029, -0.2500,-149.2900, -999,    302.0,  11.1930,  34.7950,2, -999.000,9,   -999.0,9,  -999.00,9,  -999.00,9,     0.03,2,     1.66,2,  -999.00,9,-999,9,   -999.0,9,   -999.0,9,  -999.00,9
  35A319940923,   115,  1,      1,      1,2,19941025,0103, -0.2600,-149.2800, -999,      2.0,  27.8820,  35.2010,2,    4.324,2,    188.6,2,     2.51,2,     2.74,2,     0.23,2,     0.38,2,  -999.00,9,0.17,2,   1997.0,2,   2309.0,2,  -999.00,9
  35A319940923,   115,  1,      2,      2,2,19941025,0103, -0.2600,-149.2800, -999,     19.1,  27.6130,  35.1940,2,    4.421,2,    192.8,2,     2.44,2,     2.68,2,     0.24,2,     0.38,2,  -999.00,9,0.21,2,   1997.0,2,   2308.0,2,  -999.00,9
  35A319940923,   115,  1,      3,      3,2,19941025,0103, -0.2600,-149.2800, -999,     28.2,  27.5910,  35.1950,2,    4.354,2,    189.9,2,     2.40,2,     2.64,2,     0.24,2,     0.42,2,  -999.00,9,0,2,   1997.0,2,   2308.0,2,  -999.00,9
  35A319940923,   115,  1,      4,      4,2,19941025,0103, -0.2600,-149.2800, -999,     39.2,  27.5800,  35.1960,2,    4.396,2,    191.7,2,     2.40,2,     2.66,2,     0.26,2,     0.38,2,  -999.00,9,0.12,2,   1998.0,2,   2310.0,2,  -999.00,9
  35A319940923,   115,  1,      5,      5,2,19941025,0103, -0.2600,-149.2800, -999,     59.4,  27.5540,  35.2000,2,    4.293,2,    187.2,2,     2.45,2,     2.78,2,     0.33,2,     0.40,2,  -999.00,9,0.27,2,   2000.0,2,   2308.0,2,  -999.00,9
  35A319940923,   115,  1,      6,      6,2,19941025,0103, -0.2600,-149.2800, -999,     70.4,  27.4700,  35.1870,2,    4.238,2,    184.8,2,     2.50,2,     2.90,2,     0.40,2,     0.46,2,  -999.00,9,0.35,2,   2000.0,2,   2306.0,2,  -999.00,9
  35A319940923,   115,  1,      7,      7,2,19941025,0103, -0.2600,-149.2800, -999,     79.5,  27.2540,  35.1410,2,    4.091,2,    178.4,2,     2.84,2,     3.50,2,     0.66,2,     0.54,2,  -999.00,9,0.47,2,   2004.0,2,   2302.0,2,  -999.00,9
  35A319940923,   115,  1,      8,      8,2,19941025,0103, -0.2600,-149.2800, -999,    103.6,  25.9360,  35.0060,2,    3.564,2,    155.4,2,     4.95,2,     5.85,2,     0.90,2,     0.67,2,  -999.00,9,0.1,2,   2017.0,2,   2291.0,2,  -999.00,9
  35A319940923,   115,  1,      9,      9,2,19941025,0103, -0.2600,-149.2800, -999,    121.8,  25.6870,  35.5560,2,    2.921,2,    127.3,2,     8.14,2,     8.18,2,     0.04,2,     0.77,2,  -999.00,9,0.06,2,   2056.0,2,   2328.0,2,  -999.00,9
  35A319940923,   115,  1,     10,     10,2,19941025,0103, -0.2600,-149.2800, -999,    138.9,  20.2790,  35.3910,2,    2.453,2,    106.8,2,    12.70,2,    12.72,2,     0.02,2,     1.04,2,  -999.00,9,0.12,2,   2100.0,2,   2322.0,2,  -999.00,9
  35A319940923,   115,  1,     11,     11,2,19941025,0103, -0.2600,-149.2800, -999,    158.0,  15.9920,  35.0490,2,    2.587,2,    112.5,2,    16.27,2,    16.29,2,     0.02,2,     1.34,2,  -999.00,9,0.23,2,   2129.0,2,   2308.0,2,  -999.00,9
  35A319940923,   115,  1,     12,     12,2,19941025,0103, -0.2600,-149.2800, -999,    199.3,  13.6580,  34.9260,2,    2.506,2,    108.9,2,    18.07,2,    18.09,2,     0.02,2,     1.54,2,  -999.00,9,0.12,2,   -999.0,9,   -999.0,9,  -999.00,9
  35A319940923,   115,  1,     13,     13,2,19941025,0103, -0.2600,-149.2800, -999,    302.0,  11.2750,  34.7990,2,    0.208,2,      9.0,2,    30.08,2,    30.09,2,     0.01,2,     2.44,2,  -999.00,9,0.33,2,   2238.0,2,   2298.0,2,  -999.00,9