BOTTLE,20120829IOSDFOJC
EXPOCODE,STNNBR,CASTNO,SAMPNO,BTLNBR,BTLNBR_FLAG_W,DATE,TIME,LATITUDE,LONGITUDE,DEPTH,CTDPRS,CTDTMP,CTDSAL,CTDSAL_FLAG_W,CTDOXY,CTDOXY_FLAG_W,OXYGEN,OXYGEN_FLAG_W,NITRAT,NITRAT_FLAG_W,NO2+NO3,NO2+NO3_FLAG_W,NITRIT,NITRIT_FLAG_W,PHSPHT,PHSPHT_FLAG_W,SILCAT,SILCAT_FLAG_W,NH4,NH4_FLAG_W,TCARBN,TCARBN_FLAG_W,ALKALI,ALKALI_FLAG_W,DOC,DOC_FLAG_W
,,,,,,,,,,METERS,DBARS,,,,ML/L,,UMOL/KG,,UMOL/KG,,UMOL/KG,,UMOL/KG,,UMOL/KG,,UMOL/KG,,UMOL/KG,,UMOL/KG,,UMOL/KG,,UMOL/KG,
  35A319940923,    11,  1,      1,      1,2,19940927,2022, -5.0000, 165.0000, -999,      2.0,  29.3240,  34.1220,2, -999.000,9,   -999.0,9,     0.00,2,     0.00,2,     0.00,2,     0.07,2,     0.02,2,0.1,2,   -999.0,9,   -999.0,9,    66.76,2
  35A319940923,    11,  1,      2,      2,2,19940927,2022, -5.0000, 165.0000, -999,     19.1,  29.3540,  34.1390,2, -999.000,9,   -999.0,9,     0.00,2,     0.00,2,     0.00,2,     0.09,2,     0.03,2,0.03,2,   1889.0,2,   2240.0,2,  -999.00,9
  35A319940923,    11,  1,      3,      3,2,19940927,2022, -5.0000, 165.0000, -999,     39.2,  29.9060,  34.8470,2, -999.000,9,   -999.0,9,     0.00,2,     0.00,2,     0.00,2,     0.13,2,     0.02,2,0.06,2,   1935.0,2,   2294.0,2,    72.36,2
  35A319940923,    11,  1,      4,      4,2,19940927,2022, -5.0000, 165.0000, -999,     49.3,  29.7850,  35.3080,2, -999.000,9,   -999.0,9,     0.10,2,     0.16,2,     0.06,2,     0.21,2,     0.01,2,0.06,2,   1975.0,2,   2321.0,2,    71.51,2
  35A319940923,    11,  1,      5,      5,2,19940927,2022, -5.0000, 165.0000, -999,     59.4,  29.1430,  35.3220,2, -999.000,9,   -999.0,9,     1.24,2,     1.82,2,     0.58,2,     0.31,2,     0.03,2,0.05,2,   1991.0,2,   2320.0,2,    66.84,2
  35A319940923,    11,  1,      6,      6,2,19940927,2022, -5.0000, 165.0000, -999,     70.4,  29.0020,  35.3570,2, -999.000,9,   -999.0,9,     1.57,2,     2.29,2,     0.72,2,     0.35,2,     0.03,2,0.03,2,   1994.0,2,   2327.0,2,    65.05,2
  35A319940923,    11,  1,      7,      7,2,19940927,2022, -5.0000, 165.0000, -999,     78.5,  28.1990,  35.3710,2, -999.000,9,   -999.0,9,     5.13,2,     5.26,2,     0.13,2,     0.48,2,     0.03,2,0.63,2,   2013.0,2,   2324.0,2,    66.56,2
  35A319940923,    11,  1,      8,      8,2,19940927,2022, -5.0000, 165.0000, -999,     89.6,  27.8020,  35.3030,2, -999.000,9,   -999.0,9,     6.05,2,     6.16,2,     0.11,2,     0.53,2,     0.02,2,0.27,2,   -999.0,9,   -999.0,9,    64.74,2
  35A319940923,    11,  1,      9,      9,2,19940927,2022, -5.0000, 165.0000, -999,     99.6,  27.2940,  35.2930,2, -999.000,9,   -999.0,9,     6.49,2,     6.93,2,     0.44,2,     0.62,2,     0.01,2,-999,9,   2023.0,2,   2316.0,2,    62.18,2
  35A319940923,    11,  1,     10,     10,2,19940927,2022, -5.0000, 165.0000, -999,    119.7,  27.0410,  35.4470,2, -999.000,9,   -999.0,9,     7.46,2,     7.60,2,     0.14,2,     0.63,2,     0.01,2,0.21,2,   2035.0,2,   2327.0,2,    57.59,2
  35A319940923,    11,  1,     11,     11,2,19940927,2022, -5.0000, 165.0000, -999,    138.9,  26.2830,  35.5450,2, -999.000,9,   -999.0,9,     7.95,2,     7.99,2,     0.04,2,     0.70,2,     0.01,2,0.26,2,   2045.0,2,   2327.0,2,    60.26,2
  35A319940923,    11,  1,     12,     12,2,19940927,2022, -5.0000, 165.0000, -999,    160.0,  24.3150,  35.9460,2, -999.000,9,   -999.0,9,     8.99,2,     9.03,2,     0.04,2,     0.82,2,  -999.00,9,0.45,2,   2086.0,2,   2360.0,2,    56.60,2
  35A319940923,    11,  1,     13,     13,2,19940927,2022, -5.0000, 165.0000, -999,    180.1,  20.1300,  35.7380,2, -999.000,9,   -999.0,9,    12.78,2,    12.79,2,     0.01,2,     1.13,2,     0.00,2,0.04,2,   -999.0,9,   -999.0,9,    56.63,2
  35A319940923,    12,  1,      1,      1,2,19940928,0504, -4.0000, 165.0000, -999,      2.0,  29.4940,  34.2430,2,    4.323,2,    188.8,2,     0.00,2,     0.00,2,     0.00,2,     0.06,2,     0.02,2,-999,9,   1895.0,2,   2249.0,2,    68.86,2
  35A319940923,    12,  1,      2,      2,2,19940928,0504, -4.0000, 165.0000, -999,     19.1,  29.5080,  34.2420,2,    4.321,2,    188.7,2,     0.00,2,     0.00,2,     0.00,2,     0.07,2,     0.02,2,-999,9,   1890.0,2,   2245.0,2,  -999.00,9
  35A319940923,    12,  1,      3,      3,2,19940928,0504, -4.0000, 165.0000, -999,     40.2,  29.6130,  34.4900,2,    4.509,2,    196.9,2,     0.00,2,     0.00,2,     0.00,2,     0.09,2,     0.01,2,-999,9,   1919.0,2,   -999.0,9,  -999.00,9
  35A319940923,    12,  1,      4,      4,2,19940928,0504, -4.0000, 165.0000, -999,     50.3,  30.0310,  35.3260,2,    4.402,2,    192.1,2,     0.01,2,     0.01,2,     0.00,2,     0.16,2,     0.01,2,-999,9,   1962.0,2,   2320.0,2,    68.48,2
  35A319940923,    12,  1,      5,      5,2,19940928,0504, -4.0000, 165.0000, -999,     59.4,  29.7900,  35.3520,2,    4.460,2,    194.6,2,     0.01,2,     0.01,2,     0.00,2,     0.19,2,     0.02,2,-999,9,   1969.0,2,   2323.0,2,    66.82,2
  35A319940923,    12,  1,      6,      6,2,19940928,0504, -4.0000, 165.0000, -999,     70.4,  28.5810,  35.3800,2,    3.884,2,    169.4,2,     2.94,2,     4.17,2,     1.23,2,     0.38,2,     0.03,2,-999,9,   2002.0,2,   2320.0,2,    66.62,2
  35A319940923,    12,  1,      7,      7,2,19940928,0504, -4.0000, 165.0000, -999,     79.5,  27.4010,  35.2890,2,    3.609,2,    157.4,2,     5.52,2,     6.31,2,     0.79,2,     0.49,2,     0.02,2,-999,9,   2017.0,2,   2312.0,2,    61.71,2
  35A319940923,    12,  1,      8,      8,2,19940928,0504, -4.0000, 165.0000, -999,     90.6,  27.3300,  35.2770,2,    3.546,2,    154.6,2,     5.88,2,     6.48,2,     0.60,2,     0.51,2,     0.02,2,-999,9,   2021.0,2,   2315.0,2,  -999.00,9
  35A319940923,    12,  1,      9,      9,2,19940928,0504, -4.0000, 165.0000, -999,     99.6,  27.1140,  35.2550,2,    3.456,2,    150.7,2,     6.50,2,     6.77,2,     0.27,2,     0.53,2,     0.02,2,-999,9,   2022.0,2,   2306.0,2,    67.72,2
  35A319940923,    12,  1,     10,     10,2,19940928,0504, -4.0000, 165.0000, -999,    120.8,  26.6280,  35.2330,2,    3.310,2,    144.3,2,     7.12,2,     7.21,2,     0.09,2,     0.55,2,     0.02,2,-999,9,   2029.0,2,   2313.0,2,    59.56,2
  35A319940923,    12,  1,     11,     11,2,19940928,0504, -4.0000, 165.0000, -999,    140.9,  25.7390,  35.2430,2,    3.045,2,    132.7,2,     8.34,2,     8.57,2,     0.23,2,     0.66,2,     0.02,2,-999,9,   -999.0,9,   -999.0,9,    64.38,2
  35A319940923,    12,  1,     12,     12,2,19940928,0504, -4.0000, 165.0000, -999,    160.0,  24.6130,  35.8650,2,    2.813,2,    122.5,2,     9.61,2,     9.63,2,     0.03,2,     0.78,2,     0.01,2,-999,9,   2096.0,2,   2358.0,2,    53.97,2
  35A319940923,    12,  1,     13,     13,2,19940928,0504, -4.0000, 165.0000, -999,    181.1,  21.0020,  35.7630,2,    2.427,2,    105.6,2,    13.56,2,    13.58,2,     0.01,2,     1.11,2,  -999.00,9,-999,9,   -999.0,9,   -999.0,9,    54.25,2
  35A319940923,    12,  1,     14,     14,2,19940928,0504, -4.0000, 165.0000, -999,   1010.3,   4.5200,  34.5500,2, -999.000,9,   -999.0,9,  -999.00,9,  -999.00,9,  -999.00,9,  -999.00,9,  -999.00,9,-999,9,   2281.0,2,   2346.0,2,  -999.00,9
  35A319940923,    13,  1,      1,      1,2,19940928,1131, -3.0000, 165.0000, -999,      4.0,  29.1910,  33.9770,2, -999.000,9,   -999.0,9,     0.00,2,     0.00,2,     0.00,2,     0.03,2,     0.02,2,0.14,2,   1889.0,2,   2227.0,2,    73.66,2
  35A319940923,    13,  1,      2,      2,2,19940928,1131, -3.0000, 165.0000, -999,     21.1,  29.1990,  33.9760,2, -999.000,9,   -999.0,9,     0.00,2,     0.00,2,     0.00,2,     0.03,2,     0.03,2,0.02,2,   1885.0,2,   2230.0,2,  -999.00,9
  35A319940923,    13,  1,      3,      3,2,19940928,1131, -3.0000, 165.0000, -999,     39.2,  29.1980,  33.9760,2, -999.000,9,   -999.0,9,     0.00,2,     0.00,2,     0.00,2,     0.03,2,     0.02,2,0.02,2,   1882.0,2,   2224.0,2,    72.77,2
  35A319940923,    13,  1,      4,      4,2,19940928,1131, -3.0000, 165.0000, -999,     49.3,  29.1810,  33.9780,2, -999.000,9,   -999.0,9,     0.00,2,     0.00,2,     0.00,2,     0.03,2,     0.02,2,0.02,2,   -999.0,9,   -999.0,9,    68.37,2
  35A319940923,    13,  1,      5,      5,2,19940928,1131, -3.0000, 165.0000, -999,     59.4,  29.1100,  33.9890,2, -999.000,9,   -999.0,9,     0.00,2,     0.00,2,     0.00,2,     0.03,2,     0.03,2,0.03,2,   1888.0,2,   2229.0,2,    67.92,2
  35A319940923,    13,  1,      6,      6,2,19940928,1131, -3.0000, 165.0000, -999,     70.4,  28.5850,  34.1500,2, -999.000,9,   -999.0,9,     0.01,2,     0.01,2,     0.00,2,     0.05,2,     0.08,2,0.02,2,   -999.0,9,   -999.0,9,    67.47,2
  35A319940923,    13,  1,      7,      7,2,19940928,1131, -3.0000, 165.0000, -999,     80.5,  28.1400,  34.2630,2, -999.000,9,   -999.0,9,     1.04,2,     1.08,2,     0.04,2,     0.11,2,     0.17,2,0.05,2,   1928.0,2,   2255.0,2,    65.96,2
  35A319940923,    13,  1,      8,      8,2,19940928,1131, -3.0000, 165.0000, -999,     88.5,  27.2120,  34.5130,2, -999.000,9,   -999.0,9,     2.85,2,     2.97,2,     0.12,2,     0.20,2,     0.10,2,0.05,2,   -999.0,9,   -999.0,9,    63.96,2
  35A319940923,    13,  1,      9,      9,2,19940928,1131, -3.0000, 165.0000, -999,     99.6,  26.6270,  34.6810,2, -999.000,9,   -999.0,9,     4.88,2,     5.20,2,     0.32,2,     0.35,2,     0.07,2,0.07,2,   1985.0,2,   2280.0,2,    59.34,2
  35A319940923,    13,  1,     10,     10,2,19940928,1131, -3.0000, 165.0000, -999,    120.7,  25.5680,  35.3410,2, -999.000,9,   -999.0,9,     8.48,2,     8.53,2,     0.05,2,     0.61,2,     0.04,2,0.04,2,   -999.0,9,   -999.0,9,    56.64,2
  35A319940923,    13,  1,     11,     11,2,19940928,1131, -3.0000, 165.0000, -999,    141.9,  23.1740,  35.5560,2, -999.000,9,   -999.0,9,     9.85,2,     9.87,2,     0.02,2,     0.74,2,     0.01,2,0.1,2,   2073.0,2,   2332.0,2,    55.91,2
  35A319940923,    13,  1,     12,     12,2,19940928,1131, -3.0000, 165.0000, -999,    160.0,  22.0610,  35.6020,2, -999.000,9,   -999.0,9,    11.17,2,    11.19,2,     0.02,2,     0.86,2,     0.01,2,0.17,2,   -999.0,9,   -999.0,9,    54.77,2
  35A319940923,    13,  1,     13,     13,2,19940928,1131, -3.0000, 165.0000, -999,    180.1,  18.6430,  35.5210,2, -999.000,9,   -999.0,9,    14.76,2,    14.77,2,     0.01,2,     1.16,2,  -999.00,9,0.22,2,   2131.0,2,   2333.0,2,    54.03,2
  35A319940923,    13,  1,     14,     14,2,19940928,1131, -3.0000, 165.0000, -999,    199.3,-999.0000,  35.4660,2, -999.000,9,   -999.0,9,    15.72,2,    15.73,2,     0.01,2,     1.26,2,  -999.00,9,-999,9,   2146.0,2,   2332.0,2,  -999.00,9
  35A319940923,    13,  1,     15,     15,2,19940928,1131, -3.0000, 165.0000, -999,    302.0,  10.7800,  34.7900,2, -999.000,9,   -999.0,9,  -999.00,9,  -999.00,9,  -999.00,9,  -999.00,9,  -999.00,9,-999,9,   2173.0,2,   2301.0,2,  -999.00,9
  35A319940923,    13,  1,     16,     16,2,19940928,1131, -3.0000, 165.0000, -999,   1011.3,   4.6600,  34.5400,2, -999.000,9,   -999.0,9,  -999.00,9,  -999.00,9,  -999.00,9,  -999.00,9,  -999.00,9,-999,9,   2272.0,2,   2340.0,2,  -999.00,9
  35A319940923,    14,  1,      1,      1,2,19940928,1818, -2.0000, 165.0000, -999,      2.0,  29.0900,  33.9620,2, -999.000,9,   -999.0,9,     0.00,2,     0.00,2,     0.00,2,     0.06,2,     0.01,2,-999,9,   1887.0,2,   2228.0,2,    62.15,2
  35A319940923,    14,  1,      2,      2,2,19940928,1818, -2.0000, 165.0000, -999,     20.1,  29.0970,  33.9640,2, -999.000,9,   -999.0,9,     0.00,2,     0.00,2,     0.00,2,     0.06,2,     0.01,2,-999,9,   1883.0,2,   2227.0,2,  -999.00,9
  35A319940923,    14,  1,      3,      3,2,19940928,1818, -2.0000, 165.0000, -999,     41.2,  28.9370,  34.0120,2, -999.000,9,   -999.0,9,     0.00,2,     0.00,2,     0.00,2,     0.06,2,     0.03,2,-999,9,   1889.0,2,   2229.0,2,    61.38,2
  35A319940923,    14,  1,      4,      4,2,19940928,1818, -2.0000, 165.0000, -999,     51.3,  28.2910,  34.2100,2, -999.000,9,   -999.0,9,     0.17,2,     0.18,2,     0.02,2,     0.11,2,     0.12,2,-999,9,   1906.0,2,   2242.0,2,    61.26,2
  35A319940923,    14,  1,      5,      5,2,19940928,1818, -2.0000, 165.0000, -999,     57.3,  28.0810,  34.2770,2, -999.000,9,   -999.0,9,     0.39,2,     0.42,2,     0.03,2,     0.11,2,     0.11,2,-999,9,   1915.0,2,   2247.0,2,    61.01,2
  35A319940923,    14,  1,      6,      6,2,19940928,1818, -2.0000, 165.0000, -999,     69.4,  27.7600,  34.3740,2, -999.000,9,   -999.0,9,     1.00,2,     1.06,2,     0.07,2,     0.15,2,     0.11,2,-999,9,   1928.0,2,   2250.0,2,    59.52,2
  35A319940923,    14,  1,      7,      7,2,19940928,1818, -2.0000, 165.0000, -999,     80.5,  27.3550,  34.4510,2, -999.000,9,   -999.0,9,     2.44,2,     2.58,2,     0.14,2,     0.22,2,     0.04,2,-999,9,   1947.0,2,   2257.0,2,    59.23,2
  35A319940923,    14,  1,      8,      8,2,19940928,1818, -2.0000, 165.0000, -999,     89.5,  27.1490,  34.5220,2, -999.000,9,   -999.0,9,     3.80,2,     4.11,2,     0.31,2,     0.32,2,  -999.00,9,-999,9,   1965.0,2,   2267.0,2,    56.08,2
  35A319940923,    14,  1,      9,      9,2,19940928,1818, -2.0000, 165.0000, -999,    100.6,  26.5580,  34.7850,2, -999.000,9,   -999.0,9,     4.96,2,     5.42,2,     0.46,2,     0.43,2,     0.02,2,-999,9,   1990.0,2,   2280.0,2,    56.72,2
  35A319940923,    14,  1,     10,     10,2,19940928,1818, -2.0000, 165.0000, -999,    120.7,  23.7500,  35.1670,2, -999.000,9,   -999.0,9,     8.83,2,     8.95,2,     0.12,2,     0.67,2,     0.02,2,-999,9,   2044.0,2,   2300.0,2,    50.65,2
  35A319940923,    14,  1,     11,     11,2,19940928,1818, -2.0000, 165.0000, -999,    140.9,  21.9750,  35.5040,2, -999.000,9,   -999.0,9,    10.08,2,    10.11,2,     0.03,2,     0.79,2,     0.01,2,-999,9,   2077.0,2,   2324.0,2,    48.25,2
  35A319940923,    14,  1,     12,     12,2,19940928,1818, -2.0000, 165.0000, -999,    161.0,  19.1480,  35.4720,2, -999.000,9,   -999.0,9,    11.63,2,    11.65,2,     0.02,2,     0.93,2,     0.01,2,-999,9,   2106.0,2,   2327.0,2,    49.02,2
  35A319940923,    15,  1,      1,      1,2,19940929,0152, -1.0000, 164.5900, -999,      3.0,  29.0600,  34.0140,2, -999.000,9,   -999.0,9,     0.00,2,     0.02,2,     0.01,2,     0.04,2,     0.03,2,0.05,2,   1887.0,2,   2234.0,2,    68.85,2
  35A319940923,    15,  1,      2,      2,2,19940929,0152, -1.0000, 164.5900, -999,     19.1,  28.9360,  34.0110,2, -999.000,9,   -999.0,9,     0.00,2,     0.01,2,     0.00,2,     0.06,2,     0.03,2,0.03,2,   1885.0,2,   2230.0,2,  -999.00,9
  35A319940923,    15,  1,      3,      3,2,19940929,0152, -1.0000, 164.5900, -999,     39.2,  28.4980,  34.1140,2, -999.000,9,   -999.0,9,     0.00,2,     0.01,2,     0.01,2,     0.06,2,     0.10,2,0.05,2,   1899.0,2,   2240.0,2,    67.58,2
  35A319940923,    15,  1,      4,      4,2,19940929,0152, -1.0000, 164.5900, -999,     49.3,  28.2980,  34.1080,2, -999.000,9,   -999.0,9,     0.00,2,     0.01,2,     0.00,2,     0.06,2,     0.10,2,0.13,2,   1895.0,2,   2233.0,2,    64.48,2
  35A319940923,    15,  1,      5,      5,2,19940929,0152, -1.0000, 164.5900, -999,     59.4,  28.2020,  34.0930,2, -999.000,9,   -999.0,9,     0.00,2,     0.01,2,     0.00,2,     0.06,2,     0.06,2,0.05,2,   1898.0,2,   2234.0,2,    68.51,2
  35A319940923,    15,  1,      6,      6,2,19940929,0152, -1.0000, 164.5900, -999,     68.4,  28.1740,  34.1400,2, -999.000,9,   -999.0,9,     0.12,2,     0.13,2,     0.02,2,     0.07,2,     0.08,2,0.07,2,   1904.0,2,   2242.0,2,    64.25,2
  35A319940923,    15,  1,      7,      7,2,19940929,0152, -1.0000, 164.5900, -999,     79.5,  27.9900,  34.2370,2, -999.000,9,   -999.0,9,     0.81,2,     0.87,2,     0.06,2,     0.12,2,     0.07,2,0.13,2,   1913.0,2,   2241.0,2,    63.12,2
  35A319940923,    15,  1,      8,      8,2,19940929,0152, -1.0000, 164.5900, -999,     90.6,  27.9200,  34.2430,2, -999.000,9,   -999.0,9,     1.60,2,     1.70,2,     0.10,2,     0.17,2,     0.07,2,0.17,2,   1925.0,2,   2246.0,2,    65.31,2
  35A319940923,    15,  1,      9,      9,2,19940929,0152, -1.0000, 164.5900, -999,     99.6,  24.6480,  34.9520,2, -999.000,9,   -999.0,9,     8.97,2,     9.06,2,     0.09,2,     0.63,2,     0.03,2,0.2,2,   2044.0,2,   -999.0,9,    59.08,2
  35A319940923,    15,  1,     10,     10,2,19940929,0152, -1.0000, 164.5900, -999,    120.7,  22.0730,  35.3510,2, -999.000,9,   -999.0,9,    10.28,2,    10.31,2,     0.04,2,     0.77,2,     0.03,2,0.1,2,   2070.0,2,   2318.0,2,    58.00,2
  35A319940923,    15,  1,     11,     11,2,19940929,0152, -1.0000, 164.5900, -999,    141.9,  19.4450,  35.3590,2, -999.000,9,   -999.0,9,    10.30,2,    10.34,2,     0.04,2,     0.77,2,     0.02,2,0.03,2,   2088.0,2,   2316.0,2,    46.43,2
  35A319940923,    15,  1,     12,     12,2,19940929,0152, -1.0000, 164.5900, -999,    161.0,  18.0990,  35.2900,2, -999.000,9,   -999.0,9,    12.62,2,    12.64,2,     0.02,2,     0.94,2,     0.02,2,0.36,2,   -999.0,9,   -999.0,9,    47.31,2
  35A319940923,    15,  1,     13,     13,2,19940929,0152, -1.0000, 164.5900, -999,    179.1,  17.6080,  35.3400,2, -999.000,9,   -999.0,9,    12.92,2,    12.94,2,     0.02,2,     0.98,2,  -999.00,9,0.06,2,   2112.0,2,   2321.0,2,    49.66,2
  35A319940923,    16,  1,      1,      1,2,19940929,0947,  0.0000, 165.0000, -999,      3.0,  28.9090,  33.9640,2, -999.000,9,   -999.0,9,     0.00,2,     0.00,2,     0.00,2,     0.03,2,     0.02,2,0,2,   1878.0,2,   2219.0,2,    75.02,2
  35A319940923,    16,  1,      2,      2,2,19940929,0947,  0.0000, 165.0000, -999,     19.1,  28.8800,  33.9830,2, -999.000,9,   -999.0,9,     0.00,2,     0.00,2,     0.00,2,     0.03,2,     0.03,2,0,2,   1884.0,2,   2230.0,2,    76.76,2
  35A319940923,    16,  1,      3,      3,2,19940929,0947,  0.0000, 165.0000, -999,     39.2,  28.5830,  34.0450,2, -999.000,9,   -999.0,9,     0.00,2,     0.00,2,     0.00,2,     0.04,2,     0.02,2,0.01,2,   1885.0,2,   2224.0,2,    76.12,2
  35A319940923,    16,  1,      4,      4,2,19940929,0947,  0.0000, 165.0000, -999,     59.4,  28.4770,  34.0330,2, -999.000,9,   -999.0,9,     0.00,2,     0.00,2,     0.00,2,     0.04,2,     0.03,2,0.02,2,   1884.0,2,   2226.0,2,    72.90,2
  35A319940923,    16,  1,      5,      5,2,19940929,0947,  0.0000, 165.0000, -999,     80.5,  28.4040,  34.0720,2, -999.000,9,   -999.0,9,     0.00,2,     0.00,2,     0.00,2,     0.05,2,     0.03,2,0.03,2,   1895.0,2,   2233.0,2,    72.00,2
  35A319940923,    16,  1,      6,      6,2,19940929,0947,  0.0000, 165.0000, -999,     90.6,  28.3090,  34.1360,2, -999.000,9,   -999.0,9,     0.02,2,     0.02,2,     0.00,2,     0.05,2,     0.05,2,0.01,2,   1899.0,2,   2236.0,2,    68.94,2
  35A319940923,    16,  1,      7,      7,2,19940929,0947,  0.0000, 165.0000, -999,     99.6,  26.9960,  34.5320,2, -999.000,9,   -999.0,9,     2.63,2,     2.73,2,     0.10,2,     0.20,2,     0.05,2,0.02,2,   1938.0,2,   2252.0,2,    69.06,2
  35A319940923,    16,  1,      8,      8,2,19940929,0947,  0.0000, 165.0000, -999,    110.7,-999.0000,-999.0000,9, -999.000,9,   -999.0,9,     9.74,2,     9.79,2,     0.05,2,     0.69,2,     0.04,2,0.02,2,   2055.0,2,   2302.0,2,    58.47,2
  35A319940923,    16,  1,      9,      9,2,19940929,0947,  0.0000, 165.0000, -999,    120.7,  21.7830,  35.1230,2, -999.000,9,   -999.0,9,    10.09,2,    10.12,2,     0.03,2,     0.75,2,     0.04,2,0.02,2,   2056.0,2,   2300.0,2,    59.04,2
  35A319940923,    16,  1,     10,     10,2,19940929,0947,  0.0000, 165.0000, -999,    130.8,  21.8000,  35.1300,2, -999.000,9,   -999.0,9,    10.49,2,    10.51,2,     0.02,2,     0.80,2,     0.02,2,0.01,2,   2075.0,2,   -999.0,9,    54.74,2
  35A319940923,    16,  1,     11,     11,2,19940929,0947,  0.0000, 165.0000, -999,    140.9,  21.2000,  35.3580,2, -999.000,9,   -999.0,9,    10.57,2,    10.59,2,     0.02,2,     0.82,2,     0.03,2,0.01,2,   2075.0,2,   2316.0,2,    53.35,2
  35A319940923,    16,  1,     12,     12,2,19940929,0947,  0.0000, 165.0000, -999,    161.0,  18.2880,  35.3560,2, -999.000,9,   -999.0,9,    12.52,2,    12.53,2,     0.01,2,     0.97,2,     0.01,2,0.02,2,   2095.0,2,   2313.0,2,    54.54,2