BOTTLE,20120829IOSDFOJC
EXPOCODE,STNNBR,CASTNO,SAMPNO,BTLNBR,BTLNBR_FLAG_W,DATE,TIME,LATITUDE,LONGITUDE,DEPTH,CTDPRS,CTDTMP,CTDSAL,CTDSAL_FLAG_W,CTDOXY,CTDOXY_FLAG_W,OXYGEN,OXYGEN_FLAG_W,NITRAT,NITRAT_FLAG_W,NO2+NO3,NO2+NO3_FLAG_W,NITRIT,NITRIT_FLAG_W,PHSPHT,PHSPHT_FLAG_W,SILCAT,SILCAT_FLAG_W,NH4,NH4_FLAG_W,TCARBN,TCARBN_FLAG_W,ALKALI,ALKALI_FLAG_W,DOC,DOC_FLAG_W
,,,,,,,,,,METERS,DBARS,,,,ML/L,,UMOL/KG,,UMOL/KG,,UMOL/KG,,UMOL/KG,,UMOL/KG,,UMOL/KG,,UMOL/KG,,UMOL/KG,,UMOL/KG,,UMOL/KG,
  35A319940923,    43,  1,      1,      1,2,19941005,2336,  0.1000, 166.3200, -999,      2.0,  29.3310,  33.7470,2, -999.000,9,   -999.0,9,     0.00,2,     0.00,2,     0.00,2,  -999.00,9,  -999.00,9,-999,9,   -999.0,9,   -999.0,9,  -999.00,9
  35A319940923,    43,  1,      2,      2,2,19941005,2336,  0.1000, 166.3200, -999,     19.1,  29.2250,  33.9100,2, -999.000,9,   -999.0,9,     0.00,2,     0.00,2,     0.00,2,  -999.00,9,  -999.00,9,-999,9,   -999.0,9,   -999.0,9,  -999.00,9
  35A319940923,    43,  1,      3,      3,2,19941005,2336,  0.1000, 166.3200, -999,     40.2,  29.1890,  33.9150,2, -999.000,9,   -999.0,9,     0.00,2,     0.00,2,     0.00,2,  -999.00,9,  -999.00,9,-999,9,   -999.0,9,   -999.0,9,  -999.00,9
  35A319940923,    43,  1,      4,      4,2,19941005,2336,  0.1000, 166.3200, -999,     59.4,  29.1950,  33.9230,2, -999.000,9,   -999.0,9,     0.00,2,     0.00,2,     0.00,2,  -999.00,9,  -999.00,9,-999,9,   -999.0,9,   -999.0,9,  -999.00,9
  35A319940923,    43,  1,      5,      5,2,19941005,2336,  0.1000, 166.3200, -999,     80.5,  29.2760,  34.0010,2, -999.000,9,   -999.0,9,     0.00,2,     0.00,2,     0.00,2,  -999.00,9,  -999.00,9,-999,9,   -999.0,9,   -999.0,9,  -999.00,9
  35A319940923,    43,  1,      6,      6,2,19941005,2336,  0.1000, 166.3200, -999,    100.6,  22.6330,  35.1540,2, -999.000,9,   -999.0,9,     9.35,2,     9.39,2,     0.04,2,     0.62,2,  -999.00,9,-999,9,   -999.0,9,   -999.0,9,  -999.00,9
  35A319940923,    43,  1,      7,      7,2,19941005,2336,  0.1000, 166.3200, -999,    109.7,  21.9190,  35.2200,2, -999.000,9,   -999.0,9,     9.84,2,     9.87,2,     0.03,2,     0.71,2,  -999.00,9,-999,9,   -999.0,9,   -999.0,9,  -999.00,9
  35A319940923,    43,  1,      8,      8,2,19941005,2336,  0.1000, 166.3200, -999,    120.7,  21.3830,  35.2140,2, -999.000,9,   -999.0,9,    10.18,2,    10.21,2,     0.03,2,     0.74,2,  -999.00,9,-999,9,   -999.0,9,   -999.0,9,  -999.00,9
  35A319940923,    43,  1,      9,      9,2,19941005,2336,  0.1000, 166.3200, -999,    140.9,  20.1660,  35.2800,2, -999.000,9,   -999.0,9,    10.84,2,    10.87,2,     0.03,2,     0.82,2,  -999.00,9,-999,9,   -999.0,9,   -999.0,9,  -999.00,9
  35A319940923,    43,  1,     10,     10,2,19941005,2336,  0.1000, 166.3200, -999,    152.0,  19.5470,  35.3210,2, -999.000,9,   -999.0,9,    11.20,2,    11.22,2,     0.02,2,     0.85,2,  -999.00,9,-999,9,   -999.0,9,   -999.0,9,  -999.00,9
  35A319940923,    43,  1,     11,     11,2,19941005,2336,  0.1000, 166.3200, -999,    181.1,  17.7090,  35.2170,2, -999.000,9,   -999.0,9,    12.66,2,    12.69,2,     0.03,2,     0.97,2,  -999.00,9,-999,9,   -999.0,9,   -999.0,9,  -999.00,9
  35A319940923,    43,  1,     12,     12,2,19941005,2336,  0.1000, 166.3200, -999,    200.3,  16.1060,  35.1770,2, -999.000,9,   -999.0,9,    13.87,2,    13.89,2,     0.02,2,     1.08,2,  -999.00,9,-999,9,   -999.0,9,   -999.0,9,  -999.00,9
  35A319940923,    43,  1,     13,     13,2,19941005,2336,  0.1000, 166.3200, -999,    303.0,  12.3990,  34.8900,2, -999.000,9,   -999.0,9,    13.57,2,    13.60,2,     0.03,2,     1.05,2,  -999.00,9,-999,9,   -999.0,9,   -999.0,9,  -999.00,9
  35A319940923,    44,  1,      1,      1,2,19941006,0352,  0.1000, 166.3100, -999,      2.0,  29.3030,  33.7600,2,    4.393,2,    191.9,2,     0.00,2,     0.00,2,     0.00,2,  -999.00,9,  -999.00,9,0.08,2,   1875.0,2,   2215.0,2,    67.49,2
  35A319940923,    44,  1,      2,      2,2,19941006,0352,  0.1000, 166.3100, -999,     20.1,  29.2610,  33.9250,2,    4.389,2,    191.7,2,     0.00,2,     0.00,2,     0.00,2,  -999.00,9,  -999.00,9,0,2,   1882.0,2,   2225.0,2,    68.35,2
  35A319940923,    44,  1,      3,      3,2,19941006,0352,  0.1000, 166.3100, -999,     39.2,  29.2460,  33.9350,2,    4.401,2,    192.2,2,     0.00,2,     0.00,2,     0.00,2,  -999.00,9,  -999.00,9,0.14,2,   1883.0,2,   2226.0,2,    71.06,2
  35A319940923,    44,  1,      4,      4,2,19941006,0352,  0.1000, 166.3100, -999,     49.3,  29.2540,  33.9440,2,    4.380,2,    191.3,2,     0.00,2,     0.00,2,     0.00,2,  -999.00,9,  -999.00,9,0.07,2,   1882.0,2,   2224.0,2,    71.26,2
  35A319940923,    44,  1,      5,      5,2,19941006,0352,  0.1000, 166.3100, -999,     59.4,  29.2430,  33.9420,2,    4.396,2,    192.0,2,     0.00,2,     0.00,2,     0.00,2,  -999.00,9,  -999.00,9,0.01,2,   1879.0,2,   2221.0,2,    71.22,2
  35A319940923,    44,  1,      6,      6,2,19941006,0352,  0.1000, 166.3100, -999,     69.4,  29.2300,  33.9400,2,    4.325,2,    188.9,2,     0.00,2,     0.00,2,     0.00,2,  -999.00,9,  -999.00,9,0.01,2,   1878.0,2,   2223.0,2,    71.36,2
  35A319940923,    44,  1,      7,      7,2,19941006,0352,  0.1000, 166.3100, -999,     80.5,  29.2740,  33.9860,2, -999.000,9,   -999.0,9,     0.01,2,     0.01,2,     0.00,2,  -999.00,9,  -999.00,9,0.01,2,   1890.0,2,   2232.0,2,    66.00,2
  35A319940923,    44,  1,      8,      8,2,19941006,0352,  0.1000, 166.3100, -999,     88.5,  28.2680,  34.6590,2, -999.000,9,   -999.0,9,     3.78,2,     3.85,2,     0.07,2,     0.21,2,  -999.00,9,1.17,2,   1988.0,2,   2283.0,2,    61.78,2
  35A319940923,    44,  1,      9,      9,2,19941006,0352,  0.1000, 166.3100, -999,    100.6,  22.2850,  35.2020,2,    2.803,2,    122.1,2,    11.37,2,    11.40,2,     0.03,2,     0.63,2,  -999.00,9,0.09,2,   2068.0,2,   2309.0,2,  -999.00,9
  35A319940923,    44,  1,     10,     10,2,19941006,0352,  0.1000, 166.3100, -999,    109.7,  21.6190,  35.2160,2,    2.754,2,    119.9,2,    11.67,2,    11.70,2,     0.03,2,     0.67,2,  -999.00,9,0.03,2,   2071.0,2,   2307.0,2,    50.26,2
  35A319940923,    44,  1,     11,     11,2,19941006,0352,  0.1000, 166.3100, -999,    119.7,  21.1420,  35.2160,2,    2.874,2,    125.1,2,    11.99,2,    12.03,2,     0.04,2,     0.71,2,  -999.00,9,0.03,2,   2078.0,2,   2310.0,2,    51.43,2
  35A319940923,    44,  1,     12,     12,2,19941006,0352,  0.1000, 166.3100, -999,    161.0,  19.0330,  35.3190,2,    2.742,2,    119.3,2,    13.35,2,    13.37,2,     0.02,2,     0.82,2,  -999.00,9,-999,9,   2101.0,2,   2320.0,2,    48.64,2
  35A319940923,    44,  1,     13,     13,2,19941006,0352,  0.1000, 166.3100, -999,    200.3,  16.1790,  35.2250,2, -999.000,9,   -999.0,9,  -999.00,9,  -999.00,9,  -999.00,9,  -999.00,9,  -999.00,9,-999,9,   -999.0,9,   -999.0,9,    54.96,2
  35A319940923,    44,  1,     14,     14,2,19941006,0352,  0.1000, 166.3100, -999,    250.6,  13.1530,  34.9500,2,    2.676,2,    116.3,2,    20.01,2,    20.03,2,     0.02,2,     1.33,2,  -999.00,9,-999,9,   2151.0,2,   2309.0,2,    44.53,2
  35A319940923,    44,  1,     15,     15,2,19941006,0352,  0.1000, 166.3100, -999,    300.0,  12.1260,  34.8630,2, -999.000,9,   -999.0,9,  -999.00,9,  -999.00,9,  -999.00,9,  -999.00,9,  -999.00,9,-999,9,   -999.0,9,   2303.0,2,    48.90,2
  35A319940923,    44,  1,     16,     16,2,19941006,0352,  0.1000, 166.3100, -999,    603.4,   7.0800,  34.5670,2,    1.852,2,     80.4,2,    46.84,2,    46.86,2,     0.02,2,     2.30,2,  -999.00,9,-999,9,   -999.0,9,   -999.0,9,    42.22,2
  35A319940923,    44,  1,     17,     17,2,19941006,0352,  0.1000, 166.3100, -999,   1006.2,   4.7950,  34.5460,2, -999.000,9,   -999.0,9,  -999.00,9,  -999.00,9,  -999.00,9,  -999.00,9,  -999.00,9,-999,9,   -999.0,9,   -999.0,9,  -999.00,9
  35A319940923,    44,  1,     18,     18,2,19941006,0352,  0.1000, 166.3100, -999,   1514.0,   2.9360,  34.6040,2,    2.009,2,     87.2,2,    49.05,2,    49.06,2,     0.01,2,     2.20,2,  -999.00,9,-999,9,   2329.0,2,   2395.0,2,  -999.00,9
  35A319940923,    44,  1,     19,     19,2,19941006,0352,  0.1000, 166.3100, -999,   2015.9,   2.2790,  34.6360,2, -999.000,9,   -999.0,9,  -999.00,9,  -999.00,9,  -999.00,9,  -999.00,9,  -999.00,9,-999,9,   -999.0,9,   -999.0,9,  -999.00,9
  35A319940923,    44,  1,     20,     20,2,19941006,0352,  0.1000, 166.3100, -999,   2527.1,   1.9440,  34.6540,2,    2.532,2,    109.9,2,    47.05,2,    47.08,2,     0.03,2,     2.60,2,  -999.00,9,-999,9,   2342.0,2,   2418.0,2,  -999.00,9
  35A319940923,    44,  1,     21,     21,2,19941006,0352,  0.1000, 166.3100, -999,   3037.4,   1.6610,  34.6700,2, -999.000,9,   -999.0,9,  -999.00,9,  -999.00,9,  -999.00,9,  -999.00,9,  -999.00,9,-999,9,   -999.0,9,   -999.0,9,  -999.00,9
  35A319940923,    44,  1,     22,     22,2,19941006,0352,  0.1000, 166.3100, -999,   3548.8,   1.5440,  34.6790,2,    3.106,2,    134.8,2,    45.08,2,    45.10,2,     0.02,2,     2.43,2,  -999.00,9,-999,9,   2331.0,2,   2421.0,2,  -999.00,9
  35A319940923,    44,  1,     23,     23,2,19941006,0352,  0.1000, 166.3100, -999,   4062.5,   1.4480,  34.6900,2, -999.000,9,   -999.0,9,  -999.00,9,  -999.00,9,  -999.00,9,  -999.00,9,  -999.00,9,-999,9,   -999.0,9,   -999.0,9,  -999.00,9
  35A319940923,    44,  1,     24,     24,2,19941006,0352,  0.1000, 166.3100, -999,   4375.2,   1.3280,  34.7000,2,    3.920,2,    170.3,2,    43.65,2,    43.67,2,     0.02,2,     2.28,2,  -999.00,9,-999,9,   -999.0,9,   -999.0,9,  -999.00,9
  35A319940923,    45,  1,      1,      1,2,19941006,0811,  0.1200, 166.2900, -999,      3.0,  29.4920,  33.7870,2, -999.000,9,   -999.0,9,     0.00,2,     0.00,2,     0.00,2,  -999.00,9,  -999.00,9,-999,9,   1874.0,2,   2213.0,2,  -999.00,9
  35A319940923,    45,  1,      2,      2,2,19941006,0811,  0.1200, 166.2900, -999,     20.1,  29.2640,  33.9220,2,    4.306,2,    188.1,2,     0.00,2,     0.00,2,     0.00,2,  -999.00,9,  -999.00,9,-999,9,   1882.0,2,   2223.0,2,  -999.00,9
  35A319940923,    45,  1,      3,      3,2,19941006,0811,  0.1200, 166.2900, -999,     40.2,  29.2350,  33.9330,2,    4.311,2,    188.3,2,     0.00,2,     0.00,2,     0.00,2,  -999.00,9,  -999.00,9,-999,9,   1881.0,2,   2222.0,2,  -999.00,9
  35A319940923,    45,  1,      4,      4,2,19941006,0811,  0.1200, 166.2900, -999,     50.3,  29.2320,  33.9380,2, -999.000,9,   -999.0,9,  -999.00,9,  -999.00,9,  -999.00,9,  -999.00,9,  -999.00,9,-999,9,   1877.0,2,   2217.0,2,  -999.00,9
  35A319940923,    45,  1,      5,      5,2,19941006,0811,  0.1200, 166.2900, -999,     60.4,  29.2390,  33.9440,2, -999.000,9,   -999.0,9,     0.00,2,     0.00,2,     0.00,2,  -999.00,9,  -999.00,9,-999,9,   1880.0,2,   2225.0,2,  -999.00,9
  35A319940923,    45,  1,      6,      6,2,19941006,0811,  0.1200, 166.2900, -999,     69.4,  29.2450,  33.9490,2, -999.000,9,   -999.0,9,     0.01,2,     0.01,2,     0.00,2,  -999.00,9,  -999.00,9,-999,9,   -999.0,9,   -999.0,9,  -999.00,9
  35A319940923,    45,  1,      7,      7,2,19941006,0811,  0.1200, 166.2900, -999,     79.5,  29.2680,  33.9810,2, -999.000,9,   -999.0,9,     0.30,2,     0.31,2,     0.01,2,     0.06,2,  -999.00,9,-999,9,   1896.0,2,   2230.0,2,  -999.00,9
  35A319940923,    45,  1,      8,      8,2,19941006,0811,  0.1200, 166.2900, -999,    100.6,  22.6070,  35.1370,2, -999.000,9,   -999.0,9,     9.66,2,     9.71,2,     0.05,2,     0.65,2,  -999.00,9,-999,9,   2061.0,2,   2300.0,2,  -999.00,9
  35A319940923,    45,  1,      9,      9,2,19941006,0811,  0.1200, 166.2900, -999,    110.7,  21.5470,  35.2170,2, -999.000,9,   -999.0,9,    10.20,2,    10.24,2,     0.04,2,     0.76,2,  -999.00,9,-999,9,   2071.0,2,   2303.0,2,  -999.00,9
  35A319940923,    45,  1,     10,     10,2,19941006,0811,  0.1200, 166.2900, -999,    120.7,  21.0300,  35.2240,2, -999.000,9,   -999.0,9,    10.52,2,    10.57,2,     0.05,2,     0.80,2,  -999.00,9,-999,9,   2079.0,2,   2311.0,2,  -999.00,9
  35A319940923,    45,  1,     11,     11,2,19941006,0811,  0.1200, 166.2900, -999,    130.8,  20.7410,  35.3000,2, -999.000,9,   -999.0,9,    10.64,2,    10.68,2,     0.04,2,     0.83,2,  -999.00,9,-999,9,   2080.0,2,   2309.0,2,  -999.00,9
  35A319940923,    45,  1,     12,     12,2,19941006,0811,  0.1200, 166.2900, -999,    140.9,  19.9130,  35.3380,2, -999.000,9,   -999.0,9,    11.24,2,    11.28,2,     0.04,2,     0.89,2,  -999.00,9,-999,9,   2094.0,2,   2316.0,2,  -999.00,9
  35A319940923,    45,  1,     13,     13,2,19941006,0811,  0.1200, 166.2900, -999,    152.0,  19.4360,  35.3410,2, -999.000,9,   -999.0,9,    11.53,2,    11.57,2,     0.04,2,     0.92,2,  -999.00,9,-999,9,   2092.0,2,   2312.0,2,  -999.00,9
  35A319940923,    45,  1,     14,     14,2,19941006,0811,  0.1200, 166.2900, -999,    160.0,  18.6850,  35.3030,2, -999.000,9,   -999.0,9,    11.91,2,    11.95,2,     0.04,2,     0.95,2,  -999.00,9,-999,9,   2100.0,2,   2315.0,2,  -999.00,9
  35A319940923,    45,  1,     15,     15,2,19941006,0811,  0.1200, 166.2900, -999,    179.1,  17.3200,  35.2800,2, -999.000,9,   -999.0,9,    13.09,2,    13.13,2,     0.04,2,     1.06,2,  -999.00,9,-999,9,   2111.0,2,   2313.0,2,  -999.00,9
  35A319940923,    45,  1,     16,     16,2,19941006,0811,  0.1200, 166.2900, -999,    200.3,  15.7630,  35.1760,2, -999.000,9,   -999.0,9,    14.15,2,    14.18,2,     0.03,2,     1.15,2,  -999.00,9,-999,9,   2122.0,2,   2312.0,2,  -999.00,9
  35A319940923,    46,  1,      1,      1,2,19941006,1152,  0.1400, 166.3000, -999,      5.0,  29.2040,  33.7100,2, -999.000,9,   -999.0,9,     0.00,2,     0.00,2,     0.00,2,     0.03,2,  -999.00,9,-999,9,   -999.0,9,   -999.0,9,  -999.00,9
  35A319940923,    46,  1,      2,      2,2,19941006,1152,  0.1400, 166.3000, -999,      9.1,  29.1310,  33.7710,2, -999.000,9,   -999.0,9,     0.00,2,     0.00,2,     0.00,2,     0.03,2,  -999.00,9,-999,9,   -999.0,9,   -999.0,9,  -999.00,9
  35A319940923,    46,  1,      3,      3,2,19941006,1152,  0.1400, 166.3000, -999,     20.1,  29.3210,  33.9290,2, -999.000,9,   -999.0,9,     0.00,2,     0.00,2,     0.00,2,     0.03,2,  -999.00,9,-999,9,   -999.0,9,   -999.0,9,  -999.00,9
  35A319940923,    46,  1,      4,      4,2,19941006,1152,  0.1400, 166.3000, -999,     40.2,  29.2780,  33.9440,2, -999.000,9,   -999.0,9,     0.00,2,     0.00,2,     0.00,2,     0.04,2,  -999.00,9,-999,9,   -999.0,9,   -999.0,9,  -999.00,9
  35A319940923,    46,  1,      5,      5,2,19941006,1152,  0.1400, 166.3000, -999,     49.3,  29.2630,  33.9450,2, -999.000,9,   -999.0,9,     0.00,2,     0.00,2,     0.00,2,     0.04,2,  -999.00,9,-999,9,   -999.0,9,   -999.0,9,  -999.00,9
  35A319940923,    46,  1,      6,      6,2,19941006,1152,  0.1400, 166.3000, -999,     60.4,  29.2580,  33.9490,2, -999.000,9,   -999.0,9,     0.00,2,     0.00,2,     0.00,2,     0.04,2,  -999.00,9,-999,9,   -999.0,9,   -999.0,9,  -999.00,9
  35A319940923,    46,  1,      7,      7,2,19941006,1152,  0.1400, 166.3000, -999,     69.4,  29.2500,  33.9520,2, -999.000,9,   -999.0,9,     0.00,2,     0.00,2,     0.00,2,     0.04,2,  -999.00,9,-999,9,   -999.0,9,   -999.0,9,  -999.00,9
  35A319940923,    46,  1,      8,      8,2,19941006,1152,  0.1400, 166.3000, -999,     78.5,  29.2930,  33.9830,2, -999.000,9,   -999.0,9,     0.00,2,     0.00,2,     0.00,2,     0.04,2,  -999.00,9,-999,9,   -999.0,9,   -999.0,9,  -999.00,9
  35A319940923,    46,  1,      9,      9,2,19941006,1152,  0.1400, 166.3000, -999,     99.6,  22.3640,  35.2020,2, -999.000,9,   -999.0,9,     9.70,2,     9.76,2,     0.06,2,     0.66,2,  -999.00,9,-999,9,   -999.0,9,   -999.0,9,  -999.00,9
  35A319940923,    46,  1,     10,     10,2,19941006,1152,  0.1400, 166.3000, -999,    110.7,  21.5580,  35.2190,2, -999.000,9,   -999.0,9,    10.13,2,    10.19,2,     0.06,2,     0.77,2,  -999.00,9,-999,9,   -999.0,9,   -999.0,9,  -999.00,9
  35A319940923,    46,  1,     11,     11,2,19941006,1152,  0.1400, 166.3000, -999,    119.7,  21.2830,  35.2360,2, -999.000,9,   -999.0,9,    10.47,2,    10.54,2,     0.07,2,     0.80,2,  -999.00,9,-999,9,   -999.0,9,   -999.0,9,  -999.00,9
  35A319940923,    46,  1,     12,     12,2,19941006,1152,  0.1400, 166.3000, -999,    139.9,  19.8950,  35.3320,2, -999.000,9,   -999.0,9,    11.26,2,    11.31,2,     0.05,2,     0.89,2,  -999.00,9,-999,9,   -999.0,9,   -999.0,9,  -999.00,9
  35A319940923,    46,  1,     13,     13,2,19941006,1152,  0.1400, 166.3000, -999,    153.0,  19.3700,  35.3450,2, -999.000,9,   -999.0,9,    11.19,2,    11.24,2,     0.05,2,     0.88,2,  -999.00,9,-999,9,   -999.0,9,   -999.0,9,  -999.00,9
  35A319940923,    46,  1,     14,     14,2,19941006,1152,  0.1400, 166.3000, -999,    180.1,  17.3840,  35.3000,2, -999.000,9,   -999.0,9,    12.86,2,    12.91,2,     0.05,2,     1.04,2,  -999.00,9,-999,9,   -999.0,9,   -999.0,9,  -999.00,9
  35A319940923,    46,  1,     15,     15,2,19941006,1152,  0.1400, 166.3000, -999,    201.3,  16.1660,  35.2370,2, -999.000,9,   -999.0,9,    13.90,2,    13.95,2,     0.05,2,     1.13,2,  -999.00,9,-999,9,   -999.0,9,   -999.0,9,  -999.00,9
  35A319940923,    47,  1,      1,      1,2,19941006,1608,  0.1400, 166.2800, -999,      2.0,  29.1400,  33.6630,2,    4.283,2,    187.1,2,     0.00,2,     0.00,2,     0.00,2,     0.04,2,     0.01,2,0.18,2,   -999.0,9,   -999.0,9,  -999.00,9
  35A319940923,    47,  1,      2,      2,2,19941006,1608,  0.1400, 166.2800, -999,      9.1,  29.1530,  33.6770,2,    4.304,2,    188.0,2,     0.00,2,     0.00,2,     0.00,2,     0.03,2,     0.01,2,0.31,2,   -999.0,9,   -999.0,9,  -999.00,9
  35A319940923,    47,  1,      3,      3,2,19941006,1608,  0.1400, 166.2800, -999,     19.1,  29.3050,  33.9310,2,    4.288,2,    187.3,2,     0.00,2,     0.00,2,     0.00,2,     0.05,2,     0.01,2,0.09,2,   -999.0,9,   -999.0,9,  -999.00,9
  35A319940923,    47,  1,      4,      4,2,19941006,1608,  0.1400, 166.2800, -999,     29.2,  29.2840,  33.9380,2,    4.256,2,    185.9,2,     0.00,2,     0.00,2,     0.00,2,     0.03,2,     0.01,2,0,2,   -999.0,9,   -999.0,9,  -999.00,9
  35A319940923,    47,  1,      5,      5,2,19941006,1608,  0.1400, 166.2800, -999,     38.2,  29.2670,  33.9410,2,    4.300,2,    187.8,2,     0.00,2,     0.00,2,     0.00,2,     0.04,2,     0.01,2,0.16,2,   -999.0,9,   -999.0,9,  -999.00,9
  35A319940923,    47,  1,      6,      6,2,19941006,1608,  0.1400, 166.2800, -999,     49.3,  29.2360,  33.9350,2,    4.295,2,    187.6,2,     0.00,2,     0.00,2,     0.00,2,     0.03,2,     0.01,2,0.71,2,   -999.0,9,   -999.0,9,  -999.00,9
  35A319940923,    47,  1,      7,      7,2,19941006,1608,  0.1400, 166.2800, -999,     59.4,  29.2390,  33.9400,2,    4.282,2,    187.0,2,     0.00,2,     0.00,2,     0.00,2,     0.04,2,     0.01,2,0.13,2,   -999.0,9,   -999.0,9,  -999.00,9
  35A319940923,    47,  1,      8,      8,2,19941006,1608,  0.1400, 166.2800, -999,     68.4,  29.2480,  33.9490,2,    4.259,2,    186.0,2,     0.00,2,     0.00,2,     0.00,2,     0.04,2,     0.01,2,0.69,2,   -999.0,9,   -999.0,9,  -999.00,9
  35A319940923,    47,  1,      9,      9,2,19941006,1608,  0.1400, 166.2800, -999,     79.5,  29.2970,  33.9750,2,    4.254,2,    185.8,2,     0.01,2,     0.01,2,     0.00,2,     0.05,2,     0.02,2,0.5,2,   -999.0,9,   -999.0,9,  -999.00,9
  35A319940923,    47,  1,     10,     10,2,19941006,1608,  0.1400, 166.2800, -999,     99.6,  23.0670,  35.0300,2,    2.825,2,    123.2,2,     8.69,2,     8.77,2,     0.09,2,     0.61,2,     0.03,2,0.51,2,   -999.0,9,   -999.0,9,  -999.00,9
  35A319940923,    47,  1,     11,     11,2,19941006,1608,  0.1400, 166.2800, -999,    119.7,  20.9430,  35.2460,2,    2.688,2,    117.0,2,    10.38,2,    10.42,2,     0.04,2,     0.77,2,     0.03,2,1.47,2,   -999.0,9,   -999.0,9,  -999.00,9
  35A319940923,    47,  1,     12,     12,2,19941006,1608,  0.1400, 166.2800, -999,    150.9,  19.4870,  35.3320,2, -999.000,9,    119.0,2,    11.38,2,    11.42,2,     0.04,2,     0.89,2,     0.02,2,0.57,2,   -999.0,9,   -999.0,9,  -999.00,9