BOTTLE,20120829IOSDFOJC
EXPOCODE,STNNBR,CASTNO,SAMPNO,BTLNBR,BTLNBR_FLAG_W,DATE,TIME,LATITUDE,LONGITUDE,DEPTH,CTDPRS,CTDTMP,CTDSAL,CTDSAL_FLAG_W,CTDOXY,CTDOXY_FLAG_W,OXYGEN,OXYGEN_FLAG_W,NITRAT,NITRAT_FLAG_W,NO2+NO3,NO2+NO3_FLAG_W,NITRIT,NITRIT_FLAG_W,PHSPHT,PHSPHT_FLAG_W,SILCAT,SILCAT_FLAG_W,NH4,NH4_FLAG_W,TCARBN,TCARBN_FLAG_W,ALKALI,ALKALI_FLAG_W,DOC,DOC_FLAG_W
,,,,,,,,,,METERS,DBARS,,,,ML/L,,UMOL/KG,,UMOL/KG,,UMOL/KG,,UMOL/KG,,UMOL/KG,,UMOL/KG,,UMOL/KG,,UMOL/KG,,UMOL/KG,,UMOL/KG,
  35A319940923,    79,  1,      1,      1,2,19941017,2106,  0.0000,-156.5600, -999,      3.0,  28.3050,  35.0560,2,    4.497,2,    196.2,2,     1.56,2,     1.68,2,     0.12,2,     0.29,2,  -999.00,9,-999,9,   1978.0,2,   2307.0,2,  -999.00,9
  35A319940923,    79,  1,      2,      2,2,19941017,2106,  0.0000,-156.5600, -999,     19.1,  27.9320,  35.0540,2,    4.514,2,    196.9,2,     2.13,2,     2.33,2,     0.20,2,     0.32,2,  -999.00,9,-999,9,   1984.0,2,   2306.0,2,  -999.00,9
  35A319940923,    79,  1,      3,      3,2,19941017,2106,  0.0000,-156.5600, -999,     29.2,  27.6180,  35.0420,2,    4.423,2,    192.9,2,     2.61,2,     2.92,2,     0.31,2,     0.36,2,  -999.00,9,-999,9,   1989.0,2,   2306.0,2,  -999.00,9
  35A319940923,    79,  1,      4,      4,2,19941017,2106,  0.0000,-156.5600, -999,     39.2,  27.5470,  35.0490,2,    4.226,2,    184.3,2,     2.84,2,     3.37,2,     0.53,2,     0.39,2,  -999.00,9,-999,9,   1988.0,2,   2298.0,2,  -999.00,9
  35A319940923,    79,  1,      5,      5,2,19941017,2106,  0.0000,-156.5600, -999,     50.3,  27.4810,  35.0710,2,    4.051,2,    176.7,2,     3.05,2,     3.82,2,     0.77,2,     0.42,2,  -999.00,9,-999,9,   1996.0,2,   2303.0,2,  -999.00,9
  35A319940923,    79,  1,      6,      6,2,19941017,2106,  0.0000,-156.5600, -999,     60.4,  27.5090,  35.1100,2,    3.900,2,    170.1,2,     3.28,2,     4.28,2,     1.00,2,     0.45,2,  -999.00,9,-999,9,   1994.0,2,   2298.0,2,  -999.00,9
  35A319940923,    79,  1,      7,      7,2,19941017,2106,  0.0000,-156.5600, -999,     80.5,  27.6670,  35.2050,2,    3.802,2,    165.8,2,     3.49,2,     4.58,2,     1.09,2,     0.47,2,  -999.00,9,-999,9,   2005.0,2,   2315.0,2,  -999.00,9
  35A319940923,    79,  1,      8,      8,2,19941017,2106,  0.0000,-156.5600, -999,     99.6,  27.1550,  35.2040,2,    3.493,2,    152.3,2,     5.10,2,     5.66,2,     0.56,2,     0.54,2,  -999.00,9,-999,9,   2006.0,2,   2301.0,2,  -999.00,9
  35A319940923,    79,  1,      9,      9,2,19941017,2106,  0.0000,-156.5600, -999,    119.7,  25.8860,  34.9960,2,    3.402,2,    148.3,2,     5.86,2,     6.43,2,     0.57,2,     0.57,2,  -999.00,9,-999,9,   2014.0,2,   2294.0,2,  -999.00,9
  35A319940923,    79,  1,     10,     10,2,19941017,2106,  0.0000,-156.5600, -999,    140.9,  22.9930,  34.9390,2,    2.846,2,    124.0,2,     9.21,2,     9.29,2,     0.08,2,     0.72,2,  -999.00,9,-999,9,   2042.0,2,   2287.0,2,  -999.00,9
  35A319940923,    79,  1,     11,     11,2,19941017,2106,  0.0000,-156.5600, -999,    160.0,  18.4580,  35.1560,2,    2.720,2,    118.3,2,    12.34,2,    12.40,2,     0.06,2,     1.00,2,  -999.00,9,-999,9,   2100.0,2,   2314.0,2,  -999.00,9
  35A319940923,    79,  1,     12,     12,2,19941017,2106,  0.0000,-156.5600, -999,    180.1,  15.6290,  35.0800,2, -999.000,9,   -999.0,9,    15.84,2,    15.90,2,     0.06,2,     1.26,2,  -999.00,9,-999,9,   -999.0,9,   -999.0,9,  -999.00,9
  35A319940923,    79,  1,     13,     13,2,19941017,2106,  0.0000,-156.5600, -999,   1010.2,   4.7060,  34.5500,2,    1.621,2,     70.4,2,    38.53,2,    38.60,2,     0.07,2,     2.95,2,  -999.00,9,-999,9,   2290.0,2,   2349.0,2,  -999.00,9
  35A319940923,    80,  1,      1,      1,2,19941018,0903,  0.0000,-155.0500, -999,      5.0,  27.7910,  35.0890,2,    4.473,2,    195.1,2,     2.57,2,     2.91,2,     0.34,2,     0.40,2,     0.15,2,0.06,2,   1993.0,2,   2309.0,2,    66.31,2
  35A319940923,    80,  1,      2,      2,2,19941018,0903,  0.0000,-155.0500, -999,     20.1,  27.7970,  35.0960,2,    4.310,2,    188.0,2,     2.57,2,     2.91,2,     0.34,2,     0.39,2,     0.14,2,0.11,2,   1993.0,2,   2306.0,2,    66.11,2
  35A319940923,    80,  1,      3,      3,2,19941018,0903,  0.0000,-155.0500, -999,     29.2,  27.7960,  35.1030,2,    4.455,2,    194.3,2,     2.56,2,     2.90,2,     0.34,2,     0.39,2,     0.16,2,0.13,2,   1987.0,2,   2306.0,2,    66.01,2
  35A319940923,    80,  1,      4,      4,2,19941018,0903,  0.0000,-155.0500, -999,     49.3,  27.7690,  35.1450,2,    4.278,2,    186.6,2,     2.65,2,     3.01,2,     0.36,2,     0.40,2,     0.20,2,0.12,2,   1997.0,2,   2311.0,2,    65.39,2
  35A319940923,    80,  1,      5,      5,2,19941018,0903,  0.0000,-155.0500, -999,     59.4,  27.7280,  35.1600,2,    4.205,2,    183.4,2,     2.74,2,     3.17,2,     0.43,2,     0.41,2,     0.19,2,0.35,2,   1988.0,2,   2298.0,2,    63.59,2
  35A319940923,    80,  1,      6,      6,2,19941018,0903,  0.0000,-155.0500, -999,     79.5,  27.5780,  35.1770,2,    3.896,2,    169.9,2,     3.08,2,     3.93,2,     0.85,2,     0.47,2,     0.11,2,0.17,2,   2001.0,2,   2308.0,2,    63.11,2
  35A319940923,    80,  1,      7,      7,2,19941018,0903,  0.0000,-155.0500, -999,     99.6,  27.5450,  35.2040,2,    3.823,2,    166.7,2,     3.40,2,     4.53,2,     1.13,2,     0.51,2,     0.05,2,0.27,2,   2006.0,2,   2309.0,2,    59.29,2
  35A319940923,    80,  1,      8,      8,2,19941018,0903,  0.0000,-155.0500, -999,    119.7,  25.7810,  34.9710,2,    3.344,2,    145.8,2,     5.91,2,     6.71,2,     0.80,2,     0.62,2,     0.02,2,0.05,2,   2017.0,2,   2291.0,2,    51.74,2
  35A319940923,    80,  1,      9,      9,2,19941018,0903,  0.0000,-155.0500, -999,    138.9,  19.8780,  34.9940,2,    2.663,2,    115.9,2,    11.96,2,    12.01,2,     0.06,2,     0.94,2,     0.03,2,0.03,2,   2081.0,2,   2303.0,2,    52.15,2
  35A319940923,    80,  1,     10,     10,2,19941018,0903,  0.0000,-155.0500, -999,    160.0,  18.1090,  35.1490,2,    2.549,2,    110.9,2,    14.36,2,    14.42,2,     0.06,2,     1.14,2,     0.03,2,0.33,2,   2112.0,2,   2310.0,2,    51.35,2
  35A319940923,    80,  1,     11,     11,2,19941018,0903,  0.0000,-155.0500, -999,    179.1,  15.2100,  34.9530,2,    2.612,2,    113.6,2,    16.77,2,    16.83,2,     0.06,2,     1.31,2,     0.03,2,0.06,2,   2126.0,2,   2307.0,2,    49.76,2
  35A319940923,    80,  1,     12,     12,2,19941018,0903,  0.0000,-155.0500, -999,   1010.2,   4.6250,  34.5510,2,    1.485,2,     64.5,2,    40.55,2,    40.59,2,     0.04,2,     3.01,2,  -999.00,9,-999,9,   2294.0,2,   2352.0,2,    43.82,2
  35A319940923,    81,  1,      1,      1,2,19941018,2106,  0.0000,-153.0100, -999,      2.0,  27.5500,  35.1050,2,    4.274,2,    186.4,2,     3.55,2,     3.95,2,     0.40,2,     0.51,2,  -999.00,9,-999,9,   1994.0,2,   2303.0,2,    67.92,2
  35A319940923,    81,  1,      2,      2,2,19941018,2106,  0.0000,-153.0100, -999,     20.1,  27.4540,  35.1010,2,    4.297,2,    187.4,2,     3.52,2,     3.92,2,     0.40,2,     0.52,2,  -999.00,9,-999,9,   1993.0,2,   2306.0,2,    66.30,2
  35A319940923,    81,  1,      3,      3,2,19941018,2106,  0.0000,-153.0100, -999,     30.2,  27.4290,  35.1000,2,    4.267,2,    186.1,2,     3.53,2,     3.94,2,     0.41,2,     0.53,2,  -999.00,9,-999,9,   1993.0,2,   2303.0,2,    66.44,2
  35A319940923,    81,  1,      4,      4,2,19941018,2106,  0.0000,-153.0100, -999,     39.2,  27.4220,  35.1000,2,    4.274,2,    186.4,2,     3.59,2,     4.01,2,     0.42,2,     0.54,2,  -999.00,9,-999,9,   1995.0,2,   2305.0,2,    66.49,2
  35A319940923,    81,  1,      5,      5,2,19941018,2106,  0.0000,-153.0100, -999,     49.3,  27.4100,  35.0980,2,    4.244,2,    185.1,2,     3.62,2,     4.06,2,     0.44,2,     0.54,2,  -999.00,9,-999,9,   1998.0,2,   2300.0,2,    61.83,2
  35A319940923,    81,  1,      6,      6,2,19941018,2106,  0.0000,-153.0100, -999,     58.4,  27.3950,  35.0970,2,    4.185,2,    182.5,2,     3.76,2,     4.26,2,     0.50,2,     0.55,2,  -999.00,9,-999,9,   1998.0,2,   2302.0,2,  -999.00,9
  35A319940923,    81,  1,      7,      7,2,19941018,2106,  0.0000,-153.0100, -999,     79.5,  27.3220,  35.0860,2,    4.077,2,    177.8,2,     3.86,2,     4.56,2,     0.70,2,     0.58,2,  -999.00,9,-999,9,   2000.0,2,   2304.0,2,    60.48,2
  35A319940923,    81,  1,      8,      8,2,19941018,2106,  0.0000,-153.0100, -999,     99.6,  26.7180,  35.0360,2,    3.516,2,    153.3,2,     5.28,2,     6.38,2,     1.10,2,     0.71,2,  -999.00,9,-999,9,   2009.0,2,   2297.0,2,    58.83,2
  35A319940923,    81,  1,      9,      9,2,19941018,2106,  0.0000,-153.0100, -999,    120.7,  26.6940,  35.1470,2,    3.367,2,    146.8,2,     6.09,2,     6.58,2,     0.49,2,     0.72,2,  -999.00,9,-999,9,   2018.0,2,   2306.0,2,    55.71,2
  35A319940923,    81,  1,     10,     10,2,19941018,2106,  0.0000,-153.0100, -999,    140.9,  23.4400,  35.0740,2,    2.803,2,    122.1,2,    10.08,2,    10.13,2,     0.05,2,     0.95,2,  -999.00,9,-999,9,   2044.0,2,   2297.0,2,    54.76,2
  35A319940923,    81,  1,     11,     11,2,19941018,2106,  0.0000,-153.0100, -999,    160.0,  19.8240,  35.1480,2,    2.622,2,    114.1,2,    12.85,2,    12.87,2,     0.02,2,     1.16,2,  -999.00,9,-999,9,   2087.0,2,   2309.0,2,    52.01,2
  35A319940923,    81,  1,     12,     12,2,19941018,2106,  0.0000,-153.0100, -999,    180.1,  18.0860,  35.2890,2, -999.000,9,   -999.0,9,    15.11,2,    15.13,2,     0.02,2,     1.35,2,  -999.00,9,-999,9,   -999.0,9,   -999.0,9,    48.75,2
  35A319940923,    81,  1,     13,     13,2,19941018,2106,  0.0000,-153.0100, -999,   1010.2,   4.4930,  34.5540,2,    1.485,2,     64.5,2,    49.06,2,    49.06,2,     0.00,2,     3.66,2,  -999.00,9,-999,9,   2300.0,2,   2356.0,2,    38.97,2
  35A319940923,    82,  1,      1,      1,2,19941019,1308,  0.0000,-150.2200, -999,      3.0,  27.6660,  35.3060,2,    4.254,2,    185.5,2,     3.26,2,     3.81,2,     0.55,2,     0.45,2,     0.09,2,0.22,2,   -999.0,9,   -999.0,9,  -999.00,9
  35A319940923,    82,  1,      2,      2,2,19941019,1308,  0.0000,-150.2200, -999,      9.1,  27.6840,  35.3100,2,    4.196,2,    183.0,2,     3.25,2,     3.80,2,     0.55,2,     0.44,2,     0.09,2,0.11,2,   -999.0,9,   -999.0,9,  -999.00,9
  35A319940923,    82,  1,      3,      3,2,19941019,1308,  0.0000,-150.2200, -999,     20.1,  27.6840,  35.3090,2,    4.249,2,    185.3,2,     3.22,2,     3.76,2,     0.54,2,     0.44,2,     0.08,2,0.06,2,   -999.0,9,   -999.0,9,  -999.00,9
  35A319940923,    82,  1,      4,      4,2,19941019,1308,  0.0000,-150.2200, -999,     29.2,  27.6870,  35.3090,2,    4.208,2,    183.5,2,     3.26,2,     3.80,2,     0.55,2,     0.43,2,     0.09,2,0.1,2,   -999.0,9,   -999.0,9,  -999.00,9
  35A319940923,    82,  1,      5,      5,2,19941019,1308,  0.0000,-150.2200, -999,     39.2,  27.6960,  35.3090,2,    4.398,2,    191.8,2,     3.27,2,     3.81,2,     0.54,2,     0.43,2,     0.09,2,0.1,2,   1997.0,2,   2313.0,2,  -999.00,9
  35A319940923,    82,  1,      6,      6,2,19941019,1308,  0.0000,-150.2200, -999,     49.3,  27.6750,  35.3010,2,    4.176,2,    182.1,2,     3.28,2,     3.83,2,     0.55,2,     0.44,2,     0.09,2,0.1,2,   -999.0,9,   -999.0,9,  -999.00,9
  35A319940923,    82,  1,      7,      7,2,19941019,1308,  0.0000,-150.2200, -999,     58.4,  27.4810,  35.2400,2,    4.151,2,    181.0,2,     3.58,2,     4.19,2,     0.61,2,     0.45,2,     0.10,2,0.16,2,   -999.0,9,   -999.0,9,  -999.00,9
  35A319940923,    82,  1,      8,      8,2,19941019,1308,  0.0000,-150.2200, -999,     70.4,  27.0360,  35.1150,2,    3.981,2,    173.6,2,     4.12,2,     4.95,2,     0.83,2,     0.51,2,     0.06,2,0.37,2,   -999.0,9,   -999.0,9,  -999.00,9
  35A319940923,    82,  1,      9,      9,2,19941019,1308,  0.0000,-150.2200, -999,     79.5,  26.6950,  35.0470,2,    3.878,2,    169.1,2,     4.46,2,     5.54,2,     1.08,2,     0.55,2,     0.05,2,0.26,2,   -999.0,9,   -999.0,9,  -999.00,9
  35A319940923,    82,  1,     10,     10,2,19941019,1308,  0.0000,-150.2200, -999,     99.6,  26.2270,  35.0690,2,    3.275,2,    142.8,2,     6.38,2,     6.71,2,     0.34,2,     0.60,2,     0.02,2,0.16,2,   -999.0,9,   -999.0,9,  -999.00,9
  35A319940923,    82,  1,     11,     11,2,19941019,1308,  0.0000,-150.2200, -999,    120.7,  24.8400,  35.0030,2,    2.967,2,    129.3,2,     7.66,2,     7.72,2,     0.06,2,     0.65,2,     0.02,2,0.1,2,   -999.0,9,   -999.0,9,  -999.00,9
  35A319940923,    82,  1,     12,     12,2,19941019,1308,  0.0000,-150.2200, -999,    150.9,  21.2410,  35.2430,2,    2.573,2,    112.0,2,    11.57,2,    11.60,2,     0.03,2,     0.92,2,     0.03,2,0.12,2,   -999.0,9,   -999.0,9,  -999.00,9
  35A319940923,    83,  1,      1,      1,2,19941019,1702,  0.0100,-150.1900, -999,      2.0,  27.6100,  35.2900,2, -999.000,9,   -999.0,9,     3.33,2,     3.90,2,     0.57,2,     0.44,2,  -999.00,9,-999,9,   2010.0,2,   -999.0,9,  -999.00,9
  35A319940923,    83,  1,      2,      2,2,19941019,1702,  0.0100,-150.1900, -999,     20.1,  27.6140,  35.2900,2, -999.000,9,   -999.0,9,     3.34,2,     3.91,2,     0.57,2,     0.44,2,  -999.00,9,-999,9,   2007.0,2,   2324.0,2,  -999.00,9
  35A319940923,    83,  1,      3,      3,2,19941019,1702,  0.0100,-150.1900, -999,     30.2,  27.6210,  35.2930,2, -999.000,9,   -999.0,9,     3.31,2,     3.87,2,     0.56,2,     0.44,2,  -999.00,9,-999,9,   2008.0,2,   2324.0,2,  -999.00,9
  35A319940923,    83,  1,      4,      4,2,19941019,1702,  0.0100,-150.1900, -999,     39.2,  27.6100,  35.2890,2, -999.000,9,   -999.0,9,     3.35,2,     3.92,2,     0.57,2,     0.44,2,  -999.00,9,-999,9,   2007.0,2,   2324.0,2,  -999.00,9
  35A319940923,    83,  1,      5,      5,2,19941019,1702,  0.0100,-150.1900, -999,     60.4,  27.2130,  35.1700,2, -999.000,9,   -999.0,9,     3.87,2,     4.64,2,     0.77,2,     0.50,2,  -999.00,9,-999,9,   2000.0,2,   2303.0,2,  -999.00,9
  35A319940923,    83,  1,      6,      6,2,19941019,1702,  0.0100,-150.1900, -999,     69.4,  26.6070,  35.0450,2, -999.000,9,   -999.0,9,     4.37,2,     5.42,2,     1.05,2,     0.56,2,  -999.00,9,-999,9,   2010.0,2,   2301.0,2,  -999.00,9
  35A319940923,    83,  1,      7,      7,2,19941019,1702,  0.0100,-150.1900, -999,     78.5,  26.3820,  35.0360,2, -999.000,9,   -999.0,9,     4.95,2,     5.79,2,     0.84,2,     0.58,2,  -999.00,9,-999,9,   2013.0,2,   2300.0,2,  -999.00,9
  35A319940923,    83,  1,      8,      8,2,19941019,1702,  0.0100,-150.1900, -999,    103.6,  25.9370,  35.1320,2, -999.000,9,   -999.0,9,     6.95,2,     7.06,2,     0.11,2,     0.64,2,  -999.00,9,-999,9,   2023.0,2,   2302.0,2,  -999.00,9
  35A319940923,    83,  1,      9,      9,2,19941019,1702,  0.0100,-150.1900, -999,    119.7,  23.2740,  35.0540,2, -999.000,9,   -999.0,9,     9.28,2,     9.32,2,     0.04,2,     0.77,2,  -999.00,9,-999,9,   2045.0,2,   2299.0,2,  -999.00,9
  35A319940923,    83,  1,     10,     10,2,19941019,1702,  0.0100,-150.1900, -999,    135.8,  21.4740,  35.2710,2, -999.000,9,   -999.0,9,    11.37,2,    11.40,2,     0.03,2,     0.93,2,  -999.00,9,-999,9,   2075.0,2,   2311.0,2,  -999.00,9
  35A319940923,    83,  1,     11,     11,2,19941019,1702,  0.0100,-150.1900, -999,    159.0,  16.4020,  35.0930,2, -999.000,9,   -999.0,9,  -999.00,9,  -999.00,9,  -999.00,9,  -999.00,9,  -999.00,9,-999,9,   2077.0,2,   2315.0,2,  -999.00,9
  35A319940923,    83,  1,     12,     12,2,19941019,1702,  0.0100,-150.1900, -999,    199.3,  13.1620,  34.9170,2, -999.000,9,   -999.0,9,    22.39,2,    22.40,2,     0.01,2,     1.63,2,  -999.00,9,-999,9,   2155.0,2,   2305.0,2,  -999.00,9
  35A319940923,    83,  1,     13,     13,2,19941019,1702,  0.0100,-150.1900, -999,    250.6,  12.3520,  34.8660,2, -999.000,9,   -999.0,9,    26.39,2,    26.40,2,     0.01,2,     1.89,2,  -999.00,9,-999,9,   2182.0,2,   2307.0,2,  -999.00,9
  35A319940923,    83,  1,     14,     14,2,19941019,1702,  0.0100,-150.1900, -999,    306.0,  11.6290,  34.8260,2, -999.000,9,   -999.0,9,    33.09,2,    33.10,2,     0.01,2,     2.35,2,  -999.00,9,-999,9,   2224.0,2,   2302.0,2,  -999.00,9
  35A319940923,    84,  1,      1,      1,2,19941019,2030,  0.0100,-150.1700, -999,      3.0,  27.6940,  35.2960,2, -999.000,9,   -999.0,9,     3.25,2,     3.80,2,     0.55,2,     0.46,2,  -999.00,9,-999,9,   -999.0,9,   -999.0,9,  -999.00,9
  35A319940923,    84,  1,      2,      2,2,19941019,2030,  0.0100,-150.1700, -999,     19.1,  27.6490,  35.2990,2, -999.000,9,   -999.0,9,     3.24,2,     3.79,2,     0.55,2,     0.45,2,  -999.00,9,-999,9,   -999.0,9,   -999.0,9,  -999.00,9
  35A319940923,    84,  1,      3,      3,2,19941019,2030,  0.0100,-150.1700, -999,     28.2,  27.6410,  35.2980,2, -999.000,9,   -999.0,9,     3.20,2,     3.75,2,     0.55,2,     0.44,2,  -999.00,9,-999,9,   -999.0,9,   -999.0,9,  -999.00,9
  35A319940923,    84,  1,      4,      4,2,19941019,2030,  0.0100,-150.1700, -999,     39.2,  27.6200,  35.2910,2, -999.000,9,   -999.0,9,     3.28,2,     3.84,2,     0.56,2,     0.46,2,  -999.00,9,-999,9,   -999.0,9,   -999.0,9,  -999.00,9
  35A319940923,    84,  1,      5,      5,2,19941019,2030,  0.0100,-150.1700, -999,     58.4,  27.5320,  35.2630,2, -999.000,9,   -999.0,9,     3.45,2,     4.06,2,     0.61,2,     0.47,2,  -999.00,9,-999,9,   -999.0,9,   -999.0,9,  -999.00,9
  35A319940923,    84,  1,      6,      6,2,19941019,2030,  0.0100,-150.1700, -999,     70.4,  27.2670,  35.1860,2, -999.000,9,   -999.0,9,     3.64,2,     4.33,2,     0.69,2,     0.48,2,  -999.00,9,-999,9,   -999.0,9,   -999.0,9,  -999.00,9
  35A319940923,    84,  1,      7,      7,2,19941019,2030,  0.0100,-150.1700, -999,     80.5,  26.8300,  35.0650,2, -999.000,9,   -999.0,9,     4.05,2,     5.03,2,     0.98,2,     0.54,2,  -999.00,9,-999,9,   -999.0,9,   -999.0,9,  -999.00,9
  35A319940923,    84,  1,      8,      8,2,19941019,2030,  0.0100,-150.1700, -999,     99.6,  26.2880,  35.0230,2, -999.000,9,   -999.0,9,     5.34,2,     6.10,2,     0.76,2,     0.58,2,  -999.00,9,-999,9,   -999.0,9,   -999.0,9,  -999.00,9
  35A319940923,    84,  1,      9,      9,2,19941019,2030,  0.0100,-150.1700, -999,    119.7,  25.9880,  35.1100,2, -999.000,9,   -999.0,9,     7.01,2,     7.11,2,     0.10,2,     0.65,2,  -999.00,9,-999,9,   -999.0,9,   -999.0,9,  -999.00,9
  35A319940923,    84,  1,     10,     10,2,19941019,2030,  0.0100,-150.1700, -999,    140.9,  22.8520,  35.1260,2, -999.000,9,   -999.0,9,    10.09,2,    10.12,2,     0.03,2,     0.82,2,  -999.00,9,-999,9,   -999.0,9,   -999.0,9,  -999.00,9
  35A319940923,    84,  1,     11,     11,2,19941019,2030,  0.0100,-150.1700, -999,    163.0,  17.1300,  35.1140,2, -999.000,9,   -999.0,9,    14.99,2,    15.00,2,     0.01,2,     1.18,2,  -999.00,9,-999,9,   -999.0,9,   -999.0,9,  -999.00,9
  35A319940923,    84,  1,     12,     12,2,19941019,2030,  0.0100,-150.1700, -999,    203.3,  13.1150,  34.9070,2, -999.000,9,   -999.0,9,    26.30,2,    26.30,2,     0.00,2,     1.62,2,  -999.00,9,-999,9,   -999.0,9,   -999.0,9,  -999.00,9
  35A319940923,    84,  1,     13,     13,2,19941019,2030,  0.0100,-150.1700, -999,    301.0,  11.7200,  34.8310,2, -999.000,9,   -999.0,9,    28.50,2,    28.50,2,     0.01,2,     1.90,2,  -999.00,9,-999,9,   -999.0,9,   -999.0,9,  -999.00,9