BOTTLE,20120829IOSDFOJC
EXPOCODE,STNNBR,CASTNO,SAMPNO,BTLNBR,BTLNBR_FLAG_W,DATE,TIME,LATITUDE,LONGITUDE,DEPTH,CTDPRS,CTDTMP,CTDSAL,CTDSAL_FLAG_W,CTDOXY,CTDOXY_FLAG_W,OXYGEN,OXYGEN_FLAG_W,NITRAT,NITRAT_FLAG_W,NO2+NO3,NO2+NO3_FLAG_W,NITRIT,NITRIT_FLAG_W,PHSPHT,PHSPHT_FLAG_W,SILCAT,SILCAT_FLAG_W,NH4,NH4_FLAG_W,TCARBN,TCARBN_FLAG_W,ALKALI,ALKALI_FLAG_W,DOC,DOC_FLAG_W
,,,,,,,,,,METERS,DBARS,,,,ML/L,,UMOL/KG,,UMOL/KG,,UMOL/KG,,UMOL/KG,,UMOL/KG,,UMOL/KG,,UMOL/KG,,UMOL/KG,,UMOL/KG,,UMOL/KG,
  35A319940923,   116,  1,      1,      1,2,19941025,0455, -0.2500,-149.2600, -999,      2.0,  27.7890,  35.1640,2, -999.000,9,   -999.0,9,     3.08,2,     3.27,2,     0.19,2,     0.41,2,  -999.00,9,-999,9,   1994.0,2,   2306.0,2,  -999.00,9
  35A319940923,   116,  1,      2,      2,2,19941025,0455, -0.2500,-149.2600, -999,     20.1,  27.6480,  35.1720,2, -999.000,9,   -999.0,9,     3.00,2,     3.19,2,     0.19,2,     0.41,2,  -999.00,9,-999,9,   1994.0,2,   2305.0,2,  -999.00,9
  35A319940923,   116,  1,      3,      3,2,19941025,0455, -0.2500,-149.2600, -999,     30.2,  27.5900,  35.1700,2, -999.000,9,   -999.0,9,  -999.00,9,  -999.00,9,  -999.00,9,  -999.00,9,  -999.00,9,-999,9,   1994.0,2,   2304.0,2,  -999.00,9
  35A319940923,   116,  1,      4,      4,2,19941025,0455, -0.2500,-149.2600, -999,     40.2,  27.5710,  35.1780,2, -999.000,9,   -999.0,9,     2.99,2,     3.20,2,     0.21,2,     0.43,2,  -999.00,9,-999,9,   1994.0,2,   2304.0,2,  -999.00,9
  35A319940923,   116,  1,      5,      5,2,19941025,0455, -0.2500,-149.2600, -999,     50.3,  27.5610,  35.1790,2, -999.000,9,   -999.0,9,     2.88,2,     3.10,2,     0.23,2,     0.44,2,  -999.00,9,-999,9,   -999.0,9,   -999.0,9,  -999.00,9
  35A319940923,   116,  1,      6,      6,2,19941025,0455, -0.2500,-149.2600, -999,     60.4,  27.5500,  35.1850,2, -999.000,9,   -999.0,9,     2.94,2,     3.19,2,     0.26,2,     0.45,2,  -999.00,9,-999,9,   1997.0,2,   2306.0,2,  -999.00,9
  35A319940923,   116,  1,      7,      7,2,19941025,0455, -0.2500,-149.2600, -999,     68.4,  27.5360,  35.1900,2, -999.000,9,   -999.0,9,     2.97,2,     3.27,2,     0.30,2,     0.49,2,  -999.00,9,-999,9,   1999.0,2,   2307.0,2,  -999.00,9
  35A319940923,   116,  1,      8,      8,2,19941025,0455, -0.2500,-149.2600, -999,     79.5,  27.4850,  35.1900,2, -999.000,9,   -999.0,9,     3.05,2,     3.43,2,     0.39,2,     0.52,2,  -999.00,9,-999,9,   2001.0,2,   2305.0,2,  -999.00,9
  35A319940923,   116,  1,      9,      9,2,19941025,0455, -0.2500,-149.2600, -999,     99.6,  26.3050,  35.0020,2, -999.000,9,   -999.0,9,     4.74,2,     6.18,2,     1.44,2,     0.68,2,  -999.00,9,-999,9,   2013.0,2,   2293.0,2,  -999.00,9
  35A319940923,   116,  1,     10,     10,2,19941025,0455, -0.2500,-149.2600, -999,    120.7,  26.0110,  35.4870,2, -999.000,9,   -999.0,9,     8.91,2,     8.95,2,     0.04,2,     0.84,2,  -999.00,9,-999,9,   2053.0,2,   2325.0,2,  -999.00,9
  35A319940923,   116,  1,     11,     11,2,19941025,0455, -0.2500,-149.2600, -999,    139.9,  20.0290,  35.3360,2, -999.000,9,   -999.0,9,    14.12,2,    14.14,2,     0.02,2,     1.11,2,  -999.00,9,-999,9,   2099.0,2,   2316.0,2,  -999.00,9
  35A319940923,   116,  1,     12,     12,2,19941025,0455, -0.2500,-149.2600, -999,    150.9,  18.0820,  35.2840,2, -999.000,9,   -999.0,9,    13.74,2,    13.77,2,     0.03,2,     1.22,2,  -999.00,9,-999,9,   -999.0,9,   -999.0,9,  -999.00,9
  35A319940923,   116,  1,     13,     13,2,19941025,0455, -0.2500,-149.2600, -999,    161.0,  16.3270,  35.0750,2, -999.000,9,   -999.0,9,    13.65,2,    13.67,2,     0.02,2,     1.31,2,  -999.00,9,-999,9,   2124.0,2,   2306.0,2,  -999.00,9
  35A319940923,   116,  1,     14,     14,2,19941025,0455, -0.2500,-149.2600, -999,    182.2,  15.0370,  35.0810,2, -999.000,9,   -999.0,9,    15.26,2,    15.27,2,     0.01,2,     1.45,2,  -999.00,9,-999,9,   -999.0,9,   -999.0,9,  -999.00,9
  35A319940923,   116,  1,     15,     15,2,19941025,0455, -0.2500,-149.2600, -999,    199.3,  13.8920,  34.9370,2, -999.000,9,   -999.0,9,    16.26,2,    16.27,2,     0.01,2,     1.53,2,  -999.00,9,-999,9,   -999.0,9,   -999.0,9,  -999.00,9
  35A319940923,   117,  1,      1,      1,2,19941025,0854, -0.2400,-149.2500, -999,      4.0,  27.5930,  35.1630,2, -999.000,9,   -999.0,9,     2.81,2,     3.01,2,     0.20,2,     0.42,2,  -999.00,9,-999,9,   -999.0,9,   -999.0,9,  -999.00,9
  35A319940923,   117,  1,      2,      2,2,19941025,0854, -0.2400,-149.2500, -999,     19.1,  27.5860,  35.1620,2, -999.000,9,   -999.0,9,     2.84,2,     3.04,2,     0.20,2,     0.41,2,  -999.00,9,-999,9,   -999.0,9,   -999.0,9,  -999.00,9
  35A319940923,   117,  1,      3,      3,2,19941025,0854, -0.2400,-149.2500, -999,     30.2,  27.5890,  35.1620,2, -999.000,9,   -999.0,9,     2.84,2,     3.04,2,     0.20,2,     0.42,2,  -999.00,9,-999,9,   -999.0,9,   -999.0,9,  -999.00,9
  35A319940923,   117,  1,      4,      4,2,19941025,0854, -0.2400,-149.2500, -999,     39.2,  27.5530,  35.1630,2, -999.000,9,   -999.0,9,     2.85,2,     3.06,2,     0.21,2,     0.42,2,  -999.00,9,-999,9,   -999.0,9,   -999.0,9,  -999.00,9
  35A319940923,   117,  1,      5,      5,2,19941025,0854, -0.2400,-149.2500, -999,     50.3,  27.5530,  35.1720,2, -999.000,9,   -999.0,9,     2.96,2,     3.20,2,     0.24,2,     0.43,2,  -999.00,9,-999,9,   -999.0,9,   -999.0,9,  -999.00,9
  35A319940923,   117,  1,      6,      6,2,19941025,0854, -0.2400,-149.2500, -999,     59.4,  27.5430,  35.1810,2, -999.000,9,   -999.0,9,     3.03,2,     3.30,2,     0.27,2,     0.43,2,  -999.00,9,-999,9,   -999.0,9,   -999.0,9,  -999.00,9
  35A319940923,   117,  1,      7,      7,2,19941025,0854, -0.2400,-149.2500, -999,     69.4,  27.5290,  35.1810,2, -999.000,9,   -999.0,9,     3.11,2,     3.41,2,     0.30,2,     0.44,2,  -999.00,9,-999,9,   -999.0,9,   -999.0,9,  -999.00,9
  35A319940923,   117,  1,      8,      8,2,19941025,0854, -0.2400,-149.2500, -999,     78.5,  27.5200,  35.1860,2, -999.000,9,   -999.0,9,     3.17,2,     3.50,2,     0.33,2,     0.45,2,  -999.00,9,-999,9,   -999.0,9,   -999.0,9,  -999.00,9
  35A319940923,   117,  1,      9,      9,2,19941025,0854, -0.2400,-149.2500, -999,     99.6,  26.1990,  35.0030,2, -999.000,9,   -999.0,9,     5.23,2,     6.60,2,     1.37,2,     0.63,2,  -999.00,9,-999,9,   -999.0,9,   -999.0,9,  -999.00,9
  35A319940923,   117,  1,     10,     10,2,19941025,0854, -0.2400,-149.2500, -999,    120.7,  26.0840,  35.2570,2, -999.000,9,   -999.0,9,     7.63,2,     7.71,2,     0.08,2,     0.72,2,  -999.00,9,-999,9,   -999.0,9,   -999.0,9,  -999.00,9
  35A319940923,   117,  1,     11,     11,2,19941025,0854, -0.2400,-149.2500, -999,    140.9,  23.0790,  35.3770,2, -999.000,9,   -999.0,9,    10.68,2,    10.71,2,     0.03,2,     0.90,2,  -999.00,9,-999,9,   -999.0,9,   -999.0,9,  -999.00,9
  35A319940923,   117,  1,     12,     12,2,19941025,0854, -0.2400,-149.2500, -999,    150.9,  19.8760,  35.2960,2, -999.000,9,   -999.0,9,    12.98,2,    13.00,2,     0.02,2,     1.06,2,  -999.00,9,-999,9,   -999.0,9,   -999.0,9,  -999.00,9
  35A319940923,   117,  1,     13,     13,2,19941025,0854, -0.2400,-149.2500, -999,    162.0,  18.0160,  35.2650,2, -999.000,9,   -999.0,9,  -999.00,9,  -999.00,9,  -999.00,9,  -999.00,9,  -999.00,9,-999,9,   -999.0,9,   -999.0,9,  -999.00,9
  35A319940923,   117,  1,     14,     14,2,19941025,0854, -0.2400,-149.2500, -999,    201.3,  13.8470,  34.9290,2, -999.000,9,   -999.0,9,    19.59,2,    19.60,2,     0.01,2,     1.54,2,  -999.00,9,-999,9,   -999.0,9,   -999.0,9,  -999.00,9
  35A319940923,   118,  1,      1,      1,2,19941025,1305, -0.2500,-149.2400, -999,      3.0,  27.5490,  35.1640,2,    4.428,2,    193.1,2,     2.83,2,     3.05,2,     0.22,2,     0.41,2,  -999.00,9,0.13,2,   -999.0,9,   -999.0,9,  -999.00,9
  35A319940923,   118,  1,      2,      2,2,19941025,1305, -0.2500,-149.2400, -999,      9.1,  27.5520,  35.1640,2,    4.435,2,    193.4,2,     2.84,2,     3.06,2,     0.22,2,     0.40,2,  -999.00,9,0.1,2,   -999.0,9,   -999.0,9,  -999.00,9
  35A319940923,   118,  1,      3,      3,2,19941025,1305, -0.2500,-149.2400, -999,     19.1,  27.5610,  35.1630,2,    4.444,2,    193.8,2,     2.83,2,     3.05,2,     0.22,2,     0.39,2,  -999.00,9,0.07,2,   -999.0,9,   -999.0,9,  -999.00,9
  35A319940923,   118,  1,      4,      4,2,19941025,1305, -0.2500,-149.2400, -999,     30.2,  27.5690,  35.1630,2,    4.407,2,    192.2,2,     2.86,2,     3.09,2,     0.23,2,     0.46,2,  -999.00,9,0.07,2,   -999.0,9,   -999.0,9,  -999.00,9
  35A319940923,   118,  1,      5,      5,2,19941025,1305, -0.2500,-149.2400, -999,     39.2,  27.5690,  35.1630,2,    4.368,2,    190.5,2,     2.86,2,     3.09,2,     0.23,2,     0.45,2,  -999.00,9,0.12,2,   -999.0,9,   -999.0,9,  -999.00,9
  35A319940923,   118,  1,      6,      6,2,19941025,1305, -0.2500,-149.2400, -999,     49.3,  27.5680,  35.1630,2,    4.391,2,    191.5,2,     2.90,2,     3.14,2,     0.24,2,     0.46,2,  -999.00,9,0.13,2,   -999.0,9,   -999.0,9,  -999.00,9
  35A319940923,   118,  1,      7,      7,2,19941025,1305, -0.2500,-149.2400, -999,     59.4,  27.5540,  35.1750,2,    4.382,2,    191.1,2,     3.00,2,     3.28,2,     0.28,2,     0.47,2,  -999.00,9,0.26,2,   -999.0,9,   -999.0,9,  -999.00,9
  35A319940923,   118,  1,      8,      8,2,19941025,1305, -0.2500,-149.2400, -999,     69.4,  27.5340,  35.1890,2,    4.297,2,    187.4,2,     3.12,2,     3.47,2,     0.35,2,     0.50,2,  -999.00,9,0.25,2,   -999.0,9,   -999.0,9,  -999.00,9
  35A319940923,   118,  1,      9,      9,2,19941025,1305, -0.2500,-149.2400, -999,     78.5,  27.4990,  35.1870,2,    4.293,2,    187.2,2,     3.20,2,     3.59,2,     0.40,2,     0.55,2,  -999.00,9,0.32,2,   -999.0,9,   -999.0,9,  -999.00,9
  35A319940923,   118,  1,     10,     10,2,19941025,1305, -0.2500,-149.2400, -999,     98.6,  26.3160,  35.0110,2,    3.874,2,    168.9,2,     4.61,2,     6.09,2,     1.48,2,     0.70,2,  -999.00,9,0.1,2,   -999.0,9,   -999.0,9,  -999.00,9
  35A319940923,   118,  1,     11,     11,2,19941025,1305, -0.2500,-149.2400, -999,    120.7,  25.3590,  35.5810,2,    2.977,2,    129.7,2,     8.94,2,     8.98,2,     0.04,2,     0.93,2,  -999.00,9,0,2,   -999.0,9,   -999.0,9,  -999.00,9
  35A319940923,   118,  1,     12,     12,2,19941025,1305, -0.2500,-149.2400, -999,    149.9,  18.1070,  35.3020,2,    2.536,2,    110.3,2,    14.88,2,    14.90,2,     0.02,2,     1.31,2,  -999.00,9,0.16,2,   -999.0,9,   -999.0,9,  -999.00,9
  35A319940923,   119,  1,      1,      1,2,19941025,1652, -0.2600,-149.2200, -999,      2.0,  27.5260,  35.1650,2, -999.000,9,   -999.0,9,     2.89,2,     3.13,2,     0.24,2,     0.39,2,  -999.00,9,-999,9,   1994.0,2,   2303.0,2,  -999.00,9
  35A319940923,   119,  1,      2,      2,2,19941025,1652, -0.2600,-149.2200, -999,     20.1,  27.5260,  35.1660,2, -999.000,9,   -999.0,9,     2.93,2,     3.18,2,     0.25,2,     0.40,2,  -999.00,9,-999,9,   1997.0,2,   2306.0,2,  -999.00,9
  35A319940923,   119,  1,      3,      3,2,19941025,1652, -0.2600,-149.2200, -999,     30.2,  27.5270,  35.1660,2, -999.000,9,   -999.0,9,     2.91,2,     3.16,2,     0.25,2,     0.41,2,  -999.00,9,-999,9,   1995.0,2,   2303.0,2,  -999.00,9
  35A319940923,   119,  1,      4,      4,2,19941025,1652, -0.2600,-149.2200, -999,     40.2,  27.5290,  35.1650,2, -999.000,9,   -999.0,9,     2.92,2,     3.17,2,     0.25,2,     0.42,2,  -999.00,9,-999,9,   1996.0,2,   2304.0,2,  -999.00,9
  35A319940923,   119,  1,      5,      5,2,19941025,1652, -0.2600,-149.2200, -999,     59.4,  27.5280,  35.1680,2, -999.000,9,   -999.0,9,     2.95,2,     3.22,2,     0.27,2,     0.44,2,  -999.00,9,-999,9,   1996.0,2,   2304.0,2,  -999.00,9
  35A319940923,   119,  1,      6,      6,2,19941025,1652, -0.2600,-149.2200, -999,     70.4,  27.5170,  35.1700,2, -999.000,9,   -999.0,9,     3.01,2,     3.30,2,     0.29,2,     0.45,2,  -999.00,9,-999,9,   1997.0,2,   2305.0,2,  -999.00,9
  35A319940923,   119,  1,      7,      7,2,19941025,1652, -0.2600,-149.2200, -999,     79.5,  27.4950,  35.1690,2, -999.000,9,   -999.0,9,     3.13,2,     3.50,2,     0.37,2,     0.47,2,  -999.00,9,-999,9,   1998.0,2,   2304.0,2,  -999.00,9
  35A319940923,   119,  1,      8,      8,2,19941025,1652, -0.2600,-149.2200, -999,    100.6,  26.3680,  35.0060,2, -999.000,9,   -999.0,9,     4.85,2,     6.31,2,     1.46,2,     0.64,2,  -999.00,9,-999,9,   2015.0,2,   2292.0,2,  -999.00,9
  35A319940923,   119,  1,      9,      9,2,19941025,1652, -0.2600,-149.2200, -999,    120.7,  25.5060,  35.5710,2, -999.000,9,   -999.0,9,     8.97,2,     9.02,2,     0.05,2,     0.86,2,  -999.00,9,-999,9,   2061.0,2,   2327.0,2,  -999.00,9
  35A319940923,   119,  1,     10,     10,2,19941025,1652, -0.2600,-149.2200, -999,    140.9,  20.4180,  35.4650,2, -999.000,9,   -999.0,9,    13.48,2,    13.50,2,     0.03,2,     1.20,2,  -999.00,9,-999,9,   -999.0,9,   -999.0,9,  -999.00,9
  35A319940923,   119,  1,     11,     11,2,19941025,1652, -0.2600,-149.2200, -999,    160.0,  16.3650,  35.0940,2, -999.000,9,   -999.0,9,    16.08,2,    16.10,2,     0.02,2,     1.34,2,  -999.00,9,-999,9,   2123.0,2,   2308.0,2,  -999.00,9
  35A319940923,   119,  1,     12,     12,2,19941025,1652, -0.2600,-149.2200, -999,    181.1,  15.3320,  35.1100,2, -999.000,9,   -999.0,9,    18.29,2,    18.30,2,     0.01,2,     1.47,2,  -999.00,9,-999,9,   -999.0,9,   -999.0,9,  -999.00,9
  35A319940923,   119,  1,     13,     13,2,19941025,1652, -0.2600,-149.2200, -999,    201.3,  14.0000,  34.9410,2, -999.000,9,   -999.0,9,    19.69,2,    19.70,2,     0.01,2,     1.54,2,  -999.00,9,-999,9,   2145.0,2,   2302.0,2,  -999.00,9
  35A319940923,   119,  1,     14,     14,2,19941025,1652, -0.2600,-149.2200, -999,    251.6,  12.5740,  34.8900,2, -999.000,9,   -999.0,9,    25.19,2,    25.20,2,     0.01,2,     1.96,2,  -999.00,9,-999,9,   -999.0,9,   -999.0,9,  -999.00,9
  35A319940923,   119,  1,     15,     15,2,19941025,1652, -0.2600,-149.2200, -999,    300.0,  11.2890,  34.8010,2, -999.000,9,   -999.0,9,    33.79,2,    33.80,2,     0.01,2,     2.60,2,  -999.00,9,-999,9,   2237.0,2,   2298.0,2,  -999.00,9
  35A319940923,   120,  1,      1,      1,2,19941025,2037, -0.2800,-149.2200, -999,      3.0,  27.6810,  35.1710,2, -999.000,9,   -999.0,9,     2.89,2,     3.13,2,     0.24,2,     0.38,2,  -999.00,9,-999,9,   -999.0,9,   -999.0,9,  -999.00,9
  35A319940923,   120,  1,      2,      2,2,19941025,2037, -0.2800,-149.2200, -999,     20.1,  27.5520,  35.1670,2, -999.000,9,   -999.0,9,     2.92,2,     3.16,2,     0.24,2,     0.38,2,  -999.00,9,-999,9,   -999.0,9,   -999.0,9,  -999.00,9
  35A319940923,   120,  1,      3,      3,2,19941025,2037, -0.2800,-149.2200, -999,     30.2,  27.5400,  35.1690,2, -999.000,9,   -999.0,9,     2.93,2,     3.18,2,     0.25,2,     0.38,2,  -999.00,9,-999,9,   -999.0,9,   -999.0,9,  -999.00,9
  35A319940923,   120,  1,      4,      4,2,19941025,2037, -0.2800,-149.2200, -999,     39.2,  27.5390,  35.1690,2, -999.000,9,   -999.0,9,     2.94,2,     3.20,2,     0.26,2,     0.38,2,  -999.00,9,-999,9,   -999.0,9,   -999.0,9,  -999.00,9
  35A319940923,   120,  1,      5,      5,2,19941025,2037, -0.2800,-149.2200, -999,     60.4,  27.5260,  35.1730,2, -999.000,9,   -999.0,9,     3.04,2,     3.34,2,     0.30,2,     0.40,2,  -999.00,9,-999,9,   -999.0,9,   -999.0,9,  -999.00,9
  35A319940923,   120,  1,      6,      6,2,19941025,2037, -0.2800,-149.2200, -999,     69.4,  27.5020,  35.1730,2, -999.000,9,   -999.0,9,     3.11,2,     3.45,2,     0.34,2,     0.41,2,  -999.00,9,-999,9,   -999.0,9,   -999.0,9,  -999.00,9
  35A319940923,   120,  1,      7,      7,2,19941025,2037, -0.2800,-149.2200, -999,     80.5,  27.4100,  35.1580,2, -999.000,9,   -999.0,9,     3.37,2,     3.85,2,     0.48,2,     0.45,2,  -999.00,9,-999,9,   -999.0,9,   -999.0,9,  -999.00,9
  35A319940923,   120,  1,      8,      8,2,19941025,2037, -0.2800,-149.2200, -999,    100.6,  26.0800,  35.0050,2, -999.000,9,   -999.0,9,     5.59,2,     6.88,2,     1.29,2,     0.62,2,  -999.00,9,-999,9,   -999.0,9,   -999.0,9,  -999.00,9
  35A319940923,   120,  1,      9,      9,2,19941025,2037, -0.2800,-149.2200, -999,    121.8,  23.3860,  35.5150,2, -999.000,9,   -999.0,9,    10.63,2,    10.66,2,     0.03,2,     0.89,2,  -999.00,9,-999,9,   -999.0,9,   -999.0,9,  -999.00,9
  35A319940923,   120,  1,     10,     10,2,19941025,2037, -0.2800,-149.2200, -999,    140.9,  20.9480,  35.5320,2, -999.000,9,   -999.0,9,    13.08,2,    13.10,2,     0.02,2,     1.08,2,  -999.00,9,-999,9,   -999.0,9,   -999.0,9,  -999.00,9
  35A319940923,   120,  1,     11,     11,2,19941025,2037, -0.2800,-149.2200, -999,    163.0,  17.4800,  35.2270,2, -999.000,9,   -999.0,9,    15.38,2,    15.40,2,     0.02,2,     1.22,2,  -999.00,9,-999,9,   -999.0,9,   -999.0,9,  -999.00,9
  35A319940923,   120,  1,     12,     12,2,19941025,2037, -0.2800,-149.2200, -999,    199.3,  14.5200,  35.0230,2, -999.000,9,   -999.0,9,    18.69,2,    18.70,2,     0.01,2,     1.43,2,  -999.00,9,-999,9,   -999.0,9,   -999.0,9,  -999.00,9
  35A319940923,   120,  1,     13,     13,2,19941025,2037, -0.2800,-149.2200, -999,    300.0,  11.5140,  34.8150,2, -999.000,9,   -999.0,9,    20.28,2,    20.30,2,     0.02,2,     1.53,2,  -999.00,9,-999,9,   -999.0,9,   -999.0,9,  -999.00,9