BOTTLE,20120829IOSDFOJC
EXPOCODE,STNNBR,CASTNO,SAMPNO,BTLNBR,BTLNBR_FLAG_W,DATE,TIME,LATITUDE,LONGITUDE,DEPTH,CTDPRS,CTDTMP,CTDSAL,CTDSAL_FLAG_W,CTDOXY,CTDOXY_FLAG_W,OXYGEN,OXYGEN_FLAG_W,NITRAT,NITRAT_FLAG_W,NO2+NO3,NO2+NO3_FLAG_W,NITRIT,NITRIT_FLAG_W,PHSPHT,PHSPHT_FLAG_W,SILCAT,SILCAT_FLAG_W,NH4,NH4_FLAG_W,TCARBN,TCARBN_FLAG_W,ALKALI,ALKALI_FLAG_W,DOC,DOC_FLAG_W
,,,,,,,,,,METERS,DBARS,,,,ML/L,,UMOL/KG,,UMOL/KG,,UMOL/KG,,UMOL/KG,,UMOL/KG,,UMOL/KG,,UMOL/KG,,UMOL/KG,,UMOL/KG,,UMOL/KG,
  35A319940923,     6,  1,      1,      1,2,19940926,0851,-10.0000, 165.0000, -999,      2.0,  28.0040,  34.4720,2,    4.427,2,    193.2,2,     0.00,2,     0.00,2,     0.00,2,     0.10,2,  -999.00,9,-999,9,   1911.0,2,   2265.0,2,    70.86,2
  35A319940923,     6,  1,      2,      2,2,19940926,0851,-10.0000, 165.0000, -999,     20.1,  28.0140,  34.4710,2,    4.430,2,    193.3,2,     0.00,2,     0.00,2,     0.00,2,     0.11,2,     0.06,2,-999,9,   1916.0,2,   2266.0,2,    70.32,2
  35A319940923,     6,  1,      3,      3,2,19940926,0851,-10.0000, 165.0000, -999,     40.2,  27.9560,  34.4870,2,    4.386,2,    191.4,2,     0.00,2,     0.00,2,     0.00,2,     0.15,2,     0.06,2,-999,9,   1919.0,2,   2270.0,2,  -999.00,9
  35A319940923,     6,  1,      4,      4,2,19940926,0851,-10.0000, 165.0000, -999,     49.3,  27.8990,  34.5330,2,    4.379,2,    191.1,2,     0.03,2,     0.03,2,     0.00,2,     0.14,2,  -999.00,9,-999,9,   1932.0,2,   -999.0,9,    69.08,2
  35A319940923,     6,  1,      5,      5,2,19940926,0851,-10.0000, 165.0000, -999,     59.4,  27.8250,  34.5630,2,    4.236,2,    184.8,2,     0.61,2,     0.65,2,     0.04,2,     0.18,2,  -999.00,9,-999,9,   1901.0,2,   2261.0,2,    65.54,2
  35A319940923,     6,  1,      6,      6,2,19940926,0851,-10.0000, 165.0000, -999,     68.4,  26.7720,  35.3090,2,    3.454,2,    150.6,2,     3.45,2,     3.64,2,     0.19,2,     0.36,2,     0.06,2,-999,9,   2041.0,2,   -999.0,9,    62.61,2
  35A319940923,     6,  1,      7,      7,2,19940926,0851,-10.0000, 165.0000, -999,     81.5,  26.2920,  35.5620,2,    2.960,2,    129.0,2,     6.34,2,     6.69,2,     0.35,2,     0.56,2,     0.06,2,-999,9,   2042.0,2,   2332.0,2,    61.59,2
  35A319940923,     6,  1,      8,      8,2,19940926,0851,-10.0000, 165.0000, -999,     90.6,  26.1210,  35.5380,2, -999.000,9,   -999.0,9,     6.63,2,     6.99,2,     0.35,2,     0.58,2,     0.06,2,-999,9,   -999.0,9,   -999.0,9,  -999.00,9
  35A319940923,     6,  1,      9,      9,2,19940926,0851,-10.0000, 165.0000, -999,    100.6,  25.4450,  35.4850,2, -999.000,9,    125.4,2,  -999.00,9,  -999.00,9,  -999.00,9,  -999.00,9,     0.08,2,-999,9,   -999.0,9,   -999.0,9,    64.14,2
  35A319940923,     6,  1,     10,     10,2,19940926,0851,-10.0000, 165.0000, -999,    119.8,  24.2390,  35.8040,2, -999.000,9,   -999.0,9,     8.78,2,     8.83,2,     0.05,2,     0.73,2,     0.05,2,-999,9,   -999.0,9,   -999.0,9,    56.42,2
  35A319940923,     6,  1,     11,     11,2,19940926,0851,-10.0000, 165.0000, -999,    140.9,  23.8350,  35.9860,2,    2.410,2,    104.9,2,     9.44,2,     9.47,2,     0.03,2,     0.80,2,     0.04,2,-999,9,   2111.0,2,   2370.0,2,    55.18,2
  35A319940923,     6,  1,     12,     12,2,19940926,0851,-10.0000, 165.0000, -999,    161.0,  22.7910,  36.0150,2,    2.541,2,    110.6,2,     9.62,2,     9.64,2,     0.02,2,     0.84,2,     0.03,2,-999,9,   2107.0,2,   2368.0,2,    54.81,2
  35A319940923,     6,  1,     13,     13,2,19940926,0851,-10.0000, 165.0000, -999,    181.2,  21.7140,  35.9310,2,    2.487,2,    108.2,2,    11.73,2,    11.74,2,     0.01,2,     1.01,2,     0.03,2,-999,9,   -999.0,9,   -999.0,9,    51.17,2
  35A319940923,     6,  1,     14,     14,2,19940926,0851,-10.0000, 165.0000, -999,   1011.4,   4.2630,  34.5300,2, -999.000,9,   -999.0,9,    35.20,2,    35.20,2,     0.00,2,     2.41,2,  -999.00,9,-999,9,   2259.0,2,   2345.0,2,    42.38,2
  35A319940923,     7,  1,      1,      1,2,19940926,1548, -9.0000, 165.0000, -999,      3.0,  28.4560,  34.5410,2,    4.328,2,    188.9,2,     0.00,2,     0.00,2,     0.00,2,     0.13,2,     0.08,2,-999,9,   1916.0,2,   2268.0,2,    72.52,2
  35A319940923,     7,  1,      2,      2,2,19940926,1548, -9.0000, 165.0000, -999,     19.1,  28.4530,  34.5410,2,    4.321,2,    188.6,2,     0.01,2,     0.01,2,     0.00,2,     0.15,2,     0.07,2,-999,9,   1916.0,2,   2267.0,2,    67.69,2
  35A319940923,     7,  1,      3,      3,2,19940926,1548, -9.0000, 165.0000, -999,     39.2,  28.4550,  34.5420,2, -999.000,9,   -999.0,9,     0.05,2,     0.05,2,     0.00,2,     0.15,2,     0.06,2,-999,9,   1916.0,2,   2267.0,2,  -999.00,9
  35A319940923,     7,  1,      4,      4,2,19940926,1548, -9.0000, 165.0000, -999,     50.3,  28.4300,  34.5580,2,    4.044,2,    176.5,2,     0.54,2,     0.58,2,     0.03,2,     0.19,2,     0.10,2,-999,9,   1938.0,2,   -999.0,9,  -999.00,9
  35A319940923,     7,  1,      5,      5,2,19940926,1548, -9.0000, 165.0000, -999,     59.4,  27.4800,  35.1670,2,    3.539,2,    154.4,2,     3.33,2,     3.60,2,     0.27,2,     0.38,2,     0.13,2,-999,9,   2004.0,2,   -999.0,9,    63.31,2
  35A319940923,     7,  1,      6,      6,2,19940926,1548, -9.0000, 165.0000, -999,     70.4,  27.3050,  35.4800,2,    3.201,2,    139.6,2,     4.34,2,     4.85,2,     0.51,2,     0.48,2,     0.10,2,-999,9,   2024.0,2,   2331.0,2,    59.40,2
  35A319940923,     7,  1,      7,      7,2,19940926,1548, -9.0000, 165.0000, -999,     79.5,  27.0810,  35.7030,2,    3.090,2,    134.7,2,     5.73,2,     6.36,2,     0.63,2,     0.57,2,     0.06,2,-999,9,   2042.0,2,   2344.0,2,    59.95,2
  35A319940923,     7,  1,      8,      8,2,19940926,1548, -9.0000, 165.0000, -999,     90.6,  26.5710,  35.8390,2,    2.882,2,    125.6,2,     7.40,2,     7.73,2,     0.33,2,     0.66,2,     0.03,2,-999,9,   2059.0,2,   2355.0,2,  -999.00,9
  35A319940923,     7,  1,      9,      9,2,19940926,1548, -9.0000, 165.0000, -999,    100.6,  25.8930,  35.9470,2,    2.772,2,    120.8,2,     8.08,2,     8.20,2,     0.12,2,     0.70,2,     0.03,2,-999,9,   2076.0,2,   2366.0,2,    59.86,2
  35A319940923,     7,  1,     10,     10,2,19940926,1548, -9.0000, 165.0000, -999,    119.8,  25.2270,  35.9970,2,    2.677,2,    116.6,2,     8.48,2,     8.52,2,     0.04,2,     0.73,2,     0.02,2,-999,9,   2082.0,2,   2366.0,2,    56.16,2
  35A319940923,     7,  1,     11,     11,2,19940926,1548, -9.0000, 165.0000, -999,    139.9,  23.6500,  36.0230,2,    2.614,2,    113.8,2,     9.11,2,     9.14,2,     0.03,2,     0.77,2,     0.02,2,-999,9,   -999.0,9,   -999.0,9,    56.05,2
  35A319940923,     7,  1,     12,     12,2,19940926,1548, -9.0000, 165.0000, -999,    160.0,  22.9250,  36.0360,2,    2.530,2,    110.1,2,     9.78,2,     9.79,2,     0.01,2,     0.84,2,     0.02,2,-999,9,   2114.0,2,   2370.0,2,    55.12,2
  35A319940923,     7,  1,     13,     13,2,19940926,1548, -9.0000, 165.0000, -999,    181.2,  20.8940,  35.8530,2,    2.397,2,    104.3,2,    11.42,2,    11.43,2,     0.01,2,     0.96,2,  -999.00,9,-999,9,   2130.0,2,   2359.0,2,    52.27,2
  35A319940923,     7,  1,     14,     14,2,19940926,1548, -9.0000, 165.0000, -999,    303.0,  12.8700,  34.9800,2, -999.000,9,   -999.0,9,  -999.00,9,  -999.00,9,  -999.00,9,  -999.00,9,  -999.00,9,-999,9,   2178.0,2,   2310.0,2,  -999.00,9
  35A319940923,     7,  1,     15,     15,2,19940926,1548, -9.0000, 165.0000, -999,   1011.4,   4.4100,  34.5200,2, -999.000,9,    114.7,2,  -999.00,9,  -999.00,9,  -999.00,9,  -999.00,9,  -999.00,9,-999,9,   2254.0,2,   2340.0,2,    43.45,2
  35A319940923,     8,  1,      1,      1,2,19940926,2251, -8.0000, 165.0000, -999,      3.0,  28.4910,  34.4470,2,    4.300,2,    187.7,2,     0.00,2,     0.00,2,     0.00,2,     0.11,2,     0.04,2,0.03,2,   1911.0,2,   2266.0,2,    70.90,2
  35A319940923,     8,  1,      2,      2,2,19940926,2251, -8.0000, 165.0000, -999,     20.1,  28.4640,  34.4450,2,    4.365,2,    190.5,2,     0.00,2,     0.00,2,     0.00,2,     0.14,2,     0.06,2,0.08,2,   1911.0,2,   2266.0,2,  -999.00,9
  35A319940923,     8,  1,      3,      3,2,19940926,2251, -8.0000, 165.0000, -999,     39.2,  28.4600,  34.4440,2,    4.245,2,    185.3,2,     0.00,2,     0.00,2,     0.00,2,     0.16,2,     0.06,2,0.03,2,   1906.0,2,   2259.0,2,    68.65,2
  35A319940923,     8,  1,      4,      4,2,19940926,2251, -8.0000, 165.0000, -999,     50.3,  28.3100,  34.5740,2,    4.193,2,    183.0,2,     0.06,2,     0.07,2,     0.01,2,     0.17,2,     0.10,2,0.13,2,   1927.0,2,   2274.0,2,    68.39,2
  35A319940923,     8,  1,      5,      5,2,19940926,2251, -8.0000, 165.0000, -999,     60.4,  26.7440,  35.1440,2,    3.353,2,    146.3,2,     3.46,2,     3.66,2,     0.20,2,     0.35,2,     0.11,2,0.01,2,   1994.0,2,   2301.0,2,    57.78,2
  35A319940923,     8,  1,      6,      6,2,19940926,2251, -8.0000, 165.0000, -999,     70.4,  26.6200,  35.4010,2,    2.864,2,    124.9,2,     6.65,2,     6.94,2,     0.29,2,     0.58,2,     0.06,2,0.03,2,   2036.0,2,   2323.0,2,    57.45,2
  35A319940923,     8,  1,      7,      7,2,19940926,2251, -8.0000, 165.0000, -999,     80.5,  26.1340,  35.5160,2,    2.647,2,    115.4,2,     8.23,2,     8.43,2,     0.20,2,     0.70,2,     0.04,2,0.06,2,   2054.0,2,   2334.0,2,    57.16,2
  35A319940923,     8,  1,      8,      8,2,19940926,2251, -8.0000, 165.0000, -999,     90.6,  25.9960,  35.6940,2,    2.574,2,    112.2,2,     8.77,2,     8.93,2,     0.16,2,     0.74,2,     0.02,2,0.18,2,   2066.0,2,   2344.0,2,    57.72,2
  35A319940923,     8,  1,      9,      9,2,19940926,2251, -8.0000, 165.0000, -999,     99.6,  25.6780,  35.7370,2,    2.488,2,    108.4,2,     8.97,2,     9.09,2,     0.12,2,     0.76,2,     0.02,2,0,2,   2068.0,2,   2346.0,2,    57.52,2
  35A319940923,     8,  1,     10,     10,2,19940926,2251, -8.0000, 165.0000, -999,    120.8,  25.0180,  35.9240,2,    2.360,2,    102.8,2,     9.82,2,     9.88,2,     0.06,2,     0.83,2,     0.01,2,0.09,2,   2090.0,2,   2361.0,2,    54.96,2
  35A319940923,     8,  1,     11,     11,2,19940926,2251, -8.0000, 165.0000, -999,    137.9,  24.1960,  36.0610,2,    2.499,2,    108.8,2,     9.34,2,     9.38,2,     0.04,2,     0.83,2,     0.01,2,0.04,2,   2101.0,2,   2371.0,2,    56.70,2
  35A319940923,     8,  1,     12,     12,2,19940926,2251, -8.0000, 165.0000, -999,    161.0,  21.9780,  35.9710,2,    2.553,2,    111.1,2,    10.13,2,    10.16,2,     0.03,2,     0.93,2,  -999.00,9,0.21,2,   -999.0,9,   -999.0,9,    56.09,2
  35A319940923,     8,  1,     13,     13,2,19940926,2251, -8.0000, 165.0000, -999,    180.2,  19.9530,  35.7550,2, -999.000,9,    101.7,2,    11.70,2,    11.72,2,     0.02,2,     0.89,2,     0.01,2,0.01,2,   2131.0,2,   2358.0,2,    54.75,2
  35A319940923,     9,  1,      1,      1,2,19940927,0624, -6.5900, 165.0000, -999,      2.0,  28.5410,  34.2520,2,    4.302,2,    187.8,2,     0.00,2,     0.00,2,     0.00,2,     0.19,2,     0.08,2,-999,9,   1900.0,2,   2249.0,2,    70.62,2
  35A319940923,     9,  1,      2,      2,2,19940927,0624, -6.5900, 165.0000, -999,     19.1,  28.4590,  34.2580,2,    4.458,2,    194.6,2,     0.00,2,     0.00,2,     0.00,2,     0.20,2,     0.10,2,-999,9,   1899.0,2,   2248.0,2,    75.19,2
  35A319940923,     9,  1,      3,      3,2,19940927,0624, -6.5900, 165.0000, -999,     39.2,  28.3550,  34.2370,2,    4.556,2,    198.9,2,     0.00,2,     0.00,2,     0.00,2,     0.21,2,     0.10,2,-999,9,   1902.0,2,   2250.0,2,  -999.00,9
  35A319940923,     9,  1,      4,      4,2,19940927,0624, -6.5900, 165.0000, -999,     49.3,  28.2940,  34.2710,2,    4.414,2,   -999.0,9,     0.00,2,     0.00,2,     0.00,2,     0.22,2,     0.09,2,-999,9,   1903.0,2,   2250.0,2,    70.57,2
  35A319940923,     9,  1,      5,      5,2,19940927,0624, -6.5900, 165.0000, -999,     59.4,  28.1310,  34.5470,2,    4.273,2,    186.5,2,     0.00,2,     0.01,2,     0.01,2,     0.27,2,     0.16,2,-999,9,   1927.0,2,   2266.0,2,  -999.00,9
  35A319940923,     9,  1,      6,      6,2,19940927,0624, -6.5900, 165.0000, -999,     69.4,  27.8960,  34.9920,2,    3.736,2,    163.0,2,     2.66,2,     2.81,2,     0.15,2,     0.42,2,     0.17,2,-999,9,   1984.0,2,   2299.0,2,    70.68,2
  35A319940923,     9,  1,      7,      7,2,19940927,0624, -6.5900, 165.0000, -999,     80.5,  27.0940,  35.4370,2,    3.167,2,    138.1,2,     2.50,2,     2.83,2,     0.33,2,     0.75,2,     0.04,2,-999,9,   2027.0,2,   2321.0,2,    62.89,2
  35A319940923,     9,  1,      8,      8,2,19940927,0624, -6.5900, 165.0000, -999,     90.6,  26.8630,  35.5920,2,    2.966,2,    129.3,2,     6.54,2,     6.75,2,     0.21,2,     0.89,2,     0.03,2,-999,9,   2051.0,2,   2341.0,2,    61.56,2
  35A319940923,     9,  1,      9,      9,2,19940927,0624, -6.5900, 165.0000, -999,     98.6,  26.3890,  35.7080,2,    2.861,2,    124.7,2,     7.99,2,     8.12,2,     0.13,2,     0.96,2,     0.01,2,-999,9,   2061.0,2,   2347.0,2,    59.65,2
  35A319940923,     9,  1,     10,     10,2,19940927,0624, -6.5900, 165.0000, -999,    118.7,  24.8620,  35.8850,2,    2.697,2,    117.5,2,     8.66,2,     8.71,2,     0.05,2,     1.06,2,     0.01,2,-999,9,   2085.0,2,   2360.0,2,    60.08,2
  35A319940923,     9,  1,     11,     11,2,19940927,0624, -6.5900, 165.0000, -999,    139.9,  23.8180,  35.9290,2,    2.524,2,   -999.0,9,  -999.00,9,  -999.00,9,  -999.00,9,  -999.00,9,  -999.00,9,-999,9,   -999.0,9,   -999.0,9,  -999.00,9
  35A319940923,     9,  1,     12,     12,2,19940927,0624, -6.5900, 165.0000, -999,    160.0,  22.1080,  35.8840,2,    2.360,2,    102.7,2,    11.77,2,    11.78,2,     0.01,2,     1.26,2,     0.01,2,-999,9,   2114.0,2,   2355.0,2,    56.16,2
  35A319940923,     9,  1,     13,     13,2,19940927,0624, -6.5900, 165.0000, -999,    180.2,  19.5750,  35.6850,2, -999.000,9,   -999.0,9,    13.92,2,    13.93,2,     0.01,2,     1.53,2,  -999.00,9,-999,9,   -999.0,9,   -999.0,9,    50.37,2
  35A319940923,     9,  1,     14,     14,2,19940927,0624, -6.5900, 165.0000, -999,   1011.3,   4.3370,  34.5320,2,    2.460,2,    106.6,2,    39.38,2,    39.38,2,     0.00,2,     3.49,2,  -999.00,9,-999,9,   2270.0,2,   2349.0,2,    43.44,2
  35A319940923,    10,  1,      1,      1,2,19940927,1300, -6.0000, 165.0000, -999,      5.0,  29.1600,  34.0810,2, -999.000,9,   -999.0,9,     0.00,2,     0.00,2,     0.00,2,     0.09,2,     0.04,2,-999,9,   -999.0,9,   -999.0,9,    70.86,2
  35A319940923,    10,  1,      2,      2,2,19940927,1300, -6.0000, 165.0000, -999,     20.1,  29.1780,  34.0820,2, -999.000,9,   -999.0,9,     0.00,2,     0.00,2,     0.00,2,     0.10,2,     0.02,2,-999,9,   1884.0,2,   2230.0,2,  -999.00,9
  35A319940923,    10,  1,      3,      3,2,19940927,1300, -6.0000, 165.0000, -999,     40.2,  29.1860,  34.0820,2, -999.000,9,   -999.0,9,     0.00,2,     0.00,2,     0.00,2,     0.10,2,     0.02,2,-999,9,   1891.0,2,   2240.0,2,    70.50,2
  35A319940923,    10,  1,      4,      4,2,19940927,1300, -6.0000, 165.0000, -999,     48.3,  29.2460,  34.2070,2, -999.000,9,   -999.0,9,     0.00,2,     0.00,2,     0.00,2,     0.15,2,     0.02,2,-999,9,   -999.0,9,   -999.0,9,    68.77,2
  35A319940923,    10,  1,      5,      5,2,19940927,1300, -6.0000, 165.0000, -999,     61.4,  29.6140,  35.2260,2, -999.000,9,   -999.0,9,     0.05,2,     0.06,2,     0.01,2,     0.27,2,     0.03,2,-999,9,   1966.0,2,   2310.0,2,    69.54,2
  35A319940923,    10,  1,      6,      6,2,19940927,1300, -6.0000, 165.0000, -999,     69.4,  28.6870,  35.2730,2, -999.000,9,   -999.0,9,     2.18,2,     2.58,2,     0.40,2,     0.45,2,     0.09,2,-999,9,   1992.0,2,   2318.0,2,    68.27,2
  35A319940923,    10,  1,      7,      7,2,19940927,1300, -6.0000, 165.0000, -999,     81.5,  28.3990,  35.2970,2, -999.000,9,   -999.0,9,     3.50,2,     4.25,2,     0.75,2,     0.56,2,     0.05,2,-999,9,   1997.0,2,   2308.0,2,    66.62,2
  35A319940923,    10,  1,      8,      8,2,19940927,1300, -6.0000, 165.0000, -999,     90.6,  28.1220,  35.2880,2, -999.000,9,   -999.0,9,     4.16,2,     4.72,2,     0.56,2,     0.59,2,     0.07,2,-999,9,   -999.0,9,   -999.0,9,    66.40,2
  35A319940923,    10,  1,      9,      9,2,19940927,1300, -6.0000, 165.0000, -999,    100.6,  27.8310,  35.2880,2, -999.000,9,   -999.0,9,     5.52,2,     5.92,2,     0.40,2,     0.69,2,     0.02,2,-999,9,   2012.0,2,   2311.0,2,    62.14,2
  35A319940923,    10,  1,     10,     10,2,19940927,1300, -6.0000, 165.0000, -999,    120.8,  27.3510,  35.4340,2, -999.000,9,   -999.0,9,     6.89,2,     7.24,2,     0.35,2,     0.81,2,     0.03,2,-999,9,   -999.0,9,   -999.0,9,    61.97,2
  35A319940923,    10,  1,     11,     11,2,19940927,1300, -6.0000, 165.0000, -999,    140.9,  25.9090,  35.6260,2, -999.000,9,   -999.0,9,     9.26,2,     9.32,2,     0.06,2,     0.99,2,     0.01,2,-999,9,   2064.0,2,   2342.0,2,    58.05,2
  35A319940923,    10,  1,     12,     12,2,19940927,1300, -6.0000, 165.0000, -999,    161.0,  24.4920,  35.9560,2, -999.000,9,   -999.0,9,     9.47,2,     9.52,2,     0.05,2,     1.06,2,     0.01,2,-999,9,   -999.0,9,   -999.0,9,    58.20,2
  35A319940923,    10,  1,     13,     13,2,19940927,1300, -6.0000, 165.0000, -999,    180.1,  21.5480,  35.8790,2, -999.000,9,   -999.0,9,    11.69,2,    11.71,2,     0.02,2,     1.30,2,  -999.00,9,-999,9,   2115.0,2,   2353.0,2,    55.56,2
  35A319940923,    10,  1,     14,     14,2,19940927,1300, -6.0000, 165.0000, -999,    201.3,  18.2900,  35.5590,2, -999.000,9,   -999.0,9,    14.88,2,    14.89,2,     0.01,2,     1.64,2,  -999.00,9,-999,9,   -999.0,9,   -999.0,9,  -999.00,9
  35A319940923,    10,  1,     15,     15,2,19940927,1300, -6.0000, 165.0000, -999,    302.0,  10.6340,  34.7990,2, -999.000,9,   -999.0,9,    32.12,2,    32.12,2,     0.00,2,     2.52,2,  -999.00,9,-999,9,   2183.0,2,   2301.0,2,  -999.00,9
  35A319940923,    10,  1,     16,     16,2,19940927,1300, -6.0000, 165.0000, -999,   1011.3,   4.3800,  34.5400,2, -999.000,9,   -999.0,9,  -999.00,9,  -999.00,9,  -999.00,9,  -999.00,9,  -999.00,9,-999,9,   2272.0,2,   2343.0,2,  -999.00,9