BOTTLE,20120829IOSDFOJC
EXPOCODE,STNNBR,CASTNO,SAMPNO,BTLNBR,BTLNBR_FLAG_W,DATE,TIME,LATITUDE,LONGITUDE,DEPTH,CTDPRS,CTDTMP,CTDSAL,CTDSAL_FLAG_W,CTDOXY,CTDOXY_FLAG_W,OXYGEN,OXYGEN_FLAG_W,NITRAT,NITRAT_FLAG_W,NO2+NO3,NO2+NO3_FLAG_W,NITRIT,NITRIT_FLAG_W,PHSPHT,PHSPHT_FLAG_W,SILCAT,SILCAT_FLAG_W,NH4,NH4_FLAG_W,TCARBN,TCARBN_FLAG_W,ALKALI,ALKALI_FLAG_W,DOC,DOC_FLAG_W
,,,,,,,,,,METERS,DBARS,,,,ML/L,,UMOL/KG,,UMOL/KG,,UMOL/KG,,UMOL/KG,,UMOL/KG,,UMOL/KG,,UMOL/KG,,UMOL/KG,,UMOL/KG,,UMOL/KG,
  35A319940923,    61,  1,      1,      1,2,19941008,1202,  0.2800, 166.1500, -999,      5.0,  29.5580,  33.8410,2, -999.000,9,   -999.0,9,     0.00,2,     0.00,2,     0.00,2,     0.06,2,  -999.00,9,-999,9,   -999.0,9,   -999.0,9,  -999.00,9
  35A319940923,    61,  1,      2,      2,2,19941008,1202,  0.2800, 166.1500, -999,      9.1,  29.4000,  33.8670,2, -999.000,9,   -999.0,9,     0.00,2,     0.00,2,     0.00,2,     0.06,2,  -999.00,9,-999,9,   -999.0,9,   -999.0,9,  -999.00,9
  35A319940923,    61,  1,      3,      3,2,19941008,1202,  0.2800, 166.1500, -999,     19.1,  29.3170,  33.8870,2, -999.000,9,   -999.0,9,     0.00,2,     0.00,2,     0.00,2,     0.06,2,  -999.00,9,-999,9,   -999.0,9,   -999.0,9,  -999.00,9
  35A319940923,    61,  1,      4,      4,2,19941008,1202,  0.2800, 166.1500, -999,     39.2,  29.2740,  33.9000,2, -999.000,9,   -999.0,9,  -999.00,9,  -999.00,9,     0.00,2,     0.07,2,  -999.00,9,-999,9,   -999.0,9,   -999.0,9,  -999.00,9
  35A319940923,    61,  1,      5,      5,2,19941008,1202,  0.2800, 166.1500, -999,     49.3,  29.2410,  33.8910,2, -999.000,9,   -999.0,9,     0.00,2,     0.00,2,     0.00,2,     0.05,2,  -999.00,9,-999,9,   -999.0,9,   -999.0,9,  -999.00,9
  35A319940923,    61,  1,      6,      6,2,19941008,1202,  0.2800, 166.1500, -999,     59.4,  29.2870,  33.9210,2, -999.000,9,   -999.0,9,     0.01,2,     0.01,2,     0.00,2,     0.05,2,  -999.00,9,-999,9,   -999.0,9,   -999.0,9,  -999.00,9
  35A319940923,    61,  1,      7,      7,2,19941008,1202,  0.2800, 166.1500, -999,     69.4,  29.3110,  33.9410,2, -999.000,9,   -999.0,9,  -999.00,9,  -999.00,9,  -999.00,9,  -999.00,9,  -999.00,9,-999,9,   -999.0,9,   -999.0,9,  -999.00,9
  35A319940923,    61,  1,      8,      8,2,19941008,1202,  0.2800, 166.1500, -999,     80.5,  29.3110,  33.9470,2, -999.000,9,   -999.0,9,     0.00,2,     0.00,2,     0.00,2,     0.06,2,  -999.00,9,-999,9,   -999.0,9,   -999.0,9,  -999.00,9
  35A319940923,    61,  1,      9,      9,2,19941008,1202,  0.2800, 166.1500, -999,     99.6,  28.9340,  34.5810,2, -999.000,9,   -999.0,9,     3.29,2,     3.34,2,     0.05,2,     0.33,2,  -999.00,9,-999,9,   -999.0,9,   -999.0,9,  -999.00,9
  35A319940923,    61,  1,     10,     10,2,19941008,1202,  0.2800, 166.1500, -999,    109.7,  22.4610,  35.2050,2, -999.000,9,   -999.0,9,    11.02,2,    11.08,2,     0.06,2,     0.79,2,  -999.00,9,-999,9,   -999.0,9,   -999.0,9,  -999.00,9
  35A319940923,    61,  1,     11,     11,2,19941008,1202,  0.2800, 166.1500, -999,    120.7,  22.0260,  35.2660,2, -999.000,9,   -999.0,9,    11.45,2,    11.50,2,     0.05,2,     0.82,2,  -999.00,9,-999,9,   -999.0,9,   -999.0,9,  -999.00,9
  35A319940923,    61,  1,     12,     12,2,19941008,1202,  0.2800, 166.1500, -999,    139.9,  20.0010,  35.3020,2, -999.000,9,   -999.0,9,    12.73,2,    12.77,2,     0.04,2,     0.92,2,  -999.00,9,-999,9,   -999.0,9,   -999.0,9,  -999.00,9
  35A319940923,    61,  1,     13,     13,2,19941008,1202,  0.2800, 166.1500, -999,    152.0,  18.8180,  35.2620,2, -999.000,9,   -999.0,9,    12.41,2,    12.46,2,     0.04,2,     0.90,2,  -999.00,9,-999,9,   -999.0,9,   -999.0,9,  -999.00,9
  35A319940923,    61,  1,     14,     14,2,19941008,1202,  0.2800, 166.1500, -999,    181.1,  16.0960,  35.0880,2, -999.000,9,   -999.0,9,    16.28,2,    16.32,2,     0.04,2,     1.20,2,  -999.00,9,-999,9,   -999.0,9,   -999.0,9,  -999.00,9
  35A319940923,    61,  1,     15,     15,2,19941008,1202,  0.2800, 166.1500, -999,    201.3,  15.4640,  35.1280,2, -999.000,9,   -999.0,9,    16.84,2,    16.88,2,     0.04,2,     1.25,2,  -999.00,9,-999,9,   -999.0,9,   -999.0,9,  -999.00,9
  35A319940923,    62,  1,      1,      1,2,19941009,1204,  0.0000, 170.1600, -999,      2.0,  29.8800,  34.0080,2,    4.281,2,    187.0,2,     0.00,2,     0.00,2,     0.00,2,     0.06,2,     0.02,2,0.28,2,   1880.0,2,   2229.0,2,    67.69,2
  35A319940923,    62,  1,      2,      2,2,19941009,1204,  0.0000, 170.1600, -999,     29.2,  29.7300,  33.9880,2,    4.320,2,    188.7,2,     0.00,2,     0.00,2,     0.00,2,     0.07,2,     0.02,2,0.31,2,   1878.0,2,   2228.0,2,    71.19,2
  35A319940923,    62,  1,      3,      3,2,19941009,1204,  0.0000, 170.1600, -999,     59.4,  29.5840,  34.2360,2,    4.291,2,    187.4,2,     0.00,2,     0.00,2,     0.00,2,     0.09,2,     0.01,2,0.17,2,   1898.0,2,   2248.0,2,    71.56,2
  35A319940923,    62,  1,      4,      4,2,19941009,1204,  0.0000, 170.1600, -999,     70.4,  29.4440,  34.3420,2,    4.324,2,    188.8,2,     0.04,2,     0.04,2,     0.00,2,     0.11,2,     0.02,2,0.23,2,   1904.0,2,   2251.0,2,    71.43,2
  35A319940923,    62,  1,      5,      5,2,19941009,1204,  0.0000, 170.1600, -999,     79.5,  29.4730,  34.4320,2, -999.000,9,    188.0,2,     0.07,2,     0.07,2,     0.00,2,     0.12,2,     0.03,2,0.23,2,   1912.0,2,   2259.0,2,    70.85,2
  35A319940923,    62,  1,      6,      6,2,19941009,1204,  0.0000, 170.1600, -999,     89.5,  29.6410,  34.6730,2, -999.000,9,   -999.0,9,     0.28,2,     0.33,2,     0.05,2,     0.16,2,     0.07,2,0.12,2,   -999.0,9,   -999.0,9,    70.20,2
  35A319940923,    62,  1,      7,      7,2,19941009,1204,  0.0000, 170.1600, -999,     99.6,  29.8180,  35.1850,2, -999.000,9,   -999.0,9,     3.36,2,     3.84,2,     0.48,2,     0.43,2,     0.07,2,0.15,2,   2000.0,2,   2320.0,2,    63.22,2
  35A319940923,    62,  1,      8,      8,2,19941009,1204,  0.0000, 170.1600, -999,    109.7,  25.5400,  35.3510,2, -999.000,9,   -999.0,9,     8.10,2,     8.33,2,     0.23,2,     0.68,2,     0.04,2,0.14,2,   -999.0,9,   -999.0,9,    53.92,2
  35A319940923,    62,  1,      9,      9,2,19941009,1204,  0.0000, 170.1600, -999,    120.7,  21.0950,  35.2020,2,    2.625,2,    114.3,2,    11.35,2,    11.38,2,     0.04,2,     0.88,2,     0.02,2,0.2,2,   2075.0,2,   2309.0,2,    47.56,2
  35A319940923,    62,  1,     10,     10,2,19941009,1204,  0.0000, 170.1600, -999,    139.9,  19.0850,  35.2780,2,    2.680,2,    116.6,2,    12.33,2,    12.35,2,     0.02,2,     0.96,2,     0.02,2,0.07,2,   2093.0,2,   2318.0,2,    49.23,2
  35A319940923,    62,  1,     11,     11,2,19941009,1204,  0.0000, 170.1600, -999,    160.0,  18.3780,  35.2720,2,    2.720,2,    118.3,2,    12.86,2,    12.88,2,     0.02,2,     1.01,2,     0.02,2,0.15,2,   2099.0,2,   2316.0,2,    47.23,2
  35A319940923,    62,  1,     12,     12,2,19941009,1204,  0.0000, 170.1600, -999,    180.1,  17.2560,  35.2060,2, -999.000,9,   -999.0,9,    13.41,2,    13.43,2,     0.02,2,     1.05,2,     0.02,2,0.14,2,   -999.0,9,   -999.0,9,    49.68,2
  35A319940923,    62,  1,     13,     13,2,19941009,1204,  0.0000, 170.1600, -999,   1009.2,   4.8210,  34.5440,2,    1.690,2,     73.3,2,    42.19,2,    42.20,2,     0.01,2,     2.80,2,  -999.00,9,-999,9,   2279.0,2,   2347.0,2,    42.28,2
  35A319940923,    63,  1,      1,      1,2,19941010,0008,  0.0000, 172.0900, -999,      2.0,  30.0070,  34.1780,2,    4.300,2,    187.8,2,     0.00,2,     0.00,2,     0.00,2,     0.10,2,  -999.00,9,-999,9,   1886.0,2,   2242.0,2,    75.36,2
  35A319940923,    63,  1,      2,      2,2,19941010,0008,  0.0000, 172.0900, -999,     30.2,  30.0200,  34.4260,2,    4.351,2,    190.0,2,     0.00,2,     0.00,2,     0.00,2,     0.12,2,  -999.00,9,-999,9,   1904.0,2,   2260.0,2,    70.74,2
  35A319940923,    63,  1,      3,      3,2,19941010,0008,  0.0000, 172.0900, -999,     60.4,  30.0390,  34.4780,2,    4.365,2,    190.6,2,     0.00,2,     0.00,2,     0.00,2,     0.13,2,  -999.00,9,-999,9,   1906.0,2,   2263.0,2,    72.16,2
  35A319940923,    63,  1,      4,      4,2,19941010,0008,  0.0000, 172.0900, -999,     70.4,  30.0330,  34.5000,2,    4.298,2,    187.7,2,     0.10,2,     0.10,2,     0.00,2,     0.14,2,  -999.00,9,-999,9,   1909.0,2,   2265.0,2,    69.02,2
  35A319940923,    63,  1,      5,      5,2,19941010,0008,  0.0000, 172.0900, -999,     80.5,  30.0210,  34.5150,2,    4.312,2,    188.3,2,     0.06,2,     0.06,2,     0.00,2,     0.13,2,  -999.00,9,-999,9,   1910.0,2,   2263.0,2,    68.51,2
  35A319940923,    63,  1,      6,      6,2,19941010,0008,  0.0000, 172.0900, -999,     89.5,  29.4190,  34.8720,2,    4.170,2,    182.0,2,     0.52,2,     0.64,2,     0.12,2,     0.21,2,  -999.00,9,-999,9,   1946.0,2,   2290.0,2,    66.34,2
  35A319940923,    63,  1,      7,      7,2,19941010,0008,  0.0000, 172.0900, -999,    100.6,  29.4080,  35.0220,2, -999.000,9,   -999.0,9,     2.87,2,     3.20,2,     0.33,2,     0.37,2,  -999.00,9,-999,9,   1986.0,2,   2304.0,2,    63.76,2
  35A319940923,    63,  1,      8,      8,2,19941010,0008,  0.0000, 172.0900, -999,    110.7,  25.4560,  35.0760,2,    3.056,2,    133.2,2,     7.48,2,     7.76,2,     0.28,2,     0.61,2,  -999.00,9,-999,9,   2030.0,2,   2296.0,2,    61.03,2
  35A319940923,    63,  1,      9,      9,2,19941010,0008,  0.0000, 172.0900, -999,    120.7,  21.6930,  35.0450,2,    2.926,2,    127.4,2,     8.96,2,     9.05,2,     0.09,2,     0.68,2,  -999.00,9,-999,9,   2040.0,2,   2293.0,2,    59.98,2
  35A319940923,    63,  1,     10,     10,2,19941010,0008,  0.0000, 172.0900, -999,    140.9,  18.2140,  35.2590,2,    2.720,2,    118.3,2,    14.73,2,    14.75,2,     0.02,2,     1.02,2,  -999.00,9,-999,9,   2101.0,2,   2316.0,2,    51.00,2
  35A319940923,    63,  1,     11,     11,2,19941010,0008,  0.0000, 172.0900, -999,    160.0,  17.4740,  35.2410,2,    2.787,2,    121.2,2,    13.73,2,    13.75,2,     0.02,2,     1.07,2,  -999.00,9,-999,9,   2107.0,2,   2314.0,2,    48.63,2
  35A319940923,    63,  1,     12,     12,2,19941010,0008,  0.0000, 172.0900, -999,    180.1,  16.9480,  35.2230,2, -999.000,9,   -999.0,9,    13.99,2,    14.01,2,     0.02,2,     1.08,2,  -999.00,9,-999,9,   -999.0,9,   -999.0,9,    48.87,2
  35A319940923,    63,  1,     13,     13,2,19941010,0008,  0.0000, 172.0900, -999,   1009.2,   4.8680,  34.5420,2,    1.710,2,     74.2,2,    49.83,2,    49.83,2,     0.00,2,     2.78,2,  -999.00,9,-999,9,   2277.0,2,   2344.0,2,    43.83,2
  35A319940923,    64,  1,      1,      1,2,19941010,1205,  0.0000, 173.5300, -999,      3.0,  30.3490,  34.2350,2,    4.183,2,    182.7,2,     0.00,2,     0.00,2,     0.00,2,     0.10,2,     0.01,2,0.4,2,   -999.0,9,   -999.0,9,    75.64,2
  35A319940923,    64,  1,      2,      2,2,19941010,1205,  0.0000, 173.5300, -999,     29.2,  30.2810,  34.2270,2,    4.221,2,   -999.0,9,     0.00,2,     0.00,2,     0.00,2,     0.10,2,     0.01,2,0.25,2,   -999.0,9,   -999.0,9,    73.31,2
  35A319940923,    64,  1,      3,      3,2,19941010,1205,  0.0000, 173.5300, -999,     60.4,  30.4930,  34.7300,2,    4.269,2,    186.4,2,     0.00,2,     0.00,2,     0.00,2,     0.12,2,     0.01,2,0.2,2,   -999.0,9,   -999.0,9,    71.51,2
  35A319940923,    64,  1,      4,      4,2,19941010,1205,  0.0000, 173.5300, -999,     69.4,  30.4320,  34.8490,2,    4.317,2,    188.5,2,     0.00,2,     0.01,2,     0.01,2,     0.11,2,     0.01,2,0.25,2,   -999.0,9,   -999.0,9,    73.31,2
  35A319940923,    64,  1,      5,      5,2,19941010,1205,  0.0000, 173.5300, -999,     79.5,  29.8500,  35.2590,2,    4.346,2,    189.7,2,     0.43,2,     0.56,2,     0.13,2,     0.24,2,     0.02,2,0.18,2,   -999.0,9,   -999.0,9,    68.90,2
  35A319940923,    64,  1,      6,      6,2,19941010,1205,  0.0000, 173.5300, -999,     89.5,  28.4050,  35.3260,2,    4.152,2,    181.1,2,     3.16,2,     3.74,2,     0.58,2,     0.41,2,     0.05,2,0.08,2,   1999.0,2,   2318.0,2,    64.42,2
  35A319940923,    64,  1,      7,      7,2,19941010,1205,  0.0000, 173.5300, -999,     99.6,  27.5140,  35.4020,2,    3.761,2,    164.0,2,     5.56,2,     6.29,2,     0.73,2,     0.54,2,     0.04,2,0.11,2,   2017.0,2,   2318.0,2,    60.83,2
  35A319940923,    64,  1,      8,      8,2,19941010,1205,  0.0000, 173.5300, -999,    109.7,  25.1560,  35.2530,2,    3.480,2,    151.7,2,     9.47,2,     9.74,2,     0.27,2,     0.66,2,     0.03,2,0.16,2,   2034.0,2,   2305.0,2,    56.80,2
  35A319940923,    64,  1,      9,      9,2,19941010,1205,  0.0000, 173.5300, -999,    119.7,  23.7350,  35.1430,2,    2.814,2,    122.6,2,     9.68,2,     9.78,2,     0.10,2,     0.73,2,     0.03,2,0.26,2,   2044.0,2,   2296.0,2,    54.90,2
  35A319940923,    64,  1,     10,     10,2,19941010,1205,  0.0000, 173.5300, -999,    141.9,  18.9660,  35.0100,2,    2.703,2,    117.6,2,    12.80,2,    12.82,2,     0.02,2,     0.96,2,     0.02,2,0.1,2,   2084.0,2,   2298.0,2,    52.80,2
  35A319940923,    64,  1,     11,     11,2,19941010,1205,  0.0000, 173.5300, -999,    162.0,  16.8730,  35.1770,2,    2.739,2,    119.1,2,    14.29,2,    14.31,2,     0.02,2,     1.09,2,     0.02,2,0.08,2,   2109.0,2,   2311.0,2,    51.91,2
  35A319940923,    64,  1,     12,     12,2,19941010,1205,  0.0000, 173.5300, -999,    180.1,  16.8450,  35.1900,2, -999.000,9,   -999.0,9,    14.27,2,    14.29,2,     0.02,2,     1.10,2,     0.02,2,0.61,2,   -999.0,9,   -999.0,9,    49.41,2
  35A319940923,    64,  1,     13,     13,2,19941010,1205,  0.0000, 173.5300, -999,   1008.2,   4.6330,  34.5480,2,    1.670,2,     72.5,2,    45.75,2,    45.76,2,     0.01,2,     2.91,2,  -999.00,9,-999,9,   2277.0,2,   2339.0,2,    42.55,2
  35A319940923,    65,  1,      1,      1,2,19941010,2334,  0.0000, 175.3700, -999,      2.0,  29.7910,  33.5430,2,    4.310,2,    188.3,2,     0.00,2,     0.00,2,     0.00,2,     0.06,2,  -999.00,9,-999,9,   -999.0,9,   2193.0,2,    72.57,2
  35A319940923,    65,  1,      2,      2,2,19941010,2334,  0.0000, 175.3700, -999,     29.2,  30.1110,  34.1140,2,    4.318,2,    188.6,2,     0.00,2,     0.00,2,     0.00,2,     0.07,2,  -999.00,9,-999,9,   1873.0,2,   2227.0,2,    69.58,2
  35A319940923,    65,  1,      3,      3,2,19941010,2334,  0.0000, 175.3700, -999,     59.4,  30.3030,  34.4430,2,    4.359,2,    190.4,2,     0.00,2,     0.00,2,     0.00,2,     0.09,2,  -999.00,9,-999,9,   1897.0,2,   2252.0,2,    71.59,2
  35A319940923,    65,  1,      4,      4,2,19941010,2334,  0.0000, 175.3700, -999,     69.4,  30.4710,  34.6060,2,    4.328,2,   -999.0,9,     0.00,2,     0.00,2,     0.00,2,     0.10,2,  -999.00,9,-999,9,   -999.0,9,   -999.0,9,    69.88,2
  35A319940923,    65,  1,      5,      5,2,19941010,2334,  0.0000, 175.3700, -999,     79.5,  30.3590,  34.7430,2,    4.296,2,    187.6,2,     0.00,2,     0.00,2,     0.00,2,     0.12,2,  -999.00,9,-999,9,   1914.0,2,   2277.0,2,    70.19,2
  35A319940923,    65,  1,      6,      6,2,19941010,2334,  0.0000, 175.3700, -999,     89.5,  29.9070,  35.2120,2,    4.183,2,    182.6,2,     0.24,2,     0.30,2,     0.06,2,     0.19,2,  -999.00,9,-999,9,   1957.0,2,   2307.0,2,    68.65,2
  35A319940923,    65,  1,      7,      7,2,19941010,2334,  0.0000, 175.3700, -999,     99.6,  27.3580,  35.1380,2,    3.478,2,    151.7,2,     6.47,2,     6.94,2,     0.47,2,     0.51,2,  -999.00,9,-999,9,   2004.0,2,   2299.0,2,    56.67,2
  35A319940923,    65,  1,      8,      8,2,19941010,2334,  0.0000, 175.3700, -999,    109.7,  26.9390,  35.3410,2,    3.085,2,    134.5,2,     9.86,2,    10.15,2,     0.29,2,     0.71,2,  -999.00,9,-999,9,   2029.0,2,   2314.0,2,    56.87,2
  35A319940923,    65,  1,      9,      9,2,19941010,2334,  0.0000, 175.3700, -999,    119.7,  22.8620,  35.2650,2,    2.820,2,    122.9,2,    12.33,2,    12.33,2,     0.00,2,     0.79,2,  -999.00,9,-999,9,   2055.0,2,   2317.0,2,    53.55,2
  35A319940923,    65,  1,     10,     10,2,19941010,2334,  0.0000, 175.3700, -999,    139.9,  20.4040,  35.2000,2,    2.693,2,    117.2,2,    14.34,2,    14.34,2,     0.00,2,     0.90,2,  -999.00,9,-999,9,   2075.0,2,   2305.0,2,    52.50,2
  35A319940923,    65,  1,     11,     11,2,19941010,2334,  0.0000, 175.3700, -999,    161.0,  16.3710,  34.9620,2,    2.800,2,    121.8,2,    18.51,2,    18.51,2,     0.00,2,     1.19,2,  -999.00,9,-999,9,   2103.0,2,   2295.0,2,    51.91,2
  35A319940923,    65,  1,     12,     12,2,19941010,2334,  0.0000, 175.3700, -999,    183.2,  15.6800,  35.1020,2, -999.000,9,   -999.0,9,    19.18,2,    19.18,2,     0.00,2,     1.27,2,  -999.00,9,-999,9,   -999.0,9,   -999.0,9,    51.12,2
  35A319940923,    65,  1,     13,     13,2,19941010,2334,  0.0000, 175.3700, -999,   1013.3,   4.6170,  34.5490,2,    1.590,2,     68.9,2,    71.90,3,    71.90,3,     0.00,2,     3.12,2,  -999.00,9,-999,9,   2285.0,2,   2347.0,2,  -999.00,9
  35A319940923,    66,  1,      1,      1,2,19941011,1107,  0.0000, 177.2900, -999,      3.0,  30.0980,  33.9780,2,    4.210,2,    183.9,2,     0.00,2,     0.00,2,     0.00,2,     0.11,2,     0.01,2,0.04,2,   1875.0,2,   2232.0,2,    76.18,2
  35A319940923,    66,  1,      2,      2,2,19941011,1107,  0.0000, 177.2900, -999,     29.2,  30.2830,  34.4000,2,    4.275,2,    186.7,2,     0.00,2,     0.00,2,     0.00,2,     0.12,2,     0.01,2,0.49,2,   1902.0,2,   2260.0,2,    77.22,2
  35A319940923,    66,  1,      3,      3,2,19941011,1107,  0.0000, 177.2900, -999,     59.4,  30.2790,  34.9300,2,    4.238,2,    185.0,2,     0.00,2,     0.00,2,     0.00,2,     0.15,2,     0.01,2,0.18,2,   1935.0,2,   2297.0,2,    74.11,2
  35A319940923,    66,  1,      4,      4,2,19941011,1107,  0.0000, 177.2900, -999,     70.4,  30.1600,  35.0110,2,    4.320,2,    188.6,2,     0.02,2,     0.02,2,     0.00,2,     0.17,2,     0.01,2,0.5,2,   -999.0,9,   -999.0,9,    75.03,2
  35A319940923,    66,  1,      5,      5,2,19941011,1107,  0.0000, 177.2900, -999,     80.5,  30.0280,  35.0760,2,    4.261,2,    186.0,2,     0.00,2,     0.01,2,     0.01,2,     0.18,2,     0.02,2,0.3,2,   1954.0,2,   2306.0,2,    73.96,2
  35A319940923,    66,  1,      6,      6,2,19941011,1107,  0.0000, 177.2900, -999,     89.5,  29.6670,  35.1660,2,    4.227,2,    184.5,2,     0.01,2,     0.02,2,     0.01,2,     0.20,2,     0.02,2,0.31,2,   1965.0,2,   2313.0,2,    71.35,2
  35A319940923,    66,  1,      7,      7,2,19941011,1107,  0.0000, 177.2900, -999,    100.6,  26.7810,  35.0930,2, -999.000,9,   -999.0,9,     4.48,2,     0.07,2,     0.02,2,     0.22,2,     0.02,2,0.98,2,   1961.0,2,   2313.0,2,    66.48,2
  35A319940923,    66,  1,      8,      8,2,19941011,1107,  0.0000, 177.2900, -999,    110.7,  24.9550,  35.2210,2,    2.950,2,    128.6,2,    10.15,2,    10.25,2,     0.10,2,     0.71,2,     0.03,2,0.16,2,   2036.0,2,   2307.0,2,    56.62,2
  35A319940923,    66,  1,      9,      9,2,19941011,1107,  0.0000, 177.2900, -999,    119.7,  23.4510,  35.2680,2,    2.676,2,    116.6,2,    12.30,2,    12.36,2,     0.06,2,     0.83,2,     0.03,2,0.03,2,   2062.0,2,   2311.0,2,    55.36,2
  35A319940923,    66,  1,     10,     10,2,19941011,1107,  0.0000, 177.2900, -999,    139.9,  19.3820,  35.0510,2,    2.714,2,    118.1,2,    14.68,2,    14.70,2,     0.02,2,     0.97,2,     0.02,2,0,2,   2082.0,2,   2304.0,2,    47.95,2
  35A319940923,    66,  1,     11,     11,2,19941011,1107,  0.0000, 177.2900, -999,    161.0,  18.2110,  35.2040,2,    2.687,2,    116.9,2,    15.83,2,    15.84,2,     0.01,2,     1.08,2,     0.02,2,0.48,2,   2104.0,2,   2317.0,2,    52.54,2
  35A319940923,    66,  1,     12,     12,2,19941011,1107,  0.0000, 177.2900, -999,    179.1,  15.9770,  35.0620,2, -999.000,9,   -999.0,9,    18.25,2,    18.26,2,     0.01,2,     1.28,2,     0.02,2,1.14,2,   -999.0,9,   -999.0,9,   103.94,2
  35A319940923,    66,  1,     13,     13,2,19941011,1107,  0.0000, 177.2900, -999,   1011.2,   4.7870,  34.5450,2,    1.650,2,     71.8,2,    59.18,2,    59.18,2,     0.00,2,     3.10,2,  -999.00,9,-999,9,   2287.0,2,   2352.0,2,    40.27,2