BOTTLE,20120829IOSDFOJC
#
# NITRAT_FLAG_W and NO2+NO3_FLAG_W: Change 2 to 3 at:
#  35A319940923,    65,  1,     13,     13,2,19941010,2334,  0.0000, 175.3700, -999,   1013.3
#  35A319940923,    72,  1,     13,     13,2,19941014,1012,  0.0000,-170.3500, -999,   1011.2
#
#BOTTLE,20091207MIRCJHATS
##FLUPAC
##--------------------------------------
##--------------------------------------
##----------------------
##Responsable des mesures et Contact:M.RODIER
##----------------------
##-----------------------------------------------------------------------------------------
##Lat	Latitude (N>0)	deg,min	GPS
##Long	Longitude (E>0)	deg,min	GPS
##JJ	Jour/Day	GMT
##MM	Mois/Month	GMT
##H	Heure/Hour	GMT
##Min	Minute	GMT
##PO4	Phosphate	micro-M	Bouteille rosette/Bottle
##NO3	Nitrate	micro-M	Bouteille rosette/Bottle
##NO2	Nitrite	micro-M	Bouteille rosette/Bottle
##NO2+3	Nitrate+Nitrite	micro-M	Bouteille rosette/Bottle
##NH4	Ammonium	micro-M	Bouteille rosette/Bottle
##SiOH4	Silicate	micro-M	Bouteille rosette/Bottle
##	Particulate nitrogen (dry combustion)
##NP2	Azote particulaire (oxydation humide)	micro-M	Bouteille rosette/Bottle
##	Particulate nitrogen (wet combustion)
##	Particulate carbon (dry combustion)
##PP	Phosphore particulaire (oxydation humide)	micro-M	Bouteille rosette/Bottle
##	Particulate phosphorus (wet combustion)
##	Particulate silicon (biogenic component)
##C_in_T	Carbone inorganique total	milli-mol/kg	Bouteille rosette/Bottle
##	Total dissolved inorganic carbon
##COD	Carbone organique dissous	micro-M	Bouteille rosette/Bottle
##	Dissolved organic carbon
##------------------------------------------------------------------------------------------------------
EXPOCODE,STNNBR,CASTNO,SAMPNO,BTLNBR,BTLNBR_FLAG_W,DATE,TIME,LATITUDE,LONGITUDE,DEPTH,CTDPRS,CTDTMP,CTDSAL,CTDSAL_FLAG_W,CTDOXY,CTDOXY_FLAG_W,OXYGEN,OXYGEN_FLAG_W,NITRAT,NITRAT_FLAG_W,NO2+NO3,NO2+NO3_FLAG_W,NITRIT,NITRIT_FLAG_W,PHSPHT,PHSPHT_FLAG_W,SILCAT,SILCAT_FLAG_W,NH4,NH4_FLAG_W,TCARBN,TCARBN_FLAG_W,ALKALI,ALKALI_FLAG_W,DOC,DOC_FLAG_W
,,,,,,,,,,METERS,DBARS,,,,ML/L,,UMOL/KG,,UMOL/KG,,UMOL/KG,,UMOL/KG,,UMOL/KG,,UMOL/KG,,UMOL/KG,,UMOL/KG,,UMOL/KG,,UMOL/KG,
  35A319940923,     1,  1,      1,      1,2,19940924,1757,-15.0000, 165.0000, -999,      3.0,  25.7330,  34.5970,2, -999.000,9,   -999.0,9,     0.01,2,     0.01,2,     0.00,2,     0.08,2,     0.03,2,-999,9,   1918.0,2,   2277.0,2,  -999.00,9
  35A319940923,     1,  1,      2,      2,2,19940924,1757,-15.0000, 165.0000, -999,     33.2,  25.7530,  34.5960,2,    4.066,2,    177.3,2,     0.01,2,     0.01,2,     0.00,2,     0.06,2,     0.03,2,-999,9,   1914.0,2,   2273.0,2,  -999.00,9
  35A319940923,     1,  1,      3,      3,2,19940924,1757,-15.0000, 165.0000, -999,     62.4,  25.7550,  34.5960,2, -999.000,9,   -999.0,9,     0.01,2,     0.01,2,     0.00,2,     0.06,2,     0.04,2,-999,9,   1917.0,2,   2268.0,2,  -999.00,9
  35A319940923,     1,  1,      4,      4,2,19940924,1757,-15.0000, 165.0000, -999,     85.6,  25.6500,  34.6570,2,    3.935,2,    171.6,2,     0.00,2,     0.00,2,     0.00,2,     0.06,2,     0.02,2,-999,9,   1922.0,2,   -999.0,9,  -999.00,9
  35A319940923,     1,  1,      5,      5,2,19940924,1757,-15.0000, 165.0000, -999,     99.6,  25.5820,  34.7940,2, -999.000,9,   -999.0,9,     0.01,2,     0.01,2,     0.00,2,     0.07,2,     0.03,2,-999,9,   1928.0,2,   2290.0,2,  -999.00,9
  35A319940923,     1,  1,      6,      6,2,19940924,1757,-15.0000, 165.0000, -999,    106.7,  25.6640,  34.9660,2,    3.987,2,    173.8,2,     0.02,2,     0.02,2,     0.00,2,     0.09,2,     0.03,2,-999,9,   1942.0,2,   2293.0,2,  -999.00,9
  35A319940923,     1,  1,      7,      7,2,19940924,1757,-15.0000, 165.0000, -999,    118.8,  25.6430,  35.3210,2, -999.000,9,   -999.0,9,     0.22,2,     0.25,2,     0.03,2,     0.07,2,     0.04,2,-999,9,   1976.0,2,   -999.0,9,  -999.00,9
  35A319940923,     1,  1,      8,      8,2,19940924,1757,-15.0000, 165.0000, -999,    134.9,  25.0740,  35.5080,2, -999.000,9,   -999.0,9,     2.00,2,     2.10,2,     0.10,2,     0.22,2,     0.05,2,-999,9,   2003.0,2,   2331.0,2,  -999.00,9
  35A319940923,     1,  1,      9,      9,2,19940924,1757,-15.0000, 165.0000, -999,    146.0,  24.2810,  35.6220,2, -999.000,9,   -999.0,9,     1.89,2,     1.95,2,     0.05,2,     0.21,2,     0.03,2,-999,9,   1996.0,2,   2330.0,2,  -999.00,9
  35A319940923,     1,  1,     10,     10,2,19940924,1757,-15.0000, 165.0000, -999,    164.1,  23.1010,  35.8400,2, -999.000,9,   -999.0,9,     3.90,2,     3.93,2,     0.02,2,     0.34,2,     0.04,2,-999,9,   2046.0,2,   2355.0,2,  -999.00,9
  35A319940923,     1,  1,     11,     11,2,19940924,1757,-15.0000, 165.0000, -999,    184.2,  22.3120,  35.8460,2, -999.000,9,   -999.0,9,     4.28,2,     4.31,2,     0.03,2,     0.33,2,     0.03,2,-999,9,   2047.0,2,   2348.0,2,  -999.00,9
  35A319940923,     1,  1,     12,     12,2,19940924,1757,-15.0000, 165.0000, -999,   1014.6,   4.6100,  34.4610,2, -999.000,9,   -999.0,9,  -999.00,9,  -999.00,9,  -999.00,9,  -999.00,9,  -999.00,9,-999,9,   -999.0,9,   -999.0,9,  -999.00,9
  35A319940923,     2,  1,      1,      1,2,19940925,0251,-14.0000, 165.0000, -999,      3.0,  26.4400,  34.6840,2,    4.529,2,    197.5,2,     0.00,2,     0.00,2,     0.00,2,     0.09,2,     0.02,2,0.27,2,   1926.0,2,   2284.0,2,  -999.00,9
  35A319940923,     2,  1,      2,      2,2,19940925,0251,-14.0000, 165.0000, -999,     19.1,  26.2450,  34.6620,2,    4.549,2,    198.4,2,     0.01,2,     0.01,2,     0.00,2,     0.10,2,     0.03,2,0.3,2,   1935.0,2,   -999.0,9,  -999.00,9
  35A319940923,     2,  1,      3,      3,2,19940925,0251,-14.0000, 165.0000, -999,     39.2,  25.6110,  34.6020,2,    4.642,2,    202.4,2,     0.00,2,     0.00,2,     0.00,2,     0.08,2,     0.02,2,0.44,2,   1916.0,2,   -999.0,9,  -999.00,9
  35A319940923,     2,  1,      4,      4,2,19940925,0251,-14.0000, 165.0000, -999,     60.4,  25.6000,  34.6310,2, -999.000,9,   -999.0,9,     0.00,2,     0.00,2,     0.00,2,     0.06,2,     0.03,2,0.18,2,   1919.0,2,   2283.0,2,  -999.00,9
  35A319940923,     2,  1,      5,      5,2,19940925,0251,-14.0000, 165.0000, -999,     80.5,  25.5460,  34.8730,2, -999.000,9,   -999.0,9,     0.00,2,     0.01,2,     0.00,2,     0.08,2,     0.02,2,0.14,2,   1932.0,2,   2295.0,2,  -999.00,9
  35A319940923,     2,  1,      6,      6,2,19940925,0251,-14.0000, 165.0000, -999,    100.6,  25.5460,  34.9720,2, -999.000,9,   -999.0,9,     0.03,2,     0.04,2,     0.01,2,     0.09,2,     0.02,2,0.11,2,   1943.0,2,   2305.0,2,  -999.00,9
  35A319940923,     2,  1,      7,      7,2,19940925,0251,-14.0000, 165.0000, -999,    110.7,  25.5500,  35.0420,2, -999.000,9,   -999.0,9,     0.09,2,     0.13,2,     0.04,2,     0.11,2,     0.03,2,0.15,2,   1955.0,2,   2310.0,2,  -999.00,9
  35A319940923,     2,  1,      8,      8,2,19940925,0251,-14.0000, 165.0000, -999,    120.8,  25.2730,  35.5000,2, -999.000,9,   -999.0,9,     1.34,2,     1.53,2,     0.18,2,     0.22,2,     0.04,2,0.09,2,   2001.0,2,   2340.0,2,  -999.00,9
  35A319940923,     2,  1,      9,      9,2,19940925,0251,-14.0000, 165.0000, -999,    140.9,  24.6940,  35.6400,2, -999.000,9,   -999.0,9,     1.78,2,     1.89,2,     0.11,2,     0.26,2,     0.03,2,0.17,2,   2015.0,2,   2347.0,2,  -999.00,9
  35A319940923,     2,  1,     10,     10,2,19940925,0251,-14.0000, 165.0000, -999,    161.1,  24.1110,  35.8010,2, -999.000,9,   -999.0,9,     2.93,2,     2.98,2,     0.04,2,     0.32,2,     0.02,2,0.56,2,   2035.0,2,   2362.0,2,  -999.00,9
  35A319940923,     2,  1,     11,     11,2,19940925,0251,-14.0000, 165.0000, -999,    180.2,  23.1240,  35.8680,2, -999.000,9,   -999.0,9,     3.89,2,     3.92,2,     0.03,2,     0.36,2,     0.02,2,0.12,2,   2052.0,2,   2365.0,2,  -999.00,9
  35A319940923,     2,  1,     12,     12,2,19940925,0251,-14.0000, 165.0000, -999,   1011.6,   4.1420,  34.4850,2,    3.240,2,    140.8,2,    39.35,2,    39.36,2,     0.01,2,     2.26,2,  -999.00,9,-999,9,   2243.0,2,   2340.0,2,  -999.00,9
  35A319940923,     3,  1,      1,      1,2,19940925,1056,-12.5900, 164.5900, -999,      3.0,  26.7330,  34.6060,2,    4.404,2,    192.1,2,     0.01,2,     0.01,2,     0.00,2,     0.10,2,  -999.00,9,-999,9,   1920.0,2,   2261.0,2,  -999.00,9
  35A319940923,     3,  1,      2,      2,2,19940925,1056,-12.5900, 164.5900, -999,     20.1,  26.7430,  34.6050,2, -999.000,9,   -999.0,9,     0.01,2,     0.02,2,     0.00,2,     0.11,2,     0.05,2,-999,9,   1921.0,2,   2272.0,2,  -999.00,9
  35A319940923,     3,  1,      3,      3,2,19940925,1056,-12.5900, 164.5900, -999,     38.2,  26.7210,  34.6000,2,    4.363,2,    190.3,2,     0.01,2,     0.01,2,     0.00,2,     0.12,2,     0.05,2,-999,9,   1922.0,2,   2275.0,2,  -999.00,9
  35A319940923,     3,  1,      4,      4,2,19940925,1056,-12.5900, 164.5900, -999,     59.4,  26.7160,  34.6010,2,    4.388,2,    191.4,2,     0.02,2,     0.02,2,     0.00,2,     0.15,2,     0.05,2,-999,9,   1919.0,2,   2273.0,2,  -999.00,9
  35A319940923,     3,  1,      5,      5,2,19940925,1056,-12.5900, 164.5900, -999,     79.5,  26.6000,  34.6730,2,    4.297,2,    187.4,2,  -999.00,9,     0.19,2,  -999.00,9,     0.15,2,     0.07,2,-999,9,   1929.0,2,   2274.0,2,  -999.00,9
  35A319940923,     3,  1,      6,      6,2,19940925,1056,-12.5900, 164.5900, -999,     89.6,  25.8990,  34.6890,2, -999.000,9,   -999.0,9,     0.06,2,     0.06,2,     0.01,2,     0.11,2,     0.07,2,-999,9,   1925.0,2,   2274.0,2,  -999.00,9
  35A319940923,     3,  1,      7,      7,2,19940925,1056,-12.5900, 164.5900, -999,     98.6,  25.6120,  34.7860,2, -999.000,9,   -999.0,9,     0.01,2,     0.01,2,     0.00,2,     0.10,2,     0.05,2,-999,9,   1922.0,2,   2276.0,2,  -999.00,9
  35A319940923,     3,  1,      8,      8,2,19940925,1056,-12.5900, 164.5900, -999,    111.7,  25.6010,  34.9830,2, -999.000,9,   -999.0,9,     0.23,2,     0.33,2,     0.10,2,     0.18,2,     0.03,2,-999,9,   1963.0,2,   -999.0,9,  -999.00,9
  35A319940923,     3,  1,      9,      9,2,19940925,1056,-12.5900, 164.5900, -999,    122.8,  25.4680,  35.3710,2, -999.000,9,   -999.0,9,     0.72,2,     0.93,2,     0.21,2,     0.21,2,     0.02,2,-999,9,   1990.0,2,   2327.0,2,  -999.00,9
  35A319940923,     3,  1,     10,     10,2,19940925,1056,-12.5900, 164.5900, -999,    141.9,  24.9960,  35.6060,2, -999.000,9,   -999.0,9,     1.85,2,     2.00,2,     0.14,2,     0.29,2,     0.02,2,-999,9,   2015.0,2,   2344.0,2,  -999.00,9
  35A319940923,     3,  1,     11,     11,2,19940925,1056,-12.5900, 164.5900, -999,    162.1,  24.0640,  35.8980,2, -999.000,9,   -999.0,9,     3.99,2,     4.02,2,     0.03,2,     0.41,2,     0.03,2,-999,9,   2051.0,2,   2359.0,2,  -999.00,9
  35A319940923,     3,  1,     12,     12,2,19940925,1056,-12.5900, 164.5900, -999,    183.2,  22.4240,  35.8820,2, -999.000,9,   -999.0,9,     4.29,2,     4.31,2,     0.02,2,     0.53,2,  -999.00,9,-999,9,   -999.0,9,   -999.0,9,  -999.00,9
  35A319940923,     3,  1,     13,     13,2,19940925,1056,-12.5900, 164.5900, -999,   1009.5,   4.0120,  34.5040,2,    3.070,2,    133.3,2,    37.20,2,    37.20,2,     0.01,2,     2.31,2,  -999.00,9,-999,9,   -999.0,9,   -999.0,9,  -999.00,9
  35A319940923,     4,  1,      1,      1,2,19940925,1750,-12.0000, 165.0000, -999,      2.0,  26.8410,  34.5840,2,    4.236,2,    184.8,2,  -999.00,9,  -999.00,9,  -999.00,9,  -999.00,9,  -999.00,9,-999,9,   -999.0,9,   -999.0,9,  -999.00,9
  35A319940923,     4,  1,      2,      2,2,19940925,1750,-12.0000, 165.0000, -999,     19.1,  26.8470,  34.5840,2, -999.000,9,   -999.0,9,     0.01,2,     0.01,2,     0.00,2,     0.16,2,     0.06,2,-999,9,   1921.0,2,   2273.0,2,  -999.00,9
  35A319940923,     4,  1,      3,      3,2,19940925,1750,-12.0000, 165.0000, -999,     40.3,  26.8490,  34.5840,2,    4.464,2,    194.7,2,     0.00,2,     0.01,2,     0.01,2,     0.14,2,     0.05,2,-999,9,   1916.0,2,   2266.0,2,  -999.00,9
  35A319940923,     4,  1,      4,      4,2,19940925,1750,-12.0000, 165.0000, -999,     49.3,  26.7860,  34.5810,2,    4.482,2,    195.5,2,     0.01,2,     0.01,2,     0.00,2,     0.14,2,     0.06,2,-999,9,   1919.0,2,   2273.0,2,  -999.00,9
  35A319940923,     4,  1,      5,      5,2,19940925,1750,-12.0000, 165.0000, -999,     60.4,  26.7180,  34.5940,2, -999.000,9,   -999.0,9,     0.01,2,     0.01,2,     0.00,2,     0.13,2,     0.04,2,-999,9,   1929.0,2,   -999.0,9,  -999.00,9
  35A319940923,     4,  1,      6,      6,2,19940925,1750,-12.0000, 165.0000, -999,     69.4,  26.6900,  34.6060,2,    4.448,2,    194.0,2,     0.06,2,     0.07,2,     0.01,2,     0.14,2,     0.05,2,-999,9,   1921.0,2,   2271.0,2,  -999.00,9
  35A319940923,     4,  1,      7,      7,2,19940925,1750,-12.0000, 165.0000, -999,     79.5,  26.5670,  34.7830,2,    4.045,2,    176.4,2,     1.56,2,     1.71,2,     0.15,2,     0.22,2,     0.06,2,-999,9,   1950.0,2,   2282.0,2,  -999.00,9
  35A319940923,     4,  1,      8,      8,2,19940925,1750,-12.0000, 165.0000, -999,     90.6,  26.2640,  35.0860,2,    3.487,2,    152.0,2,     4.28,2,     4.56,2,     0.28,2,     0.40,2,     0.07,2,-999,9,   1999.0,2,   2307.0,2,  -999.00,9
  35A319940923,     4,  1,      9,      9,2,19940925,1750,-12.0000, 165.0000, -999,    100.6,  25.6170,  35.4010,2,    2.719,2,    118.5,2,     8.00,2,     8.16,2,     0.17,2,     0.64,2,     0.05,2,-999,9,   2042.0,2,   2323.0,2,  -999.00,9
  35A319940923,     4,  1,     10,     10,2,19940925,1750,-12.0000, 165.0000, -999,    120.8,  25.0760,  35.6120,2,    2.491,2,    108.5,2,     8.86,2,     8.91,2,     0.05,2,     0.71,2,     0.03,2,-999,9,   2060.0,2,   2339.0,2,  -999.00,9
  35A319940923,     4,  1,     11,     11,2,19940925,1750,-12.0000, 165.0000, -999,    140.9,  24.5090,  35.8070,2, -999.000,9,   -999.0,9,  -999.00,9,  -999.00,9,  -999.00,9,  -999.00,9,  -999.00,9,-999,9,   -999.0,9,   -999.0,9,  -999.00,9
  35A319940923,     4,  1,     12,     12,2,19940925,1750,-12.0000, 165.0000, -999,    160.0,  23.1040,  35.9460,2,    2.933,2,    127.7,2,  -999.00,9,  -999.00,9,  -999.00,9,  -999.00,9,     0.02,2,-999,9,   2079.0,2,   2365.0,2,  -999.00,9
  35A319940923,     4,  1,     13,     13,2,19940925,1750,-12.0000, 165.0000, -999,    182.2,  22.1270,  35.9270,2,    2.773,2,    120.7,2,    10.82,2,    10.83,2,     0.01,2,     0.87,2,     0.02,2,-999,9,   2110.0,2,   2350.0,2,  -999.00,9
  35A319940923,     4,  1,     14,     14,2,19940925,1750,-12.0000, 165.0000, -999,    202.3,  20.0600,  35.7170,2, -999.000,9,   -999.0,9,  -999.00,9,  -999.00,9,  -999.00,9,  -999.00,9,  -999.00,9,-999,9,   -999.0,9,   -999.0,9,  -999.00,9
  35A319940923,     5,  1,      1,      1,2,19940926,0120,-11.0000, 165.0000, -999,      3.0,  27.1380,  34.3540,2,    4.355,2,    190.0,2,     0.00,2,     0.00,2,     0.00,2,     0.12,2,     0.04,2,0.06,2,   1905.0,2,   2253.0,2,    73.24,2
  35A319940923,     5,  1,      2,      2,2,19940926,0120,-11.0000, 165.0000, -999,     18.1,  26.9930,  34.3470,2,    4.373,2,    190.8,2,     0.01,2,     0.01,2,     0.00,2,     0.12,2,     0.04,2,0.13,2,   1902.0,2,   2253.0,2,    74.42,2
  35A319940923,     5,  1,      3,      3,2,19940926,0120,-11.0000, 165.0000, -999,     39.2,  26.9800,  34.3480,2,    4.341,2,    189.4,2,     0.00,2,     0.00,2,     0.00,2,     0.12,2,     0.06,2,0.6,2,   1902.0,2,   2255.0,2,    68.95,2
  35A319940923,     5,  1,      4,      4,2,19940926,0120,-11.0000, 165.0000, -999,     59.4,  26.9180,  34.4340,2,    4.275,2,    186.5,2,     0.11,2,     0.12,2,     0.01,2,     0.14,2,     0.11,2,0.15,2,   1916.0,2,   2261.0,2,    68.80,2
  35A319940923,     5,  1,      5,      5,2,19940926,0120,-11.0000, 165.0000, -999,     70.4,  26.6200,  34.6910,2,    4.067,2,    177.4,2,     0.93,2,     1.04,2,     0.11,2,     0.19,2,     0.11,2,0.11,2,   1934.0,2,   2272.0,2,    69.23,2
  35A319940923,     5,  1,      6,      6,2,19940926,0120,-11.0000, 165.0000, -999,     79.5,  26.3880,  34.8590,2,    3.619,2,    157.8,2,     2.52,2,     2.86,2,     0.34,2,     0.31,2,     0.11,2,0.04,2,   1971.0,2,   2293.0,2,    65.29,2
  35A319940923,     5,  1,      7,      7,2,19940926,0120,-11.0000, 165.0000, -999,     89.6,  26.1520,  35.1050,2,    3.131,2,    136.5,2,     3.72,2,     4.08,2,     0.36,2,     0.40,2,     0.08,2,0.05,2,   1987.0,2,   2302.0,2,    59.47,2
  35A319940923,     5,  1,      8,      8,2,19940926,0120,-11.0000, 165.0000, -999,     99.6,  25.6590,  35.4120,2, -999.000,9,   -999.0,9,     6.37,2,     6.59,2,     0.22,2,     0.57,2,     0.07,2,0.34,2,   -999.0,9,   -999.0,9,    58.88,2
  35A319940923,     5,  1,      9,      9,2,19940926,0120,-11.0000, 165.0000, -999,    120.8,  24.7590,  35.6040,2,    2.637,2,    114.9,2,     8.13,2,     8.18,2,     0.05,2,     0.69,2,     0.06,2,0.1,2,   2047.0,2,   2332.0,2,  -999.00,9
  35A319940923,     5,  1,     10,     10,2,19940926,0120,-11.0000, 165.0000, -999,    150.0,  22.2220,  35.7470,2,    2.398,2,    104.4,2,    10.51,2,    10.54,2,     0.03,2,     0.88,2,     0.05,2,0.03,2,   2094.0,2,   2351.0,2,    53.73,2
  35A319940923,     5,  1,     11,     11,2,19940926,0120,-11.0000, 165.0000, -999,    180.2,  20.7570,  35.7490,2,    2.318,2,    100.9,2,    11.55,2,    11.57,2,     0.02,2,     0.98,2,     0.06,2,0,2,   2110.0,2,   2351.0,2,    49.36,2
  35A319940923,     5,  1,     12,     12,2,19940926,0120,-11.0000, 165.0000, -999,   1011.4,   4.2600,  34.5300,2, -999.000,9,    114.2,2,    39.50,2,    39.50,2,     0.00,2,     2.46,2,  -999.00,9,0,2,   2252.0,2,   2341.0,2,    39.72,2