BOTTLE,20120829IOSDFOJC
EXPOCODE,STNNBR,CASTNO,SAMPNO,BTLNBR,BTLNBR_FLAG_W,DATE,TIME,LATITUDE,LONGITUDE,DEPTH,CTDPRS,CTDTMP,CTDSAL,CTDSAL_FLAG_W,CTDOXY,CTDOXY_FLAG_W,OXYGEN,OXYGEN_FLAG_W,NITRAT,NITRAT_FLAG_W,NO2+NO3,NO2+NO3_FLAG_W,NITRIT,NITRIT_FLAG_W,PHSPHT,PHSPHT_FLAG_W,SILCAT,SILCAT_FLAG_W,NH4,NH4_FLAG_W,TCARBN,TCARBN_FLAG_W,ALKALI,ALKALI_FLAG_W,DOC,DOC_FLAG_W
,,,,,,,,,,METERS,DBARS,,,,ML/L,,UMOL/KG,,UMOL/KG,,UMOL/KG,,UMOL/KG,,UMOL/KG,,UMOL/KG,,UMOL/KG,,UMOL/KG,,UMOL/KG,,UMOL/KG,
  35A319940923,    23,  1,      1,      1,2,19941002,1642,  0.0000, 166.5900, -999,      3.0,  28.9410,  33.7830,2,    4.330,2,    189.1,2,     0.00,2,     0.00,2,     0.00,2,     0.04,2,     0.02,2,0.05,2,   -999.0,9,   -999.0,9,  -999.00,9
  35A319940923,    23,  1,      2,      2,2,19941002,1642,  0.0000, 166.5900, -999,      9.1,  28.9200,  33.7730,2,    4.318,2,    188.6,2,     0.00,2,     0.00,2,     0.00,2,     0.03,2,     0.02,2,0.04,2,   -999.0,9,   -999.0,9,  -999.00,9
  35A319940923,    23,  1,      3,      3,2,19941002,1642,  0.0000, 166.5900, -999,     14.1,  28.9860,  33.8190,2,    4.320,2,    188.7,2,     0.00,2,     0.00,2,     0.00,2,     0.03,2,     0.02,2,0.02,2,   -999.0,9,   -999.0,9,  -999.00,9
  35A319940923,    23,  1,      4,      4,2,19941002,1642,  0.0000, 166.5900, -999,     19.1,  29.0300,  33.8550,2,    4.320,2,    188.7,2,     0.00,2,     0.00,2,     0.00,2,     0.02,2,     0.02,2,0.06,2,   -999.0,9,   -999.0,9,  -999.00,9
  35A319940923,    23,  1,      5,      5,2,19941002,1642,  0.0000, 166.5900, -999,     30.2,  29.0290,  33.8560,2,    4.321,2,    188.7,2,     0.00,2,     0.00,2,     0.00,2,     0.02,2,     0.02,2,0.01,2,   -999.0,9,   -999.0,9,  -999.00,9
  35A319940923,    23,  1,      6,      6,2,19941002,1642,  0.0000, 166.5900, -999,     39.2,  29.0410,  33.8690,2,    4.312,2,    188.3,2,     0.00,2,     0.00,2,     0.00,2,     0.01,2,     0.02,2,0.07,2,   -999.0,9,   -999.0,9,  -999.00,9
  35A319940923,    23,  1,      7,      7,2,19941002,1642,  0.0000, 166.5900, -999,     50.3,  29.0410,  33.9170,2,    4.318,2,    188.6,2,     0.00,2,     0.00,2,     0.00,2,     0.02,2,     0.02,2,0,2,   -999.0,9,   -999.0,9,  -999.00,9
  35A319940923,    23,  1,      8,      8,2,19941002,1642,  0.0000, 166.5900, -999,     58.4,  29.0290,  33.9650,2,    4.312,2,    188.3,2,     0.00,2,     0.00,2,     0.00,2,     0.03,2,     0.02,2,0.03,2,   -999.0,9,   -999.0,9,  -999.00,9
  35A319940923,    23,  1,      9,      9,2,19941002,1642,  0.0000, 166.5900, -999,     78.5,  29.1140,  34.0920,2,    4.289,2,    187.3,2,     0.02,2,     0.02,2,     0.00,2,     0.05,2,     0.02,2,0.04,2,   -999.0,9,   -999.0,9,  -999.00,9
  35A319940923,    23,  1,     10,     10,2,19941002,1642,  0.0000, 166.5900, -999,     98.6,  28.4810,  34.6560,2,    3.897,2,    170.1,2,     1.52,2,     1.67,2,     0.15,2,     0.19,2,     0.03,2,0.01,2,   -999.0,9,   -999.0,9,  -999.00,9
  35A319940923,    23,  1,     11,     11,2,19941002,1642,  0.0000, 166.5900, -999,    120.7,  21.4680,  35.2060,2,    2.750,2,    119.7,2,    10.43,2,    10.46,2,     0.03,2,     0.77,2,     0.03,2,0.05,2,   -999.0,9,   -999.0,9,  -999.00,9
  35A319940923,    23,  1,     12,     12,2,19941002,1642,  0.0000, 166.5900, -999,    149.9,  18.9540,  35.2820,2,    2.600,2,    112.9,2,    12.03,2,    12.04,2,     0.01,2,     0.89,2,     0.02,2,0.05,2,   -999.0,9,   -999.0,9,  -999.00,9
  35A319940923,    24,  1,      1,      1,2,19941002,2015, -0.0200, 166.5600, -999,      4.0,  28.9970,  33.8400,2, -999.000,9,   -999.0,9,     0.00,2,     0.00,2,     0.00,2,     0.02,2,  -999.00,9,-999,9,   1878.0,2,   2218.0,2,  -999.00,9
  35A319940923,    24,  1,      2,      2,2,19941002,2015, -0.0200, 166.5600, -999,     20.1,  29.0030,  33.8440,2, -999.000,9,   -999.0,9,     0.00,2,     0.00,2,     0.00,2,     0.02,2,  -999.00,9,-999,9,   1874.0,2,   2217.0,2,  -999.00,9
  35A319940923,    24,  1,      3,      3,2,19941002,2015, -0.0200, 166.5600, -999,     39.2,  29.0460,  33.8770,2, -999.000,9,   -999.0,9,     0.00,2,     0.00,2,     0.00,2,     0.03,2,  -999.00,9,-999,9,   1878.0,2,   2224.0,2,  -999.00,9
  35A319940923,    24,  1,      4,      4,2,19941002,2015, -0.0200, 166.5600, -999,     59.4,  29.0390,  33.9880,2, -999.000,9,   -999.0,9,     0.00,2,     0.00,2,     0.00,2,     0.08,2,  -999.00,9,-999,9,   1887.0,2,   2231.0,2,  -999.00,9
  35A319940923,    24,  1,      5,      5,2,19941002,2015, -0.0200, 166.5600, -999,     79.5,  29.1350,  34.2180,2, -999.000,9,   -999.0,9,     0.04,2,     0.05,2,     0.01,2,     0.25,2,  -999.00,9,-999,9,   1900.0,2,   2242.0,2,  -999.00,9
  35A319940923,    24,  1,      6,      6,2,19941002,2015, -0.0200, 166.5600, -999,     90.6,  28.5760,  34.6800,2, -999.000,9,   -999.0,9,     2.48,2,     2.61,2,     0.13,2,     0.71,2,  -999.00,9,-999,9,   1962.0,2,   2281.0,2,  -999.00,9
  35A319940923,    24,  1,      7,      7,2,19941002,2015, -0.0200, 166.5600, -999,     98.6,  22.7830,  35.1690,2, -999.000,9,   -999.0,9,     9.76,2,     9.80,2,     0.04,2,     0.80,2,  -999.00,9,-999,9,   2060.0,2,   2307.0,2,  -999.00,9
  35A319940923,    24,  1,      8,      8,2,19941002,2015, -0.0200, 166.5600, -999,    110.7,  20.7600,  35.2310,2, -999.000,9,   -999.0,9,    10.76,2,    10.79,2,     0.03,2,     0.62,2,  -999.00,9,-999,9,   2083.0,2,   2319.0,2,  -999.00,9
  35A319940923,    24,  1,      9,      9,2,19941002,2015, -0.0200, 166.5600, -999,    120.7,  20.1030,  35.3030,2, -999.000,9,   -999.0,9,    11.25,2,    11.28,2,     0.03,2,     0.92,2,  -999.00,9,-999,9,   2092.0,2,   2322.0,2,  -999.00,9
  35A319940923,    24,  1,     10,     10,2,19941002,2015, -0.0200, 166.5600, -999,    139.9,  18.8500,  35.2530,2, -999.000,9,   -999.0,9,    11.97,2,    11.99,2,     0.02,2,     0.96,2,  -999.00,9,-999,9,   2096.0,2,   2315.0,2,  -999.00,9
  35A319940923,    24,  1,     11,     11,2,19941002,2015, -0.0200, 166.5600, -999,    163.0,  18.0750,  35.1880,2, -999.000,9,   -999.0,9,    12.43,2,    12.45,2,     0.02,2,     1.16,2,  -999.00,9,-999,9,   2097.0,2,   2315.0,2,  -999.00,9
  35A319940923,    24,  1,     12,     12,2,19941002,2015, -0.0200, 166.5600, -999,    200.3,  15.7630,  35.1120,2, -999.000,9,   -999.0,9,    14.71,2,    14.73,2,     0.02,2,     1.33,2,  -999.00,9,-999,9,   2121.0,2,   2312.0,2,  -999.00,9
  35A319940923,    24,  1,     13,     13,2,19941002,2015, -0.0200, 166.5600, -999,    250.6,  13.9600,  35.0530,2, -999.000,9,   -999.0,9,    16.36,2,    16.37,2,     0.01,2,     1.33,2,  -999.00,9,-999,9,   2137.0,2,   2311.0,2,  -999.00,9
  35A319940923,    24,  1,     14,     14,2,19941002,2015, -0.0200, 166.5600, -999,    302.0,  12.6680,  34.9210,2, -999.000,9,   -999.0,9,    18.49,2,    18.50,2,     0.01,2,     1.54,2,  -999.00,9,-999,9,   2149.0,2,   2304.0,2,  -999.00,9
  35A319940923,    25,  1,      1,      1,2,19941003,0034, -0.0500, 166.5200, -999,      3.0,  29.1580,  33.8300,2,    4.311,2,    188.3,2,     0.00,2,     0.00,2,     0.00,2,     0.06,2,  -999.00,9,-999,9,   -999.0,9,   -999.0,9,  -999.00,9
  35A319940923,    25,  1,      2,      2,2,19941003,0034, -0.0500, 166.5200, -999,     20.1,  29.0130,  33.8310,2,    4.311,2,    188.3,2,     0.00,2,     0.00,2,     0.00,2,     0.05,2,  -999.00,9,-999,9,   -999.0,9,   -999.0,9,  -999.00,9
  35A319940923,    25,  1,      3,      3,2,19941003,0034, -0.0500, 166.5200, -999,     38.2,  28.9990,  33.8380,2,    4.312,2,    188.3,2,     0.00,2,     0.00,2,     0.00,2,     0.05,2,  -999.00,9,-999,9,   -999.0,9,   -999.0,9,  -999.00,9
  35A319940923,    25,  1,      4,      4,2,19941003,0034, -0.0500, 166.5200, -999,     59.4,  29.0810,  34.0010,2,    4.300,2,    187.8,2,     0.00,2,     0.00,2,     0.00,2,     0.06,2,  -999.00,9,-999,9,   -999.0,9,   -999.0,9,  -999.00,9
  35A319940923,    25,  1,      5,      5,2,19941003,0034, -0.0500, 166.5200, -999,     79.5,  29.0380,  34.2950,2, -999.000,9,   -999.0,9,     0.14,2,     0.17,2,     0.03,2,     0.11,2,  -999.00,9,-999,9,   -999.0,9,   -999.0,9,  -999.00,9
  35A319940923,    25,  1,      6,      6,2,19941003,0034, -0.0500, 166.5200, -999,     99.6,  26.8390,  34.8550,2,    3.029,2,   -999.0,9,     5.99,2,     6.19,2,     0.20,2,     0.49,2,  -999.00,9,-999,9,   -999.0,9,   -999.0,9,  -999.00,9
  35A319940923,    25,  1,      7,      7,2,19941003,0034, -0.0500, 166.5200, -999,    108.7,  22.3670,  35.1900,2,    2.747,2,    119.6,2,    10.01,2,    10.06,2,     0.05,2,     0.75,2,  -999.00,9,-999,9,   -999.0,9,   -999.0,9,  -999.00,9
  35A319940923,    25,  1,      8,      8,2,19941003,0034, -0.0500, 166.5200, -999,    119.7,  20.7540,  35.2450,2,    2.750,2,    119.7,2,    10.79,2,    10.83,2,     0.04,2,     0.82,2,  -999.00,9,-999,9,   -999.0,9,   -999.0,9,  -999.00,9
  35A319940923,    25,  1,      9,      9,2,19941003,0034, -0.0500, 166.5200, -999,    140.9,  18.8630,  35.2550,2, -999.000,9,   -999.0,9,    12.09,2,    12.12,2,     0.03,2,     0.93,2,  -999.00,9,-999,9,   -999.0,9,   -999.0,9,  -999.00,9
  35A319940923,    25,  1,     10,     10,2,19941003,0034, -0.0500, 166.5200, -999,    153.0,  18.4510,  35.2100,2,    2.736,2,    119.0,2,    12.35,2,    12.37,2,     0.02,2,     0.95,2,  -999.00,9,-999,9,   -999.0,9,   -999.0,9,  -999.00,9
  35A319940923,    25,  1,     11,     11,2,19941003,0034, -0.0500, 166.5200, -999,    181.1,  17.5840,  35.2530,2, -999.000,9,   -999.0,9,    12.97,2,    12.98,2,     0.01,2,     1.01,2,  -999.00,9,-999,9,   -999.0,9,   -999.0,9,  -999.00,9
  35A319940923,    25,  1,     12,     12,2,19941003,0034, -0.0500, 166.5200, -999,    201.3,  16.0830,  35.2080,2, -999.000,9,   -999.0,9,    14.24,2,    14.26,2,     0.02,2,     1.11,2,  -999.00,9,-999,9,   -999.0,9,   -999.0,9,  -999.00,9
  35A319940923,    25,  1,     13,     13,2,19941003,0034, -0.0500, 166.5200, -999,    306.0,  12.4380,  34.8970,2, -999.000,9,   -999.0,9,  -999.00,9,  -999.00,9,  -999.00,9,  -999.00,9,  -999.00,9,-999,9,   -999.0,9,   -999.0,9,  -999.00,9
  35A319940923,    26,  1,      1,      1,2,19941003,0401, -0.0700, 166.5100, -999,      3.0,  29.1080,  33.8200,2,    4.320,2,    188.7,2,     0.01,2,     0.01,2,     0.00,2,     0.03,2,  -999.00,9,-999,9,   -999.0,9,   -999.0,9,  -999.00,9
  35A319940923,    26,  1,      2,      2,2,19941003,0401, -0.0700, 166.5100, -999,     18.1,  29.0480,  33.8430,2,    4.348,2,    189.9,2,     0.00,2,     0.01,2,     0.00,2,     0.04,2,  -999.00,9,-999,9,   1871.0,2,   2215.0,2,  -999.00,9
  35A319940923,    26,  1,      3,      3,2,19941003,0401, -0.0700, 166.5100, -999,     39.2,  29.0460,  33.8590,2,    4.364,2,    190.6,2,     0.01,2,     0.01,2,     0.00,2,     0.04,2,  -999.00,9,-999,9,   1877.0,2,   2217.0,2,  -999.00,9
  35A319940923,    26,  1,      4,      4,2,19941003,0401, -0.0700, 166.5100, -999,     59.4,  29.0710,  33.9700,2,    4.307,2,    188.1,2,     0.01,2,     0.01,2,     0.00,2,     0.03,2,  -999.00,9,-999,9,   1885.0,2,   2226.0,2,  -999.00,9
  35A319940923,    26,  1,      5,      5,2,19941003,0401, -0.0700, 166.5100, -999,     78.5,  29.2220,  34.2300,2,    4.390,2,    191.7,2,     0.02,2,     0.03,2,     0.01,2,     0.09,2,  -999.00,9,-999,9,   1903.0,2,   2245.0,2,  -999.00,9
  35A319940923,    26,  1,      6,      6,2,19941003,0401, -0.0700, 166.5100, -999,     88.5,  28.6140,  34.6120,2,    4.044,2,    176.5,2,     0.87,2,     0.99,2,     0.12,2,     0.22,2,  -999.00,9,-999,9,   1938.0,2,   2267.0,2,  -999.00,9
  35A319940923,    26,  1,      7,      7,2,19941003,0401, -0.0700, 166.5100, -999,     99.6,  24.6410,  35.0600,2,    3.045,2,    132.9,2,     7.49,2,     7.63,2,     0.14,2,     0.73,2,  -999.00,9,-999,9,   2027.0,2,   2295.0,2,  -999.00,9
  35A319940923,    26,  1,      8,      8,2,19941003,0401, -0.0700, 166.5100, -999,    110.7,  21.1830,  35.1950,2,    2.736,2,    119.1,2,    10.43,2,    10.47,2,     0.04,2,     1.04,2,  -999.00,9,-999,9,   2070.0,2,   2307.0,2,  -999.00,9
  35A319940923,    26,  1,      9,      9,2,19941003,0401, -0.0700, 166.5100, -999,    121.8,  20.4470,  35.3130,2,    2.748,2,    119.6,2,    10.77,2,    10.81,2,     0.04,2,     1.01,2,  -999.00,9,-999,9,   2078.0,2,   2308.0,2,  -999.00,9
  35A319940923,    26,  1,     10,     10,2,19941003,0401, -0.0700, 166.5100, -999,    140.9,  18.5370,  35.2030,2,    2.786,2,    121.2,2,    11.87,2,    11.89,2,     0.02,2,     1.21,2,  -999.00,9,-999,9,   2092.0,2,   2310.0,2,  -999.00,9
  35A319940923,    26,  1,     11,     11,2,19941003,0401, -0.0700, 166.5100, -999,    158.0,  18.3510,  35.2060,2,    2.848,2,    123.9,2,    12.04,2,    12.07,2,     0.03,2,     1.24,2,  -999.00,9,-999,9,   2092.0,2,   2310.0,2,  -999.00,9
  35A319940923,    26,  1,     12,     12,2,19941003,0401, -0.0700, 166.5100, -999,    198.3,  16.0640,  35.1940,2,    2.866,2,    124.6,2,    13.75,2,    13.78,2,     0.03,2,     1.46,2,  -999.00,9,-999,9,   2112.0,2,   2305.0,2,  -999.00,9
  35A319940923,    26,  1,     13,     13,2,19941003,0401, -0.0700, 166.5100, -999,    301.0,  12.3840,  34.8940,2,    2.426,2,    105.4,2,    18.54,2,    18.57,2,     0.03,2,     2.07,2,  -999.00,9,-999,9,   2161.0,2,   2303.0,2,  -999.00,9
  35A319940923,    26,  1,     14,     14,2,19941003,0401, -0.0700, 166.5100, -999,   1011.2,-999.0000,-999.0000,9,    1.790,2,     77.9,2,  -999.00,9,  -999.00,9,  -999.00,9,  -999.00,9,  -999.00,9,-999,9,   -999.0,9,   -999.0,9,  -999.00,9
  35A319940923,    27,  1,      1,      1,2,19941003,0810, -0.0500, 166.5200, -999,      4.0,  29.0730,  33.8530,2, -999.000,9,   -999.0,9,     0.00,2,     0.00,2,     0.00,2,     0.04,2,  -999.00,9,-999,9,   1873.0,2,   2215.0,2,  -999.00,9
  35A319940923,    27,  1,      2,      2,2,19941003,0810, -0.0500, 166.5200, -999,     20.1,  29.0750,  33.8530,2,    4.362,2,    190.5,2,     0.00,2,     0.00,2,     0.00,2,  -999.00,9,  -999.00,9,-999,9,   1877.0,2,   2218.0,2,  -999.00,9
  35A319940923,    27,  1,      3,      3,2,19941003,0810, -0.0500, 166.5200, -999,     40.2,  29.0560,  33.8670,2,    4.371,2,    190.9,2,     0.00,2,     0.00,2,     0.00,2,  -999.00,9,  -999.00,9,-999,9,   1874.0,2,   2219.0,2,  -999.00,9
  35A319940923,    27,  1,      4,      4,2,19941003,0810, -0.0500, 166.5200, -999,     50.3,  29.0600,  33.8900,2, -999.000,9,   -999.0,9,  -999.00,9,  -999.00,9,  -999.00,9,  -999.00,9,  -999.00,9,-999,9,   1877.0,2,   2217.0,2,  -999.00,9
  35A319940923,    27,  1,      5,      5,2,19941003,0810, -0.0500, 166.5200, -999,     60.4,  29.1360,  33.9760,2, -999.000,9,   -999.0,9,     0.00,2,     0.00,2,     0.00,2,     0.04,2,  -999.00,9,-999,9,   1884.0,2,   2225.0,2,  -999.00,9
  35A319940923,    27,  1,      6,      6,2,19941003,0810, -0.0500, 166.5200, -999,     79.5,  29.2630,  34.3130,2, -999.000,9,   -999.0,9,     0.00,2,     0.00,2,     0.00,2,     0.09,2,  -999.00,9,-999,9,   1904.0,2,   2246.0,2,  -999.00,9
  35A319940923,    27,  1,      7,      7,2,19941003,0810, -0.0500, 166.5200, -999,     99.6,  23.1880,  35.1480,2, -999.000,9,   -999.0,9,     8.80,2,     8.86,2,     0.06,2,     0.83,2,  -999.00,9,-999,9,   2048.0,2,   2300.0,2,  -999.00,9
  35A319940923,    27,  1,      8,      8,2,19941003,0810, -0.0500, 166.5200, -999,    108.7,  21.5480,  35.2070,2, -999.000,9,   -999.0,9,    10.07,2,    10.10,2,     0.03,2,     0.98,2,  -999.00,9,-999,9,   2067.0,2,   2308.0,2,  -999.00,9
  35A319940923,    27,  1,      9,      9,2,19941003,0810, -0.0500, 166.5200, -999,    118.7,  20.7350,  35.2620,2, -999.000,9,   -999.0,9,    10.57,2,    10.59,2,     0.02,2,     1.04,2,  -999.00,9,-999,9,   2077.0,2,   2311.0,2,  -999.00,9
  35A319940923,    27,  1,     10,     10,2,19941003,0810, -0.0500, 166.5200, -999,    131.8,  19.2190,  35.3050,2, -999.000,9,   -999.0,9,    11.39,2,    11.41,2,     0.01,2,     1.15,2,  -999.00,9,-999,9,   2091.0,2,   2313.0,2,  -999.00,9
  35A319940923,    27,  1,     11,     11,2,19941003,0810, -0.0500, 166.5200, -999,    141.9,  18.5920,  35.2100,2, -999.000,9,   -999.0,9,    11.87,2,    11.88,2,     0.01,2,     1.21,2,  -999.00,9,-999,9,   2094.0,2,   2312.0,2,  -999.00,9
  35A319940923,    27,  1,     12,     12,2,19941003,0810, -0.0500, 166.5200, -999,    150.9,  18.5660,  35.2460,2, -999.000,9,   -999.0,9,    11.94,2,    11.96,2,     0.02,2,     1.23,2,  -999.00,9,-999,9,   2095.0,2,   2312.0,2,  -999.00,9
  35A319940923,    27,  1,     13,     13,2,19941003,0810, -0.0500, 166.5200, -999,    163.0,  18.3490,  35.2120,2, -999.000,9,   -999.0,9,    12.07,2,    12.08,2,     0.01,2,     1.23,2,  -999.00,9,-999,9,   2101.0,2,   2315.0,2,  -999.00,9
  35A319940923,    27,  1,     14,     14,2,19941003,0810, -0.0500, 166.5200, -999,    180.1,  17.6620,  35.2690,2, -999.000,9,   -999.0,9,    12.45,2,    12.47,2,     0.02,2,     1.30,2,  -999.00,9,-999,9,   2109.0,2,   2317.0,2,  -999.00,9
  35A319940923,    27,  1,     15,     15,2,19941003,0810, -0.0500, 166.5200, -999,    199.3,  15.8270,  35.1940,2, -999.000,9,   -999.0,9,    14.04,2,    14.05,2,     0.01,2,     1.47,2,  -999.00,9,-999,9,   2123.0,2,   2315.0,2,  -999.00,9