BOTTLE,20120829IOSDFOJC
EXPOCODE,STNNBR,CASTNO,SAMPNO,BTLNBR,BTLNBR_FLAG_W,DATE,TIME,LATITUDE,LONGITUDE,DEPTH,CTDPRS,CTDTMP,CTDSAL,CTDSAL_FLAG_W,CTDOXY,CTDOXY_FLAG_W,OXYGEN,OXYGEN_FLAG_W,NITRAT,NITRAT_FLAG_W,NO2+NO3,NO2+NO3_FLAG_W,NITRIT,NITRIT_FLAG_W,PHSPHT,PHSPHT_FLAG_W,SILCAT,SILCAT_FLAG_W,NH4,NH4_FLAG_W,TCARBN,TCARBN_FLAG_W,ALKALI,ALKALI_FLAG_W,DOC,DOC_FLAG_W
,,,,,,,,,,METERS,DBARS,,,,ML/L,,UMOL/KG,,UMOL/KG,,UMOL/KG,,UMOL/KG,,UMOL/KG,,UMOL/KG,,UMOL/KG,,UMOL/KG,,UMOL/KG,,UMOL/KG,
  35A319940923,    95,  1,      1,      1,2,19941021,1702,  0.0100,-149.5900, -999,      3.0,  27.6330,  35.2920,2, -999.000,9,   -999.0,9,     3.14,2,     3.63,2,     0.49,2,     0.45,2,  -999.00,9,-999,9,   2007.0,2,   2318.0,2,  -999.00,9
  35A319940923,    95,  1,      2,      2,2,19941021,1702,  0.0100,-149.5900, -999,     20.1,  27.6290,  35.2920,2, -999.000,9,   -999.0,9,     3.12,2,     3.60,2,     0.48,2,     0.44,2,  -999.00,9,-999,9,   2006.0,2,   2317.0,2,  -999.00,9
  35A319940923,    95,  1,      3,      3,2,19941021,1702,  0.0100,-149.5900, -999,     29.2,  27.6310,  35.2910,2, -999.000,9,   -999.0,9,     3.13,2,     3.61,2,     0.48,2,     0.43,2,  -999.00,9,-999,9,   2006.0,2,   2317.0,2,  -999.00,9
  35A319940923,    95,  1,      4,      4,2,19941021,1702,  0.0100,-149.5900, -999,     40.2,  27.6280,  35.2890,2, -999.000,9,   -999.0,9,     3.10,2,     3.59,2,     0.49,2,     0.45,2,  -999.00,9,-999,9,   2007.0,2,   2318.0,2,  -999.00,9
  35A319940923,    95,  1,      5,      5,2,19941021,1702,  0.0100,-149.5900, -999,     59.4,  27.5620,  35.2680,2, -999.000,9,   -999.0,9,     3.19,2,     3.72,2,     0.53,2,     0.46,2,  -999.00,9,-999,9,   2006.0,2,   2312.0,2,  -999.00,9
  35A319940923,    95,  1,      6,      6,2,19941021,1702,  0.0100,-149.5900, -999,     70.4,  27.4860,  35.2450,2, -999.000,9,   -999.0,9,     3.23,2,     3.79,2,     0.56,2,     0.46,2,  -999.00,9,-999,9,   2008.0,2,   2312.0,2,  -999.00,9
  35A319940923,    95,  1,      7,      7,2,19941021,1702,  0.0100,-149.5900, -999,     81.5,  27.2090,  35.1610,2, -999.000,9,   -999.0,9,     3.59,2,     4.33,2,     0.74,2,     0.51,2,  -999.00,9,-999,9,   2010.0,2,   2305.0,2,  -999.00,9
  35A319940923,    95,  1,      8,      8,2,19941021,1702,  0.0100,-149.5900, -999,     99.6,  26.2970,  35.0320,2, -999.000,9,   -999.0,9,     4.70,2,     5.86,2,     1.16,2,     0.59,2,  -999.00,9,-999,9,   2018.0,2,   2295.0,2,  -999.00,9
  35A319940923,    95,  1,      9,      9,2,19941021,1702,  0.0100,-149.5900, -999,    119.7,  24.9940,  35.0000,2, -999.000,9,   -999.0,9,     7.38,2,     7.44,2,     0.06,2,     0.67,2,  -999.00,9,-999,9,   2035.0,2,   2296.0,2,  -999.00,9
  35A319940923,    95,  1,     10,     10,2,19941021,1702,  0.0100,-149.5900, -999,    141.9,  22.7040,  35.3670,2, -999.000,9,   -999.0,9,    10.72,2,    10.77,2,     0.05,2,     0.91,2,  -999.00,9,-999,9,   -999.0,9,   -999.0,9,  -999.00,9
  35A319940923,    95,  1,     11,     11,2,19941021,1702,  0.0100,-149.5900, -999,    159.0,  16.7930,  35.0790,2, -999.000,9,   -999.0,9,    15.27,2,    15.30,2,     0.03,2,     1.19,2,  -999.00,9,-999,9,   2123.0,2,   2310.0,2,  -999.00,9
  35A319940923,    95,  1,     12,     12,2,19941021,1702,  0.0100,-149.5900, -999,    178.1,  16.0160,  35.0440,2, -999.000,9,   -999.0,9,    15.77,2,    15.80,2,     0.03,2,     1.25,2,  -999.00,9,-999,9,   -999.0,9,   -999.0,9,  -999.00,9
  35A319940923,    95,  1,     13,     13,2,19941021,1702,  0.0100,-149.5900, -999,    199.3,  15.1310,  35.0860,2, -999.000,9,   -999.0,9,    16.88,2,    16.90,2,     0.03,2,     1.38,2,  -999.00,9,-999,9,   2143.0,2,   2312.0,2,  -999.00,9
  35A319940923,    95,  1,     14,     14,2,19941021,1702,  0.0100,-149.5900, -999,    251.6,  12.6860,  34.8920,2, -999.000,9,   -999.0,9,    23.27,2,    23.30,2,     0.03,2,     1.75,2,  -999.00,9,-999,9,   -999.0,9,   -999.0,9,  -999.00,9
  35A319940923,    95,  1,     15,     15,2,19941021,1702,  0.0100,-149.5900, -999,    302.0,  11.8900,  34.8390,2, -999.000,9,   -999.0,9,    30.48,2,    30.50,2,     0.02,2,     2.30,2,  -999.00,9,-999,9,   2220.0,2,   2303.0,2,  -999.00,9
  35A319940923,    96,  1,      1,      1,2,19941021,2042,  0.0100,-149.5700, -999,      2.0,  27.8460,  35.2940,2, -999.000,9,   -999.0,9,     3.15,2,     3.66,2,     0.51,2,     0.48,2,  -999.00,9,-999,9,   -999.0,9,   -999.0,9,  -999.00,9
  35A319940923,    96,  1,      2,      2,2,19941021,2042,  0.0100,-149.5700, -999,     20.1,  27.6510,  35.2920,2, -999.000,9,   -999.0,9,     3.11,2,     3.62,2,     0.51,2,     0.46,2,  -999.00,9,-999,9,   -999.0,9,   -999.0,9,  -999.00,9
  35A319940923,    96,  1,      3,      3,2,19941021,2042,  0.0100,-149.5700, -999,     30.2,  27.6310,  35.2870,2, -999.000,9,   -999.0,9,     3.10,2,     3.62,2,     0.52,2,     0.45,2,  -999.00,9,-999,9,   -999.0,9,   -999.0,9,  -999.00,9
  35A319940923,    96,  1,      4,      4,2,19941021,2042,  0.0100,-149.5700, -999,     40.2,  27.6100,  35.2820,2, -999.000,9,   -999.0,9,     3.11,2,     3.65,2,     0.54,2,     0.45,2,  -999.00,9,-999,9,   -999.0,9,   -999.0,9,  -999.00,9
  35A319940923,    96,  1,      5,      5,2,19941021,2042,  0.0100,-149.5700, -999,     59.4,  27.5730,  35.2700,2, -999.000,9,   -999.0,9,     3.16,2,     3.73,2,     0.57,2,     0.45,2,  -999.00,9,-999,9,   -999.0,9,   -999.0,9,  -999.00,9
  35A319940923,    96,  1,      6,      6,2,19941021,2042,  0.0100,-149.5700, -999,     70.4,  27.5090,  35.2500,2, -999.000,9,   -999.0,9,     3.34,2,     3.94,2,     0.60,2,     0.47,2,  -999.00,9,-999,9,   -999.0,9,   -999.0,9,  -999.00,9
  35A319940923,    96,  1,      7,      7,2,19941021,2042,  0.0100,-149.5700, -999,     79.5,  27.2980,  35.1880,2, -999.000,9,   -999.0,9,     3.52,2,     4.33,2,     0.81,2,     0.51,2,  -999.00,9,-999,9,   -999.0,9,   -999.0,9,  -999.00,9
  35A319940923,    96,  1,      8,      8,2,19941021,2042,  0.0100,-149.5700, -999,    101.6,  26.3510,  35.0260,2, -999.000,9,   -999.0,9,     4.53,2,     5.93,2,     1.40,2,     0.60,2,  -999.00,9,-999,9,   -999.0,9,   -999.0,9,  -999.00,9
  35A319940923,    96,  1,      9,      9,2,19941021,2042,  0.0100,-149.5700, -999,    120.7,  26.0090,  35.0730,2, -999.000,9,   -999.0,9,     6.53,2,     6.72,2,     0.19,2,     0.65,2,  -999.00,9,-999,9,   -999.0,9,   -999.0,9,  -999.00,9
  35A319940923,    96,  1,     10,     10,2,19941021,2042,  0.0100,-149.5700, -999,    139.9,  24.7230,  35.0200,2, -999.000,9,   -999.0,9,     7.77,2,     7.84,2,     0.07,2,     0.69,2,  -999.00,9,-999,9,   -999.0,9,   -999.0,9,  -999.00,9
  35A319940923,    96,  1,     11,     11,2,19941021,2042,  0.0100,-149.5700, -999,    160.0,  19.4250,  35.1290,2, -999.000,9,   -999.0,9,    12.47,2,    12.50,2,     0.03,2,     1.01,2,  -999.00,9,-999,9,   -999.0,9,   -999.0,9,  -999.00,9
  35A319940923,    96,  1,     12,     12,2,19941021,2042,  0.0100,-149.5700, -999,    202.3,  15.2780,  35.1030,2, -999.000,9,   -999.0,9,    17.97,2,    18.00,2,     0.03,2,     1.37,2,  -999.00,9,-999,9,   -999.0,9,   -999.0,9,  -999.00,9
  35A319940923,    96,  1,     13,     13,2,19941021,2042,  0.0100,-149.5700, -999,    302.0,  11.8090,  34.8340,2, -999.000,9,   -999.0,9,    36.37,2,    36.40,2,     0.03,2,     2.74,2,  -999.00,9,-999,9,   -999.0,9,   -999.0,9,  -999.00,9
  35A319940923,    97,  1,      1,      1,2,19941022,0135,  0.0100,-149.5500, -999,      2.0,  27.9330,  35.2900,2,    4.249,2,    185.3,2,     3.19,2,     3.69,2,     0.50,2,     0.43,2,  -999.00,9,0.08,2,   2005.0,2,   2319.0,2,  -999.00,9
  35A319940923,    97,  1,      2,      2,2,19941022,0135,  0.0100,-149.5500, -999,     19.1,  27.6470,  35.2860,2,    4.318,2,    188.3,2,     3.17,2,     3.68,2,     0.51,2,     0.41,2,  -999.00,9,0.19,2,   2003.0,2,   2316.0,2,  -999.00,9
  35A319940923,    97,  1,      3,      3,2,19941022,0135,  0.0100,-149.5500, -999,     29.2,  27.6340,  35.2860,2,    4.320,2,    188.4,2,     3.15,2,     3.67,2,     0.52,2,     0.41,2,  -999.00,9,0,2,   2004.0,2,   2315.0,2,  -999.00,9
  35A319940923,    97,  1,      4,      4,2,19941022,0135,  0.0100,-149.5500, -999,     39.2,  27.6170,  35.2830,2,    4.311,2,    188.0,2,     3.19,2,     3.72,2,     0.53,2,     0.41,2,  -999.00,9,0.11,2,   2004.0,2,   2316.0,2,  -999.00,9
  35A319940923,    97,  1,      5,      5,2,19941022,0135,  0.0100,-149.5500, -999,     60.4,  27.5450,  35.2620,2,    4.224,2,    184.2,2,     3.28,2,     3.84,2,     0.56,2,     0.43,2,  -999.00,9,0.32,2,   2007.0,2,   2314.0,2,  -999.00,9
  35A319940923,    97,  1,      6,      6,2,19941022,0135,  0.0100,-149.5500, -999,     71.4,  27.4460,  35.2310,2,    4.141,2,    180.6,2,     3.36,2,     3.97,2,     0.61,2,     0.45,2,  -999.00,9,0.28,2,   2007.0,2,   2311.0,2,  -999.00,9
  35A319940923,    97,  1,      7,      7,2,19941022,0135,  0.0100,-149.5500, -999,     79.5,  27.1710,  35.1490,2,    4.096,2,    178.6,2,     3.61,2,     4.42,2,     0.81,2,     0.48,2,  -999.00,9,0.38,2,   2009.0,2,   2307.0,2,  -999.00,9
  35A319940923,    97,  1,      8,      8,2,19941022,0135,  0.0100,-149.5500, -999,     98.6,  26.2820,  35.0270,2,    3.647,2,    159.0,2,     5.22,2,     6.15,2,     0.93,2,     0.56,2,  -999.00,9,0.22,2,   2021.0,2,   2299.0,2,  -999.00,9
  35A319940923,    97,  1,      9,      9,2,19941022,0135,  0.0100,-149.5500, -999,    119.7,  25.4230,  35.0250,2,    3.131,2,    136.5,2,     7.02,2,     7.10,2,     0.08,2,     0.62,2,  -999.00,9,0.22,2,   2030.0,2,   2296.0,2,  -999.00,9
  35A319940923,    97,  1,     10,     10,2,19941022,0135,  0.0100,-149.5500, -999,    139.9,  24.0400,  35.0660,2,    2.872,2,    125.1,2,     8.83,2,     8.88,2,     0.05,2,     0.73,2,  -999.00,9,0.37,2,   2047.0,2,   2299.0,2,  -999.00,9
  35A319940923,    97,  1,     11,     11,2,19941022,0135,  0.0100,-149.5500, -999,    159.0,  18.7470,  35.2180,2,    2.623,2,    114.1,2,    13.27,2,    13.30,2,     0.03,2,     1.06,2,  -999.00,9,0.62,2,   2106.0,2,   2315.0,2,  -999.00,9
  35A319940923,    97,  1,     12,     12,2,19941022,0135,  0.0100,-149.5500, -999,    199.3,  15.5630,  35.1190,2,    2.671,2,    116.1,2,    17.27,2,    17.30,2,     0.03,2,     1.34,2,  -999.00,9,0.09,2,   -999.0,9,   -999.0,9,  -999.00,9
  35A319940923,    97,  1,     13,     13,2,19941022,0135,  0.0100,-149.5500, -999,    299.0,  11.8790,  34.8390,2,    0.748,2,     32.5,2,    30.78,2,    30.80,2,     0.02,2,     2.25,2,  -999.00,9,-999,9,   2222.0,2,   2303.0,2,  -999.00,9
  35A319940923,    98,  1,      1,      1,2,19941022,0507,  0.0000,-149.5500, -999,      2.0,  27.8210,  35.2940,2, -999.000,9,   -999.0,9,     3.03,2,     3.53,2,     0.50,2,     0.46,2,  -999.00,9,-999,9,   2008.0,2,   2316.0,2,  -999.00,9
  35A319940923,    98,  1,      2,      2,2,19941022,0507,  0.0000,-149.5500, -999,     20.1,  27.6500,  35.2890,2, -999.000,9,   -999.0,9,     3.04,2,     3.53,2,     0.49,2,     0.42,2,  -999.00,9,-999,9,   2004.0,2,   2315.0,2,  -999.00,9
  35A319940923,    98,  1,      3,      3,2,19941022,0507,  0.0000,-149.5500, -999,     30.2,  27.6400,  35.2800,2, -999.000,9,   -999.0,9,  -999.00,9,  -999.00,9,  -999.00,9,  -999.00,9,  -999.00,9,-999,9,   2007.0,2,   2314.0,2,  -999.00,9
  35A319940923,    98,  1,      4,      4,2,19941022,0507,  0.0000,-149.5500, -999,     39.2,  27.6140,  35.2820,2, -999.000,9,   -999.0,9,     3.08,2,     3.61,2,     0.53,2,     0.44,2,  -999.00,9,-999,9,   2006.0,2,   2315.0,2,  -999.00,9
  35A319940923,    98,  1,      5,      5,2,19941022,0507,  0.0000,-149.5500, -999,     49.3,  27.5850,  35.2750,2, -999.000,9,   -999.0,9,     3.12,2,     3.65,2,     0.53,2,     0.43,2,  -999.00,9,-999,9,   -999.0,9,   -999.0,9,  -999.00,9
  35A319940923,    98,  1,      6,      6,2,19941022,0507,  0.0000,-149.5500, -999,     60.4,  27.5240,  35.2570,2, -999.000,9,   -999.0,9,     3.22,2,     3.79,2,     0.57,2,     0.44,2,  -999.00,9,-999,9,   2007.0,2,   2314.0,2,  -999.00,9
  35A319940923,    98,  1,      7,      7,2,19941022,0507,  0.0000,-149.5500, -999,     69.4,  27.3610,  35.2070,2, -999.000,9,   -999.0,9,     3.40,2,     4.09,2,     0.69,2,     0.46,2,  -999.00,9,-999,9,   2009.0,2,   2308.0,2,  -999.00,9
  35A319940923,    98,  1,      8,      8,2,19941022,0507,  0.0000,-149.5500, -999,     78.5,  27.0270,  35.1100,2, -999.000,9,   -999.0,9,     3.57,2,     4.51,2,     0.94,2,     0.49,2,  -999.00,9,-999,9,   2012.0,2,   2305.0,2,  -999.00,9
  35A319940923,    98,  1,      9,      9,2,19941022,0507,  0.0000,-149.5500, -999,    100.6,  26.1910,  35.0330,2, -999.000,9,   -999.0,9,     5.30,2,     6.09,2,     0.79,2,     0.61,2,  -999.00,9,-999,9,   2021.0,2,   2297.0,2,  -999.00,9
  35A319940923,    98,  1,     10,     10,2,19941022,0507,  0.0000,-149.5500, -999,    120.7,  25.4970,  35.0600,2, -999.000,9,   -999.0,9,     6.87,2,     6.95,2,     0.09,2,     0.65,2,  -999.00,9,-999,9,   2032.0,2,   2297.0,2,  -999.00,9
  35A319940923,    98,  1,     11,     11,2,19941022,0507,  0.0000,-149.5500, -999,    140.9,  23.0750,  35.2380,2, -999.000,9,   -999.0,9,     9.97,2,    10.02,2,     0.05,2,     0.83,2,  -999.00,9,-999,9,   2067.0,2,   2307.0,2,  -999.00,9
  35A319940923,    98,  1,     12,     12,2,19941022,0507,  0.0000,-149.5500, -999,    153.0,  19.3470,  35.2700,2, -999.000,9,   -999.0,9,    12.56,2,    12.60,2,     0.04,2,     1.00,2,  -999.00,9,-999,9,   -999.0,9,   -999.0,9,  -999.00,9
  35A319940923,    98,  1,     13,     13,2,19941022,0507,  0.0000,-149.5500, -999,    159.0,  17.0320,  35.1140,2, -999.000,9,   -999.0,9,    13.17,2,    13.20,2,     0.03,2,     1.20,2,  -999.00,9,-999,9,   2122.0,2,   2312.0,2,  -999.00,9
  35A319940923,    98,  1,     14,     14,2,19941022,0507,  0.0000,-149.5500, -999,    179.1,  16.0080,  35.0490,2, -999.000,9,   -999.0,9,    14.08,2,    14.10,2,     0.02,2,     1.27,2,  -999.00,9,-999,9,   -999.0,9,   -999.0,9,  -999.00,9
  35A319940923,    98,  1,     15,     15,2,19941022,0507,  0.0000,-149.5500, -999,    200.3,  14.5740,  35.0080,2, -999.000,9,   -999.0,9,    17.07,2,    17.10,2,     0.03,2,     1.40,2,  -999.00,9,-999,9,   2143.0,2,   2310.0,2,  -999.00,9
  35A319940923,    99,  1,      1,      1,2,19941022,1106, -0.0100,-149.5200, -999,      4.0,  27.6840,  35.2890,2, -999.000,9,   -999.0,9,     3.11,2,     3.61,2,     0.50,2,     0.43,2,  -999.00,9,-999,9,   -999.0,9,   -999.0,9,  -999.00,9
  35A319940923,    99,  1,      2,      2,2,19941022,1106, -0.0100,-149.5200, -999,     20.1,  27.6780,  35.2870,2, -999.000,9,   -999.0,9,     3.06,2,     3.57,2,     0.51,2,     0.44,2,  -999.00,9,-999,9,   -999.0,9,   -999.0,9,  -999.00,9
  35A319940923,    99,  1,      3,      3,2,19941022,1106, -0.0100,-149.5200, -999,     30.2,  27.6140,  35.2800,2, -999.000,9,   -999.0,9,  -999.00,9,  -999.00,9,  -999.00,9,  -999.00,9,  -999.00,9,-999,9,   -999.0,9,   -999.0,9,  -999.00,9
  35A319940923,    99,  1,      4,      4,2,19941022,1106, -0.0100,-149.5200, -999,     40.2,  27.5850,  35.2730,2, -999.000,9,   -999.0,9,     3.07,2,     3.61,2,     0.54,2,     0.44,2,  -999.00,9,-999,9,   -999.0,9,   -999.0,9,  -999.00,9
  35A319940923,    99,  1,      5,      5,2,19941022,1106, -0.0100,-149.5200, -999,     50.3,  27.5260,  35.2550,2, -999.000,9,   -999.0,9,     3.18,2,     3.78,2,     0.60,2,     0.45,2,  -999.00,9,-999,9,   -999.0,9,   -999.0,9,  -999.00,9
  35A319940923,    99,  1,      6,      6,2,19941022,1106, -0.0100,-149.5200, -999,     60.4,  27.3380,  35.2000,2, -999.000,9,   -999.0,9,     3.27,2,     3.94,2,     0.68,2,     0.46,2,  -999.00,9,-999,9,   -999.0,9,   -999.0,9,  -999.00,9
  35A319940923,    99,  1,      7,      7,2,19941022,1106, -0.0100,-149.5200, -999,     69.4,  26.9130,  35.0940,2, -999.000,9,   -999.0,9,     3.84,2,     5.24,2,     1.40,2,     0.55,2,  -999.00,9,-999,9,   -999.0,9,   -999.0,9,  -999.00,9
  35A319940923,    99,  1,      8,      8,2,19941022,1106, -0.0100,-149.5200, -999,     80.5,  26.2980,  35.0220,2, -999.000,9,   -999.0,9,     4.37,2,     5.95,2,     1.58,2,     0.59,2,  -999.00,9,-999,9,   -999.0,9,   -999.0,9,  -999.00,9
  35A319940923,    99,  1,      9,      9,2,19941022,1106, -0.0100,-149.5200, -999,     99.6,  26.2200,  35.0670,2, -999.000,9,   -999.0,9,     5.74,2,     6.28,2,     0.54,2,     0.61,2,  -999.00,9,-999,9,   -999.0,9,   -999.0,9,  -999.00,9
  35A319940923,    99,  1,     10,     10,2,19941022,1106, -0.0100,-149.5200, -999,    119.7,  25.6800,  35.1060,2, -999.000,9,   -999.0,9,     6.96,2,     7.06,2,     0.10,2,     0.65,2,  -999.00,9,-999,9,   -999.0,9,   -999.0,9,  -999.00,9
  35A319940923,    99,  1,     11,     11,2,19941022,1106, -0.0100,-149.5200, -999,    139.9,  24.0170,  35.1260,2, -999.000,9,   -999.0,9,     9.38,2,     9.44,2,     0.06,2,     0.79,2,  -999.00,9,-999,9,   -999.0,9,   -999.0,9,  -999.00,9
  35A319940923,    99,  1,     12,     12,2,19941022,1106, -0.0100,-149.5200, -999,    149.9,  21.8920,  35.3680,2, -999.000,9,   -999.0,9,  -999.00,9,  -999.00,9,  -999.00,9,  -999.00,9,  -999.00,9,-999,9,   -999.0,9,   -999.0,9,  -999.00,9
  35A319940923,    99,  1,     13,     13,2,19941022,1106, -0.0100,-149.5200, -999,    160.0,  18.8520,  35.2640,2, -999.000,9,   -999.0,9,    13.57,2,    13.60,2,     0.03,2,     1.11,2,  -999.00,9,-999,9,   -999.0,9,   -999.0,9,  -999.00,9
  35A319940923,    99,  1,     14,     14,2,19941022,1106, -0.0100,-149.5200, -999,    200.3,  14.8210,  35.0270,2, -999.000,9,   -999.0,9,    17.88,2,    17.90,2,     0.02,2,     1.38,2,  -999.00,9,-999,9,   -999.0,9,   -999.0,9,  -999.00,9