BOTTLE,20091209MIRCJHATS
##Cruise,HO99-2,,,,Start,,Bottom,,End,,,Remarks
##Station,St.H,,Date/Time (GMT),,1999/6/23 11:35,,,,1999/6/23 12:55,,,transparency (m)
##,,,Depth (m),,6935,,-,,-
##bottle ,Pressure,depth,Temp.,Pot. T,Salinity,Sigma-t,Sigma-q,Salinity,DO,NO3+NO2,NO2,P,Si,NH4(P),pH,TCO2,Alk
### change pH scale to total
EXPOCODE,STNNBR,CASTNO,SAMPNO,BTLNBR,BTLNBR_FLAG_W,DATE,TIME,LATITUDE,LONGITUDE,DEPTH,CTDPRS,CTDTMP,CTDSAL,CTDSAL_FLAG_W,SALNTY,SALNTY_FLAG_W,OXYGEN,OXYGEN_FLAG_W,NO2+NO3,NO2+NO3_FLAG_W,NITRIT,NITRIT_FLAG_W,SILCAT,SILCAT_FLAG_W,PHSPHT,PHSPHT_FLAG_W,NH4,NH4_FLAG_W,ALKALI,ALKALI_FLAG_W,PH,PH_FLAG_W,TCARBN,TCARBN_FLAG_W
,,,,,,,,,,METERS,DBARS,,,,,,UMOL/KG,,UMOL/KG,,UMOL/KG,,UMOL/KG,,UMOL/KG,,UMOL/KG,,UMOL/KG,,,,UMOL/KG,
  49HO19990622,  St_H,  1,      S,      S,2,19990623,1135, 41.5005, 145.7970, 6935,      0.0,  12.3600,  32.8140,2,-999.0000,9,    315.3,2,     1.10,2,     0.07,2,    -0.10,3,     0.31,2,-999,9,   2248.0,2, -999.000,9,   1957.8,2
  49HO19990622,  St_H,  1,     12,     12,2,19990623,1135, 41.5005, 145.7970, 6935,     10.7,   7.4800,  32.6860,2,-999.0000,9,    371.0,2,     1.60,2,     0.08,2,     0.10,2,     0.32,2,-999,9,   2248.8,2, -999.000,9,   1963.1,2
  49HO19990622,  St_H,  1,     11,     11,2,19990623,1135, 41.5005, 145.7970, 6935,     50.1,   2.6700,  32.9190,2,-999.0000,9,    333.5,2,    16.70,2,     0.28,2,    22.10,2,     1.64,2,-999,9,   2241.2,2, -999.000,9,   2106.6,2
  49HO19990622,  St_H,  1,     10,     10,2,19990623,1135, 41.5005, 145.7970, 6935,    100.6,   1.0600,  33.0890,2,-999.0000,9,    318.9,2,    26.60,2,     0.43,2,    47.50,2,     2.02,2,-999,9,   2247.1,2, -999.000,9,   2137.2,2
  49HO19990622,  St_H,  1,      9,      9,2,19990623,1135, 41.5005, 145.7970, 6935,    200.3,   2.8200,  33.6120,2,-999.0000,9,    123.0,2,    38.80,2,     0.04,2,    85.30,2,     2.77,2,-999,9,   2286.6,2, -999.000,9,   2259.7,2
  49HO19990622,  St_H,  1,      8,      8,2,19990623,1135, 41.5005, 145.7970, 6935,    300.2,   3.0500,  33.8360,2,-999.0000,9,     72.5,2,    42.20,2,     0.01,2,   101.50,2,     2.98,2,-999,9,   2308.1,2, -999.000,9,   2298.8,2
  49HO19990622,  St_H,  1,      7,      7,2,19990623,1135, 41.5005, 145.7970, 6935,    400.4,   3.2000,  33.9830,2,-999.0000,9,     49.1,2,    43.80,2,     0.00,2,   113.70,2,     3.10,2,-999,9,   2326.3,2, -999.000,9,   2321.3,2
  49HO19990622,  St_H,  1,      6,      6,2,19990623,1135, 41.5005, 145.7970, 6935,    600.4,   3.1900,  34.1860,2,-999.0000,9,     31.7,2,    44.30,2,     0.00,2,   132.20,2,     3.11,2,-999,9,   2356.0,2, -999.000,9,   2346.6,2
  49HO19990622,  St_H,  1,      5,      5,2,19990623,1135, 41.5005, 145.7970, 6935,    800.5,   2.9500,  34.3050,2,-999.0000,9,     31.6,2,    44.30,2,     0.00,2,   145.20,2,     3.16,2,-999,9,   2373.6,2, -999.000,9,   2352.8,2
  49HO19990622,  St_H,  1,      4,      4,2,19990623,1135, 41.5005, 145.7970, 6935,   1000.6,   2.7500,  34.4050,2,-999.0000,9,     36.2,2,    44.10,2,     0.00,2,   153.70,2,     3.15,2,-999,9,   2386.4,2, -999.000,9,   2369.2,2
  49HO19990622,  St_H,  1,      3,      3,2,19990623,1135, 41.5005, 145.7970, 6935,   1250.7,   2.4600,  34.4640,2,-999.0000,9,     41.6,2,    44.20,2,     0.00,2,   162.50,2,     3.14,2,-999,9,   2401.6,2, -999.000,9,   2368.2,2
  49HO19990622,  St_H,  1,      2,      2,2,19990623,1135, 41.5005, 145.7970, 6935,   1499.7,   2.2400,  34.5310,2,-999.0000,9,     52.1,2,    43.40,2,    -0.01,3,   166.60,2,     3.06,2,-999,9,   2410.4,2, -999.000,9,   2365.2,2
  49HO19990622,  St_H,  1,      1,      1,2,19990623,1135, 41.5005, 145.7970, 6935,   2000.9,   1.8800,  34.6060,2,-999.0000,9,     82.9,2,    41.70,2,     0.00,2,   168.30,2,     2.91,2,-999,9,   2425.9,2, -999.000,9,   2355.9,2
  49HO19990622,  KNOT,  1,      1,      1,5,19990627,0550, 44.0000, 155.0000, -999,      0.0,   8.3971,  32.7878,2,  32.8642,2,    311.8,2,    11.11,2,     0.18,2,    11.75,2,     1.10,2,-999,9,   2226.8,2,    7.851,2,   2037.5,2
  49HO19990622,  KNOT,  1,      1,      1,5,19990627,0550, 44.0000, 155.0000, -999,      9.8,   8.5325,  32.8718,2,  32.8723,2,    309.1,2,    11.05,2,     0.18,2,    11.59,2,     1.11,2,-999,9,   2228.3,2,    7.886,2,   2034.4,2
  49HO19990622,  KNOT,  1,      1,      1,5,19990627,0550, 44.0000, 155.0000, -999,     20.8,   8.1774,  32.8166,2,  32.8378,2,    317.0,2,    11.36,2,     0.18,2,    12.50,2,     1.15,2,-999,9,   2229.7,2,    7.880,2,   2036.4,2
  49HO19990622,  KNOT,  1,      1,      1,5,19990627,0550, 44.0000, 155.0000, -999,     30.1,   5.3145,  32.9299,2,  32.9298,2,    321.5,2,    14.37,2,     0.23,2,    17.34,2,     1.39,2,-999,9,   2235.2,2,    7.822,2,   2061.4,2
  49HO19990622,  KNOT,  1,      1,      1,5,19990627,0550, 44.0000, 155.0000, -999,     40.2,   3.2287,  33.0032,2,  32.9841,2,    319.9,2,    18.74,2,     0.31,2,    28.89,2,     1.71,2,-999,9,   2238.4,2,    7.742,2,   2099.4,2
  49HO19990622,  KNOT,  1,      1,      1,5,19990627,0550, 44.0000, 155.0000, -999,     50.5,   2.5911,  33.0431,2,  33.0532,2,    303.6,2,    22.62,2,     0.57,2,    37.99,2,     1.89,2,-999,9,   2235.5,2,    7.675,2,   2128.8,2
  49HO19990622,  KNOT,  1,      1,      1,5,19990627,0550, 44.0000, 155.0000, -999,     60.6,   2.1500,  33.0821,2,  33.0946,2,    308.9,2,    24.25,2,     0.62,2,    41.69,2,     1.95,2,-999,9,   2235.6,2,    7.654,2,   2138.6,2
  49HO19990622,  KNOT,  1,      1,      1,5,19990627,0550, 44.0000, 155.0000, -999,     80.6,   1.4842,  33.1234,2,  33.1258,2,    311.9,2,    25.65,2,     0.12,2,    43.78,2,     1.98,2,-999,9,   2234.9,2,    7.631,2,   2138.9,2
  49HO19990622,  KNOT,  1,      1,      1,5,19990627,0550, 44.0000, 155.0000, -999,    100.0,   1.2740,  33.1529,2,  33.1571,2,    294.4,2,    26.30,2,     0.08,2,    46.32,2,     2.04,2,-999,9,   2236.3,2,    7.614,2,   2147.7,2
  49HO19990622,  KNOT,  1,      1,      1,5,19990627,0550, 44.0000, 155.0000, -999,    125.3,   1.5017,  33.2376,2,  33.2411,2,    266.2,2,    28.13,2,     0.04,2,    50.96,2,     2.16,2,-999,9,   2242.6,2,    7.571,2,   2169.8,2
  49HO19990622,  KNOT,  1,      1,      1,5,19990627,0550, 44.0000, 155.0000, -999,    149.9,   2.2054,  33.4196,2,  33.4071,2,    197.7,2,    32.16,2,     0.02,2,    62.53,2,     2.44,2,-999,9,   2242.6,2,    7.479,2,   2213.9,2
  49HO19990622,  KNOT,  1,      1,      1,5,19990627,0550, 44.0000, 155.0000, -999,    200.1,   2.9545,  33.6550,2,  33.6599,2,    111.8,2,    38.12,2,     0.02,2,    79.36,2,     2.81,2,-999,9,   2276.0,2,    7.367,2,   2269.8,2
  49HO19990622,  KNOT,  1,      1,      1,5,19990627,0550, 44.0000, 155.0000, -999,    251.9,   3.2234,  33.8155,2,  33.8104,2,     85.2,2,    39.40,2,     0.03,2,    89.20,2,     2.90,2,-999,9,   2293.6,2,    7.346,2,   2293.2,2
  49HO19990622,  KNOT,  1,      1,      1,5,19990627,0550, 44.0000, 155.0000, -999,    302.1,   3.2866,  33.9260,2,  33.9319,2,     57.1,2,    41.58,2,     0.03,2,   100.60,2,     3.03,2,-999,9,   2303.1,2,    7.311,2,   2319.1,2
  49HO19990622,  KNOT,  1,      1,      1,5,19990627,0550, 44.0000, 155.0000, -999,    401.4,   3.7567,  34.1357,2,  34.1346,2,     47.3,2,    41.51,2,     0.01,2,   108.29,2,     3.01,2,-999,9,   2331.4,2,    7.340,2,   2326.9,2
  49HO19990622,  KNOT,  1,      1,      1,5,19990627,0550, 44.0000, 155.0000, -999,    501.4,   3.4598,  34.2036,2,  34.2067,2,     36.1,2,    42.75,2,     0.04,2,   120.64,2,     3.09,2,-999,9,   2338.7,2,    7.329,2,   2348.0,2
  49HO19990622,  KNOT,  1,      1,      1,5,19990627,0550, 44.0000, 155.0000, -999,    600.5,   3.2908,  34.2727,2,  34.2704,2,     35.6,2,    42.96,2,     0.06,2,   128.29,2,     3.11,2,-999,9,   2351.1,2,    7.332,2,   2358.3,2
  49HO19990622,  KNOT,  1,      1,      1,5,19990627,0550, 44.0000, 155.0000, -999,    700.8,   3.1497,  34.3342,2,  34.3316,2,     37.5,2,    42.90,2,     0.00,2,   133.35,2,     3.10,2,-999,9,   2360.0,2,    7.345,2,   2358.5,2
  49HO19990622,  KNOT,  1,      1,      1,5,19990627,0550, 44.0000, 155.0000, -999,    801.2,   2.9158,  34.3594,2,  34.3548,2,     33.0,2,    43.35,2,     0.01,2,   139.84,2,     3.14,2,-999,9,   -999.0,9,    7.346,2,   2364.8,2
  49HO19990622,  KNOT,  1,      1,      1,5,19990627,0550, 44.0000, 155.0000, -999,   1001.3,   2.6666,  34.4352,2,  34.4333,2,     36.1,2,    43.44,2,     0.00,2,   148.49,2,     3.11,2,-999,9,   2380.3,2,    7.355,2,   2376.7,2
  49HO19990622,  KNOT,  1,      1,      1,5,19990627,0550, 44.0000, 155.0000, -999,   1250.9,   2.3707,  34.4869,2,  34.4847,2,     40.9,2,    43.20,2,     0.00,2,   155.68,2,     3.10,2,-999,9,   -999.0,9,    7.364,2,   2378.3,2
  49HO19990622,  KNOT,  1,      1,      1,5,19990627,0550, 44.0000, 155.0000, -999,   1501.4,   2.1760,  34.5354,2,  34.5323,2,     51.3,2,    42.69,2,     0.01,2,   159.81,2,     3.06,2,-999,9,   2397.1,2,    7.387,2,   2378.6,2
  49HO19990622,  KNOT,  1,      1,      1,5,19990627,0550, 44.0000, 155.0000, -999,   1998.8,   1.8588,  34.6024,2,  34.5995,2,     78.3,2,    41.08,2,     0.01,2,   162.27,2,     2.93,2,-999,9,   2409.3,2,    7.440,2,   2373.1,2
  49HO19990622,  KNOT,  1,      1,      1,5,19990627,0550, 44.0000, 155.0000, -999,   2498.6,   1.6422,  34.6412,2,  34.6380,2,    103.8,2,    39.38,2,     0.01,2,   159.93,2,     2.78,2,-999,9,   2412.1,2,    7.495,2,   2351.9,2
  49HO19990622,  KNOT,  1,      1,      1,5,19990627,0550, 44.0000, 155.0000, -999,   3003.1,   1.5257,  34.6625,2,  34.6596,2,    122.6,2,    37.72,2,     0.01,2,   156.29,2,     2.68,2,-999,9,   2414.2,2,    7.533,2,   2341.4,2
  49HO19990622,  St.8,  1,      1,      1,5,19990630,1304, 38.9000, 155.0000, -999,      0.0,  16.9683,  34.0063,2,  34.2003,2,    247.5,2,     0.20,2,    -0.01,2,     0.40,2,     0.10,2,-999,9,   2268.1,2,    7.851,2,   -999.0,9
  49HO19990622,  St.8,  1,      1,      1,5,19990630,1304, 38.9000, 155.0000, -999,     10.5,  16.9683,  34.1580,2,  34.1759,2,    247.9,2,     0.40,2,    -0.01,2,     0.30,2,     0.08,2,-999,9,   2258.7,2,    8.018,2,   1997.1,2
  49HO19990622,  St.8,  1,      1,      1,5,19990630,1304, 38.9000, 155.0000, -999,     20.0,  16.9104,  34.1289,2,  33.9949,2,    262.0,2,     0.70,2,     0.00,2,     1.50,2,     0.09,2,-999,9,   2255.7,2,    8.007,2,   1995.1,2
  49HO19990622,  St.8,  1,      1,      1,5,19990630,1304, 38.9000, 155.0000, -999,     30.4,  12.7687,  33.7488,2,  33.7758,2,    279.8,2,     1.70,2,     0.05,2,     3.40,2,     0.24,2,-999,9,   2244.9,2,    7.977,2,   2015.0,2
  49HO19990622,  St.8,  1,      1,      1,5,19990630,1304, 38.9000, 155.0000, -999,     40.2,  11.3078,  33.7203,2,  33.7377,2,    279.4,2,     3.70,2,     0.19,2,     5.10,2,     0.45,2,-999,9,   2254.2,2,    7.932,2,   2034.0,2
  49HO19990622,  St.8,  1,      1,      1,5,19990630,1304, 38.9000, 155.0000, -999,     51.1,   9.0532,  33.6877,2,  33.6964,2,    285.0,2,     7.00,2,     0.48,2,     7.60,2,     0.68,2,-999,9,   2250.8,2,    7.883,2,   2059.4,2
  49HO19990622,  St.8,  1,      1,      1,5,19990630,1304, 38.9000, 155.0000, -999,     60.2,   7.7373,  33.6679,2,  33.6912,2,    280.9,2,    10.20,2,     0.32,2,    11.60,2,     0.86,2,-999,9,   2248.4,2,    7.835,2,   2075.5,2
  49HO19990622,  St.8,  1,      1,      1,5,19990630,1304, 38.9000, 155.0000, -999,     78.8,   6.2902,  33.5995,2,  33.6613,2,    275.1,2,    13.30,2,    -0.02,2,    19.30,2,     1.12,2,-999,9,   2251.4,2,    7.780,2,   2098.4,2
  49HO19990622,  St.8,  1,      1,      1,5,19990630,1304, 38.9000, 155.0000, -999,    100.2,   6.0713,  33.6525,2,  33.6717,2,    265.5,2,    15.90,2,    -0.02,2,    26.60,2,     1.29,2,-999,9,   2251.7,2,    7.739,2,   2121.7,2
  49HO19990622,  St.8,  1,      1,      1,5,19990630,1304, 38.9000, 155.0000, -999,    125.7,   5.7660,  33.6501,2,  33.6485,2,    256.6,2,    17.10,2,    -0.01,2,    31.10,2,     1.43,2,-999,9,   2244.6,2,    7.712,2,   2123.3,2
  49HO19990622,  St.8,  1,      1,      1,5,19990630,1304, 38.9000, 155.0000, -999,    149.9,   4.0968,  33.4543,2,  33.4673,2,    281.3,2,    18.60,2,    -0.01,2,    33.40,2,     1.55,2,-999,9,   2256.5,2,    7.690,2,   2129.3,2
  49HO19990622,  St.8,  1,      1,      1,5,19990630,1304, 38.9000, 155.0000, -999,    199.9,   4.6912,  33.6292,2,  33.6330,2,    230.3,2,    22.70,2,    -0.02,2,    43.80,2,     1.81,2,-999,9,   2275.8,2,    7.636,2,   2165.4,2
  49HO19990622,  St.8,  1,      1,      1,5,19990630,1304, 38.9000, 155.0000, -999,    249.9,   5.9193,  33.9059,2,  33.9195,2,    169.9,2,    23.50,2,    -0.01,2,    52.60,2,     1.99,2,-999,9,   2274.5,2,    7.593,2,   2196.3,2
  49HO19990622,  St.8,  1,      1,      1,5,19990630,1304, 38.9000, 155.0000, -999,    299.7,   5.4738,  33.9259,2,  33.9259,2,    145.9,2,    28.00,2,    -0.02,2,    61.90,2,     2.20,2,-999,9,   2281.9,2,    7.534,2,   2218.1,2
  49HO19990622,  St.8,  1,      1,      1,5,19990630,1304, 38.9000, 155.0000, -999,    400.0,   5.0416,  34.0279,2,  34.0392,2,    107.4,2,    33.10,2,    -0.02,2,    77.50,2,     2.51,2,-999,9,   2299.4,2,    7.463,2,   2257.3,2
  49HO19990622,  St.8,  1,      1,      1,5,19990630,1304, 38.9000, 155.0000, -999,    501.4,   4.5072,  34.1108,2,  34.1254,2,     75.7,2,    35.40,2,    -0.02,2,    87.70,2,     2.67,2,-999,9,   2313.4,2,    7.408,2,   2295.4,2
  49HO19990622,  St.8,  1,      1,      1,5,19990630,1304, 38.9000, 155.0000, -999,    598.5,   3.8694,  34.1515,2,  34.1339,2,     63.7,2,    38.50,2,    -0.02,2,   100.20,2,     2.83,2,-999,9,   2318.6,2,    7.371,2,   2317.1,2
  49HO19990622,  St.8,  1,      1,      1,5,19990630,1304, 38.9000, 155.0000, -999,    699.6,   3.6400,  34.2418,2,  34.2481,2,     45.1,2,    40.10,2,    -0.02,2,   114.30,2,     2.96,2,-999,9,   2341.9,2,    7.354,2,   2340.1,2
  49HO19990622,  St.8,  1,      1,      1,5,19990630,1304, 38.9000, 155.0000, -999,    799.7,   3.5203,  34.3100,2,  34.3202,2,     45.5,2,    41.20,2,    -0.03,2,   123.10,2,     2.99,2,-999,9,   2358.1,2,    7.364,2,   2350.2,2
  49HO19990622,  St.8,  1,      1,      1,5,19990630,1304, 38.9000, 155.0000, -999,   1001.4,   2.9880,  34.3893,2,  34.4081,2,     38.4,2,    41.60,2,    -0.02,2,   138.40,2,     3.06,2,-999,9,   2373.7,2,    7.355,2,   2365.8,2
  49HO19990622,  St.8,  1,      1,      1,5,19990630,1304, 38.9000, 155.0000, -999,   1250.7,   2.5839,  34.4638,2,  34.4776,2,     41.4,2,    42.70,2,    -0.02,2,   149.60,2,     3.08,2,-999,9,   2389.0,2,    7.367,2,   2377.0,2
  49HO19990622,  St.8,  1,      1,      1,5,19990630,1304, 38.9000, 155.0000, -999,   1500.4,   2.2879,  34.5182,2,  34.5294,2,     49.1,2,    42.20,2,    -0.02,2,   156.50,2,     3.05,2,-999,9,   2398.6,2,    7.385,2,   2376.7,2
  49HO19990622,  St.8,  1,      1,      1,5,19990630,1304, 38.9000, 155.0000, -999,   2001.0,   1.9223,  34.5947,2,  34.6028,2,     78.6,2,    40.80,2,    -0.02,2,   159.80,2,     2.93,2,-999,9,   2406.5,2,    7.441,2,   2375.3,2
  49HO19990622,  St.8,  1,      1,      1,5,19990630,1304, 38.9000, 155.0000, -999,   2500.4,   1.6749,  34.6398,2,  34.6531,2,    108.0,2,    39.30,2,    -0.02,2,   157.20,2,     2.79,2,-999,9,   2414.4,2,    7.499,2,   2352.0,2
  49HO19990622,  St.8,  1,      1,      1,5,19990630,1304, 38.9000, 155.0000, -999,   3003.8,   1.5588,  34.6624,2,  34.6624,2,   -999.0,9,    38.20,2,    -0.03,2,   153.90,2,     2.69,2,-999,9,   2416.8,2,    7.536,2,   2346.6,2
  49HO19990622, St.13,  1,      1,      1,5,19990702,0000, 35.6000, 155.0000, -999,      0.0,  20.7313,  34.4862,2,  34.4862,2,    230.3,2,     0.05,2,    -0.03,2,    -0.40,2,     0.02,2,-999,9,   2264.0,2,    8.047,2,   1985.0,2
  49HO19990622, St.13,  1,      1,      1,5,19990702,0000, 35.6000, 155.0000, -999,     50.3,  17.1204,  34.6517,2,  34.6518,2,    253.2,2,     0.05,2,    -0.03,2,     0.40,2,     0.04,2,-999,9,   2278.1,2,    8.033,2,   2006.9,2
  49HO19990622, St.13,  1,      1,      1,5,19990702,0000, 35.6000, 155.0000, -999,    100.8,  14.8630,  34.5868,2,  34.5850,2,    220.5,2,     7.35,2,    -0.02,2,     6.70,2,     0.49,2,-999,9,   2274.3,2,    7.935,2,   2050.5,2
  49HO19990622, St.13,  1,      1,      1,5,19990702,0000, 35.6000, 155.0000, -999,    201.6,  12.6970,  34.4241,2,  34.4142,2,    196.1,2,    12.23,2,    -0.04,2,    16.10,2,     0.88,2,-999,9,   2272.3,2,    7.847,2,   2089.5,2
  49HO19990622, St.13,  1,      1,      1,5,19990702,0000, 35.6000, 155.0000, -999,    299.6,   9.7680,  34.1692,2,  34.1524,2,    201.6,2,    16.72,2,    -0.05,2,    25.60,2,     1.23,2,-999,9,   2270.6,2,    7.763,2,   2127.2,2
  49HO19990622, St.13,  1,      1,      1,5,19990702,0000, 35.6000, 155.0000, -999,    400.3,   7.1889,  34.0446,2,  34.0321,2,    161.5,2,    24.87,2,    -0.05,2,    47.20,2,     1.85,2,-999,9,   2278.7,2,    7.627,2,   2193.3,2
  49HO19990622, St.13,  1,      1,      1,5,19990702,0000, 35.6000, 155.0000, -999,    502.4,   5.7736,  34.0803,2,  34.0604,2,    116.4,2,    31.95,2,    -0.05,2,    70.20,2,     2.34,2,-999,9,   2297.6,2,    7.509,2,   2240.4,2
  49HO19990622, St.13,  1,      1,      1,5,19990702,0000, 35.6000, 155.0000, -999,    600.6,   4.8503,  34.1269,2,  34.1075,2,     83.8,2,    36.57,2,    -0.05,2,    88.90,2,     2.66,2,-999,9,   2313.7,2,    7.433,2,   2278.5,2
  49HO19990622, St.13,  1,      1,      1,5,19990702,0000, 35.6000, 155.0000, -999,    802.2,   3.7895,  34.2844,2,  34.2555,2,     50.3,2,    41.16,2,    -0.05,2,   116.70,2,     2.95,2,-999,9,   2345.1,2,    7.375,2,   2333.8,2
  49HO19990622, St.13,  1,      1,      1,5,19990702,0000, 35.6000, 155.0000, -999,   1001.5,   3.1917,  34.3772,2,  34.3526,2,     44.4,2,    42.11,2,    -0.03,2,   133.10,2,     3.05,2,-999,9,   2357.0,2,    7.363,2,   2361.0,2
  49HO19990622, St.13,  1,      1,      1,5,19990702,0000, 35.6000, 155.0000, -999,   1500.6,   2.3749,  34.5143,2,  34.5008,2,     51.0,2,    42.46,2,    -0.05,2,   153.10,2,     3.04,2,-999,9,   2396.0,2,    7.381,2,   2382.6,2
  49HO19990622, St.13,  1,      1,      1,5,19990702,0000, 35.6000, 155.0000, -999,   2000.7,   1.9478,  34.5945,2,  34.5893,2,     78.6,2,    41.41,2,    -0.05,2,  -999.00,9,     2.91,2,-999,9,   2407.9,2,    7.440,2,   2373.6,2
  49HO19990622, St.13,  1,      1,      1,5,19990702,0000, 35.6000, 155.0000, -999,   3002.2,   1.5454,  34.6653,2,  34.6696,2,    129.7,2,    37.71,2,    -0.04,2,   152.70,2,     2.66,2,-999,9,   2413.0,2,    7.532,2,   2340.2,2