BOTTLE,20130510GEMDJMAYT
EXPOCODE,SECT_ID,STNNBR,CASTNO,SAMPNO,BTLNBR,BTLNBR_FLAG_W,DATE,TIME,LATITUDE,LONGITUDE,DEPTH,CTDPRS,CTDTMP,CTDSAL,CTDSAL_FLAG_W,CTDOXY,CTDOXY_FLAG_W,SALNTY,SALNTY_FLAG_W,OXYGEN,OXYGEN_FLAG_W,SILCAT,SILCAT_FLAG_W,NITRAT,NITRAT_FLAG_W,NO2+NO3,NO2+NO3_FLAG_W,NITRIT,NITRIT_FLAG_W,PHSPHT,PHSPHT_FLAG_W,CFC-11,CFC-11_FLAG_W,CFC-12,CFC-12_FLAG_W,DELC13,DELC13_FLAG_W,TCARBN,TCARBN_FLAG_W,ALKALI,ALKALI_FLAG_W,PH,PH_FLAG_W,PH_TMP,PH_SCALE,PH_NBS,PH_NBS_FLAG_W,C13ERR,TOTALP,TOTALP_FLAG_W,AMMONI,AMMONI_FLAG_W,CHLORA,CHLORA_FLAG_W,PPHYTN,PPHYTN_FLAG_W,REVPRS,REVTMP,DEPTH_,DEPTH_FLAG,CTDDEP,THETA,SIGTHT,DOC,DOC_FLAG_W
,,,,,,,GMT,GMT,,,METER,DBAR,ITS-90,PSS-78,,UMOL/KG,,PSS-78,,UMOL/KG,,UMOL/KG,,UMOL/KG,,UMOL/KG,,UMOL/KG,,UMOL/KG,,PMOL/KG,,PMOL/KG,,/MILLE,,UMOL/KG,,UMOL/KG,,25_DEG_C,,DEG_C,,,,/MILLE,UMOL/KG,,UMOL/KG,,UG/L,,UG/L,,DBAR,ITS-90,METERS,,METERS,DEG_C,,UMOL/L,
       SM08-10,  NONE,SM-5447,  2,     -9,      -9,5,20081025,0435, 38.7218, 134.4980, 2587,      0.0,  21.6344,  33.3910,2,   -999.0,9,-999.0000,9,    222.3,2,     2.16,2,  -999.00,9,     0.29,2,  -999.00,9,     0.00,2, -999.000,9, -999.000,9,  -999.00,9,   -999.0,9,   -999.0,9,-999.0000,9,   -999.0,  9,  -999.00,9,   -999.0,  -999.00,9,  -999.00,9,     0.49,2,     0.19,2,   -999.0,-999.0000, -999,9,    0,  21.6343,  23.0968,   -999.0,9
       SM08-10,  NONE,SM-5447,  2,     11, 02-6324,2,20081025,0435, 38.7218, 134.4980, 2587,     10.5,  21.4967,  33.3966,2,   -999.0,9,-999.0000,9,    222.1,2,     2.12,2,  -999.00,9,     0.29,2,  -999.00,9,     0.00,2, -999.000,9, -999.000,9,  -999.00,9,   -999.0,9,   -999.0,9,-999.0000,9,   -999.0,  9,  -999.00,9,   -999.0,  -999.00,9,  -999.00,9,     0.53,2,     0.20,2,   -999.0,-999.0000, -999,9,   10,  21.4947,  23.1394,   -999.0,9
       SM08-10,  NONE,SM-5447,  2,     10,8802-010,2,20081025,0434, 38.7218, 134.4980, 2587,     19.2,  21.1389,  33.4413,2,   -999.0,9,  33.4410,2,    223.0,2,     2.36,2,  -999.00,9,     0.39,2,  -999.00,9,     0.01,2, -999.000,9, -999.000,9,  -999.00,9,   -999.0,9,   -999.0,9,-999.0000,9,   -999.0,  9,  -999.00,9,   -999.0,  -999.00,9,  -999.00,9,     0.49,2,     0.21,2,   -999.0,-999.0000, -999,9,   19,  21.1353,  23.2712,   -999.0,9
       SM08-10,  NONE,SM-5447,  2,      9,02-18042,2,20081025,0433, 38.7218, 134.4980, 2587,     32.2,  21.0241,  33.4687,2,   -999.0,9,-999.0000,9,    221.3,2,     2.46,2,  -999.00,9,     0.59,2,  -999.00,9,     0.02,2, -999.000,9, -999.000,9,  -999.00,9,   -999.0,9,   -999.0,9,-999.0000,9,   -999.0,  9,  -999.00,9,   -999.0,  -999.00,9,  -999.00,9,     0.50,2,     0.22,2,   -999.0,-999.0000, -999,9,   32,  21.0180,  23.3237,   -999.0,9
       SM08-10,  NONE,SM-5447,  2,      8,10017-03,2,20081025,0432, 38.7218, 134.4980, 2587,     51.9,  18.1884,  34.1883,2,   -999.0,9,  34.1809,4,    158.5,2,    12.51,2,  -999.00,9,     9.27,2,  -999.00,9,     0.56,2, -999.000,9, -999.000,9,  -999.00,9,   -999.0,9,   -999.0,9,-999.0000,9,   -999.0,  9,  -999.00,9,   -999.0,  -999.00,9,  -999.00,9,     0.14,2,     0.21,2,   -999.0,-999.0000, -999,9,   51,  18.1795,  24.6063,   -999.0,9
       SM08-10,  NONE,SM-5447,  2,      7,02-15147,2,20081025,0431, 38.7218, 134.4980, 2587,     76.6,  16.1765,  34.2694,2,   -999.0,9,-999.0000,9,    176.5,2,    12.78,2,  -999.00,9,     9.17,2,  -999.00,9,     0.58,2, -999.000,9, -999.000,9,  -999.00,9,   -999.0,9,   -999.0,9,-999.0000,9,   -999.0,  9,  -999.00,9,   -999.0,  -999.00,9,  -999.00,9,     0.06,2,     0.07,2,   -999.0,-999.0000, -999,9,   76,  16.1644,  25.1481,   -999.0,9
       SM08-10,  NONE,SM-5447,  2,      6,02-10267,2,20081025,0430, 38.7218, 134.4980, 2587,    103.3,  14.2976,  34.4303,2,   -999.0,9,  34.4044,4,    186.4,2,    14.55,2,  -999.00,9,    10.04,2,  -999.00,9,     0.67,2, -999.000,9, -999.000,9,  -999.00,9,   -999.0,9,   -999.0,9,-999.0000,9,   -999.0,  9,  -999.00,9,   -999.0,  -999.00,9,  -999.00,9,     0.02,2,     0.04,2,   -999.0,-999.0000, -999,9,  102,  14.2826,  25.6873,   -999.0,9
       SM08-10,  NONE,SM-5447,  2,      5, 02-6327,2,20081025,0428, 38.7218, 134.4980, 2587,    127.2,  11.2147,  34.3449,2,   -999.0,9,-999.0000,9,    237.2,2,     8.49,2,  -999.00,9,     7.50,2,  -999.00,9,     0.51,2, -999.000,9, -999.000,9,  -999.00,9,   -999.0,9,   -999.0,9,-999.0000,9,   -999.0,  9,  -999.00,9,   -999.0,  -999.00,9,  -999.00,9,     0.02,2,     0.03,2,   -999.0,-999.0000, -999,9,  126,  11.1990,  26.2293,   -999.0,9
       SM08-10,  NONE,SM-5447,  2,      4,8802-009,2,20081025,0427, 38.7218, 134.4980, 2587,    153.2,   8.0114,  34.1918,2,   -999.0,9,-999.0000,9,    253.0,2,    10.63,2,  -999.00,9,     9.55,2,  -999.00,9,     0.66,2, -999.000,9, -999.000,9,  -999.00,9,   -999.0,9,   -999.0,9,-999.0000,9,   -999.0,  9,  -999.00,9,   -999.0,  -999.00,9,  -999.00,9,     0.04,2,     0.05,2,   -999.0,-999.0000, -999,9,  152,   7.9961,  26.6396,   -999.0,9
       SM08-10,  NONE,SM-5447,  2,      3,10017-01,2,20081025,0425, 38.7218, 134.4980, 2587,    200.1,   3.9087,  34.0662,2,   -999.0,9,  34.0667,2,    256.9,2,    18.92,2,  -999.00,9,    14.80,2,  -999.00,9,     1.05,2, -999.000,9, -999.000,9,  -999.00,9,   -999.0,9,   -999.0,9,-999.0000,9,   -999.0,  9,  -999.00,9,   -999.0,  -999.00,9,  -999.00,9,     0.01,2,     0.03,2,   -999.0,-999.0000, -999,9,  198,   3.8951,  27.0540,   -999.0,9
       SM08-10,  NONE,SM-5447,  2,      2,02-17553,2,20081025,0424, 38.7218, 134.4980, 2587,    247.4,   2.1469,  34.0586,2,   -999.0,9,-999.0000,9,    259.6,2,    24.39,2,  -999.00,9,    17.62,2,  -999.00,9,     1.27,2, -999.000,9, -999.000,9,  -999.00,9,   -999.0,9,   -999.0,9,-999.0000,9,   -999.0,  9,  -999.00,9,   -999.0,  -999.00,9,  -999.00,9,     0.01,2,     0.03,2,   -999.0,-999.0000, -999,9,  245,   2.1335,  27.2070,   -999.0,9
       SM08-10,  NONE,SM-5447,  2,      1,8802-011,2,20081025,0422, 38.7218, 134.4980, 2587,    298.2,   1.3649,  34.0639,2,   -999.0,9,-999.0000,9,    241.8,2,    32.80,2,  -999.00,9,    21.22,2,  -999.00,9,     1.55,2, -999.000,9, -999.000,9,  -999.00,9,   -999.0,9,   -999.0,9,-999.0000,9,   -999.0,  9,  -999.00,9,   -999.0,  -999.00,9,  -999.00,9,     0.01,2,     0.03,2,   -999.0,-999.0000, -999,9,  296,   1.3505,  27.2693,   -999.0,9
       SM08-10,  NONE,SM-5447,  1,     11, 02-6324,2,20081025,0337, 38.7207, 134.4537, 2378,    407.7,   0.8484,  34.0696,2,   -999.0,9,  34.0695,2,    229.8,2,    39.72,2,  -999.00,9,    23.36,2,  -999.00,9,     1.74,2, -999.000,9, -999.000,9,  -999.00,9,   -999.0,9,   -999.0,9,-999.0000,9,   -999.0,  9,  -999.00,9,   -999.0,  -999.00,9,  -999.00,9,  -999.00,9,  -999.00,9,   -999.0,-999.0000, -999,9,  404,   0.8301,  27.3080,   -999.0,9
       SM08-10,  NONE,SM-5447,  1,     10,8802-010,2,20081025,0334, 38.7207, 134.4537, 2378,    507.6,   0.6387,  34.0707,2,   -999.0,9,-999.0000,9,    217.1,2,    46.53,2,  -999.00,9,    24.92,2,  -999.00,9,     1.87,2, -999.000,9, -999.000,9,  -999.00,9,   -999.0,9,   -999.0,9,-999.0000,9,   -999.0,  9,  -999.00,9,   -999.0,  -999.00,9,  -999.00,9,  -999.00,9,  -999.00,9,   -999.0,-999.0000, -999,9,  503,   0.6164,  27.3219,   -999.0,9
       SM08-10,  NONE,SM-5447,  1,      9,02-18042,2,20081025,0329, 38.7207, 134.4537, 2378,    607.4,   0.5263,  34.0715,2,   -999.0,9,  34.0718,2,    218.0,2,    48.94,2,  -999.00,9,    24.82,2,  -999.00,9,     1.87,2, -999.000,9, -999.000,9,  -999.00,9,   -999.0,9,   -999.0,9,-999.0000,9,   -999.0,  9,  -999.00,9,   -999.0,  -999.00,9,  -999.00,9,  -999.00,9,  -999.00,9,   -999.0,-999.0000, -999,9,  602,   0.4996,  27.3295,   -999.0,9
       SM08-10,  NONE,SM-5447,  1,      8,10017-03,2,20081025,0325, 38.7207, 134.4537, 2378,    708.5,   0.4374,  34.0710,2,   -999.0,9,-999.0000,9,    215.6,2,    53.38,2,  -999.00,9,    25.11,2,  -999.00,9,     1.88,2, -999.000,9, -999.000,9,  -999.00,9,   -999.0,9,   -999.0,9,-999.0000,9,   -999.0,  9,  -999.00,9,   -999.0,  -999.00,9,  -999.00,9,  -999.00,9,  -999.00,9,   -999.0,-999.0000, -999,9,  702,   0.4061,  27.3344,   -999.0,9
       SM08-10,  NONE,SM-5447,  1,      7,02-15147,2,20081025,0322, 38.7207, 134.4537, 2378,    807.4,   0.3693,  34.0702,2,   -999.0,9,  34.0702,2,    212.2,2,    58.09,2,  -999.00,9,    25.31,2,  -999.00,9,     1.91,2, -999.000,9, -999.000,9,  -999.00,9,   -999.0,9,   -999.0,9,-999.0000,9,   -999.0,  9,  -999.00,9,   -999.0,  -999.00,9,  -999.00,9,  -999.00,9,  -999.00,9,   -999.0,-999.0000, -999,9,  800,   0.3334,  27.3378,   -999.0,9
       SM08-10,  NONE,SM-5447,  1,      6,02-10267,2,20081025,0320, 38.7207, 134.4537, 2378,    909.3,   0.3266,  34.0695,2,   -999.0,9,-999.0000,9,    211.2,2,    61.31,2,  -999.00,9,    25.50,2,  -999.00,9,     1.91,2, -999.000,9, -999.000,9,  -999.00,9,   -999.0,9,   -999.0,9,-999.0000,9,   -999.0,  9,  -999.00,9,   -999.0,  -999.00,9,  -999.00,9,  -999.00,9,  -999.00,9,   -999.0,-999.0000, -999,9,  900,   0.2857,  27.3399,   -999.0,9
       SM08-10,  NONE,SM-5447,  1,      5, 02-6327,2,20081025,0317, 38.7207, 134.4537, 2378,   1008.8,   0.2937,  34.0692,2,   -999.0,9,  34.0693,2,    209.2,2,    65.14,2,  -999.00,9,    25.50,2,  -999.00,9,     1.94,2, -999.000,9, -999.000,9,  -999.00,9,   -999.0,9,   -999.0,9,-999.0000,9,   -999.0,  9,  -999.00,9,   -999.0,  -999.00,9,  -999.00,9,  -999.00,9,  -999.00,9,   -999.0,-999.0000, -999,9,  999,   0.2477,  27.3417,   -999.0,9
       SM08-10,  NONE,SM-5447,  1,      4,8802-009,2,20081025,0313, 38.7207, 134.4537, 2378,   1211.5,   0.2412,  34.0684,2,   -999.0,9,  34.0678,2,    207.5,2,    70.93,2,  -999.00,9,    25.70,2,  -999.00,9,     1.95,2, -999.000,9, -999.000,9,  -999.00,9,   -999.0,9,   -999.0,9,-999.0000,9,   -999.0,  9,  -999.00,9,   -999.0,  -999.00,9,  -999.00,9,  -999.00,9,  -999.00,9,   -999.0,-999.0000, -999,9, 1199,   0.1843,  27.3445,   -999.0,9
       SM08-10,  NONE,SM-5447,  1,      3,10017-01,2,20081025,0308, 38.7207, 134.4537, 2378,   1513.1,   0.2118,  34.0681,2,   -999.0,9,  34.0680,2,    208.1,2,    73.68,2,  -999.00,9,    25.50,2,  -999.00,9,     1.94,2, -999.000,9, -999.000,9,  -999.00,9,   -999.0,9,   -999.0,9,-999.0000,9,   -999.0,  9,  -999.00,9,   -999.0,  -999.00,9,  -999.00,9,  -999.00,9,  -999.00,9,   -999.0,-999.0000, -999,9, 1496,   0.1372,  27.3467,   -999.0,9
       SM08-10,  NONE,SM-5447,  1,      2,02-17553,2,20081025,0301, 38.7207, 134.4537, 2378,   2020.7,   0.2110,  34.0681,2,   -999.0,9,  34.0701,2,    207.0,2,    78.59,2,  -999.00,9,    25.60,2,  -999.00,9,     1.95,2, -999.000,9, -999.000,9,  -999.00,9,   -999.0,9,   -999.0,9,-999.0000,9,   -999.0,  9,  -999.00,9,   -999.0,  -999.00,9,  -999.00,9,  -999.00,9,  -999.00,9,   -999.0,-999.0000, -999,9, 1996,   0.1027,  27.3486,   -999.0,9
       SM08-10,  NONE,SM-5447,  1,      1,8802-011,2,20081025,0259, 38.7207, 134.4537, 2378,   2125.2,   0.2156,  34.0684,2,   -999.0,9,  34.0679,2,    204.4,2,    83.00,2,  -999.00,9,    26.09,2,  -999.00,9,     1.98,2, -999.000,9, -999.000,9,  -999.00,9,   -999.0,9,   -999.0,9,-999.0000,9,   -999.0,  9,  -999.00,9,   -999.0,  -999.00,9,  -999.00,9,  -999.00,9,  -999.00,9,   -999.0,-999.0000, -999,9, 2098,   0.0997,  27.3490,   -999.0,9
       SM08-10,  NONE,SM-5449,  2,     -9,      -9,5,20081025,1014, 39.2820, 134.5055,  685,      0.0,  18.7924,  33.8593,2,   -999.0,9,-999.0000,9,    236.0,2,     3.04,2,  -999.00,9,     0.00,2,  -999.00,9,     0.00,2, -999.000,9, -999.000,9,  -999.00,9,   -999.0,9,   -999.0,9,-999.0000,9,   -999.0,  9,  -999.00,9,   -999.0,  -999.00,9,  -999.00,9,     0.32,2,     0.15,2,   -999.0,-999.0000, -999,9,    0,  18.7923,  24.2019,   -999.0,9
       SM08-10,  NONE,SM-5449,  2,     11, 02-6324,2,20081025,1013, 39.2820, 134.5055,  685,     10.9,  18.7953,  33.8597,2,   -999.0,9,-999.0000,9,    236.2,2,     2.92,2,  -999.00,9,     0.00,2,  -999.00,9,     0.00,2, -999.000,9, -999.000,9,  -999.00,9,   -999.0,9,   -999.0,9,-999.0000,9,   -999.0,  9,  -999.00,9,   -999.0,  -999.00,9,  -999.00,9,     0.30,2,     0.14,2,   -999.0,-999.0000, -999,9,   11,  18.7934,  24.2020,   -999.0,9
       SM08-10,  NONE,SM-5449,  2,     10,8802-010,2,20081025,1012, 39.2820, 134.5055,  685,     20.9,  18.8081,  33.8595,2,   -999.0,9,-999.0000,9,    236.2,2,     2.96,2,  -999.00,9,     0.00,2,  -999.00,9,     0.01,2, -999.000,9, -999.000,9,  -999.00,9,   -999.0,9,   -999.0,9,-999.0000,9,   -999.0,  9,  -999.00,9,   -999.0,  -999.00,9,  -999.00,9,     0.30,2,     0.15,2,   -999.0,-999.0000, -999,9,   21,  18.8044,  24.1990,   -999.0,9
       SM08-10,  NONE,SM-5449,  2,      9,02-18042,2,20081025,1010, 39.2820, 134.5055,  685,     30.1,  18.7893,  33.8596,2,   -999.0,9,-999.0000,9,    236.0,2,     2.99,2,  -999.00,9,     0.00,2,  -999.00,9,     0.02,2, -999.000,9, -999.000,9,  -999.00,9,   -999.0,9,   -999.0,9,-999.0000,9,   -999.0,  9,  -999.00,9,   -999.0,  -999.00,9,  -999.00,9,     0.34,2,     0.24,2,   -999.0,-999.0000, -999,9,   30,  18.7840,  24.2043,   -999.0,9
       SM08-10,  NONE,SM-5449,  2,      8,10017-03,2,20081025,1009, 39.2820, 134.5055,  685,     51.3,  12.0253,  34.2877,2,   -999.0,9,-999.0000,9,    270.6,2,     5.69,2,  -999.00,9,     1.46,2,  -999.00,9,     0.22,2, -999.000,9, -999.000,9,  -999.00,9,   -999.0,9,   -999.0,9,-999.0000,9,   -999.0,  9,  -999.00,9,   -999.0,  -999.00,9,  -999.00,9,     0.55,2,     0.60,2,   -999.0,-999.0000, -999,9,   51,  12.0187,  26.0323,   -999.0,9
       SM08-10,  NONE,SM-5449,  2,      7,02-15147,2,20081025,1008, 39.2820, 134.5055,  685,     75.5,   8.7965,  34.2450,2,   -999.0,9,-999.0000,9,    245.3,2,    10.92,2,  -999.00,9,     9.35,2,  -999.00,9,     0.66,2, -999.000,9, -999.000,9,  -999.00,9,   -999.0,9,   -999.0,9,-999.0000,9,   -999.0,  9,  -999.00,9,   -999.0,  -999.00,9,  -999.00,9,     0.03,2,     0.07,2,   -999.0,-999.0000, -999,9,   75,   8.7885,  26.5604,   -999.0,9
       SM08-10,  NONE,SM-5449,  2,      6,02-10267,2,20081025,1007, 39.2820, 134.5055,  685,     99.6,   6.3478,  34.1230,2,   -999.0,9,-999.0000,9,    261.2,2,    11.86,2,  -999.00,9,    10.42,2,  -999.00,9,     0.73,2, -999.000,9, -999.000,9,  -999.00,9,   -999.0,9,   -999.0,9,-999.0000,9,   -999.0,  9,  -999.00,9,   -999.0,  -999.00,9,  -999.00,9,     0.06,2,     0.07,2,   -999.0,-999.0000, -999,9,   99,   6.3392,  26.8162,   -999.0,9
       SM08-10,  NONE,SM-5449,  2,      5, 02-6327,2,20081025,1005, 39.2820, 134.5055,  685,    126.8,   4.3775,  34.0875,2,   -999.0,9,-999.0000,9,    256.8,2,    18.28,2,  -999.00,9,    13.73,2,  -999.00,9,     0.99,2, -999.000,9, -999.000,9,  -999.00,9,   -999.0,9,   -999.0,9,-999.0000,9,   -999.0,  9,  -999.00,9,   -999.0,  -999.00,9,  -999.00,9,     0.01,2,     0.04,2,   -999.0,-999.0000, -999,9,  126,   4.3685,  27.0217,   -999.0,9
       SM08-10,  NONE,SM-5449,  2,      4,8802-009,2,20081025,1001, 39.2820, 134.5055,  685,    151.6,   3.2138,  34.0622,2,   -999.0,9,-999.0000,9,    266.1,2,    19.48,2,  -999.00,9,    14.70,2,  -999.00,9,     1.06,2, -999.000,9, -999.000,9,  -999.00,9,   -999.0,9,   -999.0,9,-999.0000,9,   -999.0,  9,  -999.00,9,   -999.0,  -999.00,9,  -999.00,9,     0.01,2,     0.03,2,   -999.0,-999.0000, -999,9,  150,   3.2044,  27.1178,   -999.0,9
       SM08-10,  NONE,SM-5449,  2,      3,10017-01,2,20081025,0959, 39.2820, 134.5055,  685,    202.4,   1.7967,  34.0604,2,   -999.0,9,-999.0000,9,    252.3,2,    27.45,2,  -999.00,9,    18.89,2,  -999.00,9,     1.38,2, -999.000,9, -999.000,9,  -999.00,9,   -999.0,9,   -999.0,9,-999.0000,9,   -999.0,  9,  -999.00,9,   -999.0,  -999.00,9,  -999.00,9,     0.00,2,     0.03,2,   -999.0,-999.0000, -999,9,  201,   1.7864,  27.2351,   -999.0,9
       SM08-10,  NONE,SM-5449,  2,      2,02-17553,2,20081025,0957, 39.2820, 134.5055,  685,    251.2,   1.1246,  34.0655,2,   -999.0,9,-999.0000,9,    238.2,2,    35.01,2,  -999.00,9,    21.81,2,  -999.00,9,     1.63,2, -999.000,9, -999.000,9,  -999.00,9,   -999.0,9,   -999.0,9,-999.0000,9,   -999.0,  9,  -999.00,9,   -999.0,  -999.00,9,  -999.00,9,     0.00,2,     0.04,2,   -999.0,-999.0000, -999,9,  249,   1.1131,  27.2866,   -999.0,9
       SM08-10,  NONE,SM-5449,  2,      1,8802-011,2,20081025,0956, 39.2820, 134.5055,  685,    301.0,   0.9816,  34.0669,2,   -999.0,9,-999.0000,9,    232.9,2,    37.63,2,  -999.00,9,    22.49,2,  -999.00,9,     1.68,2, -999.000,9, -999.000,9,  -999.00,9,   -999.0,9,   -999.0,9,-999.0000,9,   -999.0,  9,  -999.00,9,   -999.0,  -999.00,9,  -999.00,9,     0.01,2,     0.04,2,   -999.0,-999.0000, -999,9,  299,   0.9680,  27.2972,   -999.0,9
       SM08-10,  NONE,SM-5449,  1,      3,10017-01,2,20081025,0917, 39.2805, 134.4795,  647,    403.8,   0.6981,  34.0695,2,   -999.0,9,-999.0000,9,    221.8,2,    44.54,2,  -999.00,9,    24.14,2,  -999.00,9,     1.83,2, -999.000,9, -999.000,9,  -999.00,9,   -999.0,9,   -999.0,9,-999.0000,9,   -999.0,  9,  -999.00,9,   -999.0,  -999.00,9,  -999.00,9,  -999.00,9,  -999.00,9,   -999.0,-999.0000, -999,9,  400,   0.6805,  27.3171,   -999.0,9
       SM08-10,  NONE,SM-5449,  1,      2,02-17553,2,20081025,0912, 39.2805, 134.4795,  647,    503.2,   0.5013,  34.0698,2,   -999.0,9,-999.0000,9,    214.9,2,    51.68,2,  -999.00,9,    24.92,2,  -999.00,9,     1.88,2, -999.000,9, -999.000,9,  -999.00,9,   -999.0,9,   -999.0,9,-999.0000,9,   -999.0,  9,  -999.00,9,   -999.0,  -999.00,9,  -999.00,9,  -999.00,9,  -999.00,9,   -999.0,-999.0000, -999,9,  499,   0.4797,  27.3292,   -999.0,9
       SM08-10,  NONE,SM-5449,  1,      1,8802-011,2,20081025,0910, 39.2805, 134.4795,  647,    600.2,   0.4199,  34.0698,2,   -999.0,9,-999.0000,9,    212.5,2,    55.39,2,  -999.00,9,    25.41,2,  -999.00,9,     1.90,2, -999.000,9, -999.000,9,  -999.00,9,   -999.0,9,   -999.0,9,-999.0000,9,   -999.0,  9,  -999.00,9,   -999.0,  -999.00,9,  -999.00,9,  -999.00,9,  -999.00,9,   -999.0,-999.0000, -999,9,  595,   0.3941,  27.3341,   -999.0,9