BOTTLE,20130510GEMDJMAYT
EXPOCODE,SECT_ID,STNNBR,CASTNO,SAMPNO,BTLNBR,BTLNBR_FLAG_W,DATE,TIME,LATITUDE,LONGITUDE,DEPTH,CTDPRS,CTDTMP,CTDSAL,CTDSAL_FLAG_W,CTDOXY,CTDOXY_FLAG_W,SALNTY,SALNTY_FLAG_W,OXYGEN,OXYGEN_FLAG_W,SILCAT,SILCAT_FLAG_W,NITRAT,NITRAT_FLAG_W,NO2+NO3,NO2+NO3_FLAG_W,NITRIT,NITRIT_FLAG_W,PHSPHT,PHSPHT_FLAG_W,CFC-11,CFC-11_FLAG_W,CFC-12,CFC-12_FLAG_W,DELC13,DELC13_FLAG_W,TCARBN,TCARBN_FLAG_W,ALKALI,ALKALI_FLAG_W,PH,PH_FLAG_W,PH_TMP,PH_SCALE,PH_NBS,PH_NBS_FLAG_W,C13ERR,TOTALP,TOTALP_FLAG_W,AMMONI,AMMONI_FLAG_W,CHLORA,CHLORA_FLAG_W,PPHYTN,PPHYTN_FLAG_W,REVPRS,REVTMP,DEPTH_,DEPTH_FLAG,CTDDEP,THETA,SIGTHT,DOC,DOC_FLAG_W
,,,,,,,GMT,GMT,,,METER,DBAR,ITS-90,PSS-78,,UMOL/KG,,PSS-78,,UMOL/KG,,UMOL/KG,,UMOL/KG,,UMOL/KG,,UMOL/KG,,UMOL/KG,,PMOL/KG,,PMOL/KG,,/MILLE,,UMOL/KG,,UMOL/KG,,25_DEG_C,,DEG_C,,,,/MILLE,UMOL/KG,,UMOL/KG,,UG/L,,UG/L,,DBAR,ITS-90,METERS,,METERS,DEG_C,,UMOL/L,
       SM08-10,  NONE,SM-5488,  1,     -9,      -9,5,20081116,0406, 40.4875, 138.3262, 3193,      0.0,  13.4378,  34.0327,2,   -999.0,9,-999.0000,9,    259.8,2,  -999.00,9,  -999.00,9,  -999.00,9,  -999.00,9,  -999.00,9, -999.000,9, -999.000,9,  -999.00,9,   -999.0,9,   -999.0,9,-999.0000,9,   -999.0,  9,  -999.00,9,   -999.0,  -999.00,9,  -999.00,9,  -999.00,9,  -999.00,9,   -999.0,-999.0000, -999,9,    0,  13.4377,  25.5554,   -999.0,9
       SM08-10,  NONE,SM-5488,  1,     12,02-14035,2,20081116,0403, 40.4875, 138.3262, 3193,     52.2,   8.8999,  34.1205,2,   -999.0,9,-999.0000,9,    281.7,2,  -999.00,9,  -999.00,9,  -999.00,9,  -999.00,9,  -999.00,9, -999.000,9, -999.000,9,  -999.00,9,   -999.0,9,   -999.0,9,-999.0000,9,   -999.0,  9,  -999.00,9,   -999.0,  -999.00,9,  -999.00,9,  -999.00,9,  -999.00,9,   -999.0,-999.0000, -999,9,   52,   8.8944,  26.4462,   -999.0,9
       SM08-10,  NONE,SM-5488,  1,     11, 02-6324,2,20081116,0402, 40.4875, 138.3262, 3193,    101.7,   3.6027,  34.0438,2,   -999.0,9,-999.0000,9,    274.9,2,  -999.00,9,  -999.00,9,  -999.00,9,  -999.00,9,  -999.00,9, -999.000,9, -999.000,9,  -999.00,9,   -999.0,9,   -999.0,9,-999.0000,9,   -999.0,  9,  -999.00,9,   -999.0,  -999.00,9,  -999.00,9,  -999.00,9,  -999.00,9,   -999.0,-999.0000, -999,9,  101,   3.5961,  27.0658,   -999.0,9
       SM08-10,  NONE,SM-5488,  1,     10,8802-010,2,20081116,0357, 40.4875, 138.3262, 3193,    203.5,   1.5517,  34.0748,2,   -999.0,9,-999.0000,9,    293.1,2,  -999.00,9,  -999.00,9,  -999.00,9,  -999.00,9,  -999.00,9, -999.000,9, -999.000,9,  -999.00,9,   -999.0,9,   -999.0,9,-999.0000,9,   -999.0,  9,  -999.00,9,   -999.0,  -999.00,9,  -999.00,9,  -999.00,9,  -999.00,9,   -999.0,-999.0000, -999,9,  202,   1.5417,  27.2646,   -999.0,9
       SM08-10,  NONE,SM-5488,  1,      9,02-18042,2,20081116,0350, 40.4875, 138.3262, 3193,    406.2,   0.8542,  34.0743,2,   -999.0,9,-999.0000,9,    258.2,2,  -999.00,9,  -999.00,9,  -999.00,9,  -999.00,9,  -999.00,9, -999.000,9, -999.000,9,  -999.00,9,   -999.0,9,   -999.0,9,-999.0000,9,   -999.0,  9,  -999.00,9,   -999.0,  -999.00,9,  -999.00,9,  -999.00,9,  -999.00,9,   -999.0,-999.0000, -999,9,  403,   0.8360,  27.3115,   -999.0,9
       SM08-10,  NONE,SM-5488,  1,      8,10017-03,2,20081116,0345, 40.4875, 138.3262, 3193,    608.5,   0.5831,  34.0737,2,   -999.0,9,-999.0000,9,    238.6,2,  -999.00,9,  -999.00,9,  -999.00,9,  -999.00,9,  -999.00,9, -999.000,9, -999.000,9,  -999.00,9,   -999.0,9,   -999.0,9,-999.0000,9,   -999.0,  9,  -999.00,9,   -999.0,  -999.00,9,  -999.00,9,  -999.00,9,  -999.00,9,   -999.0,-999.0000, -999,9,  603,   0.5561,  27.3279,   -999.0,9
       SM08-10,  NONE,SM-5488,  1,      7,02-15147,2,20081116,0339, 40.4875, 138.3262, 3193,    807.7,   0.4125,  34.0708,2,   -999.0,9,-999.0000,9,    218.6,2,  -999.00,9,  -999.00,9,  -999.00,9,  -999.00,9,  -999.00,9, -999.000,9, -999.000,9,  -999.00,9,   -999.0,9,   -999.0,9,-999.0000,9,   -999.0,  9,  -999.00,9,   -999.0,  -999.00,9,  -999.00,9,  -999.00,9,  -999.00,9,   -999.0,-999.0000, -999,9,  800,   0.3763,  27.3359,   -999.0,9
       SM08-10,  NONE,SM-5488,  1,      6,02-10267,2,20081116,0334, 40.4875, 138.3262, 3193,   1010.0,   0.3135,  34.0692,2,   -999.0,9,-999.0000,9,    212.7,2,  -999.00,9,  -999.00,9,  -999.00,9,  -999.00,9,  -999.00,9, -999.000,9, -999.000,9,  -999.00,9,   -999.0,9,   -999.0,9,-999.0000,9,   -999.0,  9,  -999.00,9,   -999.0,  -999.00,9,  -999.00,9,  -999.00,9,  -999.00,9,   -999.0,-999.0000, -999,9, 1000,   0.2673,  27.3407,   -999.0,9
       SM08-10,  NONE,SM-5488,  1,      5, 02-6327,2,20081116,0329, 40.4875, 138.3262, 3193,   1210.3,   0.2596,  34.0684,2,   -999.0,9,-999.0000,9,    210.3,2,  -999.00,9,  -999.00,9,  -999.00,9,  -999.00,9,  -999.00,9, -999.000,9, -999.000,9,  -999.00,9,   -999.0,9,   -999.0,9,-999.0000,9,   -999.0,  9,  -999.00,9,   -999.0,  -999.00,9,  -999.00,9,  -999.00,9,  -999.00,9,   -999.0,-999.0000, -999,9, 1197,   0.2026,  27.3435,   -999.0,9
       SM08-10,  NONE,SM-5488,  1,      4,8802-009,2,20081116,0324, 40.4875, 138.3262, 3193,   1516.3,   0.2212,  34.0678,2,   -999.0,9,-999.0000,9,    208.8,2,  -999.00,9,  -999.00,9,  -999.00,9,  -999.00,9,  -999.00,9, -999.000,9, -999.000,9,  -999.00,9,   -999.0,9,   -999.0,9,-999.0000,9,   -999.0,  9,  -999.00,9,   -999.0,  -999.00,9,  -999.00,9,  -999.00,9,  -999.00,9,   -999.0,-999.0000, -999,9, 1499,   0.1463,  27.3460,   -999.0,9
       SM08-10,  NONE,SM-5488,  1,      3,10017-01,2,20081116,0315, 40.4875, 138.3262, 3193,   2025.6,   0.2093,  34.0677,2,   -999.0,9,-999.0000,9,    207.6,2,  -999.00,9,  -999.00,9,  -999.00,9,  -999.00,9,  -999.00,9, -999.000,9, -999.000,9,  -999.00,9,   -999.0,9,   -999.0,9,-999.0000,9,   -999.0,  9,  -999.00,9,   -999.0,  -999.00,9,  -999.00,9,  -999.00,9,  -999.00,9,   -999.0,-999.0000, -999,9, 2000,   0.1006,  27.3484,   -999.0,9
       SM08-10,  NONE,SM-5488,  1,      2,02-17553,2,20081116,0306, 40.4875, 138.3262, 3193,   2531.7,   0.2301,  34.0681,2,   -999.0,9,-999.0000,9,    208.4,2,  -999.00,9,  -999.00,9,  -999.00,9,  -999.00,9,  -999.00,9, -999.000,9, -999.000,9,  -999.00,9,   -999.0,9,   -999.0,9,-999.0000,9,   -999.0,  9,  -999.00,9,   -999.0,  -999.00,9,  -999.00,9,  -999.00,9,  -999.00,9,   -999.0,-999.0000, -999,9, 2497,   0.0832,  27.3496,   -999.0,9
       SM08-10,  NONE,SM-5488,  1,      1,8802-011,2,20081116,0255, 40.4875, 138.3262, 3193,   3045.2,   0.2715,  34.0682,2,   -999.0,9,-999.0000,9,    209.1,2,  -999.00,9,  -999.00,9,  -999.00,9,  -999.00,9,  -999.00,9, -999.000,9, -999.000,9,  -999.00,9,   -999.0,9,   -999.0,9,-999.0000,9,   -999.0,  9,  -999.00,9,   -999.0,  -999.00,9,  -999.00,9,  -999.00,9,  -999.00,9,   -999.0,-999.0000, -999,9, 3000,   0.0812,  27.3498,   -999.0,9
       SM08-10,  137E,SM-5490,  3,     -9,      -9,5,20081116,1238, 40.4785, 137.6487, 2888,      0.0,  13.4112,  34.0640,2,   -999.0,9,-999.0000,9,    261.1,2,     3.16,2,  -999.00,9,     0.10,2,  -999.00,9,     0.02,2, -999.000,9, -999.000,9,  -999.00,9,   -999.0,9,   -999.0,9,-999.0000,9,   -999.0,  9,  -999.00,9,   -999.0,  -999.00,9,  -999.00,9,  -999.00,9,  -999.00,9,   -999.0,-999.0000, -999,9,    0,  13.4111,  25.5850,   -999.0,9
       SM08-10,  137E,SM-5490,  3,     12,02-14035,2,20081116,1237, 40.4785, 137.6487, 2888,      9.1,  13.4170,  34.0636,2,   -999.0,9,-999.0000,9,    260.5,2,     3.21,2,  -999.00,9,     0.10,2,  -999.00,9,     0.03,2, -999.000,9, -999.000,9,  -999.00,9,   -999.0,9,   -999.0,9,-999.0000,9,   -999.0,  9,  -999.00,9,   -999.0,  -999.00,9,  -999.00,9,  -999.00,9,  -999.00,9,   -999.0,-999.0000, -999,9,    9,  13.4157,  25.5838,   -999.0,9
       SM08-10,  137E,SM-5490,  3,     11, 02-6324,2,20081116,1236, 40.4785, 137.6487, 2888,     19.8,  13.4031,  34.0614,2,   -999.0,9,  34.0663,2,    261.0,2,     3.14,2,  -999.00,9,     0.10,2,  -999.00,9,     0.04,2, -999.000,9, -999.000,9,  -999.00,9,   -999.0,9,   -999.0,9,-999.0000,9,   -999.0,  9,  -999.00,9,   -999.0,  -999.00,9,  -999.00,9,  -999.00,9,  -999.00,9,   -999.0,-999.0000, -999,9,   20,  13.4004,  25.5852,   -999.0,9
       SM08-10,  137E,SM-5490,  3,     10,8802-010,2,20081116,1236, 40.4785, 137.6487, 2888,     29.2,  13.0144,  34.0439,2,   -999.0,9,-999.0000,9,    263.4,2,     3.18,2,  -999.00,9,     0.10,2,  -999.00,9,     0.05,2, -999.000,9, -999.000,9,  -999.00,9,   -999.0,9,   -999.0,9,-999.0000,9,   -999.0,  9,  -999.00,9,   -999.0,  -999.00,9,  -999.00,9,  -999.00,9,  -999.00,9,   -999.0,-999.0000, -999,9,   29,  13.0104,  25.6501,   -999.0,9
       SM08-10,  137E,SM-5490,  3,      9,02-18042,2,20081116,1235, 40.4785, 137.6487, 2888,     50.8,  11.1607,  34.1365,2,   -999.0,9,  34.1093,2,    263.2,2,     4.90,2,  -999.00,9,     2.63,2,  -999.00,9,     0.23,2, -999.000,9, -999.000,9,  -999.00,9,   -999.0,9,   -999.0,9,-999.0000,9,   -999.0,  9,  -999.00,9,   -999.0,  -999.00,9,  -999.00,9,  -999.00,9,  -999.00,9,   -999.0,-999.0000, -999,9,   50,  11.1545,  26.0752,   -999.0,9
       SM08-10,  137E,SM-5490,  3,      8,10017-03,2,20081116,1234, 40.4785, 137.6487, 2888,     75.1,   6.5018,  34.1293,2,   -999.0,9,-999.0000,9,    257.1,2,    12.47,2,  -999.00,9,    11.01,2,  -999.00,9,     0.75,2, -999.000,9, -999.000,9,  -999.00,9,   -999.0,9,   -999.0,9,-999.0000,9,   -999.0,  9,  -999.00,9,   -999.0,  -999.00,9,  -999.00,9,  -999.00,9,  -999.00,9,   -999.0,-999.0000, -999,9,   75,   6.4952,  26.8008,   -999.0,9
       SM08-10,  137E,SM-5490,  3,      7,02-15147,2,20081116,1233, 40.4785, 137.6487, 2888,    100.1,   3.9194,  34.0683,2,   -999.0,9,  34.0709,2,    267.0,2,    16.92,2,  -999.00,9,    13.44,2,  -999.00,9,     0.95,2, -999.000,9, -999.000,9,  -999.00,9,   -999.0,9,   -999.0,9,-999.0000,9,   -999.0,  9,  -999.00,9,   -999.0,  -999.00,9,  -999.00,9,  -999.00,9,  -999.00,9,   -999.0,-999.0000, -999,9,   99,   3.9127,  27.0539,   -999.0,9
       SM08-10,  137E,SM-5490,  3,      6,02-10267,2,20081116,1233, 40.4785, 137.6487, 2888,    100.0,   3.9206,  34.0679,2,   -999.0,9,-999.0000,9,   -999.0,9,  -999.00,9,  -999.00,9,  -999.00,9,  -999.00,9,  -999.00,9, -999.000,9, -999.000,9,  -999.00,9,   2141.9,3,   -999.0,1,-999.0000,9,   -999.0,  9,  -999.00,9,   -999.0,  -999.00,9,  -999.00,9,  -999.00,9,  -999.00,9,   -999.0,-999.0000, -999,9,   99,   3.9139,  27.0534,   -999.0,9
       SM08-10,  137E,SM-5490,  3,      5, 02-6327,2,20081116,1231, 40.4785, 137.6487, 2888,    125.4,   3.1232,  34.0590,2,   -999.0,9,-999.0000,9,    259.4,2,    21.22,2,  -999.00,9,    15.97,2,  -999.00,9,     1.14,2, -999.000,9, -999.000,9,  -999.00,9,   -999.0,9,   -999.0,9,-999.0000,9,   -999.0,  9,  -999.00,9,   -999.0,  -999.00,9,  -999.00,9,  -999.00,9,  -999.00,9,   -999.0,-999.0000, -999,9,  124,   3.1155,  27.1234,   -999.0,9
       SM08-10,  137E,SM-5490,  3,      4,8802-009,2,20081116,1230, 40.4785, 137.6487, 2888,    151.0,   2.3594,  34.0594,2,   -999.0,9,-999.0000,9,    253.6,2,    25.34,2,  -999.00,9,    18.11,2,  -999.00,9,     1.30,2, -999.000,9, -999.000,9,  -999.00,9,   -999.0,9,   -999.0,9,-999.0000,9,   -999.0,  9,  -999.00,9,   -999.0,  -999.00,9,  -999.00,9,  -999.00,9,  -999.00,9,   -999.0,-999.0000, -999,9,  150,   2.3511,  27.1901,   -999.0,9
       SM08-10,  137E,SM-5490,  3,      3,10017-01,2,20081116,1229, 40.4785, 137.6487, 2888,    200.8,   1.5613,  34.0657,2,   -999.0,9,  34.0669,2,    273.7,2,    24.92,2,  -999.00,9,    17.52,2,  -999.00,9,     1.26,2, -999.000,9, -999.000,9,  -999.00,9,   -999.0,9,   -999.0,9,-999.0000,9,   -999.0,  9,  -999.00,9,   -999.0,  -999.00,9,  -999.00,9,  -999.00,9,  -999.00,9,   -999.0,-999.0000, -999,9,  199,   1.5515,  27.2566,   -999.0,9
       SM08-10,  137E,SM-5490,  3,      2,02-17553,2,20081116,1229, 40.4785, 137.6487, 2888,    200.8,   1.5656,  34.0659,2,   -999.0,9,-999.0000,9,   -999.0,9,  -999.00,9,  -999.00,9,  -999.00,9,  -999.00,9,  -999.00,9, -999.000,9, -999.000,9,  -999.00,9,   2173.0,3,   -999.0,1,-999.0000,9,   -999.0,  9,  -999.00,9,   -999.0,  -999.00,9,  -999.00,9,  -999.00,9,  -999.00,9,   -999.0,-999.0000, -999,9,  199,   1.5558,  27.2565,   -999.0,9
       SM08-10,  137E,SM-5490,  3,      1,8802-011,2,20081116,1228, 40.4785, 137.6487, 2888,    251.5,   1.2118,  34.0672,2,   -999.0,9,-999.0000,9,    258.0,2,    30.65,2,  -999.00,9,    19.86,2,  -999.00,9,     1.46,2, -999.000,9, -999.000,9,  -999.00,9,   -999.0,9,   -999.0,9,-999.0000,9,   -999.0,  9,  -999.00,9,   -999.0,  -999.00,9,  -999.00,9,  -999.00,9,  -999.00,9,   -999.0,-999.0000, -999,9,  249,   1.2001,  27.2822,   -999.0,9
       SM08-10,  137E,SM-5490,  2,     12,02-14035,2,20081116,1153, 40.4848, 137.6535, 2907,    302.8,   1.0608,  34.0678,2,   -999.0,9,-999.0000,9,    252.0,2,    32.66,2,  -999.00,9,    21.03,2,  -999.00,9,     1.54,2, -999.000,9, -999.000,9,  -999.00,9,   -999.0,9,   -999.0,9,-999.0000,9,   -999.0,  9,  -999.00,9,   -999.0,  -999.00,9,  -999.00,9,  -999.00,9,  -999.00,9,   -999.0,-999.0000, -999,9,  300,   1.0470,  27.2928,   -999.0,9
       SM08-10,  137E,SM-5490,  2,     11, 02-6324,2,20081116,1150, 40.4848, 137.6535, 2907,    402.4,   0.7875,  34.0695,2,   -999.0,9,  34.0699,2,    230.5,2,    40.27,2,  -999.00,9,    23.56,2,  -999.00,9,     1.76,2, -999.000,9, -999.000,9,  -999.00,9,   -999.0,9,   -999.0,9,-999.0000,9,   -999.0,  9,  -999.00,9,   -999.0,  -999.00,9,  -999.00,9,  -999.00,9,  -999.00,9,   -999.0,-999.0000, -999,9,  399,   0.7697,  27.3117,   -999.0,9
       SM08-10,  137E,SM-5490,  2,     10,8802-010,2,20081116,1150, 40.4848, 137.6535, 2907,    401.9,   0.7883,  34.0695,2,   -999.0,9,-999.0000,9,   -999.0,9,  -999.00,9,  -999.00,9,  -999.00,9,  -999.00,9,  -999.00,9, -999.000,9, -999.000,9,  -999.00,9,   2217.6,3,   -999.0,1,-999.0000,9,   -999.0,  9,  -999.00,9,   -999.0,  -999.00,9,  -999.00,9,  -999.00,9,  -999.00,9,   -999.0,-999.0000, -999,9,  398,   0.7705,  27.3117,   -999.0,9
       SM08-10,  137E,SM-5490,  2,      9,02-18042,2,20081116,1148, 40.4848, 137.6535, 2907,    503.5,   0.6104,  34.0701,2,   -999.0,9,-999.0000,9,    218.6,2,    46.69,2,  -999.00,9,    24.92,2,  -999.00,9,     1.87,2, -999.000,9, -999.000,9,  -999.00,9,   -999.0,9,   -999.0,9,-999.0000,9,   -999.0,  9,  -999.00,9,   -999.0,  -999.00,9,  -999.00,9,  -999.00,9,  -999.00,9,   -999.0,-999.0000, -999,9,  499,   0.5884,  27.3232,   -999.0,9
       SM08-10,  137E,SM-5490,  2,      8,10017-03,2,20081116,1144, 40.4848, 137.6535, 2907,    604.8,   0.4993,  34.0703,2,   -999.0,9,  34.0701,2,    213.1,2,    51.94,2,  -999.00,9,    25.31,2,  -999.00,9,     1.92,2, -999.000,9, -999.000,9,  -999.00,9,   -999.0,9,   -999.0,9,-999.0000,9,   -999.0,  9,  -999.00,9,   -999.0,  -999.00,9,  -999.00,9,  -999.00,9,  -999.00,9,   -999.0,-999.0000, -999,9,  599,   0.4729,  27.3300,   -999.0,9
       SM08-10,  137E,SM-5490,  2,      7,02-15147,2,20081116,1144, 40.4848, 137.6535, 2907,    604.3,   0.5002,  34.0700,2,   -999.0,9,-999.0000,9,   -999.0,9,  -999.00,9,  -999.00,9,  -999.00,9,  -999.00,9,  -999.00,9, -999.000,9, -999.000,9,  -999.00,9,   2230.3,3,   -999.0,1,-999.0000,9,   -999.0,  9,  -999.00,9,   -999.0,  -999.00,9,  -999.00,9,  -999.00,9,  -999.00,9,   -999.0,-999.0000, -999,9,  599,   0.4738,  27.3297,   -999.0,9
       SM08-10,  137E,SM-5490,  2,      6,02-10267,2,20081116,1142, 40.4848, 137.6535, 2907,    706.6,   0.4311,  34.0697,2,   -999.0,9,-999.0000,9,    212.0,2,    55.45,2,  -999.00,9,    25.31,2,  -999.00,9,     1.93,2, -999.000,9, -999.000,9,  -999.00,9,   -999.0,9,   -999.0,9,-999.0000,9,   -999.0,  9,  -999.00,9,   -999.0,  -999.00,9,  -999.00,9,  -999.00,9,  -999.00,9,   -999.0,-999.0000, -999,9,  700,   0.4000,  27.3337,   -999.0,9
       SM08-10,  137E,SM-5490,  2,      5, 02-6327,2,20081116,1139, 40.4848, 137.6535, 2907,    808.1,   0.3750,  34.0700,2,   -999.0,9,  34.0703,2,    214.4,2,    56.66,2,  -999.00,9,    25.21,2,  -999.00,9,     1.91,2, -999.000,9, -999.000,9,  -999.00,9,   -999.0,9,   -999.0,9,-999.0000,9,   -999.0,  9,  -999.00,9,   -999.0,  -999.00,9,  -999.00,9,  -999.00,9,  -999.00,9,   -999.0,-999.0000, -999,9,  800,   0.3390,  27.3374,   -999.0,9
       SM08-10,  137E,SM-5490,  2,      4,8802-009,2,20081116,1139, 40.4848, 137.6535, 2907,    808.2,   0.3747,  34.0700,2,   -999.0,9,-999.0000,9,   -999.0,9,  -999.00,9,  -999.00,9,  -999.00,9,  -999.00,9,  -999.00,9, -999.000,9, -999.000,9,  -999.00,9,   2236.2,3,   -999.0,1,-999.0000,9,   -999.0,  9,  -999.00,9,   -999.0,  -999.00,9,  -999.00,9,  -999.00,9,  -999.00,9,   -999.0,-999.0000, -999,9,  800,   0.3387,  27.3374,   -999.0,9
       SM08-10,  137E,SM-5490,  2,      3,10017-01,2,20081116,1136, 40.4848, 137.6535, 2907,    909.0,   0.3254,  34.0692,2,   -999.0,9,-999.0000,9,    213.0,2,    59.56,2,  -999.00,9,    25.41,2,  -999.00,9,     1.92,2, -999.000,9, -999.000,9,  -999.00,9,   -999.0,9,   -999.0,9,-999.0000,9,   -999.0,  9,  -999.00,9,   -999.0,  -999.00,9,  -999.00,9,  -999.00,9,  -999.00,9,   -999.0,-999.0000, -999,9,  900,   0.2845,  27.3397,   -999.0,9
       SM08-10,  137E,SM-5490,  2,      2,02-17553,2,20081116,1134, 40.4848, 137.6535, 2907,   1010.3,   0.2949,  34.0686,2,   -999.0,9,  34.0689,2,    211.7,2,    62.27,2,  -999.00,9,    25.31,2,  -999.00,9,     1.93,2, -999.000,9, -999.000,9,  -999.00,9,   -999.0,9,   -999.0,9,-999.0000,9,   -999.0,  9,  -999.00,9,   -999.0,  -999.00,9,  -999.00,9,  -999.00,9,  -999.00,9,   -999.0,-999.0000, -999,9, 1000,   0.2488,  27.3412,   -999.0,9
       SM08-10,  137E,SM-5490,  2,      1,8802-011,2,20081116,1134, 40.4848, 137.6535, 2907,   1010.8,   0.2942,  34.0689,2,   -999.0,9,-999.0000,9,   -999.0,9,  -999.00,9,  -999.00,9,  -999.00,9,  -999.00,9,  -999.00,9, -999.000,9, -999.000,9,  -999.00,9,   2235.7,3,   -999.0,1,-999.0000,9,   -999.0,  9,  -999.00,9,   -999.0,  -999.00,9,  -999.00,9,  -999.00,9,  -999.00,9,   -999.0,-999.0000, -999,9, 1001,   0.2481,  27.3415,   -999.0,9