BOTTLE,20130510GEMDJMAYT
EXPOCODE,SECT_ID,STNNBR,CASTNO,SAMPNO,BTLNBR,BTLNBR_FLAG_W,DATE,TIME,LATITUDE,LONGITUDE,DEPTH,CTDPRS,CTDTMP,CTDSAL,CTDSAL_FLAG_W,CTDOXY,CTDOXY_FLAG_W,SALNTY,SALNTY_FLAG_W,OXYGEN,OXYGEN_FLAG_W,SILCAT,SILCAT_FLAG_W,NITRAT,NITRAT_FLAG_W,NO2+NO3,NO2+NO3_FLAG_W,NITRIT,NITRIT_FLAG_W,PHSPHT,PHSPHT_FLAG_W,CFC-11,CFC-11_FLAG_W,CFC-12,CFC-12_FLAG_W,DELC13,DELC13_FLAG_W,TCARBN,TCARBN_FLAG_W,ALKALI,ALKALI_FLAG_W,PH,PH_FLAG_W,PH_TMP,PH_SCALE,PH_NBS,PH_NBS_FLAG_W,C13ERR,TOTALP,TOTALP_FLAG_W,AMMONI,AMMONI_FLAG_W,CHLORA,CHLORA_FLAG_W,PPHYTN,PPHYTN_FLAG_W,REVPRS,REVTMP,DEPTH_,DEPTH_FLAG,CTDDEP,THETA,SIGTHT,DOC,DOC_FLAG_W
,,,,,,,GMT,GMT,,,METER,DBAR,ITS-90,PSS-78,,UMOL/KG,,PSS-78,,UMOL/KG,,UMOL/KG,,UMOL/KG,,UMOL/KG,,UMOL/KG,,UMOL/KG,,PMOL/KG,,PMOL/KG,,/MILLE,,UMOL/KG,,UMOL/KG,,25_DEG_C,,DEG_C,,,,/MILLE,UMOL/KG,,UMOL/KG,,UG/L,,UG/L,,DBAR,ITS-90,METERS,,METERS,DEG_C,,UMOL/L,
       SM08-10,  NONE,SM-5496,  1,     -9,      -9,5,20081123,0412, 38.4968, 135.1740, 3009,      0.0,  15.3016,  33.8891,2,   -999.0,9,-999.0000,9,    242.7,2,  -999.00,9,  -999.00,9,  -999.00,9,  -999.00,9,  -999.00,9, -999.000,9, -999.000,9,  -999.00,9,   -999.0,9,   -999.0,9,-999.0000,9,   -999.0,  9,  -999.00,9,   -999.0,  -999.00,9,  -999.00,9,  -999.00,9,  -999.00,9,   -999.0,-999.0000, -999,9,    0,  15.3015,  25.0495,   -999.0,9
       SM08-10,  NONE,SM-5496,  1,     12,02-14035,2,20081123,0410, 38.4968, 135.1740, 3009,     50.2,  15.0029,  33.8817,2,   -999.0,9,  33.8853,2,    243.1,2,  -999.00,9,  -999.00,9,  -999.00,9,  -999.00,9,  -999.00,9, -999.000,9, -999.000,9,  -999.00,9,   -999.0,9,   -999.0,9,-999.0000,9,   -999.0,  9,  -999.00,9,   -999.0,  -999.00,9,  -999.00,9,  -999.00,9,  -999.00,9,   -999.0,-999.0000, -999,9,   50,  14.9954,  25.1108,   -999.0,9
       SM08-10,  NONE,SM-5496,  1,     11, 02-6324,2,20081123,0408, 38.4968, 135.1740, 3009,    100.7,  11.3680,  34.3266,2,   -999.0,9,  34.2950,2,    239.5,2,  -999.00,9,  -999.00,9,  -999.00,9,  -999.00,9,  -999.00,9, -999.000,9, -999.000,9,  -999.00,9,   -999.0,9,   -999.0,9,-999.0000,9,   -999.0,  9,  -999.00,9,   -999.0,  -999.00,9,  -999.00,9,  -999.00,9,  -999.00,9,   -999.0,-999.0000, -999,9,  100,  11.3555,  26.1864,   -999.0,9
       SM08-10,  NONE,SM-5496,  1,     10,8802-010,2,20081123,0405, 38.4968, 135.1740, 3009,    200.9,   2.5851,  34.0632,2,   -999.0,9,  34.0663,2,    246.2,2,  -999.00,9,  -999.00,9,  -999.00,9,  -999.00,9,  -999.00,9, -999.000,9, -999.000,9,  -999.00,9,   -999.0,9,   -999.0,9,-999.0000,9,   -999.0,  9,  -999.00,9,   -999.0,  -999.00,9,  -999.00,9,  -999.00,9,  -999.00,9,   -999.0,-999.0000, -999,9,  199,   2.5736,  27.1745,   -999.0,9
       SM08-10,  NONE,SM-5496,  1,      9,02-18042,2,20081123,0401, 38.4968, 135.1740, 3009,    404.6,   0.7939,  34.0686,2,   -999.0,9,  34.0683,2,    218.5,2,  -999.00,9,  -999.00,9,  -999.00,9,  -999.00,9,  -999.00,9, -999.000,9, -999.000,9,  -999.00,9,   -999.0,9,   -999.0,9,-999.0000,9,   -999.0,  9,  -999.00,9,   -999.0,  -999.00,9,  -999.00,9,  -999.00,9,  -999.00,9,   -999.0,-999.0000, -999,9,  401,   0.7759,  27.3106,   -999.0,9
       SM08-10,  NONE,SM-5496,  1,      8,10017-03,2,20081123,0356, 38.4968, 135.1740, 3009,    606.9,   0.4988,  34.0710,2,   -999.0,9,  34.0711,2,    217.7,2,  -999.00,9,  -999.00,9,  -999.00,9,  -999.00,9,  -999.00,9, -999.000,9, -999.000,9,  -999.00,9,   -999.0,9,   -999.0,9,-999.0000,9,   -999.0,  9,  -999.00,9,   -999.0,  -999.00,9,  -999.00,9,  -999.00,9,  -999.00,9,   -999.0,-999.0000, -999,9,  601,   0.4723,  27.3307,   -999.0,9
       SM08-10,  NONE,SM-5496,  1,      7,02-15147,2,20081123,0351, 38.4968, 135.1740, 3009,    808.1,   0.3528,  34.0693,2,   -999.0,9,  34.0689,2,    209.8,2,  -999.00,9,  -999.00,9,  -999.00,9,  -999.00,9,  -999.00,9, -999.000,9, -999.000,9,  -999.00,9,   -999.0,9,   -999.0,9,-999.0000,9,   -999.0,  9,  -999.00,9,   -999.0,  -999.00,9,  -999.00,9,  -999.00,9,  -999.00,9,   -999.0,-999.0000, -999,9,  800,   0.3170,  27.3380,   -999.0,9
       SM08-10,  NONE,SM-5496,  1,      6,02-10267,2,20081123,0347, 38.4968, 135.1740, 3009,   1008.9,   0.2727,  34.0684,2,   -999.0,9,  34.0675,2,    208.2,2,  -999.00,9,  -999.00,9,  -999.00,9,  -999.00,9,  -999.00,9, -999.000,9, -999.000,9,  -999.00,9,   -999.0,9,   -999.0,9,-999.0000,9,   -999.0,  9,  -999.00,9,   -999.0,  -999.00,9,  -999.00,9,  -999.00,9,  -999.00,9,   -999.0,-999.0000, -999,9,  999,   0.2269,  27.3423,   -999.0,9
       SM08-10,  NONE,SM-5496,  1,      5, 02-6327,2,20081123,0343, 38.4968, 135.1740, 3009,   1212.1,   0.2352,  34.0680,2,   -999.0,9,  34.0688,2,    207.5,2,  -999.00,9,  -999.00,9,  -999.00,9,  -999.00,9,  -999.00,9, -999.000,9, -999.000,9,  -999.00,9,   -999.0,9,   -999.0,9,-999.0000,9,   -999.0,  9,  -999.00,9,   -999.0,  -999.00,9,  -999.00,9,  -999.00,9,  -999.00,9,   -999.0,-999.0000, -999,9, 1199,   0.1784,  27.3445,   -999.0,9
       SM08-10,  NONE,SM-5496,  1,      4,8802-009,2,20081123,0337, 38.4968, 135.1740, 3009,   1516.4,   0.2074,  34.0677,2,   -999.0,9,  34.0662,2,    206.4,2,  -999.00,9,  -999.00,9,  -999.00,9,  -999.00,9,  -999.00,9, -999.000,9, -999.000,9,  -999.00,9,   -999.0,9,   -999.0,9,-999.0000,9,   -999.0,  9,  -999.00,9,   -999.0,  -999.00,9,  -999.00,9,  -999.00,9,  -999.00,9,   -999.0,-999.0000, -999,9, 1500,   0.1326,  27.3467,   -999.0,9
       SM08-10,  NONE,SM-5496,  1,      3,10017-01,2,20081123,0328, 38.4968, 135.1740, 3009,   2025.2,   0.2126,  34.0680,2,   -999.0,9,  34.0663,2,    205.1,2,  -999.00,9,  -999.00,9,  -999.00,9,  -999.00,9,  -999.00,9, -999.000,9, -999.000,9,  -999.00,9,   -999.0,9,   -999.0,9,-999.0000,9,   -999.0,  9,  -999.00,9,   -999.0,  -999.00,9,  -999.00,9,  -999.00,9,  -999.00,9,   -999.0,-999.0000, -999,9, 2000,   0.1039,  27.3484,   -999.0,9
       SM08-10,  NONE,SM-5496,  1,      2,02-17553,2,20081123,0319, 38.4968, 135.1740, 3009,   2535.7,   0.2452,  34.0680,2,   -999.0,9,  34.0673,2,    204.3,2,  -999.00,9,  -999.00,9,  -999.00,9,  -999.00,9,  -999.00,9, -999.000,9, -999.000,9,  -999.00,9,   -999.0,9,   -999.0,9,-999.0000,9,   -999.0,  9,  -999.00,9,   -999.0,  -999.00,9,  -999.00,9,  -999.00,9,  -999.00,9,   -999.0,-999.0000, -999,9, 2502,   0.0977,  27.3488,   -999.0,9
       SM08-10,  NONE,SM-5496,  1,      1,8802-011,2,20081123,0311, 38.4968, 135.1740, 3009,   2944.8,   0.2798,  34.0681,2,   -999.0,9,  34.0669,2,    204.2,2,  -999.00,9,  -999.00,9,  -999.00,9,  -999.00,9,  -999.00,9, -999.000,9, -999.000,9,  -999.00,9,   -999.0,9,   -999.0,9,-999.0000,9,   -999.0,  9,  -999.00,9,   -999.0,  -999.00,9,  -999.00,9,  -999.00,9,  -999.00,9,   -999.0,-999.0000, -999,9, 2902,   0.0980,  27.3488,   -999.0,9
       SM08-10,  NONE,SM-5497,  1,     -9,      -9,5,20081123,0844, 37.9888, 135.1760, 2990,      0.0,  16.4482,  33.8766,2,   -999.0,9,-999.0000,9,    233.3,2,  -999.00,9,  -999.00,9,  -999.00,9,  -999.00,9,  -999.00,9, -999.000,9, -999.000,9,  -999.00,9,   -999.0,9,   -999.0,9,-999.0000,9,   -999.0,  9,  -999.00,9,   -999.0,  -999.00,9,  -999.00,9,  -999.00,9,  -999.00,9,   -999.0,-999.0000, -999,9,    0,  16.4481,  24.7809,   -999.0,9
       SM08-10,  NONE,SM-5497,  1,     12,02-14035,2,20081123,0844, 37.9888, 135.1760, 2990,     49.1,  16.3813,  33.8623,2,   -999.0,9,-999.0000,9,    229.9,2,  -999.00,9,  -999.00,9,  -999.00,9,  -999.00,9,  -999.00,9, -999.000,9, -999.000,9,  -999.00,9,   -999.0,9,   -999.0,9,-999.0000,9,   -999.0,  9,  -999.00,9,   -999.0,  -999.00,9,  -999.00,9,  -999.00,9,  -999.00,9,   -999.0,-999.0000, -999,9,   49,  16.3735,  24.7871,   -999.0,9
       SM08-10,  NONE,SM-5497,  1,     11, 02-6324,2,20081123,0842, 37.9888, 135.1760, 2990,    101.7,  15.3252,  34.4200,2,   -999.0,9,-999.0000,9,    191.8,2,  -999.00,9,  -999.00,9,  -999.00,9,  -999.00,9,  -999.00,9, -999.000,9, -999.000,9,  -999.00,9,   -999.0,9,   -999.0,9,-999.0000,9,   -999.0,  9,  -999.00,9,   -999.0,  -999.00,9,  -999.00,9,  -999.00,9,  -999.00,9,   -999.0,-999.0000, -999,9,  101,  15.3097,  25.4566,   -999.0,9
       SM08-10,  NONE,SM-5497,  1,     10,8802-010,2,20081123,0840, 37.9888, 135.1760, 2990,    203.1,   6.4563,  34.1369,2,   -999.0,9,-999.0000,9,    255.6,2,  -999.00,9,  -999.00,9,  -999.00,9,  -999.00,9,  -999.00,9, -999.000,9, -999.000,9,  -999.00,9,   -999.0,9,   -999.0,9,-999.0000,9,   -999.0,  9,  -999.00,9,   -999.0,  -999.00,9,  -999.00,9,  -999.00,9,  -999.00,9,   -999.0,-999.0000, -999,9,  202,   6.4384,  26.8142,   -999.0,9
       SM08-10,  NONE,SM-5497,  1,      9,02-18042,2,20081123,0836, 37.9888, 135.1760, 2990,    404.5,   0.8151,  34.0689,2,   -999.0,9,-999.0000,9,    221.4,2,  -999.00,9,  -999.00,9,  -999.00,9,  -999.00,9,  -999.00,9, -999.000,9, -999.000,9,  -999.00,9,   -999.0,9,   -999.0,9,-999.0000,9,   -999.0,  9,  -999.00,9,   -999.0,  -999.00,9,  -999.00,9,  -999.00,9,  -999.00,9,   -999.0,-999.0000, -999,9,  401,   0.7971,  27.3095,   -999.0,9
       SM08-10,  NONE,SM-5497,  1,      8,10017-03,2,20081123,0831, 37.9888, 135.1760, 2990,    606.7,   0.4844,  34.0706,2,   -999.0,9,-999.0000,9,    212.3,2,  -999.00,9,  -999.00,9,  -999.00,9,  -999.00,9,  -999.00,9, -999.000,9, -999.000,9,  -999.00,9,   -999.0,9,   -999.0,9,-999.0000,9,   -999.0,  9,  -999.00,9,   -999.0,  -999.00,9,  -999.00,9,  -999.00,9,  -999.00,9,   -999.0,-999.0000, -999,9,  601,   0.4579,  27.3311,   -999.0,9
       SM08-10,  NONE,SM-5497,  1,      7,02-15147,2,20081123,0826, 37.9888, 135.1760, 2990,    807.8,   0.3506,  34.0695,2,   -999.0,9,-999.0000,9,    210.1,2,  -999.00,9,  -999.00,9,  -999.00,9,  -999.00,9,  -999.00,9, -999.000,9, -999.000,9,  -999.00,9,   -999.0,9,   -999.0,9,-999.0000,9,   -999.0,  9,  -999.00,9,   -999.0,  -999.00,9,  -999.00,9,  -999.00,9,  -999.00,9,   -999.0,-999.0000, -999,9,  800,   0.3148,  27.3383,   -999.0,9
       SM08-10,  NONE,SM-5497,  1,      6,02-10267,2,20081123,0822, 37.9888, 135.1760, 2990,   1009.8,   0.2882,  34.0687,2,   -999.0,9,-999.0000,9,    208.8,2,  -999.00,9,  -999.00,9,  -999.00,9,  -999.00,9,  -999.00,9, -999.000,9, -999.000,9,  -999.00,9,   -999.0,9,   -999.0,9,-999.0000,9,   -999.0,  9,  -999.00,9,   -999.0,  -999.00,9,  -999.00,9,  -999.00,9,  -999.00,9,   -999.0,-999.0000, -999,9, 1000,   0.2422,  27.3416,   -999.0,9
       SM08-10,  NONE,SM-5497,  1,      5, 02-6327,2,20081123,0818, 37.9888, 135.1760, 2990,   1212.3,   0.2359,  34.0677,2,   -999.0,9,-999.0000,9,    207.8,2,  -999.00,9,  -999.00,9,  -999.00,9,  -999.00,9,  -999.00,9, -999.000,9, -999.000,9,  -999.00,9,   -999.0,9,   -999.0,9,-999.0000,9,   -999.0,  9,  -999.00,9,   -999.0,  -999.00,9,  -999.00,9,  -999.00,9,  -999.00,9,   -999.0,-999.0000, -999,9, 1200,   0.1791,  27.3443,   -999.0,9
       SM08-10,  NONE,SM-5497,  1,      4,8802-009,2,20081123,0813, 37.9888, 135.1760, 2990,   1514.9,   0.2048,  34.0676,2,   -999.0,9,-999.0000,9,    206.8,2,  -999.00,9,  -999.00,9,  -999.00,9,  -999.00,9,  -999.00,9, -999.000,9, -999.000,9,  -999.00,9,   -999.0,9,   -999.0,9,-999.0000,9,   -999.0,  9,  -999.00,9,   -999.0,  -999.00,9,  -999.00,9,  -999.00,9,  -999.00,9,   -999.0,-999.0000, -999,9, 1498,   0.1302,  27.3468,   -999.0,9
       SM08-10,  NONE,SM-5497,  1,      3,10017-01,2,20081123,0804, 37.9888, 135.1760, 2990,   2024.9,   0.2106,  34.0677,2,   -999.0,9,-999.0000,9,    204.8,2,  -999.00,9,  -999.00,9,  -999.00,9,  -999.00,9,  -999.00,9, -999.000,9, -999.000,9,  -999.00,9,   -999.0,9,   -999.0,9,-999.0000,9,   -999.0,  9,  -999.00,9,   -999.0,  -999.00,9,  -999.00,9,  -999.00,9,  -999.00,9,   -999.0,-999.0000, -999,9, 2000,   0.1020,  27.3483,   -999.0,9
       SM08-10,  NONE,SM-5497,  1,      2,02-17553,2,20081123,0756, 37.9888, 135.1760, 2990,   2532.6,   0.2450,  34.0681,2,   -999.0,9,-999.0000,9,    204.4,2,  -999.00,9,  -999.00,9,  -999.00,9,  -999.00,9,  -999.00,9, -999.000,9, -999.000,9,  -999.00,9,   -999.0,9,   -999.0,9,-999.0000,9,   -999.0,  9,  -999.00,9,   -999.0,  -999.00,9,  -999.00,9,  -999.00,9,  -999.00,9,   -999.0,-999.0000, -999,9, 2499,   0.0978,  27.3488,   -999.0,9
       SM08-10,  NONE,SM-5497,  1,      1,8802-011,2,20081123,0750, 37.9888, 135.1760, 2990,   2839.5,   0.2707,  34.0681,2,   -999.0,9,-999.0000,9,    204.1,2,  -999.00,9,  -999.00,9,  -999.00,9,  -999.00,9,  -999.00,9, -999.000,9, -999.000,9,  -999.00,9,   -999.0,9,   -999.0,9,-999.0000,9,   -999.0,  9,  -999.00,9,   -999.0,  -999.00,9,  -999.00,9,  -999.00,9,  -999.00,9,   -999.0,-999.0000, -999,9, 2799,   0.0980,  27.3488,   -999.0,9
       SM08-10,  NONE,SM-5498,  1,     -9,      -9,5,20081123,1553, 37.3357, 134.3412, 2582,      0.0,  17.0663,  33.9265,2,   -999.0,9,-999.0000,9,    234.4,2,  -999.00,9,  -999.00,9,  -999.00,9,  -999.00,9,  -999.00,9, -999.000,9, -999.000,9,  -999.00,9,   -999.0,9,   -999.0,9,-999.0000,9,   -999.0,  9,  -999.00,9,   -999.0,  -999.00,9,  -999.00,9,  -999.00,9,  -999.00,9,   -999.0,-999.0000, -999,9,    0,  17.0662,  24.6748,   -999.0,9
       SM08-10,  NONE,SM-5498,  1,     12,02-14035,2,20081123,1551, 37.3357, 134.3412, 2582,     19.2,  17.0792,  33.9260,2,   -999.0,9,-999.0000,9,    234.1,2,  -999.00,9,  -999.00,9,  -999.00,9,  -999.00,9,  -999.00,9, -999.000,9, -999.000,9,  -999.00,9,   -999.0,9,   -999.0,9,-999.0000,9,   -999.0,  9,  -999.00,9,   -999.0,  -999.00,9,  -999.00,9,  -999.00,9,  -999.00,9,   -999.0,-999.0000, -999,9,   19,  17.0761,  24.6721,   -999.0,9
       SM08-10,  NONE,SM-5498,  1,     11, 02-6324,2,20081123,1550, 37.3357, 134.3412, 2582,     49.3,  16.1233,  34.5192,2,   -999.0,9,-999.0000,9,    216.4,2,  -999.00,9,  -999.00,9,  -999.00,9,  -999.00,9,  -999.00,9, -999.000,9, -999.000,9,  -999.00,9,   -999.0,9,   -999.0,9,-999.0000,9,   -999.0,  9,  -999.00,9,   -999.0,  -999.00,9,  -999.00,9,  -999.00,9,  -999.00,9,   -999.0,-999.0000, -999,9,   49,  16.1155,  25.3513,   -999.0,9
       SM08-10,  NONE,SM-5498,  1,     10,8802-010,2,20081123,1548, 37.3357, 134.3412, 2582,     99.9,  14.2244,  34.5780,2,   -999.0,9,-999.0000,9,    214.3,2,  -999.00,9,  -999.00,9,  -999.00,9,  -999.00,9,  -999.00,9, -999.000,9, -999.000,9,  -999.00,9,   -999.0,9,   -999.0,9,-999.0000,9,   -999.0,  9,  -999.00,9,   -999.0,  -999.00,9,  -999.00,9,  -999.00,9,  -999.00,9,   -999.0,-999.0000, -999,9,   99,  14.2099,  25.8167,   -999.0,9
       SM08-10,  NONE,SM-5498,  1,      9,02-18042,2,20081123,1545, 37.3357, 134.3412, 2582,    203.7,  11.1032,  34.2688,2,   -999.0,9,-999.0000,9,    253.6,2,  -999.00,9,  -999.00,9,  -999.00,9,  -999.00,9,  -999.00,9, -999.000,9, -999.000,9,  -999.00,9,   -999.0,9,   -999.0,9,-999.0000,9,   -999.0,  9,  -999.00,9,   -999.0,  -999.00,9,  -999.00,9,  -999.00,9,  -999.00,9,   -999.0,-999.0000, -999,9,  202,  11.0781,  26.1920,   -999.0,9
       SM08-10,  NONE,SM-5498,  1,      8,10017-03,2,20081123,1539, 37.3357, 134.3412, 2582,    404.8,   4.3719,  34.0851,2,   -999.0,9,-999.0000,9,    257.8,2,  -999.00,9,  -999.00,9,  -999.00,9,  -999.00,9,  -999.00,9, -999.000,9, -999.000,9,  -999.00,9,   -999.0,9,   -999.0,9,-999.0000,9,   -999.0,  9,  -999.00,9,   -999.0,  -999.00,9,  -999.00,9,  -999.00,9,  -999.00,9,   -999.0,-999.0000, -999,9,  401,   4.3422,  27.0226,   -999.0,9
       SM08-10,  NONE,SM-5498,  1,      7,02-15147,2,20081123,1534, 37.3357, 134.3412, 2582,    608.4,   0.7502,  34.0685,2,   -999.0,9,-999.0000,9,    218.7,2,  -999.00,9,  -999.00,9,  -999.00,9,  -999.00,9,  -999.00,9, -999.000,9, -999.000,9,  -999.00,9,   -999.0,9,   -999.0,9,-999.0000,9,   -999.0,  9,  -999.00,9,   -999.0,  -999.00,9,  -999.00,9,  -999.00,9,  -999.00,9,   -999.0,-999.0000, -999,9,  603,   0.7223,  27.3138,   -999.0,9
       SM08-10,  NONE,SM-5498,  1,      6,02-10267,2,20081123,1529, 37.3357, 134.3412, 2582,    809.5,   0.4699,  34.0701,2,   -999.0,9,-999.0000,9,    211.1,2,  -999.00,9,  -999.00,9,  -999.00,9,  -999.00,9,  -999.00,9, -999.000,9, -999.000,9,  -999.00,9,   -999.0,9,   -999.0,9,-999.0000,9,   -999.0,  9,  -999.00,9,   -999.0,  -999.00,9,  -999.00,9,  -999.00,9,  -999.00,9,   -999.0,-999.0000, -999,9,  802,   0.4332,  27.3321,   -999.0,9
       SM08-10,  NONE,SM-5498,  1,      5, 02-6327,2,20081123,1524, 37.3357, 134.3412, 2582,   1010.0,   0.3464,  34.0694,2,   -999.0,9,-999.0000,9,    209.6,2,  -999.00,9,  -999.00,9,  -999.00,9,  -999.00,9,  -999.00,9, -999.000,9, -999.000,9,  -999.00,9,   -999.0,9,   -999.0,9,-999.0000,9,   -999.0,  9,  -999.00,9,   -999.0,  -999.00,9,  -999.00,9,  -999.00,9,  -999.00,9,   -999.0,-999.0000, -999,9, 1000,   0.2999,  27.3391,   -999.0,9
       SM08-10,  NONE,SM-5498,  1,      4,8802-009,2,20081123,1520, 37.3357, 134.3412, 2582,   1212.3,   0.2829,  34.0686,2,   -999.0,9,-999.0000,9,    208.2,2,  -999.00,9,  -999.00,9,  -999.00,9,  -999.00,9,  -999.00,9, -999.000,9, -999.000,9,  -999.00,9,   -999.0,9,   -999.0,9,-999.0000,9,   -999.0,  9,  -999.00,9,   -999.0,  -999.00,9,  -999.00,9,  -999.00,9,  -999.00,9,   -999.0,-999.0000, -999,9, 1200,   0.2256,  27.3425,   -999.0,9
       SM08-10,  NONE,SM-5498,  1,      3,10017-01,2,20081123,1514, 37.3357, 134.3412, 2582,   1516.3,   0.2289,  34.0679,2,   -999.0,9,-999.0000,9,    206.0,2,  -999.00,9,  -999.00,9,  -999.00,9,  -999.00,9,  -999.00,9, -999.000,9, -999.000,9,  -999.00,9,   -999.0,9,   -999.0,9,-999.0000,9,   -999.0,  9,  -999.00,9,   -999.0,  -999.00,9,  -999.00,9,  -999.00,9,  -999.00,9,   -999.0,-999.0000, -999,9, 1500,   0.1539,  27.3457,   -999.0,9
       SM08-10,  NONE,SM-5498,  1,      2,02-17553,2,20081123,1505, 37.3357, 134.3412, 2582,   2024.4,   0.2162,  34.0678,2,   -999.0,9,-999.0000,9,    205.7,2,  -999.00,9,  -999.00,9,  -999.00,9,  -999.00,9,  -999.00,9, -999.000,9, -999.000,9,  -999.00,9,   -999.0,9,   -999.0,9,-999.0000,9,   -999.0,  9,  -999.00,9,   -999.0,  -999.00,9,  -999.00,9,  -999.00,9,  -999.00,9,   -999.0,-999.0000, -999,9, 2000,   0.1075,  27.3481,   -999.0,9
       SM08-10,  NONE,SM-5498,  1,      1,8802-011,2,20081123,1457, 37.3357, 134.3412, 2582,   2432.0,   0.2387,  34.0678,2,   -999.0,9,-999.0000,9,    203.2,2,  -999.00,9,  -999.00,9,  -999.00,9,  -999.00,9,  -999.00,9, -999.000,9, -999.000,9,  -999.00,9,   -999.0,9,   -999.0,9,-999.0000,9,   -999.0,  9,  -999.00,9,   -999.0,  -999.00,9,  -999.00,9,  -999.00,9,  -999.00,9,   -999.0,-999.0000, -999,9, 2400,   0.0995,  27.3485,   -999.0,9