BOTTLE,20130510GEMDJMAYT
EXPOCODE,SECT_ID,STNNBR,CASTNO,SAMPNO,BTLNBR,BTLNBR_FLAG_W,DATE,TIME,LATITUDE,LONGITUDE,DEPTH,CTDPRS,CTDTMP,CTDSAL,CTDSAL_FLAG_W,CTDOXY,CTDOXY_FLAG_W,SALNTY,SALNTY_FLAG_W,OXYGEN,OXYGEN_FLAG_W,SILCAT,SILCAT_FLAG_W,NITRAT,NITRAT_FLAG_W,NO2+NO3,NO2+NO3_FLAG_W,NITRIT,NITRIT_FLAG_W,PHSPHT,PHSPHT_FLAG_W,CFC-11,CFC-11_FLAG_W,CFC-12,CFC-12_FLAG_W,DELC13,DELC13_FLAG_W,TCARBN,TCARBN_FLAG_W,ALKALI,ALKALI_FLAG_W,PH,PH_FLAG_W,PH_TMP,PH_SCALE,PH_NBS,PH_NBS_FLAG_W,C13ERR,TOTALP,TOTALP_FLAG_W,AMMONI,AMMONI_FLAG_W,CHLORA,CHLORA_FLAG_W,PPHYTN,PPHYTN_FLAG_W,REVPRS,REVTMP,DEPTH_,DEPTH_FLAG,CTDDEP,THETA,SIGTHT,DOC,DOC_FLAG_W
,,,,,,,GMT,GMT,,,METER,DBAR,ITS-90,PSS-78,,UMOL/KG,,PSS-78,,UMOL/KG,,UMOL/KG,,UMOL/KG,,UMOL/KG,,UMOL/KG,,UMOL/KG,,PMOL/KG,,PMOL/KG,,/MILLE,,UMOL/KG,,UMOL/KG,,25_DEG_C,,DEG_C,,,,/MILLE,UMOL/KG,,UMOL/KG,,UG/L,,UG/L,,DBAR,ITS-90,METERS,,METERS,DEG_C,,UMOL/L,
       SM08-10,  137E,SM-5456,  1,     10,8802-010,2,20081027,0136, 39.8882, 136.3335, 2044,    403.3,   1.1115,  34.0709,2,   -999.0,9,-999.0000,9,    270.2,2,    27.73,2,  -999.00,9,    19.08,2,  -999.00,9,     1.37,2, -999.000,9, -999.000,9,  -999.00,9,   -999.0,9,   -999.0,9,-999.0000,9,   -999.0,  9,  -999.00,9,   -999.0,  -999.00,9,  -999.00,9,  -999.00,9,  -999.00,9,   -999.0,-999.0000, -999,9,  400,   1.0925,  27.2923,   -999.0,9
       SM08-10,  137E,SM-5456,  1,      9,02-18042,2,20081027,0133, 39.8882, 136.3335, 2044,    505.8,   0.8096,  34.0728,2,   -999.0,9,-999.0000,9,    249.0,2,    34.45,2,  -999.00,9,    21.80,2,  -999.00,9,     1.62,2, -999.000,9, -999.000,9,  -999.00,9,   -999.0,9,   -999.0,9,-999.0000,9,   -999.0,  9,  -999.00,9,   -999.0,  -999.00,9,  -999.00,9,  -999.00,9,  -999.00,9,   -999.0,-999.0000, -999,9,  501,   0.7866,  27.3134,   -999.0,9
       SM08-10,  137E,SM-5456,  1,      8,10017-03,2,20081027,0130, 39.8882, 136.3335, 2044,    606.9,   0.6424,  34.0727,2,   -999.0,9,-999.0000,9,    234.5,2,    40.79,2,  -999.00,9,    23.56,2,  -999.00,9,     1.76,2, -999.000,9, -999.000,9,  -999.00,9,   -999.0,9,   -999.0,9,-999.0000,9,   -999.0,  9,  -999.00,9,   -999.0,  -999.00,9,  -999.00,9,  -999.00,9,  -999.00,9,   -999.0,-999.0000, -999,9,  601,   0.6151,  27.3236,   -999.0,9
       SM08-10,  137E,SM-5456,  1,      7,02-15147,2,20081027,0128, 39.8882, 136.3335, 2044,    705.5,   0.5253,  34.0729,2,   -999.0,9,-999.0000,9,    219.3,2,    51.54,2,  -999.00,9,    24.82,2,  -999.00,9,     1.87,2, -999.000,9, -999.000,9,  -999.00,9,   -999.0,9,   -999.0,9,-999.0000,9,   -999.0,  9,  -999.00,9,   -999.0,  -999.00,9,  -999.00,9,  -999.00,9,  -999.00,9,   -999.0,-999.0000, -999,9,  699,   0.4937,  27.3309,   -999.0,9
       SM08-10,  137E,SM-5456,  1,      6,02-10267,2,20081027,0124, 39.8882, 136.3335, 2044,    808.0,   0.4563,  34.0718,2,   -999.0,9,-999.0000,9,    219.5,2,    51.34,2,  -999.00,9,    24.82,2,  -999.00,9,     1.86,2, -999.000,9, -999.000,9,  -999.00,9,   -999.0,9,   -999.0,9,-999.0000,9,   -999.0,  9,  -999.00,9,   -999.0,  -999.00,9,  -999.00,9,  -999.00,9,  -999.00,9,   -999.0,-999.0000, -999,9,  800,   0.4198,  27.3343,   -999.0,9
       SM08-10,  137E,SM-5456,  1,      5, 02-6327,2,20081027,0122, 39.8882, 136.3335, 2044,    909.5,   0.3834,  34.0708,2,   -999.0,9,-999.0000,9,    214.1,2,    56.77,2,  -999.00,9,    25.21,2,  -999.00,9,     1.89,2, -999.000,9, -999.000,9,  -999.00,9,   -999.0,9,   -999.0,9,-999.0000,9,   -999.0,  9,  -999.00,9,   -999.0,  -999.00,9,  -999.00,9,  -999.00,9,  -999.00,9,   -999.0,-999.0000, -999,9,  901,   0.3421,  27.3379,   -999.0,9
       SM08-10,  137E,SM-5456,  1,      4,8802-009,2,20081027,0120, 39.8882, 136.3335, 2044,   1010.0,   0.3357,  34.0704,2,   -999.0,9,-999.0000,9,    211.9,2,    60.03,2,  -999.00,9,    25.41,2,  -999.00,9,     1.91,2, -999.000,9, -999.000,9,  -999.00,9,   -999.0,9,   -999.0,9,-999.0000,9,   -999.0,  9,  -999.00,9,   -999.0,  -999.00,9,  -999.00,9,  -999.00,9,  -999.00,9,   -999.0,-999.0000, -999,9, 1000,   0.2893,  27.3404,   -999.0,9
       SM08-10,  137E,SM-5456,  1,      3,10017-01,2,20081027,0117, 39.8882, 136.3335, 2044,   1211.6,   0.2804,  34.0694,2,   -999.0,9,-999.0000,9,    208.9,2,    66.07,2,  -999.00,9,    25.50,2,  -999.00,9,     1.93,2, -999.000,9, -999.000,9,  -999.00,9,   -999.0,9,   -999.0,9,-999.0000,9,   -999.0,  9,  -999.00,9,   -999.0,  -999.00,9,  -999.00,9,  -999.00,9,  -999.00,9,   -999.0,-999.0000, -999,9, 1199,   0.2231,  27.3432,   -999.0,9
       SM08-10,  137E,SM-5456,  1,      2,02-17553,2,20081027,0112, 39.8882, 136.3335, 2044,   1516.5,   0.2314,  34.0687,2,   -999.0,9,-999.0000,9,    208.9,2,    71.42,2,  -999.00,9,    25.41,2,  -999.00,9,     1.92,2, -999.000,9, -999.000,9,  -999.00,9,   -999.0,9,   -999.0,9,-999.0000,9,   -999.0,  9,  -999.00,9,   -999.0,  -999.00,9,  -999.00,9,  -999.00,9,  -999.00,9,   -999.0,-999.0000, -999,9, 1499,   0.1563,  27.3462,   -999.0,9
       SM08-10,  137E,SM-5456,  1,      1,8802-011,2,20081027,0108, 39.8882, 136.3335, 2044,   1715.9,   0.2188,  34.0686,2,   -999.0,9,-999.0000,9,    204.3,2,    77.03,2,  -999.00,9,    25.99,2,  -999.00,9,     1.95,2, -999.000,9, -999.000,9,  -999.00,9,   -999.0,9,   -999.0,9,-999.0000,9,   -999.0,  9,  -999.00,9,   -999.0,  -999.00,9,  -999.00,9,  -999.00,9,  -999.00,9,   -999.0,-999.0000, -999,9, 1696,   0.1311,  27.3475,   -999.0,9
       SM08-10,  137E,SM-5458,  3,     -9,      -9,5,20081027,1030, 39.4760, 136.7155, 2659,      0.0,  18.9642,  33.8750,2,   -999.0,9,-999.0000,9,    234.4,2,     2.69,2,  -999.00,9,     0.00,2,  -999.00,9,     0.00,2, -999.000,9, -999.000,9,  -999.00,9,   -999.0,9,   -999.0,9,-999.0000,9,   -999.0,  9,  -999.00,9,   -999.0,  -999.00,9,  -999.00,9,     0.31,2,     0.24,2,   -999.0,-999.0000, -999,9,    0,  18.9641,  24.1706,   -999.0,9
       SM08-10,  137E,SM-5458,  3,     12,02-14035,2,20081027,1028, 39.4760, 136.7155, 2659,      8.3,  18.9786,  33.8745,2,   -999.0,9,-999.0000,9,    234.4,2,     2.69,2,  -999.00,9,     0.00,2,  -999.00,9,     0.00,2, -999.000,9, -999.000,9,  -999.00,9,   -999.0,9,   -999.0,9,-999.0000,9,   -999.0,  9,  -999.00,9,   -999.0,  -999.00,9,  -999.00,9,     0.30,2,     0.23,2,   -999.0,-999.0000, -999,9,    8,  18.9771,  24.1669,   -999.0,9
       SM08-10,  137E,SM-5458,  3,     11, 02-6324,2,20081027,1027, 39.4760, 136.7155, 2659,     20.4,  18.9721,  33.8743,2,   -999.0,9,-999.0000,9,    234.5,2,     2.67,2,  -999.00,9,     0.00,2,  -999.00,9,     0.00,2, -999.000,9, -999.000,9,  -999.00,9,   -999.0,9,   -999.0,9,-999.0000,9,   -999.0,  9,  -999.00,9,   -999.0,  -999.00,9,  -999.00,9,     0.28,2,     0.18,2,   -999.0,-999.0000, -999,9,   20,  18.9685,  24.1689,   -999.0,9
       SM08-10,  137E,SM-5458,  3,     10,8802-010,2,20081027,1027, 39.4760, 136.7155, 2659,     29.8,  18.9764,  33.8704,2,   -999.0,9,-999.0000,9,    234.7,2,     2.70,2,  -999.00,9,     0.00,2,  -999.00,9,     0.00,2, -999.000,9, -999.000,9,  -999.00,9,   -999.0,9,   -999.0,9,-999.0000,9,   -999.0,  9,  -999.00,9,   -999.0,  -999.00,9,  -999.00,9,     0.33,2,     0.19,2,   -999.0,-999.0000, -999,9,   30,  18.9711,  24.1653,   -999.0,9
       SM08-10,  137E,SM-5458,  3,      9,02-18042,2,20081027,1026, 39.4760, 136.7155, 2659,     48.5,  14.8082,  34.3096,2,   -999.0,9,-999.0000,9,    265.5,2,     4.60,2,  -999.00,9,     0.49,2,  -999.00,9,     0.13,2, -999.000,9, -999.000,9,  -999.00,9,   -999.0,9,   -999.0,9,-999.0000,9,   -999.0,  9,  -999.00,9,   -999.0,  -999.00,9,  -999.00,9,     0.59,2,     0.69,2,   -999.0,-999.0000, -999,9,   48,  14.8010,  25.4829,   -999.0,9
       SM08-10,  137E,SM-5458,  3,      8,10017-03,2,20081027,1025, 39.4760, 136.7155, 2659,     74.3,  10.0135,  34.2883,2,   -999.0,9,-999.0000,9,    246.3,2,     8.03,2,  -999.00,9,     7.31,2,  -999.00,9,     0.52,2, -999.000,9, -999.000,9,  -999.00,9,   -999.0,9,   -999.0,9,-999.0000,9,   -999.0,  9,  -999.00,9,   -999.0,  -999.00,9,  -999.00,9,     0.21,2,     0.13,2,   -999.0,-999.0000, -999,9,   74,  10.0050,  26.3954,   -999.0,9
       SM08-10,  137E,SM-5458,  3,      7,02-15147,2,20081027,1024, 39.4760, 136.7155, 2659,    100.8,   7.4175,  34.1765,2,   -999.0,9,-999.0000,9,    254.6,2,    11.31,2,  -999.00,9,     9.93,2,  -999.00,9,     0.68,2, -999.000,9, -999.000,9,  -999.00,9,   -999.0,9,   -999.0,9,-999.0000,9,   -999.0,  9,  -999.00,9,   -999.0,  -999.00,9,  -999.00,9,     0.09,2,     0.10,2,   -999.0,-999.0000, -999,9,  100,   7.4079,  26.7131,   -999.0,9
       SM08-10,  137E,SM-5458,  3,      6,02-10267,2,20081027,1024, 39.4760, 136.7155, 2659,    101.1,   7.3674,  34.1728,2,   -999.0,9,-999.0000,9,   -999.0,9,  -999.00,9,  -999.00,9,  -999.00,9,  -999.00,9,  -999.00,9, -999.000,9, -999.000,9,  -999.00,9,   2093.5,3,   -999.0,1,-999.0000,9,   -999.0,  9,  -999.00,9,   -999.0,  -999.00,9,  -999.00,9,  -999.00,9,  -999.00,9,   -999.0,-999.0000, -999,9,  100,   7.3578,  26.7173,   -999.0,9
       SM08-10,  137E,SM-5458,  3,      5, 02-6327,2,20081027,1023, 39.4760, 136.7155, 2659,    125.5,   4.8943,  34.0879,2,   -999.0,9,-999.0000,9,    260.8,2,    15.64,2,  -999.00,9,    12.56,2,  -999.00,9,     0.88,2, -999.000,9, -999.000,9,  -999.00,9,   -999.0,9,   -999.0,9,-999.0000,9,   -999.0,  9,  -999.00,9,   -999.0,  -999.00,9,  -999.00,9,     0.03,2,     0.05,2,   -999.0,-999.0000, -999,9,  124,   4.8848,  26.9652,   -999.0,9
       SM08-10,  137E,SM-5458,  3,      4,8802-009,2,20081027,1020, 39.4760, 136.7155, 2659,    151.2,   3.1953,  34.0563,2,   -999.0,9,-999.0000,9,    259.9,2,    20.16,2,  -999.00,9,    15.19,2,  -999.00,9,     1.09,2, -999.000,9, -999.000,9,  -999.00,9,   -999.0,9,   -999.0,9,-999.0000,9,   -999.0,  9,  -999.00,9,   -999.0,  -999.00,9,  -999.00,9,     0.01,2,     0.03,2,   -999.0,-999.0000, -999,9,  150,   3.1859,  27.1147,   -999.0,9
       SM08-10,  137E,SM-5458,  3,      3,10017-01,2,20081027,1019, 39.4760, 136.7155, 2659,    200.1,   2.0592,  34.0624,2,   -999.0,9,-999.0000,9,    248.7,2,    27.96,2,  -999.00,9,    18.89,2,  -999.00,9,     1.37,2, -999.000,9, -999.000,9,  -999.00,9,   -999.0,9,   -999.0,9,-999.0000,9,   -999.0,  9,  -999.00,9,   -999.0,  -999.00,9,  -999.00,9,     0.00,2,     0.03,2,   -999.0,-999.0000, -999,9,  198,   2.0486,  27.2167,   -999.0,9
       SM08-10,  137E,SM-5458,  3,      2,02-17553,2,20081027,1019, 39.4760, 136.7155, 2659,    199.4,   2.0689,  34.0614,2,   -999.0,9,-999.0000,9,   -999.0,9,  -999.00,9,  -999.00,9,  -999.00,9,  -999.00,9,  -999.00,9, -999.000,9, -999.000,9,  -999.00,9,   2173.8,3,   -999.0,1,-999.0000,9,   -999.0,  9,  -999.00,9,   -999.0,  -999.00,9,  -999.00,9,  -999.00,9,  -999.00,9,   -999.0,-999.0000, -999,9,  198,   2.0583,  27.2152,   -999.0,9
       SM08-10,  137E,SM-5458,  3,      1,8802-011,2,20081027,1018, 39.4760, 136.7155, 2659,    253.0,   1.2967,  34.0662,2,   -999.0,9,-999.0000,9,    240.8,2,    33.14,2,  -999.00,9,    21.42,2,  -999.00,9,     1.57,2, -999.000,9, -999.000,9,  -999.00,9,   -999.0,9,   -999.0,9,-999.0000,9,   -999.0,  9,  -999.00,9,   -999.0,  -999.00,9,  -999.00,9,     0.00,2,     0.04,2,   -999.0,-999.0000, -999,9,  251,   1.2848,  27.2757,   -999.0,9
       SM08-10,  137E,SM-5458,  2,     12,02-14035,2,20081027,0941, 39.4775, 136.6987, 2662,    303.4,   1.0288,  34.0679,2,   -999.0,9,-999.0000,9,    234.6,2,    36.10,2,  -999.00,9,    22.49,2,  -999.00,9,     1.65,2, -999.000,9, -999.000,9,  -999.00,9,   -999.0,9,   -999.0,9,-999.0000,9,   -999.0,  9,  -999.00,9,   -999.0,  -999.00,9,  -999.00,9,     0.00,2,     0.03,2,   -999.0,-999.0000, -999,9,  301,   1.0150,  27.2949,   -999.0,9
       SM08-10,  137E,SM-5458,  2,     11, 02-6324,2,20081027,0936, 39.4775, 136.6987, 2662,    403.3,   0.7130,  34.0698,2,   -999.0,9,  34.0685,2,    215.3,2,    45.09,2,  -999.00,9,    24.82,2,  -999.00,9,     1.87,2, -999.000,9, -999.000,9,  -999.00,9,   -999.0,9,   -999.0,9,-999.0000,9,   -999.0,  9,  -999.00,9,   -999.0,  -999.00,9,  -999.00,9,  -999.00,9,  -999.00,9,   -999.0,-999.0000, -999,9,  400,   0.6954,  27.3165,   -999.0,9
       SM08-10,  137E,SM-5458,  2,     10,8802-010,2,20081027,0935, 39.4775, 136.6987, 2662,    404.6,   0.7096,  34.0697,2,   -999.0,9,-999.0000,9,   -999.0,9,  -999.00,9,  -999.00,9,  -999.00,9,  -999.00,9,  -999.00,9, -999.000,9, -999.000,9,  -999.00,9,   2221.9,3,   -999.0,1,-999.0000,9,   -999.0,  9,  -999.00,9,   -999.0,  -999.00,9,  -999.00,9,  -999.00,9,  -999.00,9,   -999.0,-999.0000, -999,9,  401,   0.6919,  27.3166,   -999.0,9
       SM08-10,  137E,SM-5458,  2,      9,02-18042,2,20081027,0933, 39.4775, 136.6987, 2662,    505.0,   0.5603,  34.0706,2,   -999.0,9,-999.0000,9,    211.6,2,    49.77,2,  -999.00,9,    25.21,2,  -999.00,9,     1.91,2, -999.000,9, -999.000,9,  -999.00,9,   -999.0,9,   -999.0,9,-999.0000,9,   -999.0,  9,  -999.00,9,   -999.0,  -999.00,9,  -999.00,9,  -999.00,9,  -999.00,9,   -999.0,-999.0000, -999,9,  501,   0.5384,  27.3264,   -999.0,9
       SM08-10,  137E,SM-5458,  2,      8,10017-03,2,20081027,0927, 39.4775, 136.6987, 2662,    604.2,   0.4469,  34.0705,2,   -999.0,9,  34.0694,2,    210.2,2,    54.45,2,  -999.00,9,    25.41,2,  -999.00,9,     1.92,2, -999.000,9, -999.000,9,  -999.00,9,   -999.0,9,   -999.0,9,-999.0000,9,   -999.0,  9,  -999.00,9,   -999.0,  -999.00,9,  -999.00,9,  -999.00,9,  -999.00,9,   -999.0,-999.0000, -999,9,  599,   0.4208,  27.3331,   -999.0,9
       SM08-10,  137E,SM-5458,  2,      7,02-15147,2,20081027,0927, 39.4775, 136.6987, 2662,    605.3,   0.4451,  34.0705,2,   -999.0,9,-999.0000,9,   -999.0,9,  -999.00,9,  -999.00,9,  -999.00,9,  -999.00,9,  -999.00,9, -999.000,9, -999.000,9,  -999.00,9,   2230.1,3,   -999.0,1,-999.0000,9,   -999.0,  9,  -999.00,9,   -999.0,  -999.00,9,  -999.00,9,  -999.00,9,  -999.00,9,   -999.0,-999.0000, -999,9,  600,   0.4189,  27.3333,   -999.0,9
       SM08-10,  137E,SM-5458,  2,      6,02-10267,2,20081027,0925, 39.4775, 136.6987, 2662,    706.0,   0.3819,  34.0701,2,   -999.0,9,-999.0000,9,    209.6,2,    57.73,2,  -999.00,9,    25.31,2,  -999.00,9,     1.92,2, -999.000,9, -999.000,9,  -999.00,9,   -999.0,9,   -999.0,9,-999.0000,9,   -999.0,  9,  -999.00,9,   -999.0,  -999.00,9,  -999.00,9,  -999.00,9,  -999.00,9,   -999.0,-999.0000, -999,9,  699,   0.3511,  27.3367,   -999.0,9
       SM08-10,  137E,SM-5458,  2,      5, 02-6327,2,20081027,0922, 39.4775, 136.6987, 2662,    808.3,   0.3332,  34.0695,2,   -999.0,9,  34.0678,2,    208.9,2,    61.16,2,  -999.00,9,    25.41,2,  -999.00,9,     1.93,2, -999.000,9, -999.000,9,  -999.00,9,   -999.0,9,   -999.0,9,-999.0000,9,   -999.0,  9,  -999.00,9,   -999.0,  -999.00,9,  -999.00,9,  -999.00,9,  -999.00,9,   -999.0,-999.0000, -999,9,  801,   0.2975,  27.3393,   -999.0,9
       SM08-10,  137E,SM-5458,  2,      4,8802-009,2,20081027,0922, 39.4775, 136.6987, 2662,    807.2,   0.3333,  34.0695,2,   -999.0,9,-999.0000,9,   -999.0,9,  -999.00,9,  -999.00,9,  -999.00,9,  -999.00,9,  -999.00,9, -999.000,9, -999.000,9,  -999.00,9,   2231.5,3,   -999.0,1,-999.0000,9,   -999.0,  9,  -999.00,9,   -999.0,  -999.00,9,  -999.00,9,  -999.00,9,  -999.00,9,   -999.0,-999.0000, -999,9,  799,   0.2977,  27.3393,   -999.0,9
       SM08-10,  137E,SM-5458,  2,      3,10017-01,2,20081027,0919, 39.4775, 136.6987, 2662,    908.6,   0.2939,  34.0689,2,   -999.0,9,-999.0000,9,    208.5,2,    64.21,2,  -999.00,9,    25.41,2,  -999.00,9,     1.93,2, -999.000,9, -999.000,9,  -999.00,9,   -999.0,9,   -999.0,9,-999.0000,9,   -999.0,  9,  -999.00,9,   -999.0,  -999.00,9,  -999.00,9,  -999.00,9,  -999.00,9,   -999.0,-999.0000, -999,9,  900,   0.2533,  27.3412,   -999.0,9
       SM08-10,  137E,SM-5458,  2,      2,02-17553,2,20081027,0916, 39.4775, 136.6987, 2662,   1009.5,   0.2673,  34.0687,2,   -999.0,9,  34.0681,2,    208.1,2,    66.65,2,  -999.00,9,    25.50,2,  -999.00,9,     1.93,2, -999.000,9, -999.000,9,  -999.00,9,   -999.0,9,   -999.0,9,-999.0000,9,   -999.0,  9,  -999.00,9,   -999.0,  -999.00,9,  -999.00,9,  -999.00,9,  -999.00,9,   -999.0,-999.0000, -999,9,  999,   0.2215,  27.3427,   -999.0,9
       SM08-10,  137E,SM-5458,  2,      1,8802-011,2,20081027,0916, 39.4775, 136.6987, 2662,   1009.6,   0.2673,  34.0687,2,   -999.0,9,-999.0000,9,   -999.0,9,  -999.00,9,  -999.00,9,  -999.00,9,  -999.00,9,  -999.00,9, -999.000,9, -999.000,9,  -999.00,9,   2232.3,3,   -999.0,1,-999.0000,9,   -999.0,  9,  -999.00,9,   -999.0,  -999.00,9,  -999.00,9,  -999.00,9,  -999.00,9,   -999.0,-999.0000, -999,9, 1000,   0.2215,  27.3428,   -999.0,9