BOTTLE,20130510GEMDJMAYT
EXPOCODE,SECT_ID,STNNBR,CASTNO,SAMPNO,BTLNBR,BTLNBR_FLAG_W,DATE,TIME,LATITUDE,LONGITUDE,DEPTH,CTDPRS,CTDTMP,CTDSAL,CTDSAL_FLAG_W,CTDOXY,CTDOXY_FLAG_W,SALNTY,SALNTY_FLAG_W,OXYGEN,OXYGEN_FLAG_W,SILCAT,SILCAT_FLAG_W,NITRAT,NITRAT_FLAG_W,NO2+NO3,NO2+NO3_FLAG_W,NITRIT,NITRIT_FLAG_W,PHSPHT,PHSPHT_FLAG_W,CFC-11,CFC-11_FLAG_W,CFC-12,CFC-12_FLAG_W,DELC13,DELC13_FLAG_W,TCARBN,TCARBN_FLAG_W,ALKALI,ALKALI_FLAG_W,PH,PH_FLAG_W,PH_TMP,PH_SCALE,PH_NBS,PH_NBS_FLAG_W,C13ERR,TOTALP,TOTALP_FLAG_W,AMMONI,AMMONI_FLAG_W,CHLORA,CHLORA_FLAG_W,PPHYTN,PPHYTN_FLAG_W,REVPRS,REVTMP,DEPTH_,DEPTH_FLAG,CTDDEP,THETA,SIGTHT,DOC,DOC_FLAG_W
,,,,,,,GMT,GMT,,,METER,DBAR,ITS-90,PSS-78,,UMOL/KG,,PSS-78,,UMOL/KG,,UMOL/KG,,UMOL/KG,,UMOL/KG,,UMOL/KG,,UMOL/KG,,PMOL/KG,,PMOL/KG,,/MILLE,,UMOL/KG,,UMOL/KG,,25_DEG_C,,DEG_C,,,,/MILLE,UMOL/KG,,UMOL/KG,,UG/L,,UG/L,,DBAR,ITS-90,METERS,,METERS,DEG_C,,UMOL/L,
       SM08-10,  NONE,SM-5474,  3,     -9,      -9,5,20081106,1430, 42.5445, 138.0643, 3690,      0.0,  12.6791,  34.1439,2,   -999.0,9,-999.0000,9,    264.1,2,     2.91,2,  -999.00,9,     0.10,2,  -999.00,9,     0.02,2, -999.000,9, -999.000,9,  -999.00,9,   -999.0,9,   -999.0,9,-999.0000,9,   -999.0,  9,  -999.00,9,   -999.0,  -999.00,9,  -999.00,9,  -999.00,9,  -999.00,9,   -999.0,-999.0000, -999,9,    0,  12.6790,  25.7931,   -999.0,9
       SM08-10,  NONE,SM-5474,  3,     12,02-14035,2,20081106,1429, 42.5445, 138.0643, 3690,      9.6,  12.6795,  34.1438,2,   -999.0,9,-999.0000,9,    264.1,2,     2.95,2,  -999.00,9,     0.10,2,  -999.00,9,     0.02,2, -999.000,9, -999.000,9,  -999.00,9,   -999.0,9,   -999.0,9,-999.0000,9,   -999.0,  9,  -999.00,9,   -999.0,  -999.00,9,  -999.00,9,  -999.00,9,  -999.00,9,   -999.0,-999.0000, -999,9,   10,  12.6782,  25.7932,   -999.0,9
       SM08-10,  NONE,SM-5474,  3,     11, 02-6324,2,20081106,1428, 42.5445, 138.0643, 3690,     20.5,  12.6813,  34.1433,2,   -999.0,9,-999.0000,9,    264.0,2,     2.88,2,  -999.00,9,     0.10,2,  -999.00,9,     0.03,2, -999.000,9, -999.000,9,  -999.00,9,   -999.0,9,   -999.0,9,-999.0000,9,   -999.0,  9,  -999.00,9,   -999.0,  -999.00,9,  -999.00,9,  -999.00,9,  -999.00,9,   -999.0,-999.0000, -999,9,   20,  12.6786,  25.7927,   -999.0,9
       SM08-10,  NONE,SM-5474,  3,     10,8802-010,2,20081106,1427, 42.5445, 138.0643, 3690,     30.9,  12.5732,  34.1369,2,   -999.0,9,-999.0000,9,    264.6,2,     2.95,2,  -999.00,9,     0.19,2,  -999.00,9,     0.03,2, -999.000,9, -999.000,9,  -999.00,9,   -999.0,9,   -999.0,9,-999.0000,9,   -999.0,  9,  -999.00,9,   -999.0,  -999.00,9,  -999.00,9,  -999.00,9,  -999.00,9,   -999.0,-999.0000, -999,9,   31,  12.5691,  25.8092,   -999.0,9
       SM08-10,  NONE,SM-5474,  3,      9,02-18042,2,20081106,1426, 42.5445, 138.0643, 3690,     49.8,   5.3652,  34.0607,2,   -999.0,9,-999.0000,9,    305.8,2,     5.86,2,  -999.00,9,     6.14,2,  -999.00,9,     0.51,2, -999.000,9, -999.000,9,  -999.00,9,   -999.0,9,   -999.0,9,-999.0000,9,   -999.0,  9,  -999.00,9,   -999.0,  -999.00,9,  -999.00,9,  -999.00,9,  -999.00,9,   -999.0,-999.0000, -999,9,   49,   5.3613,  26.8885,   -999.0,9
       SM08-10,  NONE,SM-5474,  3,      8,10017-03,2,20081106,1425, 42.5445, 138.0643, 3690,     75.7,   3.2465,  34.0656,2,   -999.0,9,-999.0000,9,    269.4,2,    18.87,2,  -999.00,9,    14.31,2,  -999.00,9,     1.00,2, -999.000,9, -999.000,9,  -999.00,9,   -999.0,9,   -999.0,9,-999.0000,9,   -999.0,  9,  -999.00,9,   -999.0,  -999.00,9,  -999.00,9,  -999.00,9,  -999.00,9,   -999.0,-999.0000, -999,9,   75,   3.2418,  27.1170,   -999.0,9
       SM08-10,  NONE,SM-5474,  3,      7,02-15147,2,20081106,1424, 42.5445, 138.0643, 3690,    100.3,   2.4848,  34.0621,2,   -999.0,9,  34.0636,2,    274.7,2,    20.90,2,  -999.00,9,    15.28,2,  -999.00,9,     1.08,2, -999.000,9, -999.000,9,  -999.00,9,   -999.0,9,   -999.0,9,-999.0000,9,   -999.0,  9,  -999.00,9,   -999.0,  -999.00,9,  -999.00,9,  -999.00,9,  -999.00,9,   -999.0,-999.0000, -999,9,   99,   2.4792,  27.1816,   -999.0,9
       SM08-10,  NONE,SM-5474,  3,      6,02-10267,2,20081106,1424, 42.5445, 138.0643, 3690,     99.9,   2.4893,  34.0623,2,   -999.0,9,-999.0000,9,   -999.0,9,  -999.00,9,  -999.00,9,  -999.00,9,  -999.00,9,  -999.00,9, -999.000,9, -999.000,9,  -999.00,9,   2145.1,2,   -999.0,1,-999.0000,9,   -999.0,  9,  -999.00,9,   -999.0,  -999.00,9,  -999.00,9,  -999.00,9,  -999.00,9,   -999.0,-999.0000, -999,9,   99,   2.4837,  27.1814,   -999.0,9
       SM08-10,  NONE,SM-5474,  3,      5, 02-6327,2,20081106,1421, 42.5445, 138.0643, 3690,    127.4,   1.9266,  34.0648,2,   -999.0,9,-999.0000,9,    276.9,2,    22.85,2,  -999.00,9,    16.26,2,  -999.00,9,     1.16,2, -999.000,9, -999.000,9,  -999.00,9,   -999.0,9,   -999.0,9,-999.0000,9,   -999.0,  9,  -999.00,9,   -999.0,  -999.00,9,  -999.00,9,  -999.00,9,  -999.00,9,   -999.0,-999.0000, -999,9,  126,   1.9201,  27.2285,   -999.0,9
       SM08-10,  NONE,SM-5474,  3,      4,8802-009,2,20081106,1420, 42.5445, 138.0643, 3690,    151.6,   1.6277,  34.0671,2,   -999.0,9,-999.0000,9,    274.8,2,    24.54,2,  -999.00,9,    17.13,2,  -999.00,9,     1.23,2, -999.000,9, -999.000,9,  -999.00,9,   -999.0,9,   -999.0,9,-999.0000,9,   -999.0,  9,  -999.00,9,   -999.0,  -999.00,9,  -999.00,9,  -999.00,9,  -999.00,9,   -999.0,-999.0000, -999,9,  150,   1.6203,  27.2528,   -999.0,9
       SM08-10,  NONE,SM-5474,  3,      3,10017-01,2,20081106,1419, 42.5445, 138.0643, 3690,    199.7,   1.3836,  34.0760,2,   -999.0,9,  34.0768,2,    286.8,2,    23.34,2,  -999.00,9,    16.35,2,  -999.00,9,     1.17,2, -999.000,9, -999.000,9,  -999.00,9,   -999.0,9,   -999.0,9,-999.0000,9,   -999.0,  9,  -999.00,9,   -999.0,  -999.00,9,  -999.00,9,  -999.00,9,  -999.00,9,   -999.0,-999.0000, -999,9,  198,   1.3741,  27.2774,   -999.0,9
       SM08-10,  NONE,SM-5474,  3,      2,02-17553,2,20081106,1419, 42.5445, 138.0643, 3690,    200.9,   1.3801,  34.0759,2,   -999.0,9,-999.0000,9,   -999.0,9,  -999.00,9,  -999.00,9,  -999.00,9,  -999.00,9,  -999.00,9, -999.000,9, -999.000,9,  -999.00,9,   2155.2,2,   -999.0,1,-999.0000,9,   -999.0,  9,  -999.00,9,   -999.0,  -999.00,9,  -999.00,9,  -999.00,9,  -999.00,9,   -999.0,-999.0000, -999,9,  199,   1.3706,  27.2776,   -999.0,9
       SM08-10,  NONE,SM-5474,  3,      1,8802-011,2,20081106,1418, 42.5445, 138.0643, 3690,    251.0,   1.1813,  34.0741,2,   -999.0,9,-999.0000,9,    279.7,2,    25.70,2,  -999.00,9,    17.81,2,  -999.00,9,     1.28,2, -999.000,9, -999.000,9,  -999.00,9,   -999.0,9,   -999.0,9,-999.0000,9,   -999.0,  9,  -999.00,9,   -999.0,  -999.00,9,  -999.00,9,  -999.00,9,  -999.00,9,   -999.0,-999.0000, -999,9,  249,   1.1697,  27.2898,   -999.0,9
       SM08-10,  NONE,SM-5474,  2,     12,02-14035,2,20081106,1340, 42.5318, 138.0480, 3686,    303.4,   1.0047,  34.0743,2,   -999.0,9,-999.0000,9,    269.7,2,    28.92,2,  -999.00,9,    19.18,2,  -999.00,9,     1.39,2, -999.000,9, -999.000,9,  -999.00,9,   -999.0,9,   -999.0,9,-999.0000,9,   -999.0,  9,  -999.00,9,   -999.0,  -999.00,9,  -999.00,9,  -999.00,9,  -999.00,9,   -999.0,-999.0000, -999,9,  301,   0.9910,  27.3017,   -999.0,9
       SM08-10,  NONE,SM-5474,  2,     11, 02-6324,2,20081106,1338, 42.5318, 138.0480, 3686,    404.1,   0.7882,  34.0737,2,   -999.0,9,  34.0731,2,    246.9,2,    35.33,2,  -999.00,9,    22.10,2,  -999.00,9,     1.64,2, -999.000,9, -999.000,9,  -999.00,9,   -999.0,9,   -999.0,9,-999.0000,9,   -999.0,  9,  -999.00,9,   -999.0,  -999.00,9,  -999.00,9,  -999.00,9,  -999.00,9,   -999.0,-999.0000, -999,9,  401,   0.7703,  27.3151,   -999.0,9
       SM08-10,  NONE,SM-5474,  2,     10,8802-010,2,20081106,1338, 42.5318, 138.0480, 3686,    403.8,   0.7885,  34.0741,2,   -999.0,9,-999.0000,9,   -999.0,9,  -999.00,9,  -999.00,9,  -999.00,9,  -999.00,9,  -999.00,9, -999.000,9, -999.000,9,  -999.00,9,   2182.0,2,   -999.0,1,-999.0000,9,   -999.0,  9,  -999.00,9,   -999.0,  -999.00,9,  -999.00,9,  -999.00,9,  -999.00,9,   -999.0,-999.0000, -999,9,  400,   0.7706,  27.3154,   -999.0,9
       SM08-10,  NONE,SM-5474,  2,      9,02-18042,2,20081106,1334, 42.5318, 138.0480, 3686,    503.6,   0.6432,  34.0746,2,   -999.0,9,-999.0000,9,    236.7,2,    40.55,2,  -999.00,9,    23.07,2,  -999.00,9,     1.74,2, -999.000,9, -999.000,9,  -999.00,9,   -999.0,9,   -999.0,9,-999.0000,9,   -999.0,  9,  -999.00,9,   -999.0,  -999.00,9,  -999.00,9,  -999.00,9,  -999.00,9,   -999.0,-999.0000, -999,9,  499,   0.6210,  27.3249,   -999.0,9
       SM08-10,  NONE,SM-5474,  2,      8,10017-03,2,20081106,1332, 42.5318, 138.0480, 3686,    603.7,   0.5505,  34.0748,2,   -999.0,9,  34.0735,2,    230.3,2,    45.24,2,  -999.00,9,    23.85,2,  -999.00,9,     1.79,2, -999.000,9, -999.000,9,  -999.00,9,   2163.0,2,   -999.0,1,-999.0000,9,   -999.0,  9,  -999.00,9,   -999.0,  -999.00,9,  -999.00,9,  -999.00,9,  -999.00,9,   -999.0,-999.0000, -999,9,  598,   0.5239,  27.3307,   -999.0,9
       SM08-10,  NONE,SM-5474,  2,      7,02-15147,2,20081106,1332, 42.5318, 138.0480, 3686,    605.8,   0.5506,  34.0747,2,   -999.0,9,-999.0000,9,   -999.0,9,  -999.00,9,  -999.00,9,  -999.00,9,  -999.00,9,  -999.00,9, -999.000,9, -999.000,9,  -999.00,9,   -999.0,9,   -999.0,9,-999.0000,9,   -999.0,  9,  -999.00,9,   -999.0,  -999.00,9,  -999.00,9,  -999.00,9,  -999.00,9,   -999.0,-999.0000, -999,9,  600,   0.5238,  27.3306,   -999.0,9
       SM08-10,  NONE,SM-5474,  2,      6,02-10267,2,20081106,1329, 42.5318, 138.0480, 3686,    705.2,   0.4654,  34.0737,2,   -999.0,9,-999.0000,9,    220.2,2,    50.35,2,  -999.00,9,    24.63,2,  -999.00,9,     1.86,2, -999.000,9, -999.000,9,  -999.00,9,   -999.0,9,   -999.0,9,-999.0000,9,   -999.0,  9,  -999.00,9,   -999.0,  -999.00,9,  -999.00,9,  -999.00,9,  -999.00,9,   -999.0,-999.0000, -999,9,  698,   0.4341,  27.3350,   -999.0,9
       SM08-10,  NONE,SM-5474,  2,      5, 02-6327,2,20081106,1326, 42.5318, 138.0480, 3686,    806.2,   0.3946,  34.0723,2,   -999.0,9,  34.0811,4,    216.4,2,    54.67,2,  -999.00,9,    24.92,2,  -999.00,9,     1.88,2, -999.000,9, -999.000,9,  -999.00,9,   -999.0,9,   -999.0,9,-999.0000,9,   -999.0,  9,  -999.00,9,   -999.0,  -999.00,9,  -999.00,9,  -999.00,9,  -999.00,9,   -999.0,-999.0000, -999,9,  798,   0.3586,  27.3381,   -999.0,9
       SM08-10,  NONE,SM-5474,  2,      4,8802-009,2,20081106,1326, 42.5318, 138.0480, 3686,    806.4,   0.3938,  34.0725,2,   -999.0,9,-999.0000,9,   -999.0,9,  -999.00,9,  -999.00,9,  -999.00,9,  -999.00,9,  -999.00,9, -999.000,9, -999.000,9,  -999.00,9,   2227.9,2,   -999.0,1,-999.0000,9,   -999.0,  9,  -999.00,9,   -999.0,  -999.00,9,  -999.00,9,  -999.00,9,  -999.00,9,   -999.0,-999.0000, -999,9,  798,   0.3578,  27.3383,   -999.0,9
       SM08-10,  NONE,SM-5474,  2,      3,10017-01,2,20081106,1324, 42.5318, 138.0480, 3686,    907.6,   0.3463,  34.0714,2,   -999.0,9,-999.0000,9,    214.0,2,    57.94,2,  -999.00,9,    25.11,2,  -999.00,9,     1.89,2, -999.000,9, -999.000,9,  -999.00,9,   -999.0,9,   -999.0,9,-999.0000,9,   -999.0,  9,  -999.00,9,   -999.0,  -999.00,9,  -999.00,9,  -999.00,9,  -999.00,9,   -999.0,-999.0000, -999,9,  898,   0.3053,  27.3404,   -999.0,9
       SM08-10,  NONE,SM-5474,  2,      2,02-17553,2,20081106,1322, 42.5318, 138.0480, 3686,   1007.8,   0.3097,  34.0706,2,   -999.0,9,  34.0699,2,    213.5,2,    60.26,2,  -999.00,9,    25.21,2,  -999.00,9,     1.90,2, -999.000,9, -999.000,9,  -999.00,9,   -999.0,9,   -999.0,9,-999.0000,9,   -999.0,  9,  -999.00,9,   -999.0,  -999.00,9,  -999.00,9,  -999.00,9,  -999.00,9,   -999.0,-999.0000, -999,9,  997,   0.2636,  27.3420,   -999.0,9
       SM08-10,  NONE,SM-5474,  2,      1,8802-011,2,20081106,1321, 42.5318, 138.0480, 3686,   1007.4,   0.3097,  34.0709,2,   -999.0,9,-999.0000,9,   -999.0,9,  -999.00,9,  -999.00,9,  -999.00,9,  -999.00,9,  -999.00,9, -999.000,9, -999.000,9,  -999.00,9,   2230.3,2,   -999.0,1,-999.0000,9,   -999.0,  9,  -999.00,9,   -999.0,  -999.00,9,  -999.00,9,  -999.00,9,  -999.00,9,   -999.0,-999.0000, -999,9,  997,   0.2637,  27.3422,   -999.0,9
       SM08-10,  NONE,SM-5474,  1,     12,02-14035,2,20081106,1208, 42.5108, 138.0172, 3685,   1213.0,   0.2591,  34.0702,2,   -999.0,9,  34.0679,2,    210.8,2,    65.53,2,  -999.00,9,    25.31,2,  -999.00,9,     1.92,2, -999.000,9, -999.000,9,  -999.00,9,   -999.0,9,   -999.0,9,-999.0000,9,   -999.0,  9,  -999.00,9,   -999.0,  -999.00,9,  -999.00,9,  -999.00,9,  -999.00,9,   -999.0,-999.0000, -999,9, 1200,   0.2020,  27.3450,   -999.0,9
       SM08-10,  NONE,SM-5474,  1,     11, 02-6324,2,20081106,1207, 42.5108, 138.0172, 3685,   1213.0,   0.2593,  34.0700,2,   -999.0,9,-999.0000,9,   -999.0,9,  -999.00,9,  -999.00,9,  -999.00,9,  -999.00,9,  -999.00,9, -999.000,9, -999.000,9,  -999.00,9,   2236.6,6,   -999.0,1,-999.0000,9,   -999.0,  9,  -999.00,9,   -999.0,  -999.00,9,  -999.00,9,  -999.00,9,  -999.00,9,   -999.0,-999.0000, -999,9, 1200,   0.2022,  27.3448,   -999.0,9
       SM08-10,  NONE,SM-5474,  1,     10,8802-010,2,20081106,1202, 42.5108, 138.0172, 3685,   1517.8,   0.2216,  34.0695,2,   -999.0,9,  34.0680,2,    208.9,2,    71.90,2,  -999.00,9,    25.60,2,  -999.00,9,     1.94,2, -999.000,9, -999.000,9,  -999.00,9,   -999.0,9,   -999.0,9,-999.0000,9,   -999.0,  9,  -999.00,9,   -999.0,  -999.00,9,  -999.00,9,  -999.00,9,  -999.00,9,   -999.0,-999.0000, -999,9, 1500,   0.1466,  27.3474,   -999.0,9
       SM08-10,  NONE,SM-5474,  1,      9,02-18042,2,20081106,1202, 42.5108, 138.0172, 3685,   1517.4,   0.2217,  34.0694,2,   -999.0,9,-999.0000,9,   -999.0,9,  -999.00,9,  -999.00,9,  -999.00,9,  -999.00,9,  -999.00,9, -999.000,9, -999.000,9,  -999.00,9,   2244.7,2,   -999.0,1,-999.0000,9,   -999.0,  9,  -999.00,9,   -999.0,  -999.00,9,  -999.00,9,  -999.00,9,  -999.00,9,   -999.0,-999.0000, -999,9, 1500,   0.1467,  27.3473,   -999.0,9
       SM08-10,  NONE,SM-5474,  1,      8,10017-03,2,20081106,1152, 42.5108, 138.0172, 3685,   2023.0,   0.2103,  34.0697,2,   -999.0,9,  34.0664,2,    208.7,2,    77.84,2,  -999.00,9,    25.70,2,  -999.00,9,     1.96,2, -999.000,9, -999.000,9,  -999.00,9,   -999.0,9,   -999.0,9,-999.0000,9,   -999.0,  9,  -999.00,9,   -999.0,  -999.00,9,  -999.00,9,  -999.00,9,  -999.00,9,   -999.0,-999.0000, -999,9, 1997,   0.1018,  27.3499,   -999.0,9
       SM08-10,  NONE,SM-5474,  1,      7,02-15147,2,20081106,1152, 42.5108, 138.0172, 3685,   2025.6,   0.2103,  34.0696,2,   -999.0,9,-999.0000,9,   -999.0,9,  -999.00,9,  -999.00,9,  -999.00,9,  -999.00,9,  -999.00,9, -999.000,9, -999.000,9,  -999.00,9,   2239.3,2,   -999.0,1,-999.0000,9,   -999.0,  9,  -999.00,9,   -999.0,  -999.00,9,  -999.00,9,  -999.00,9,  -999.00,9,   -999.0,-999.0000, -999,9, 2000,   0.1016,  27.3498,   -999.0,9
       SM08-10,  NONE,SM-5474,  1,      6,02-10267,2,20081106,1143, 42.5108, 138.0172, 3685,   2533.5,   0.2263,  34.0701,2,   -999.0,9,  34.0676,2,    208.8,2,    83.34,2,  -999.00,9,    25.89,2,  -999.00,9,     1.97,2, -999.000,9, -999.000,9,  -999.00,9,   -999.0,9,   -999.0,9,-999.0000,9,   -999.0,  9,  -999.00,9,   -999.0,  -999.00,9,  -999.00,9,  -999.00,9,  -999.00,9,   -999.0,-999.0000, -999,9, 2498,   0.0794,  27.3514,   -999.0,9
       SM08-10,  NONE,SM-5474,  1,      5, 02-6327,2,20081106,1143, 42.5108, 138.0172, 3685,   2534.0,   0.2263,  34.0702,2,   -999.0,9,-999.0000,9,   -999.0,9,  -999.00,9,  -999.00,9,  -999.00,9,  -999.00,9,  -999.00,9, -999.000,9, -999.000,9,  -999.00,9,   2246.2,2,   -999.0,1,-999.0000,9,   -999.0,  9,  -999.00,9,   -999.0,  -999.00,9,  -999.00,9,  -999.00,9,  -999.00,9,   -999.0,-999.0000, -999,9, 2499,   0.0793,  27.3515,   -999.0,9
       SM08-10,  NONE,SM-5474,  1,      4,8802-009,2,20081106,1134, 42.5108, 138.0172, 3685,   3044.7,   0.2697,  34.0704,2,   -999.0,9,  34.0677,2,    208.7,2,    83.43,2,  -999.00,9,    25.89,2,  -999.00,9,     1.97,2, -999.000,9, -999.000,9,  -999.00,9,   -999.0,9,   -999.0,9,-999.0000,9,   -999.0,  9,  -999.00,9,   -999.0,  -999.00,9,  -999.00,9,  -999.00,9,  -999.00,9,   -999.0,-999.0000, -999,9, 2999,   0.0795,  27.3516,   -999.0,9
       SM08-10,  NONE,SM-5474,  1,      3,10017-01,2,20081106,1134, 42.5108, 138.0172, 3685,   3046.3,   0.2697,  34.0703,2,   -999.0,9,-999.0000,9,   -999.0,9,  -999.00,9,  -999.00,9,  -999.00,9,  -999.00,9,  -999.00,9, -999.000,9, -999.000,9,  -999.00,9,   2241.5,2,   -999.0,1,-999.0000,9,   -999.0,  9,  -999.00,9,   -999.0,  -999.00,9,  -999.00,9,  -999.00,9,  -999.00,9,   -999.0,-999.0000, -999,9, 3001,   0.0793,  27.3516,   -999.0,9
       SM08-10,  NONE,SM-5474,  1,      2,02-17553,2,20081106,1125, 42.5108, 138.0172, 3685,   3555.5,   0.3178,  34.0701,2,   -999.0,9,  34.0678,2,    212.1,2,    80.46,2,  -999.00,9,    25.70,2,  -999.00,9,     1.94,2, -999.000,9, -999.000,9,  -999.00,9,   -999.0,9,   -999.0,9,-999.0000,9,   -999.0,  9,  -999.00,9,   -999.0,  -999.00,9,  -999.00,9,  -999.00,9,  -999.00,9,   -999.0,-999.0000, -999,9, 3498,   0.0800,  27.3514,   -999.0,9
       SM08-10,  NONE,SM-5474,  1,      1,8802-011,2,20081106,1125, 42.5108, 138.0172, 3685,   3554.5,   0.3172,  34.0707,2,   -999.0,9,-999.0000,9,   -999.0,9,  -999.00,9,  -999.00,9,  -999.00,9,  -999.00,9,  -999.00,9, -999.000,9, -999.000,9,  -999.00,9,   2249.9,2,   -999.0,1,-999.0000,9,   -999.0,  9,  -999.00,9,   -999.0,  -999.00,9,  -999.00,9,  -999.00,9,  -999.00,9,   -999.0,-999.0000, -999,9, 3497,   0.0795,  27.3519,   -999.0,9