BOTTLE,20130510GEMDJMAYT
EXPOCODE,SECT_ID,STNNBR,CASTNO,SAMPNO,BTLNBR,BTLNBR_FLAG_W,DATE,TIME,LATITUDE,LONGITUDE,DEPTH,CTDPRS,CTDTMP,CTDSAL,CTDSAL_FLAG_W,CTDOXY,CTDOXY_FLAG_W,SALNTY,SALNTY_FLAG_W,OXYGEN,OXYGEN_FLAG_W,SILCAT,SILCAT_FLAG_W,NITRAT,NITRAT_FLAG_W,NO2+NO3,NO2+NO3_FLAG_W,NITRIT,NITRIT_FLAG_W,PHSPHT,PHSPHT_FLAG_W,CFC-11,CFC-11_FLAG_W,CFC-12,CFC-12_FLAG_W,DELC13,DELC13_FLAG_W,TCARBN,TCARBN_FLAG_W,ALKALI,ALKALI_FLAG_W,PH,PH_FLAG_W,PH_TMP,PH_SCALE,PH_NBS,PH_NBS_FLAG_W,C13ERR,TOTALP,TOTALP_FLAG_W,AMMONI,AMMONI_FLAG_W,CHLORA,CHLORA_FLAG_W,PPHYTN,PPHYTN_FLAG_W,REVPRS,REVTMP,DEPTH_,DEPTH_FLAG,CTDDEP,THETA,SIGTHT,DOC,DOC_FLAG_W
,,,,,,,GMT,GMT,,,METER,DBAR,ITS-90,PSS-78,,UMOL/KG,,PSS-78,,UMOL/KG,,UMOL/KG,,UMOL/KG,,UMOL/KG,,UMOL/KG,,UMOL/KG,,PMOL/KG,,PMOL/KG,,/MILLE,,UMOL/KG,,UMOL/KG,,25_DEG_C,,DEG_C,,,,/MILLE,UMOL/KG,,UMOL/KG,,UG/L,,UG/L,,DBAR,ITS-90,METERS,,METERS,DEG_C,,UMOL/L,
       SM08-10,  NONE,SM-5466,  2,     -9,      -9,5,20081104,0745, 37.4903, 138.1985, 1005,      0.0,  19.6685,  33.7306,2,   -999.0,9,-999.0000,9,    225.4,2,     3.28,2,  -999.00,9,     0.59,2,  -999.00,9,     0.04,2, -999.000,9, -999.000,9,  -999.00,9,   -999.0,9,   -999.0,9,-999.0000,9,   -999.0,  9,  -999.00,9,   -999.0,  -999.00,9,  -999.00,9,     0.68,2,     0.60,2,   -999.0,-999.0000, -999,9,    0,  19.6684,  23.8801,   -999.0,9
       SM08-10,  NONE,SM-5466,  2,     11, 02-6324,2,20081104,0744, 37.4903, 138.1985, 1005,      9.4,  19.6855,  33.7304,2,   -999.0,9,-999.0000,9,    225.6,2,     3.25,2,  -999.00,9,     0.59,2,  -999.00,9,     0.04,2, -999.000,9, -999.000,9,  -999.00,9,   -999.0,9,   -999.0,9,-999.0000,9,   -999.0,  9,  -999.00,9,   -999.0,  -999.00,9,  -999.00,9,     0.65,2,     0.62,2,   -999.0,-999.0000, -999,9,    9,  19.6838,  23.8759,   -999.0,9
       SM08-10,  NONE,SM-5466,  2,     10,8802-010,2,20081104,0743, 37.4903, 138.1985, 1005,     20.1,  19.6788,  33.7296,2,   -999.0,9,-999.0000,9,    225.8,2,     3.22,2,  -999.00,9,     0.49,2,  -999.00,9,     0.05,2, -999.000,9, -999.000,9,  -999.00,9,   -999.0,9,   -999.0,9,-999.0000,9,   -999.0,  9,  -999.00,9,   -999.0,  -999.00,9,  -999.00,9,     0.67,2,     0.62,2,   -999.0,-999.0000, -999,9,   20,  19.6752,  23.8775,   -999.0,9
       SM08-10,  NONE,SM-5466,  2,      9,02-18042,2,20081104,0742, 37.4903, 138.1985, 1005,     31.0,  19.6932,  33.7298,2,   -999.0,9,-999.0000,9,    225.8,2,     3.31,2,  -999.00,9,     0.59,2,  -999.00,9,     0.05,2, -999.000,9, -999.000,9,  -999.00,9,   -999.0,9,   -999.0,9,-999.0000,9,   -999.0,  9,  -999.00,9,   -999.0,  -999.00,9,  -999.00,9,     0.68,2,     0.65,2,   -999.0,-999.0000, -999,9,   31,  19.6876,  23.8745,   -999.0,9
       SM08-10,  NONE,SM-5466,  2,      8,10017-03,2,20081104,0741, 37.4903, 138.1985, 1005,     49.9,  19.6185,  33.7115,2,   -999.0,9,-999.0000,9,    225.8,2,     3.15,2,  -999.00,9,     0.49,2,  -999.00,9,     0.06,2, -999.000,9, -999.000,9,  -999.00,9,   -999.0,9,   -999.0,9,-999.0000,9,   -999.0,  9,  -999.00,9,   -999.0,  -999.00,9,  -999.00,9,     0.61,2,     0.57,2,   -999.0,-999.0000, -999,9,   49,  19.6095,  23.8807,   -999.0,9
       SM08-10,  NONE,SM-5466,  2,      7,02-15147,2,20081104,0740, 37.4903, 138.1985, 1005,     74.9,  17.8210,  34.2840,2,   -999.0,9,-999.0000,9,    213.3,2,     5.83,2,  -999.00,9,     3.51,2,  -999.00,9,     0.24,2, -999.000,9, -999.000,9,  -999.00,9,   -999.0,9,   -999.0,9,-999.0000,9,   -999.0,  9,  -999.00,9,   -999.0,  -999.00,9,  -999.00,9,     0.09,2,     0.23,2,   -999.0,-999.0000, -999,9,   74,  17.8083,  24.7706,   -999.0,9
       SM08-10,  NONE,SM-5466,  2,      6,02-10267,2,20081104,0739, 37.4903, 138.1985, 1005,    100.4,  16.0704,  34.4538,2,   -999.0,9,-999.0000,9,    201.8,2,     9.48,2,  -999.00,9,     6.53,2,  -999.00,9,     0.44,2, -999.000,9, -999.000,9,  -999.00,9,   -999.0,9,   -999.0,9,-999.0000,9,   -999.0,  9,  -999.00,9,   -999.0,  -999.00,9,  -999.00,9,     0.08,2,     0.14,2,   -999.0,-999.0000, -999,9,  100,  16.0546,  25.3150,   -999.0,9
       SM08-10,  NONE,SM-5466,  2,      5, 02-6327,2,20081104,0738, 37.4903, 138.1985, 1005,    124.7,  14.9668,  34.4814,2,   -999.0,9,-999.0000,9,    222.6,2,     6.97,2,  -999.00,9,     4.39,2,  -999.00,9,     0.34,2, -999.000,9, -999.000,9,  -999.00,9,   -999.0,9,   -999.0,9,-999.0000,9,   -999.0,  9,  -999.00,9,   -999.0,  -999.00,9,  -999.00,9,     0.06,2,     0.09,2,   -999.0,-999.0000, -999,9,  124,  14.9481,  25.5835,   -999.0,9
       SM08-10,  NONE,SM-5466,  2,      4,8802-009,2,20081104,0737, 37.4903, 138.1985, 1005,    150.7,  12.5536,  34.4052,2,   -999.0,9,-999.0000,9,    233.4,2,     6.12,2,  -999.00,9,     4.87,2,  -999.00,9,     0.38,2, -999.000,9, -999.000,9,  -999.00,9,   -999.0,9,   -999.0,9,-999.0000,9,   -999.0,  9,  -999.00,9,   -999.0,  -999.00,9,  -999.00,9,     0.04,2,     0.08,2,   -999.0,-999.0000, -999,9,  150,  12.5335,  26.0242,   -999.0,9
       SM08-10,  NONE,SM-5466,  2,      3,10017-01,2,20081104,0736, 37.4903, 138.1985, 1005,    202.7,   8.6853,  34.2225,2,   -999.0,9,-999.0000,9,    248.0,2,     9.75,2,  -999.00,9,     8.67,2,  -999.00,9,     0.61,2, -999.000,9, -999.000,9,  -999.00,9,   -999.0,9,   -999.0,9,-999.0000,9,   -999.0,  9,  -999.00,9,   -999.0,  -999.00,9,  -999.00,9,     0.01,2,     0.04,2,   -999.0,-999.0000, -999,9,  201,   8.6640,  26.5622,   -999.0,9
       SM08-10,  NONE,SM-5466,  2,      2,02-17553,2,20081104,0733, 37.4903, 138.1985, 1005,    252.2,   3.7360,  34.0818,2,   -999.0,9,-999.0000,9,    243.2,2,    22.98,2,  -999.00,9,    16.45,2,  -999.00,9,     1.20,2, -999.000,9, -999.000,9,  -999.00,9,   -999.0,9,   -999.0,9,-999.0000,9,   -999.0,  9,  -999.00,9,   -999.0,  -999.00,9,  -999.00,9,     0.01,2,     0.05,2,   -999.0,-999.0000, -999,9,  250,   3.7191,  27.0840,   -999.0,9
       SM08-10,  NONE,SM-5466,  2,      1,8802-011,2,20081104,0732, 37.4903, 138.1985, 1005,    300.9,   1.7178,  34.0714,2,   -999.0,9,-999.0000,9,    223.4,2,    37.07,2,  -999.00,9,    22.10,2,  -999.00,9,     1.66,2, -999.000,9, -999.000,9,  -999.00,9,   -999.0,9,   -999.0,9,-999.0000,9,   -999.0,  9,  -999.00,9,   -999.0,  -999.00,9,  -999.00,9,     0.00,2,     0.04,2,   -999.0,-999.0000, -999,9,  298,   1.7024,  27.2502,   -999.0,9
       SM08-10,  NONE,SM-5466,  1,      6,02-10267,2,20081104,0659, 37.4958, 138.1840,  926,    403.6,   0.9077,  34.0702,2,   -999.0,9,-999.0000,9,    208.7,2,    48.48,2,  -999.00,9,    24.72,2,  -999.00,9,     1.90,2, -999.000,9, -999.000,9,  -999.00,9,   -999.0,9,   -999.0,9,-999.0000,9,   -999.0,  9,  -999.00,9,   -999.0,  -999.00,9,  -999.00,9,  -999.00,9,  -999.00,9,   -999.0,-999.0000, -999,9,  400,   0.8894,  27.3048,   -999.0,9
       SM08-10,  NONE,SM-5466,  1,      5, 02-6327,2,20081104,0657, 37.4958, 138.1840,  926,    504.4,   0.6024,  34.0706,2,   -999.0,9,-999.0000,9,    207.0,2,    54.90,2,  -999.00,9,    25.31,2,  -999.00,9,     1.94,2, -999.000,9, -999.000,9,  -999.00,9,   -999.0,9,   -999.0,9,-999.0000,9,   -999.0,  9,  -999.00,9,   -999.0,  -999.00,9,  -999.00,9,  -999.00,9,  -999.00,9,   -999.0,-999.0000, -999,9,  500,   0.5804,  27.3240,   -999.0,9
       SM08-10,  NONE,SM-5466,  1,      4,8802-009,2,20081104,0654, 37.4958, 138.1840,  926,    604.8,   0.4764,  34.0708,2,   -999.0,9,-999.0000,9,    205.7,2,    59.08,2,  -999.00,9,    25.50,2,  -999.00,9,     1.96,2, -999.000,9, -999.000,9,  -999.00,9,   -999.0,9,   -999.0,9,-999.0000,9,   -999.0,  9,  -999.00,9,   -999.0,  -999.00,9,  -999.00,9,  -999.00,9,  -999.00,9,   -999.0,-999.0000, -999,9,  599,   0.4501,  27.3317,   -999.0,9
       SM08-10,  NONE,SM-5466,  1,      3,10017-01,2,20081104,0651, 37.4958, 138.1840,  926,    706.3,   0.3830,  34.0703,2,   -999.0,9,-999.0000,9,    204.5,2,    63.29,2,  -999.00,9,    25.70,2,  -999.00,9,     1.97,2, -999.000,9, -999.000,9,  -999.00,9,   -999.0,9,   -999.0,9,-999.0000,9,   -999.0,  9,  -999.00,9,   -999.0,  -999.00,9,  -999.00,9,  -999.00,9,  -999.00,9,   -999.0,-999.0000, -999,9,  700,   0.3522,  27.3369,   -999.0,9
       SM08-10,  NONE,SM-5466,  1,      2,02-17553,2,20081104,0650, 37.4958, 138.1840,  926,    805.0,   0.3373,  34.0700,2,   -999.0,9,-999.0000,9,    204.5,2,    64.64,2,  -999.00,9,    25.21,2,  -999.00,9,     1.95,2, -999.000,9, -999.000,9,  -999.00,9,   -999.0,9,   -999.0,9,-999.0000,9,   -999.0,  9,  -999.00,9,   -999.0,  -999.00,9,  -999.00,9,  -999.00,9,  -999.00,9,   -999.0,-999.0000, -999,9,  797,   0.3018,  27.3394,   -999.0,9
       SM08-10,  NONE,SM-5466,  1,      1,8802-011,2,20081104,0648, 37.4958, 138.1840,  926,    848.0,   0.2995,  34.0701,2,   -999.0,9,-999.0000,9,    203.8,2,    68.50,2,  -999.00,9,    25.60,2,  -999.00,9,     1.97,2, -999.000,9, -999.000,9,  -999.00,9,   -999.0,9,   -999.0,9,-999.0000,9,   -999.0,  9,  -999.00,9,   -999.0,  -999.00,9,  -999.00,9,  -999.00,9,  -999.00,9,   -999.0,-999.0000, -999,9,  840,   0.2620,  27.3417,   -999.0,9
       SM08-10,  NONE,SM-5467,  2,     -9,      -9,5,20081104,1231, 37.7257, 138.0192, 1530,      0.0,  19.5466,  33.6669,2,   -999.0,9,-999.0000,9,    227.4,2,     3.17,2,  -999.00,9,     0.29,2,  -999.00,9,     0.01,2, -999.000,9, -999.000,9,  -999.00,9,   -999.0,9,   -999.0,9,-999.0000,9,   -999.0,  9,  -999.00,9,   -999.0,  -999.00,9,  -999.00,9,     0.61,2,     0.57,2,   -999.0,-999.0000, -999,9,    0,  19.5465,  23.8629,   -999.0,9
       SM08-10,  NONE,SM-5467,  2,     11, 02-6324,2,20081104,1230, 37.7257, 138.0192, 1530,     10.2,  19.5927,  33.6649,2,   -999.0,9,-999.0000,9,    226.8,2,     3.12,2,  -999.00,9,     0.29,2,  -999.00,9,     0.01,2, -999.000,9, -999.000,9,  -999.00,9,   -999.0,9,   -999.0,9,-999.0000,9,   -999.0,  9,  -999.00,9,   -999.0,  -999.00,9,  -999.00,9,     0.61,2,     0.52,2,   -999.0,-999.0000, -999,9,   10,  19.5909,  23.8500,   -999.0,9
       SM08-10,  NONE,SM-5467,  2,     10,8802-010,2,20081104,1229, 37.7257, 138.0192, 1530,     21.3,  19.5864,  33.6662,2,   -999.0,9,  33.6673,2,    226.8,2,     3.18,2,  -999.00,9,     0.29,2,  -999.00,9,     0.02,2, -999.000,9, -999.000,9,  -999.00,9,   -999.0,9,   -999.0,9,-999.0000,9,   -999.0,  9,  -999.00,9,   -999.0,  -999.00,9,  -999.00,9,     0.62,2,     0.54,2,   -999.0,-999.0000, -999,9,   21,  19.5826,  23.8531,   -999.0,9
       SM08-10,  NONE,SM-5467,  2,      9,02-18042,2,20081104,1228, 37.7257, 138.0192, 1530,     31.6,  19.5995,  33.6658,2,   -999.0,9,-999.0000,9,    226.9,2,     3.16,2,  -999.00,9,     0.29,2,  -999.00,9,     0.02,2, -999.000,9, -999.000,9,  -999.00,9,   -999.0,9,   -999.0,9,-999.0000,9,   -999.0,  9,  -999.00,9,   -999.0,  -999.00,9,  -999.00,9,     0.61,2,     0.53,2,   -999.0,-999.0000, -999,9,   31,  19.5938,  23.8499,   -999.0,9
       SM08-10,  NONE,SM-5467,  2,      8,10017-03,2,20081104,1227, 37.7257, 138.0192, 1530,     50.7,  19.6013,  33.6717,2,   -999.0,9,  33.6689,2,    227.5,2,     3.21,2,  -999.00,9,     0.29,2,  -999.00,9,     0.03,2, -999.000,9, -999.000,9,  -999.00,9,   -999.0,9,   -999.0,9,-999.0000,9,   -999.0,  9,  -999.00,9,   -999.0,  -999.00,9,  -999.00,9,     0.63,2,     0.57,2,   -999.0,-999.0000, -999,9,   50,  19.5921,  23.8548,   -999.0,9
       SM08-10,  NONE,SM-5467,  2,      7,02-15147,2,20081104,1226, 37.7257, 138.0192, 1530,     75.7,  17.8758,  34.3177,2,   -999.0,9,-999.0000,9,    204.4,2,     6.90,2,  -999.00,9,     4.20,2,  -999.00,9,     0.29,2, -999.000,9, -999.000,9,  -999.00,9,   -999.0,9,   -999.0,9,-999.0000,9,   -999.0,  9,  -999.00,9,   -999.0,  -999.00,9,  -999.00,9,     0.11,2,     0.23,2,   -999.0,-999.0000, -999,9,   75,  17.8630,  24.7830,   -999.0,9
       SM08-10,  NONE,SM-5467,  2,      6,02-10267,2,20081104,1225, 37.7257, 138.0192, 1530,    100.4,  15.8523,  34.5006,2,   -999.0,9,  34.5003,2,    206.9,2,     9.16,2,  -999.00,9,     5.75,2,  -999.00,9,     0.41,2, -999.000,9, -999.000,9,  -999.00,9,   -999.0,9,   -999.0,9,-999.0000,9,   -999.0,  9,  -999.00,9,   -999.0,  -999.00,9,  -999.00,9,     0.07,2,     0.10,2,   -999.0,-999.0000, -999,9,  100,  15.8366,  25.4006,   -999.0,9
       SM08-10,  NONE,SM-5467,  2,      5, 02-6327,2,20081104,1224, 37.7257, 138.0192, 1530,    123.0,  14.3073,  34.4593,2,   -999.0,9,-999.0000,9,    210.9,2,     9.76,2,  -999.00,9,     6.14,2,  -999.00,9,     0.46,2, -999.000,9, -999.000,9,  -999.00,9,   -999.0,9,   -999.0,9,-999.0000,9,   -999.0,  9,  -999.00,9,   -999.0,  -999.00,9,  -999.00,9,     0.07,2,     0.12,2,   -999.0,-999.0000, -999,9,  122,  14.2894,  25.7082,   -999.0,9
       SM08-10,  NONE,SM-5467,  2,      4,8802-009,2,20081104,1223, 37.7257, 138.0192, 1530,    151.5,  11.3627,  34.3391,2,   -999.0,9,-999.0000,9,    238.9,2,     6.33,2,  -999.00,9,     5.75,2,  -999.00,9,     0.41,2, -999.000,9, -999.000,9,  -999.00,9,   -999.0,9,   -999.0,9,-999.0000,9,   -999.0,  9,  -999.00,9,   -999.0,  -999.00,9,  -999.00,9,     0.03,2,     0.07,2,   -999.0,-999.0000, -999,9,  150,  11.3438,  26.1983,   -999.0,9
       SM08-10,  NONE,SM-5467,  2,      3,10017-01,2,20081104,1222, 37.7257, 138.0192, 1530,    202.6,   8.4137,  34.2090,2,   -999.0,9,  34.2176,4,    250.5,2,    10.50,2,  -999.00,9,     9.16,2,  -999.00,9,     0.63,2, -999.000,9, -999.000,9,  -999.00,9,   -999.0,9,   -999.0,9,-999.0000,9,   -999.0,  9,  -999.00,9,   -999.0,  -999.00,9,  -999.00,9,     0.01,2,     0.04,2,   -999.0,-999.0000, -999,9,  201,   8.3928,  26.5934,   -999.0,9
       SM08-10,  NONE,SM-5467,  2,      2,02-17553,2,20081104,1218, 37.7257, 138.0192, 1530,    251.2,   3.0398,  34.0728,2,   -999.0,9,-999.0000,9,    241.9,2,    25.77,2,  -999.00,9,    17.43,2,  -999.00,9,     1.29,2, -999.000,9, -999.000,9,  -999.00,9,   -999.0,9,   -999.0,9,-999.0000,9,   -999.0,  9,  -999.00,9,   -999.0,  -999.00,9,  -999.00,9,     0.00,2,     0.04,2,   -999.0,-999.0000, -999,9,  249,   3.0243,  27.1427,   -999.0,9
       SM08-10,  NONE,SM-5467,  2,      1,8802-011,2,20081104,1216, 37.7257, 138.0192, 1530,    301.2,   1.7241,  34.0702,2,   -999.0,9,-999.0000,9,    224.8,2,    36.81,2,  -999.00,9,    21.81,2,  -999.00,9,     1.65,2, -999.000,9, -999.000,9,  -999.00,9,   -999.0,9,   -999.0,9,-999.0000,9,   -999.0,  9,  -999.00,9,   -999.0,  -999.00,9,  -999.00,9,     0.00,2,     0.04,2,   -999.0,-999.0000, -999,9,  299,   1.7087,  27.2487,   -999.0,9
       SM08-10,  NONE,SM-5467,  1,      9,02-18042,2,20081104,1140, 37.7398, 138.0078, 1594,    403.1,   0.8984,  34.0703,2,   -999.0,9,  34.0710,2,    210.7,2,    47.50,2,  -999.00,9,    24.43,2,  -999.00,9,     1.88,2, -999.000,9, -999.000,9,  -999.00,9,   -999.0,9,   -999.0,9,-999.0000,9,   -999.0,  9,  -999.00,9,   -999.0,  -999.00,9,  -999.00,9,  -999.00,9,  -999.00,9,   -999.0,-999.0000, -999,9,  400,   0.8802,  27.3055,   -999.0,9
       SM08-10,  NONE,SM-5467,  1,      8,10017-03,2,20081104,1138, 37.7398, 138.0078, 1594,    503.2,   0.6449,  34.0706,2,   -999.0,9,-999.0000,9,    207.2,2,    53.12,2,  -999.00,9,    25.21,2,  -999.00,9,     1.95,2, -999.000,9, -999.000,9,  -999.00,9,   -999.0,9,   -999.0,9,-999.0000,9,   -999.0,  9,  -999.00,9,   -999.0,  -999.00,9,  -999.00,9,  -999.00,9,  -999.00,9,   -999.0,-999.0000, -999,9,  499,   0.6227,  27.3215,   -999.0,9
       SM08-10,  NONE,SM-5467,  1,      7,02-15147,2,20081104,1134, 37.7398, 138.0078, 1594,    604.7,   0.4885,  34.0709,2,   -999.0,9,  34.0714,2,    204.6,2,    58.54,2,  -999.00,9,    25.31,2,  -999.00,9,     1.99,2, -999.000,9, -999.000,9,  -999.00,9,   -999.0,9,   -999.0,9,-999.0000,9,   -999.0,  9,  -999.00,9,   -999.0,  -999.00,9,  -999.00,9,  -999.00,9,  -999.00,9,   -999.0,-999.0000, -999,9,  599,   0.4621,  27.3311,   -999.0,9
       SM08-10,  NONE,SM-5467,  1,      6,02-10267,2,20081104,1132, 37.7398, 138.0078, 1594,    704.5,   0.3982,  34.0706,2,   -999.0,9,-999.0000,9,    205.0,2,    61.14,2,  -999.00,9,    25.41,2,  -999.00,9,     1.96,2, -999.000,9, -999.000,9,  -999.00,9,   -999.0,9,   -999.0,9,-999.0000,9,   -999.0,  9,  -999.00,9,   -999.0,  -999.00,9,  -999.00,9,  -999.00,9,  -999.00,9,   -999.0,-999.0000, -999,9,  698,   0.3674,  27.3363,   -999.0,9
       SM08-10,  NONE,SM-5467,  1,      5, 02-6327,2,20081104,1127, 37.7398, 138.0078, 1594,    806.7,   0.3389,  34.0707,2,   -999.0,9,  34.0726,2,    205.6,2,    64.02,2,  -999.00,9,    25.60,2,  -999.00,9,     1.97,2, -999.000,9, -999.000,9,  -999.00,9,   -999.0,9,   -999.0,9,-999.0000,9,   -999.0,  9,  -999.00,9,   -999.0,  -999.00,9,  -999.00,9,  -999.00,9,  -999.00,9,   -999.0,-999.0000, -999,9,  799,   0.3033,  27.3399,   -999.0,9
       SM08-10,  NONE,SM-5467,  1,      4,8802-009,2,20081104,1124, 37.7398, 138.0078, 1594,    909.0,   0.3036,  34.0704,2,   -999.0,9,-999.0000,9,    205.1,2,    66.74,2,  -999.00,9,    25.60,2,  -999.00,9,     1.97,2, -999.000,9, -999.000,9,  -999.00,9,   -999.0,9,   -999.0,9,-999.0000,9,   -999.0,  9,  -999.00,9,   -999.0,  -999.00,9,  -999.00,9,  -999.00,9,  -999.00,9,   -999.0,-999.0000, -999,9,  900,   0.2629,  27.3419,   -999.0,9
       SM08-10,  NONE,SM-5467,  1,      3,10017-01,2,20081104,1122, 37.7398, 138.0078, 1594,   1009.7,   0.2719,  34.0698,2,   -999.0,9,  34.0723,2,    205.1,2,    69.34,2,  -999.00,9,    25.60,2,  -999.00,9,     1.99,2, -999.000,9, -999.000,9,  -999.00,9,   -999.0,9,   -999.0,9,-999.0000,9,   -999.0,  9,  -999.00,9,   -999.0,  -999.00,9,  -999.00,9,  -999.00,9,  -999.00,9,   -999.0,-999.0000, -999,9, 1000,   0.2260,  27.3434,   -999.0,9
       SM08-10,  NONE,SM-5467,  1,      2,02-17553,2,20081104,1118, 37.7398, 138.0078, 1594,   1210.0,   0.2431,  34.0697,2,   -999.0,9,  34.0712,2,    204.4,2,    72.37,2,  -999.00,9,    25.50,2,  -999.00,9,     1.97,2, -999.000,9, -999.000,9,  -999.00,9,   -999.0,9,   -999.0,9,-999.0000,9,   -999.0,  9,  -999.00,9,   -999.0,  -999.00,9,  -999.00,9,  -999.00,9,  -999.00,9,   -999.0,-999.0000, -999,9, 1197,   0.1863,  27.3454,   -999.0,9
       SM08-10,  NONE,SM-5467,  1,      1,8802-011,2,20081104,1114, 37.7398, 138.0078, 1594,   1413.7,   0.2132,  34.0696,2,   -999.0,9,  34.0706,2,    202.9,2,    78.37,2,  -999.00,9,    25.79,2,  -999.00,9,     1.99,2, -999.000,9, -999.000,9,  -999.00,9,   -999.0,9,   -999.0,9,-999.0000,9,   -999.0,  9,  -999.00,9,   -999.0,  -999.00,9,  -999.00,9,  -999.00,9,  -999.00,9,   -999.0,-999.0000, -999,9, 1398,   0.1447,  27.3476,   -999.0,9