BOTTLE,20130510GEMDJMAYT
EXPOCODE,SECT_ID,STNNBR,CASTNO,SAMPNO,BTLNBR,BTLNBR_FLAG_W,DATE,TIME,LATITUDE,LONGITUDE,DEPTH,CTDPRS,CTDTMP,CTDSAL,CTDSAL_FLAG_W,CTDOXY,CTDOXY_FLAG_W,SALNTY,SALNTY_FLAG_W,OXYGEN,OXYGEN_FLAG_W,SILCAT,SILCAT_FLAG_W,NITRAT,NITRAT_FLAG_W,NO2+NO3,NO2+NO3_FLAG_W,NITRIT,NITRIT_FLAG_W,PHSPHT,PHSPHT_FLAG_W,CFC-11,CFC-11_FLAG_W,CFC-12,CFC-12_FLAG_W,DELC13,DELC13_FLAG_W,TCARBN,TCARBN_FLAG_W,ALKALI,ALKALI_FLAG_W,PH,PH_FLAG_W,PH_TMP,PH_SCALE,PH_NBS,PH_NBS_FLAG_W,C13ERR,TOTALP,TOTALP_FLAG_W,AMMONI,AMMONI_FLAG_W,CHLORA,CHLORA_FLAG_W,PPHYTN,PPHYTN_FLAG_W,REVPRS,REVTMP,DEPTH_,DEPTH_FLAG,CTDDEP,THETA,SIGTHT,DOC,DOC_FLAG_W
,,,,,,,GMT,GMT,,,METER,DBAR,ITS-90,PSS-78,,UMOL/KG,,PSS-78,,UMOL/KG,,UMOL/KG,,UMOL/KG,,UMOL/KG,,UMOL/KG,,UMOL/KG,,PMOL/KG,,PMOL/KG,,/MILLE,,UMOL/KG,,UMOL/KG,,25_DEG_C,,DEG_C,,,,/MILLE,UMOL/KG,,UMOL/KG,,UG/L,,UG/L,,DBAR,ITS-90,METERS,,METERS,DEG_C,,UMOL/L,
       SM08-10,  NONE,SM-5468,  1,     -9,      -9,5,20081105,0412, 40.0073, 138.2118, 2731,      0.0,  16.2613,  34.0436,2,   -999.0,9,-999.0000,9,    245.3,2,  -999.00,9,  -999.00,9,  -999.00,9,  -999.00,9,  -999.00,9, -999.000,9, -999.000,9,  -999.00,9,   -999.0,9,   -999.0,9,-999.0000,9,   -999.0,  9,  -999.00,9,   -999.0,  -999.00,9,  -999.00,9,  -999.00,9,  -999.00,9,   -999.0,-999.0000, -999,9,    0,  16.2612,  24.9523,   -999.0,9
       SM08-10,  NONE,SM-5468,  1,     12,02-14035,2,20081105,0409, 40.0073, 138.2118, 2731,     52.4,  14.1595,  34.0933,2,   -999.0,9,-999.0000,9,    255.9,2,  -999.00,9,  -999.00,9,  -999.00,9,  -999.00,9,  -999.00,9, -999.000,9, -999.000,9,  -999.00,9,   -999.0,9,   -999.0,9,-999.0000,9,   -999.0,  9,  -999.00,9,   -999.0,  -999.00,9,  -999.00,9,  -999.00,9,  -999.00,9,   -999.0,-999.0000, -999,9,   52,  14.1520,  25.4546,   -999.0,9
       SM08-10,  NONE,SM-5468,  1,     11, 02-6324,2,20081105,0406, 40.0073, 138.2118, 2731,    103.0,   7.1970,  34.1610,2,   -999.0,9,  34.1717,4,    255.5,2,  -999.00,9,  -999.00,9,  -999.00,9,  -999.00,9,  -999.00,9, -999.000,9, -999.000,9,  -999.00,9,   -999.0,9,   -999.0,9,-999.0000,9,   -999.0,  9,  -999.00,9,   -999.0,  -999.00,9,  -999.00,9,  -999.00,9,  -999.00,9,   -999.0,-999.0000, -999,9,  102,   7.1874,  26.7319,   -999.0,9
       SM08-10,  NONE,SM-5468,  1,     10,8802-010,2,20081105,0357, 40.0073, 138.2118, 2731,    204.8,   1.9998,  34.0566,2,   -999.0,9,  34.0579,2,    271.9,2,  -999.00,9,  -999.00,9,  -999.00,9,  -999.00,9,  -999.00,9, -999.000,9, -999.000,9,  -999.00,9,   -999.0,9,   -999.0,9,-999.0000,9,   -999.0,  9,  -999.00,9,   -999.0,  -999.00,9,  -999.00,9,  -999.00,9,  -999.00,9,   -999.0,-999.0000, -999,9,  203,   1.9890,  27.2167,   -999.0,9
       SM08-10,  NONE,SM-5468,  1,      9,02-18042,2,20081105,0343, 40.0073, 138.2118, 2731,    405.7,   0.8249,  34.0729,2,   -999.0,9,  34.0714,2,    246.9,2,  -999.00,9,  -999.00,9,  -999.00,9,  -999.00,9,  -999.00,9, -999.000,9, -999.000,9,  -999.00,9,   -999.0,9,   -999.0,9,-999.0000,9,   -999.0,  9,  -999.00,9,   -999.0,  -999.00,9,  -999.00,9,  -999.00,9,  -999.00,9,   -999.0,-999.0000, -999,9,  402,   0.8068,  27.3121,   -999.0,9
       SM08-10,  NONE,SM-5468,  1,      8,10017-03,2,20081105,0332, 40.0073, 138.2118, 2731,    605.2,   0.5614,  34.0750,2,   -999.0,9,  34.0747,2,    228.6,2,  -999.00,9,  -999.00,9,  -999.00,9,  -999.00,9,  -999.00,9, -999.000,9, -999.000,9,  -999.00,9,   -999.0,9,   -999.0,9,-999.0000,9,   -999.0,  9,  -999.00,9,   -999.0,  -999.00,9,  -999.00,9,  -999.00,9,  -999.00,9,   -999.0,-999.0000, -999,9,  600,   0.5346,  27.3302,   -999.0,9
       SM08-10,  NONE,SM-5468,  1,      7,02-15147,2,20081105,0327, 40.0073, 138.2118, 2731,    807.0,   0.3942,  34.0724,2,   -999.0,9,  34.0711,2,    213.1,2,  -999.00,9,  -999.00,9,  -999.00,9,  -999.00,9,  -999.00,9, -999.000,9, -999.000,9,  -999.00,9,   -999.0,9,   -999.0,9,-999.0000,9,   -999.0,  9,  -999.00,9,   -999.0,  -999.00,9,  -999.00,9,  -999.00,9,  -999.00,9,   -999.0,-999.0000, -999,9,  799,   0.3582,  27.3383,   -999.0,9
       SM08-10,  NONE,SM-5468,  1,      6,02-10267,2,20081105,0321, 40.0073, 138.2118, 2731,   1010.6,   0.3108,  34.0712,2,   -999.0,9,  34.0700,2,    210.5,2,  -999.00,9,  -999.00,9,  -999.00,9,  -999.00,9,  -999.00,9, -999.000,9, -999.000,9,  -999.00,9,   -999.0,9,   -999.0,9,-999.0000,9,   -999.0,  9,  -999.00,9,   -999.0,  -999.00,9,  -999.00,9,  -999.00,9,  -999.00,9,   -999.0,-999.0000, -999,9, 1000,   0.2646,  27.3424,   -999.0,9
       SM08-10,  NONE,SM-5468,  1,      5, 02-6327,2,20081105,0317, 40.0073, 138.2118, 2731,   1209.9,   0.2537,  34.0704,2,   -999.0,9,  34.0693,2,    209.1,2,  -999.00,9,  -999.00,9,  -999.00,9,  -999.00,9,  -999.00,9, -999.000,9, -999.000,9,  -999.00,9,   -999.0,9,   -999.0,9,-999.0000,9,   -999.0,  9,  -999.00,9,   -999.0,  -999.00,9,  -999.00,9,  -999.00,9,  -999.00,9,   -999.0,-999.0000, -999,9, 1197,   0.1968,  27.3455,   -999.0,9
       SM08-10,  NONE,SM-5468,  1,      4,8802-009,2,20081105,0312, 40.0073, 138.2118, 2731,   1514.1,   0.2174,  34.0698,2,   -999.0,9,  34.0687,2,    207.5,2,  -999.00,9,  -999.00,9,  -999.00,9,  -999.00,9,  -999.00,9, -999.000,9, -999.000,9,  -999.00,9,   -999.0,9,   -999.0,9,-999.0000,9,   -999.0,  9,  -999.00,9,   -999.0,  -999.00,9,  -999.00,9,  -999.00,9,  -999.00,9,   -999.0,-999.0000, -999,9, 1497,   0.1427,  27.3479,   -999.0,9
       SM08-10,  NONE,SM-5468,  1,      3,10017-01,2,20081105,0304, 40.0073, 138.2118, 2731,   2020.3,   0.2122,  34.0699,2,   -999.0,9,  34.0689,2,    206.6,2,  -999.00,9,  -999.00,9,  -999.00,9,  -999.00,9,  -999.00,9, -999.000,9, -999.000,9,  -999.00,9,   -999.0,9,   -999.0,9,-999.0000,9,   -999.0,  9,  -999.00,9,   -999.0,  -999.00,9,  -999.00,9,  -999.00,9,  -999.00,9,   -999.0,-999.0000, -999,9, 1995,   0.1039,  27.3500,   -999.0,9
       SM08-10,  NONE,SM-5468,  1,      2,02-17553,2,20081105,0258, 40.0073, 138.2118, 2731,   2532.0,   0.2320,  34.0702,2,   -999.0,9,  34.0701,2,    207.4,2,  -999.00,9,  -999.00,9,  -999.00,9,  -999.00,9,  -999.00,9, -999.000,9, -999.000,9,  -999.00,9,   -999.0,9,   -999.0,9,-999.0000,9,   -999.0,  9,  -999.00,9,   -999.0,  -999.00,9,  -999.00,9,  -999.00,9,  -999.00,9,   -999.0,-999.0000, -999,9, 2498,   0.0851,  27.3512,   -999.0,9
       SM08-10,  NONE,SM-5468,  1,      1,8802-011,2,20081105,0256, 40.0073, 138.2118, 2731,   2630.8,   0.2392,  34.0700,2,   -999.0,9,  34.0698,2,    206.9,2,  -999.00,9,  -999.00,9,  -999.00,9,  -999.00,9,  -999.00,9, -999.000,9, -999.000,9,  -999.00,9,   -999.0,9,   -999.0,9,-999.0000,9,   -999.0,  9,  -999.00,9,   -999.0,  -999.00,9,  -999.00,9,  -999.00,9,  -999.00,9,   -999.0,-999.0000, -999,9, 2594,   0.0842,  27.3511,   -999.0,9
       SM08-10,  NONE,SM-5469,  3,     -9,      -9,5,20081105,1411, 40.8733, 138.0358, 3661,      0.0,  12.8241,  34.0988,2,   -999.0,9,-999.0000,9,    265.6,2,     2.92,2,  -999.00,9,     0.00,2,  -999.00,9,     0.02,2, -999.000,9, -999.000,9,  -999.00,9,   -999.0,9,   -999.0,9,-999.0000,9,   -999.0,  9,  -999.00,9,   -999.0,  -999.00,9,  -999.00,9,  -999.00,9,  -999.00,9,   -999.0,-999.0000, -999,9,    0,  12.8240,  25.7296,   -999.0,9
       SM08-10,  NONE,SM-5469,  3,     12,02-14035,2,20081105,1410, 40.8733, 138.0358, 3661,      9.7,  12.8284,  34.0997,2,   -999.0,9,-999.0000,9,    266.2,2,     2.89,2,  -999.00,9,     0.00,2,  -999.00,9,     0.03,2, -999.000,9, -999.000,9,  -999.00,9,   -999.0,9,   -999.0,9,-999.0000,9,   -999.0,  9,  -999.00,9,   -999.0,  -999.00,9,  -999.00,9,  -999.00,9,  -999.00,9,   -999.0,-999.0000, -999,9,   10,  12.8271,  25.7297,   -999.0,9
       SM08-10,  NONE,SM-5469,  3,     11, 02-6324,2,20081105,1409, 40.8733, 138.0358, 3661,     20.9,  12.8217,  34.0979,2,   -999.0,9,-999.0000,9,    266.2,2,     2.89,2,  -999.00,9,     0.00,2,  -999.00,9,     0.04,2, -999.000,9, -999.000,9,  -999.00,9,   -999.0,9,   -999.0,9,-999.0000,9,   -999.0,  9,  -999.00,9,   -999.0,  -999.00,9,  -999.00,9,  -999.00,9,  -999.00,9,   -999.0,-999.0000, -999,9,   21,  12.8189,  25.7299,   -999.0,9
       SM08-10,  NONE,SM-5469,  3,     10,8802-010,2,20081105,1408, 40.8733, 138.0358, 3661,     31.1,  12.8512,  34.1034,2,   -999.0,9,-999.0000,9,    266.2,2,     2.89,2,  -999.00,9,     0.10,2,  -999.00,9,     0.04,2, -999.000,9, -999.000,9,  -999.00,9,   -999.0,9,   -999.0,9,-999.0000,9,   -999.0,  9,  -999.00,9,   -999.0,  -999.00,9,  -999.00,9,  -999.00,9,  -999.00,9,   -999.0,-999.0000, -999,9,   31,  12.8470,  25.7286,   -999.0,9
       SM08-10,  NONE,SM-5469,  3,      9,02-18042,2,20081105,1407, 40.8733, 138.0358, 3661,     48.8,   5.4624,  34.0628,2,   -999.0,9,-999.0000,9,    321.3,2,     3.98,2,  -999.00,9,     4.77,2,  -999.00,9,     0.47,2, -999.000,9, -999.000,9,  -999.00,9,   -999.0,9,   -999.0,9,-999.0000,9,   -999.0,  9,  -999.00,9,   -999.0,  -999.00,9,  -999.00,9,  -999.00,9,  -999.00,9,   -999.0,-999.0000, -999,9,   48,   5.4585,  26.8786,   -999.0,9
       SM08-10,  NONE,SM-5469,  3,      8,10017-03,2,20081105,1406, 40.8733, 138.0358, 3661,     76.0,   3.1696,  34.0650,2,   -999.0,9,-999.0000,9,    280.5,2,    16.46,2,  -999.00,9,    13.24,2,  -999.00,9,     0.93,2, -999.000,9, -999.000,9,  -999.00,9,   -999.0,9,   -999.0,9,-999.0000,9,   -999.0,  9,  -999.00,9,   -999.0,  -999.00,9,  -999.00,9,  -999.00,9,  -999.00,9,   -999.0,-999.0000, -999,9,   75,   3.1650,  27.1236,   -999.0,9
       SM08-10,  NONE,SM-5469,  3,      7,02-15147,2,20081105,1405, 40.8733, 138.0358, 3661,    100.4,   2.6503,  34.0761,2,   -999.0,9,-999.0000,9,    287.4,2,    17.89,2,  -999.00,9,    13.53,2,  -999.00,9,     0.95,2, -999.000,9, -999.000,9,  -999.00,9,   -999.0,9,   -999.0,9,-999.0000,9,   -999.0,  9,  -999.00,9,   -999.0,  -999.00,9,  -999.00,9,  -999.00,9,  -999.00,9,   -999.0,-999.0000, -999,9,  100,   2.6446,  27.1788,   -999.0,9
       SM08-10,  NONE,SM-5469,  3,      6,02-10267,2,20081105,1405, 40.8733, 138.0358, 3661,    100.7,   2.6512,  34.0765,2,   -999.0,9,-999.0000,9,   -999.0,9,  -999.00,9,  -999.00,9,  -999.00,9,  -999.00,9,  -999.00,9, -999.000,9, -999.000,9,  -999.00,9,   2149.6,2,   -999.0,1,-999.0000,9,   -999.0,  9,  -999.00,9,   -999.0,  -999.00,9,  -999.00,9,  -999.00,9,  -999.00,9,   -999.0,-999.0000, -999,9,  100,   2.6454,  27.1791,   -999.0,9
       SM08-10,  NONE,SM-5469,  3,      5, 02-6327,2,20081105,1403, 40.8733, 138.0358, 3661,    126.1,   2.2331,  34.0834,2,   -999.0,9,-999.0000,9,    291.5,2,    18.82,2,  -999.00,9,    13.82,2,  -999.00,9,     0.98,2, -999.000,9, -999.000,9,  -999.00,9,   -999.0,9,   -999.0,9,-999.0000,9,   -999.0,  9,  -999.00,9,   -999.0,  -999.00,9,  -999.00,9,  -999.00,9,  -999.00,9,   -999.0,-999.0000, -999,9,  125,   2.2263,  27.2194,   -999.0,9
       SM08-10,  NONE,SM-5469,  3,      4,8802-009,2,20081105,1401, 40.8733, 138.0358, 3661,    151.1,   2.0213,  34.0869,2,   -999.0,9,-999.0000,9,    292.9,2,    19.58,2,  -999.00,9,    14.02,2,  -999.00,9,     1.01,2, -999.000,9, -999.000,9,  -999.00,9,   -999.0,9,   -999.0,9,-999.0000,9,   -999.0,  9,  -999.00,9,   -999.0,  -999.00,9,  -999.00,9,  -999.00,9,  -999.00,9,   -999.0,-999.0000, -999,9,  150,   2.0134,  27.2391,   -999.0,9
       SM08-10,  NONE,SM-5469,  3,      3,10017-01,2,20081105,1359, 40.8733, 138.0358, 3661,    202.1,   1.5812,  34.0791,2,   -999.0,9,-999.0000,9,   -999.0,9,  -999.00,9,  -999.00,9,  -999.00,9,  -999.00,9,  -999.00,9, -999.000,9, -999.000,9,  -999.00,9,   2165.2,2,   -999.0,1,-999.0000,9,   -999.0,  9,  -999.00,9,   -999.0,  -999.00,9,  -999.00,9,  -999.00,9,  -999.00,9,   -999.0,-999.0000, -999,9,  200,   1.5713,  27.2659,   -999.0,9
       SM08-10,  NONE,SM-5469,  3,      2,02-17553,2,20081105,1359, 40.8733, 138.0358, 3661,    201.7,   1.5878,  34.0795,2,   -999.0,9,-999.0000,9,    291.6,2,    21.49,2,  -999.00,9,    15.38,2,  -999.00,9,     1.12,2, -999.000,9, -999.000,9,  -999.00,9,   -999.0,9,   -999.0,9,-999.0000,9,   -999.0,  9,  -999.00,9,   -999.0,  -999.00,9,  -999.00,9,  -999.00,9,  -999.00,9,   -999.0,-999.0000, -999,9,  200,   1.5779,  27.2658,   -999.0,9
       SM08-10,  NONE,SM-5469,  3,      1,8802-011,2,20081105,1358, 40.8733, 138.0358, 3661,    252.5,   1.2767,  34.0762,2,   -999.0,9,-999.0000,9,    283.8,2,    24.49,2,  -999.00,9,    16.94,2,  -999.00,9,     1.24,2, -999.000,9, -999.000,9,  -999.00,9,   -999.0,9,   -999.0,9,-999.0000,9,   -999.0,  9,  -999.00,9,   -999.0,  -999.00,9,  -999.00,9,  -999.00,9,  -999.00,9,   -999.0,-999.0000, -999,9,  250,   1.2648,  27.2850,   -999.0,9
       SM08-10,  NONE,SM-5469,  2,     12,02-14035,2,20081105,1323, 40.8613, 138.0278, 3660,    301.9,   1.0773,  34.0768,2,   -999.0,9,-999.0000,9,    275.1,2,    27.64,2,  -999.00,9,    18.50,2,  -999.00,9,     1.35,2, -999.000,9, -999.000,9,  -999.00,9,   -999.0,9,   -999.0,9,-999.0000,9,   -999.0,  9,  -999.00,9,   -999.0,  -999.00,9,  -999.00,9,  -999.00,9,  -999.00,9,   -999.0,-999.0000, -999,9,  299,   1.0635,  27.2990,   -999.0,9
       SM08-10,  NONE,SM-5469,  2,     11, 02-6324,2,20081105,1319, 40.8613, 138.0278, 3660,    401.9,   0.8403,  34.0749,2,   -999.0,9,-999.0000,9,    254.9,2,    33.38,2,  -999.00,9,    21.03,2,  -999.00,9,     1.57,2, -999.000,9, -999.000,9,  -999.00,9,   -999.0,9,   -999.0,9,-999.0000,9,   -999.0,  9,  -999.00,9,   -999.0,  -999.00,9,  -999.00,9,  -999.00,9,  -999.00,9,   -999.0,-999.0000, -999,9,  398,   0.8223,  27.3128,   -999.0,9
       SM08-10,  NONE,SM-5469,  2,     10,8802-010,2,20081105,1319, 40.8613, 138.0278, 3660,    402.8,   0.8392,  34.0749,2,   -999.0,9,-999.0000,9,   -999.0,9,  -999.00,9,  -999.00,9,  -999.00,9,  -999.00,9,  -999.00,9, -999.000,9, -999.000,9,  -999.00,9,   2200.8,2,   -999.0,1,-999.0000,9,   -999.0,  9,  -999.00,9,   -999.0,  -999.00,9,  -999.00,9,  -999.00,9,  -999.00,9,   -999.0,-999.0000, -999,9,  399,   0.8212,  27.3129,   -999.0,9
       SM08-10,  NONE,SM-5469,  2,      9,02-18042,2,20081105,1317, 40.8613, 138.0278, 3660,    504.4,   0.6658,  34.0742,2,   -999.0,9,-999.0000,9,    233.1,2,    40.29,2,  -999.00,9,    23.46,2,  -999.00,9,     1.78,2, -999.000,9, -999.000,9,  -999.00,9,   -999.0,9,   -999.0,9,-999.0000,9,   -999.0,  9,  -999.00,9,   -999.0,  -999.00,9,  -999.00,9,  -999.00,9,  -999.00,9,   -999.0,-999.0000, -999,9,  500,   0.6435,  27.3231,   -999.0,9
       SM08-10,  NONE,SM-5469,  2,      8,10017-03,2,20081105,1313, 40.8613, 138.0278, 3660,    605.8,   0.5453,  34.0738,2,   -999.0,9,-999.0000,9,    223.4,2,    46.36,2,  -999.00,9,    24.43,2,  -999.00,9,     1.86,2, -999.000,9, -999.000,9,  -999.00,9,   -999.0,9,   -999.0,9,-999.0000,9,   -999.0,  9,  -999.00,9,   -999.0,  -999.00,9,  -999.00,9,  -999.00,9,  -999.00,9,   -999.0,-999.0000, -999,9,  600,   0.5186,  27.3302,   -999.0,9
       SM08-10,  NONE,SM-5469,  2,      7,02-15147,2,20081105,1313, 40.8613, 138.0278, 3660,    604.9,   0.5458,  34.0743,2,   -999.0,9,-999.0000,9,   -999.0,9,  -999.00,9,  -999.00,9,  -999.00,9,  -999.00,9,  -999.00,9, -999.000,9, -999.000,9,  -999.00,9,   2230.7,3,   -999.0,1,-999.0000,9,   -999.0,  9,  -999.00,9,   -999.0,  -999.00,9,  -999.00,9,  -999.00,9,  -999.00,9,   -999.0,-999.0000, -999,9,  599,   0.5191,  27.3306,   -999.0,9
       SM08-10,  NONE,SM-5469,  2,      6,02-10267,2,20081105,1311, 40.8613, 138.0278, 3660,    705.5,   0.4665,  34.0734,2,   -999.0,9,-999.0000,9,    219.4,2,    50.49,2,  -999.00,9,    24.63,2,  -999.00,9,     1.88,2, -999.000,9, -999.000,9,  -999.00,9,   -999.0,9,   -999.0,9,-999.0000,9,   -999.0,  9,  -999.00,9,   -999.0,  -999.00,9,  -999.00,9,  -999.00,9,  -999.00,9,   -999.0,-999.0000, -999,9,  699,   0.4352,  27.3346,   -999.0,9
       SM08-10,  NONE,SM-5469,  2,      5, 02-6327,2,20081105,1308, 40.8613, 138.0278, 3660,    807.9,   0.4060,  34.0726,2,   -999.0,9,-999.0000,9,    216.3,2,    54.10,2,  -999.00,9,    24.92,2,  -999.00,9,     1.90,2, -999.000,9, -999.000,9,  -999.00,9,   -999.0,9,   -999.0,9,-999.0000,9,   -999.0,  9,  -999.00,9,   -999.0,  -999.00,9,  -999.00,9,  -999.00,9,  -999.00,9,   -999.0,-999.0000, -999,9,  800,   0.3698,  27.3377,   -999.0,9
       SM08-10,  NONE,SM-5469,  2,      4,8802-009,2,20081105,1308, 40.8613, 138.0278, 3660,    807.2,   0.4058,  34.0726,2,   -999.0,9,-999.0000,9,   -999.0,9,  -999.00,9,  -999.00,9,  -999.00,9,  -999.00,9,  -999.00,9, -999.000,9, -999.000,9,  -999.00,9,   2233.6,2,   -999.0,1,-999.0000,9,   -999.0,  9,  -999.00,9,   -999.0,  -999.00,9,  -999.00,9,  -999.00,9,  -999.00,9,   -999.0,-999.0000, -999,9,  799,   0.3697,  27.3377,   -999.0,9
       SM08-10,  NONE,SM-5469,  2,      3,10017-01,2,20081105,1305, 40.8613, 138.0278, 3660,    908.8,   0.3519,  34.0716,2,   -999.0,9,-999.0000,9,    213.9,2,    57.88,2,  -999.00,9,    25.21,2,  -999.00,9,     1.91,2, -999.000,9, -999.000,9,  -999.00,9,   -999.0,9,   -999.0,9,-999.0000,9,   -999.0,  9,  -999.00,9,   -999.0,  -999.00,9,  -999.00,9,  -999.00,9,  -999.00,9,   -999.0,-999.0000, -999,9,  900,   0.3108,  27.3402,   -999.0,9
       SM08-10,  NONE,SM-5469,  2,      2,02-17553,2,20081105,1302, 40.8613, 138.0278, 3660,   1010.0,   0.3132,  34.0709,2,   -999.0,9,-999.0000,9,    213.4,2,    60.17,2,  -999.00,9,    25.21,2,  -999.00,9,     1.92,2, -999.000,9, -999.000,9,  -999.00,9,   -999.0,9,   -999.0,9,-999.0000,9,   -999.0,  9,  -999.00,9,   -999.0,  -999.00,9,  -999.00,9,  -999.00,9,  -999.00,9,   -999.0,-999.0000, -999,9, 1000,   0.2670,  27.3421,   -999.0,9
       SM08-10,  NONE,SM-5469,  2,      1,8802-011,2,20081105,1302, 40.8613, 138.0278, 3660,   1009.4,   0.3135,  34.0710,2,   -999.0,9,-999.0000,9,   -999.0,9,  -999.00,9,  -999.00,9,  -999.00,9,  -999.00,9,  -999.00,9, -999.000,9, -999.000,9,  -999.00,9,   2227.9,3,   -999.0,1,-999.0000,9,   -999.0,  9,  -999.00,9,   -999.0,  -999.00,9,  -999.00,9,  -999.00,9,  -999.00,9,   -999.0,-999.0000, -999,9,  999,   0.2673,  27.3421,   -999.0,9