BOTTLE,20130510GEMDJMAYT
EXPOCODE,SECT_ID,STNNBR,CASTNO,SAMPNO,BTLNBR,BTLNBR_FLAG_W,DATE,TIME,LATITUDE,LONGITUDE,DEPTH,CTDPRS,CTDTMP,CTDSAL,CTDSAL_FLAG_W,CTDOXY,CTDOXY_FLAG_W,SALNTY,SALNTY_FLAG_W,OXYGEN,OXYGEN_FLAG_W,SILCAT,SILCAT_FLAG_W,NITRAT,NITRAT_FLAG_W,NO2+NO3,NO2+NO3_FLAG_W,NITRIT,NITRIT_FLAG_W,PHSPHT,PHSPHT_FLAG_W,CFC-11,CFC-11_FLAG_W,CFC-12,CFC-12_FLAG_W,DELC13,DELC13_FLAG_W,TCARBN,TCARBN_FLAG_W,ALKALI,ALKALI_FLAG_W,PH,PH_FLAG_W,PH_TMP,PH_SCALE,PH_NBS,PH_NBS_FLAG_W,C13ERR,TOTALP,TOTALP_FLAG_W,AMMONI,AMMONI_FLAG_W,CHLORA,CHLORA_FLAG_W,PPHYTN,PPHYTN_FLAG_W,REVPRS,REVTMP,DEPTH_,DEPTH_FLAG,CTDDEP,THETA,SIGTHT,DOC,DOC_FLAG_W
,,,,,,,GMT,GMT,,,METER,DBAR,ITS-90,PSS-78,,UMOL/KG,,PSS-78,,UMOL/KG,,UMOL/KG,,UMOL/KG,,UMOL/KG,,UMOL/KG,,UMOL/KG,,PMOL/KG,,PMOL/KG,,/MILLE,,UMOL/KG,,UMOL/KG,,25_DEG_C,,DEG_C,,,,/MILLE,UMOL/KG,,UMOL/KG,,UG/L,,UG/L,,DBAR,ITS-90,METERS,,METERS,DEG_C,,UMOL/L,
       SM08-10,  NONE,SM-5499,  1,     -9,      -9,5,20081123,1906, 37.3305, 133.9900, 2038,      0.0,  16.9172,  33.9549,2,   -999.0,9,-999.0000,9,    236.9,2,  -999.00,9,  -999.00,9,  -999.00,9,  -999.00,9,  -999.00,9, -999.000,9, -999.000,9,  -999.00,9,   -999.0,9,   -999.0,9,-999.0000,9,   -999.0,  9,  -999.00,9,   -999.0,  -999.00,9,  -999.00,9,  -999.00,9,  -999.00,9,   -999.0,-999.0000, -999,9,    0,  16.9171,  24.7317,   -999.0,9
       SM08-10,  NONE,SM-5499,  1,     12,02-14035,2,20081123,1905, 37.3305, 133.9900, 2038,     19.7,  16.9221,  33.9577,2,   -999.0,9,  33.9608,2,    236.8,2,  -999.00,9,  -999.00,9,  -999.00,9,  -999.00,9,  -999.00,9, -999.000,9, -999.000,9,  -999.00,9,   -999.0,9,   -999.0,9,-999.0000,9,   -999.0,  9,  -999.00,9,   -999.0,  -999.00,9,  -999.00,9,  -999.00,9,  -999.00,9,   -999.0,-999.0000, -999,9,   20,  16.9189,  24.7335,   -999.0,9
       SM08-10,  NONE,SM-5499,  1,     11, 02-6324,2,20081123,1904, 37.3305, 133.9900, 2038,     51.6,  16.7912,  33.9829,2,   -999.0,9,  33.9852,2,    236.7,2,  -999.00,9,  -999.00,9,  -999.00,9,  -999.00,9,  -999.00,9, -999.000,9, -999.000,9,  -999.00,9,   -999.0,9,   -999.0,9,-999.0000,9,   -999.0,  9,  -999.00,9,   -999.0,  -999.00,9,  -999.00,9,  -999.00,9,  -999.00,9,   -999.0,-999.0000, -999,9,   51,  16.7828,  24.7848,   -999.0,9
       SM08-10,  NONE,SM-5499,  1,     10,8802-010,2,20081123,1902, 37.3305, 133.9900, 2038,    100.7,  14.9992,  34.5505,2,   -999.0,9,  34.5552,2,    213.3,2,  -999.00,9,  -999.00,9,  -999.00,9,  -999.00,9,  -999.00,9, -999.000,9, -999.000,9,  -999.00,9,   -999.0,9,   -999.0,9,-999.0000,9,   -999.0,  9,  -999.00,9,   -999.0,  -999.00,9,  -999.00,9,  -999.00,9,  -999.00,9,   -999.0,-999.0000, -999,9,  100,  14.9840,  25.6289,   -999.0,9
       SM08-10,  NONE,SM-5499,  1,      9,02-18042,2,20081123,1859, 37.3305, 133.9900, 2038,    202.8,  11.1122,  34.2736,2,   -999.0,9,  34.2753,2,    253.5,2,  -999.00,9,  -999.00,9,  -999.00,9,  -999.00,9,  -999.00,9, -999.000,9, -999.000,9,  -999.00,9,   -999.0,9,   -999.0,9,-999.0000,9,   -999.0,  9,  -999.00,9,   -999.0,  -999.00,9,  -999.00,9,  -999.00,9,  -999.00,9,   -999.0,-999.0000, -999,9,  201,  11.0872,  26.1941,   -999.0,9
       SM08-10,  NONE,SM-5499,  1,      8,10017-03,2,20081123,1855, 37.3305, 133.9900, 2038,    404.0,   2.2818,  34.0581,2,   -999.0,9,  34.0609,2,    258.0,2,  -999.00,9,  -999.00,9,  -999.00,9,  -999.00,9,  -999.00,9, -999.000,9, -999.000,9,  -999.00,9,   -999.0,9,   -999.0,9,-999.0000,9,   -999.0,  9,  -999.00,9,   -999.0,  -999.00,9,  -999.00,9,  -999.00,9,  -999.00,9,   -999.0,-999.0000, -999,9,  401,   2.2589,  27.1965,   -999.0,9
       SM08-10,  NONE,SM-5499,  1,      7,02-15147,2,20081123,1851, 37.3305, 133.9900, 2038,    603.9,   0.6066,  34.0695,2,   -999.0,9,  34.0681,2,    214.1,2,  -999.00,9,  -999.00,9,  -999.00,9,  -999.00,9,  -999.00,9, -999.000,9, -999.000,9,  -999.00,9,   -999.0,9,   -999.0,9,-999.0000,9,   -999.0,  9,  -999.00,9,   -999.0,  -999.00,9,  -999.00,9,  -999.00,9,  -999.00,9,   -999.0,-999.0000, -999,9,  599,   0.5797,  27.3232,   -999.0,9
       SM08-10,  NONE,SM-5499,  1,      6,02-10267,2,20081123,1846, 37.3305, 133.9900, 2038,    807.3,   0.4099,  34.0700,2,   -999.0,9,  34.0681,2,    210.3,2,  -999.00,9,  -999.00,9,  -999.00,9,  -999.00,9,  -999.00,9, -999.000,9, -999.000,9,  -999.00,9,   -999.0,9,   -999.0,9,-999.0000,9,   -999.0,  9,  -999.00,9,   -999.0,  -999.00,9,  -999.00,9,  -999.00,9,  -999.00,9,   -999.0,-999.0000, -999,9,  800,   0.3738,  27.3354,   -999.0,9
       SM08-10,  NONE,SM-5499,  1,      5, 02-6327,2,20081123,1843, 37.3305, 133.9900, 2038,    909.3,   0.3591,  34.0695,2,   -999.0,9,-999.0000,9,    210.0,2,  -999.00,9,  -999.00,9,  -999.00,9,  -999.00,9,  -999.00,9, -999.000,9, -999.000,9,  -999.00,9,   -999.0,9,   -999.0,9,-999.0000,9,   -999.0,  9,  -999.00,9,   -999.0,  -999.00,9,  -999.00,9,  -999.00,9,  -999.00,9,   -999.0,-999.0000, -999,9,  901,   0.3180,  27.3381,   -999.0,9
       SM08-10,  NONE,SM-5499,  1,      4,8802-009,2,20081123,1840, 37.3305, 133.9900, 2038,   1010.8,   0.3126,  34.0689,2,   -999.0,9,  34.0670,2,    209.2,2,  -999.00,9,  -999.00,9,  -999.00,9,  -999.00,9,  -999.00,9, -999.000,9, -999.000,9,  -999.00,9,   -999.0,9,   -999.0,9,-999.0000,9,   -999.0,  9,  -999.00,9,   -999.0,  -999.00,9,  -999.00,9,  -999.00,9,  -999.00,9,   -999.0,-999.0000, -999,9, 1001,   0.2663,  27.3405,   -999.0,9
       SM08-10,  NONE,SM-5499,  1,      3,10017-01,2,20081123,1836, 37.3305, 133.9900, 2038,   1212.3,   0.2614,  34.0683,2,   -999.0,9,  34.0659,2,    207.2,2,  -999.00,9,  -999.00,9,  -999.00,9,  -999.00,9,  -999.00,9, -999.000,9, -999.000,9,  -999.00,9,   -999.0,9,   -999.0,9,-999.0000,9,   -999.0,  9,  -999.00,9,   -999.0,  -999.00,9,  -999.00,9,  -999.00,9,  -999.00,9,   -999.0,-999.0000, -999,9, 1200,   0.2043,  27.3434,   -999.0,9
       SM08-10,  NONE,SM-5499,  1,      2,02-17553,2,20081123,1830, 37.3305, 133.9900, 2038,   1515.1,   0.2162,  34.0679,2,   -999.0,9,  34.0705,2,    206.9,2,  -999.00,9,  -999.00,9,  -999.00,9,  -999.00,9,  -999.00,9, -999.000,9, -999.000,9,  -999.00,9,   -999.0,9,   -999.0,9,-999.0000,9,   -999.0,  9,  -999.00,9,   -999.0,  -999.00,9,  -999.00,9,  -999.00,9,  -999.00,9,   -999.0,-999.0000, -999,9, 1498,   0.1414,  27.3464,   -999.0,9
       SM08-10,  NONE,SM-5499,  1,      1,8802-011,2,20081123,1822, 37.3305, 133.9900, 2038,   1922.8,   0.2124,  34.0675,2,   -999.0,9,  34.0688,2,    204.5,2,  -999.00,9,  -999.00,9,  -999.00,9,  -999.00,9,  -999.00,9, -999.000,9, -999.000,9,  -999.00,9,   -999.0,9,   -999.0,9,-999.0000,9,   -999.0,  9,  -999.00,9,   -999.0,  -999.00,9,  -999.00,9,  -999.00,9,  -999.00,9,   -999.0,-999.0000, -999,9, 1900,   0.1109,  27.3477,   -999.0,9
       SM08-10,  NONE,SM-5500,  1,     -9,      -9,5,20081123,2235, 36.9953, 133.9817, 1826,      0.0,  16.7872,  33.9513,2,   -999.0,9,-999.0000,9,    236.3,2,  -999.00,9,  -999.00,9,  -999.00,9,  -999.00,9,  -999.00,9, -999.000,9, -999.000,9,  -999.00,9,   -999.0,9,   -999.0,9,-999.0000,9,   -999.0,  9,  -999.00,9,   -999.0,  -999.00,9,  -999.00,9,  -999.00,9,  -999.00,9,   -999.0,-999.0000, -999,9,    0,  16.7871,  24.7595,   -999.0,9
       SM08-10,  NONE,SM-5500,  1,     12,02-14035,2,20081123,2235, 36.9953, 133.9817, 1826,     18.8,  16.7826,  33.9524,2,   -999.0,9,-999.0000,9,    235.0,2,  -999.00,9,  -999.00,9,  -999.00,9,  -999.00,9,  -999.00,9, -999.000,9, -999.000,9,  -999.00,9,   -999.0,9,   -999.0,9,-999.0000,9,   -999.0,  9,  -999.00,9,   -999.0,  -999.00,9,  -999.00,9,  -999.00,9,  -999.00,9,   -999.0,-999.0000, -999,9,   19,  16.7796,  24.7621,   -999.0,9
       SM08-10,  NONE,SM-5500,  1,     11, 02-6324,2,20081123,2233, 36.9953, 133.9817, 1826,     49.3,  16.7652,  33.9608,2,   -999.0,9,-999.0000,9,    234.8,2,  -999.00,9,  -999.00,9,  -999.00,9,  -999.00,9,  -999.00,9, -999.000,9, -999.000,9,  -999.00,9,   -999.0,9,   -999.0,9,-999.0000,9,   -999.0,  9,  -999.00,9,   -999.0,  -999.00,9,  -999.00,9,  -999.00,9,  -999.00,9,   -999.0,-999.0000, -999,9,   49,  16.7572,  24.7738,   -999.0,9
       SM08-10,  NONE,SM-5500,  1,     10,8802-010,2,20081123,2232, 36.9953, 133.9817, 1826,    101.5,  15.1666,  34.5230,2,   -999.0,9,-999.0000,9,    208.1,2,  -999.00,9,  -999.00,9,  -999.00,9,  -999.00,9,  -999.00,9, -999.000,9, -999.000,9,  -999.00,9,   -999.0,9,   -999.0,9,-999.0000,9,   -999.0,  9,  -999.00,9,   -999.0,  -999.00,9,  -999.00,9,  -999.00,9,  -999.00,9,   -999.0,-999.0000, -999,9,  101,  15.1512,  25.5710,   -999.0,9
       SM08-10,  NONE,SM-5500,  1,      9,02-18042,2,20081123,2227, 36.9953, 133.9817, 1826,    202.6,  11.1443,  34.2910,2,   -999.0,9,-999.0000,9,    251.0,2,  -999.00,9,  -999.00,9,  -999.00,9,  -999.00,9,  -999.00,9, -999.000,9, -999.000,9,  -999.00,9,   -999.0,9,   -999.0,9,-999.0000,9,   -999.0,  9,  -999.00,9,   -999.0,  -999.00,9,  -999.00,9,  -999.00,9,  -999.00,9,   -999.0,-999.0000, -999,9,  201,  11.1193,  26.2018,   -999.0,9
       SM08-10,  NONE,SM-5500,  1,      8,10017-03,2,20081123,2217, 36.9953, 133.9817, 1826,    403.8,   1.8464,  34.0617,2,   -999.0,9,-999.0000,9,    247.9,2,  -999.00,9,  -999.00,9,  -999.00,9,  -999.00,9,  -999.00,9, -999.000,9, -999.000,9,  -999.00,9,   -999.0,9,   -999.0,9,-999.0000,9,   -999.0,  9,  -999.00,9,   -999.0,  -999.00,9,  -999.00,9,  -999.00,9,  -999.00,9,   -999.0,-999.0000, -999,9,  400,   1.8250,  27.2333,   -999.0,9
       SM08-10,  NONE,SM-5500,  1,      7,02-15147,2,20081123,2211, 36.9953, 133.9817, 1826,    607.1,   0.5854,  34.0689,2,   -999.0,9,-999.0000,9,    212.0,2,  -999.00,9,  -999.00,9,  -999.00,9,  -999.00,9,  -999.00,9, -999.000,9, -999.000,9,  -999.00,9,   -999.0,9,   -999.0,9,-999.0000,9,   -999.0,  9,  -999.00,9,   -999.0,  -999.00,9,  -999.00,9,  -999.00,9,  -999.00,9,   -999.0,-999.0000, -999,9,  602,   0.5584,  27.3239,   -999.0,9
       SM08-10,  NONE,SM-5500,  1,      6,02-10267,2,20081123,2206, 36.9953, 133.9817, 1826,    804.8,   0.3973,  34.0697,2,   -999.0,9,-999.0000,9,    211.7,2,  -999.00,9,  -999.00,9,  -999.00,9,  -999.00,9,  -999.00,9, -999.000,9, -999.000,9,  -999.00,9,   -999.0,9,   -999.0,9,-999.0000,9,   -999.0,  9,  -999.00,9,   -999.0,  -999.00,9,  -999.00,9,  -999.00,9,  -999.00,9,   -999.0,-999.0000, -999,9,  797,   0.3614,  27.3359,   -999.0,9
       SM08-10,  NONE,SM-5500,  1,      5, 02-6327,2,20081123,2203, 36.9953, 133.9817, 1826,    907.7,   0.3468,  34.0692,2,   -999.0,9,-999.0000,9,    209.4,2,  -999.00,9,  -999.00,9,  -999.00,9,  -999.00,9,  -999.00,9, -999.000,9, -999.000,9,  -999.00,9,   -999.0,9,   -999.0,9,-999.0000,9,   -999.0,  9,  -999.00,9,   -999.0,  -999.00,9,  -999.00,9,  -999.00,9,  -999.00,9,   -999.0,-999.0000, -999,9,  899,   0.3058,  27.3385,   -999.0,9
       SM08-10,  NONE,SM-5500,  1,      4,8802-009,2,20081123,2201, 36.9953, 133.9817, 1826,   1008.7,   0.3007,  34.0687,2,   -999.0,9,-999.0000,9,    208.3,2,  -999.00,9,  -999.00,9,  -999.00,9,  -999.00,9,  -999.00,9, -999.000,9, -999.000,9,  -999.00,9,   -999.0,9,   -999.0,9,-999.0000,9,   -999.0,  9,  -999.00,9,   -999.0,  -999.00,9,  -999.00,9,  -999.00,9,  -999.00,9,   -999.0,-999.0000, -999,9,  999,   0.2547,  27.3409,   -999.0,9
       SM08-10,  NONE,SM-5500,  1,      3,10017-01,2,20081123,2158, 36.9953, 133.9817, 1826,   1208.4,   0.2555,  34.0681,2,   -999.0,9,-999.0000,9,    207.3,2,  -999.00,9,  -999.00,9,  -999.00,9,  -999.00,9,  -999.00,9, -999.000,9, -999.000,9,  -999.00,9,   -999.0,9,   -999.0,9,-999.0000,9,   -999.0,  9,  -999.00,9,   -999.0,  -999.00,9,  -999.00,9,  -999.00,9,  -999.00,9,   -999.0,-999.0000, -999,9, 1196,   0.1987,  27.3435,   -999.0,9
       SM08-10,  NONE,SM-5500,  1,      2,02-17553,3,20081123,2153, 36.9953, 133.9817, 1826,   1509.0,   0.2171,  34.0675,2,   -999.0,9,-999.0000,9,   -999.0,4,  -999.00,9,  -999.00,9,  -999.00,9,  -999.00,9,  -999.00,9, -999.000,9, -999.000,9,  -999.00,9,   -999.0,9,   -999.0,9,-999.0000,9,   -999.0,  9,  -999.00,9,   -999.0,  -999.00,9,  -999.00,9,  -999.00,9,  -999.00,9,   -999.0,-999.0000, -999,9, 1492,   0.1427,  27.3460,   -999.0,9
       SM08-10,  NONE,SM-5500,  1,      1,8802-011,2,20081123,2150, 36.9953, 133.9817, 1826,   1708.1,   0.2061,  34.0673,2,   -999.0,9,-999.0000,9,    204.0,2,  -999.00,9,  -999.00,9,  -999.00,9,  -999.00,9,  -999.00,9, -999.000,9, -999.000,9,  -999.00,9,   -999.0,9,   -999.0,9,-999.0000,9,   -999.0,  9,  -999.00,9,   -999.0,  -999.00,9,  -999.00,9,  -999.00,9,  -999.00,9,   -999.0,-999.0000, -999,9, 1689,   0.1191,  27.3471,   -999.0,9