BOTTLE,20130510GEMDJMAYT
EXPOCODE,SECT_ID,STNNBR,CASTNO,SAMPNO,BTLNBR,BTLNBR_FLAG_W,DATE,TIME,LATITUDE,LONGITUDE,DEPTH,CTDPRS,CTDTMP,CTDSAL,CTDSAL_FLAG_W,CTDOXY,CTDOXY_FLAG_W,SALNTY,SALNTY_FLAG_W,OXYGEN,OXYGEN_FLAG_W,SILCAT,SILCAT_FLAG_W,NITRAT,NITRAT_FLAG_W,NO2+NO3,NO2+NO3_FLAG_W,NITRIT,NITRIT_FLAG_W,PHSPHT,PHSPHT_FLAG_W,CFC-11,CFC-11_FLAG_W,CFC-12,CFC-12_FLAG_W,DELC13,DELC13_FLAG_W,TCARBN,TCARBN_FLAG_W,ALKALI,ALKALI_FLAG_W,PH,PH_FLAG_W,PH_TMP,PH_SCALE,PH_NBS,PH_NBS_FLAG_W,C13ERR,TOTALP,TOTALP_FLAG_W,AMMONI,AMMONI_FLAG_W,CHLORA,CHLORA_FLAG_W,PPHYTN,PPHYTN_FLAG_W,REVPRS,REVTMP,DEPTH_,DEPTH_FLAG,CTDDEP,THETA,SIGTHT,DOC,DOC_FLAG_W
,,,,,,,GMT,GMT,,,METER,DBAR,ITS-90,PSS-78,,UMOL/KG,,PSS-78,,UMOL/KG,,UMOL/KG,,UMOL/KG,,UMOL/KG,,UMOL/KG,,UMOL/KG,,PMOL/KG,,PMOL/KG,,/MILLE,,UMOL/KG,,UMOL/KG,,25_DEG_C,,DEG_C,,,,/MILLE,UMOL/KG,,UMOL/KG,,UG/L,,UG/L,,DBAR,ITS-90,METERS,,METERS,DEG_C,,UMOL/L,
       SM08-10,  NONE,SM-5476,  1,     -9,      -9,5,20081106,2308, 42.4890, 138.6953, 3690,      0.0,  13.1126,  34.0954,2,   -999.0,9,-999.0000,9,    261.5,2,  -999.00,9,  -999.00,9,  -999.00,9,  -999.00,9,  -999.00,9, -999.000,9, -999.000,9,  -999.00,9,   -999.0,9,   -999.0,9,-999.0000,9,   -999.0,  9,  -999.00,9,   -999.0,  -999.00,9,  -999.00,9,  -999.00,9,  -999.00,9,   -999.0,-999.0000, -999,9,    0,  13.1125,  25.6696,   -999.0,9
       SM08-10,  NONE,SM-5476,  1,     12,02-14035,2,20081106,2303, 42.4890, 138.6953, 3690,    102.7,   2.0574,  34.0835,2,   -999.0,9,-999.0000,9,    292.8,2,  -999.00,9,  -999.00,9,  -999.00,9,  -999.00,9,  -999.00,9, -999.000,9, -999.000,9,  -999.00,9,   -999.0,9,   -999.0,9,-999.0000,9,   -999.0,  9,  -999.00,9,   -999.0,  -999.00,9,  -999.00,9,  -999.00,9,  -999.00,9,   -999.0,-999.0000, -999,9,  102,   2.0520,  27.2333,   -999.0,9
       SM08-10,  NONE,SM-5476,  1,     11, 02-6324,2,20081106,2300, 42.4890, 138.6953, 3690,    204.7,   1.1851,  34.0719,2,   -999.0,9,-999.0000,9,    276.5,2,  -999.00,9,  -999.00,9,  -999.00,9,  -999.00,9,  -999.00,9, -999.000,9, -999.000,9,  -999.00,9,   -999.0,9,   -999.0,9,-999.0000,9,   -999.0,  9,  -999.00,9,   -999.0,  -999.00,9,  -999.00,9,  -999.00,9,  -999.00,9,   -999.0,-999.0000, -999,9,  203,   1.1757,  27.2876,   -999.0,9
       SM08-10,  NONE,SM-5476,  1,     10,8802-010,2,20081106,2253, 42.4890, 138.6953, 3690,    405.8,   0.7553,  34.0756,2,   -999.0,9,-999.0000,9,    248.5,2,  -999.00,9,  -999.00,9,  -999.00,9,  -999.00,9,  -999.00,9, -999.000,9, -999.000,9,  -999.00,9,   -999.0,9,   -999.0,9,-999.0000,9,   -999.0,  9,  -999.00,9,   -999.0,  -999.00,9,  -999.00,9,  -999.00,9,  -999.00,9,   -999.0,-999.0000, -999,9,  402,   0.7374,  27.3186,   -999.0,9
       SM08-10,  NONE,SM-5476,  1,      9,02-18042,2,20081106,2245, 42.4890, 138.6953, 3690,    610.8,   0.5485,  34.0741,2,   -999.0,9,-999.0000,9,    232.2,2,  -999.00,9,  -999.00,9,  -999.00,9,  -999.00,9,  -999.00,9, -999.000,9, -999.000,9,  -999.00,9,   -999.0,9,   -999.0,9,-999.0000,9,   -999.0,  9,  -999.00,9,   -999.0,  -999.00,9,  -999.00,9,  -999.00,9,  -999.00,9,   -999.0,-999.0000, -999,9,  605,   0.5215,  27.3302,   -999.0,9
       SM08-10,  NONE,SM-5476,  1,      8,10017-03,2,20081106,2239, 42.4890, 138.6953, 3690,    809.4,   0.3942,  34.0726,2,   -999.0,9,-999.0000,9,    217.6,2,  -999.00,9,  -999.00,9,  -999.00,9,  -999.00,9,  -999.00,9, -999.000,9, -999.000,9,  -999.00,9,   -999.0,9,   -999.0,9,-999.0000,9,   -999.0,  9,  -999.00,9,   -999.0,  -999.00,9,  -999.00,9,  -999.00,9,  -999.00,9,   -999.0,-999.0000, -999,9,  801,   0.3580,  27.3384,   -999.0,9
       SM08-10,  NONE,SM-5476,  1,      7,02-15147,2,20081106,2234, 42.4890, 138.6953, 3690,   1012.8,   0.3110,  34.0710,2,   -999.0,9,-999.0000,9,    212.0,2,  -999.00,9,  -999.00,9,  -999.00,9,  -999.00,9,  -999.00,9, -999.000,9, -999.000,9,  -999.00,9,   -999.0,9,   -999.0,9,-999.0000,9,   -999.0,  9,  -999.00,9,   -999.0,  -999.00,9,  -999.00,9,  -999.00,9,  -999.00,9,   -999.0,-999.0000, -999,9, 1002,   0.2646,  27.3423,   -999.0,9
       SM08-10,  NONE,SM-5476,  1,      6,02-10267,2,20081106,2228, 42.4890, 138.6953, 3690,   1215.1,   0.2591,  34.0701,2,   -999.0,9,-999.0000,9,    211.6,2,  -999.00,9,  -999.00,9,  -999.00,9,  -999.00,9,  -999.00,9, -999.000,9, -999.000,9,  -999.00,9,   -999.0,9,   -999.0,9,-999.0000,9,   -999.0,  9,  -999.00,9,   -999.0,  -999.00,9,  -999.00,9,  -999.00,9,  -999.00,9,   -999.0,-999.0000, -999,9, 1202,   0.2019,  27.3450,   -999.0,9
       SM08-10,  NONE,SM-5476,  1,      5, 02-6327,2,20081106,2221, 42.4890, 138.6953, 3690,   1518.9,   0.2258,  34.0697,2,   -999.0,9,-999.0000,9,    208.8,2,  -999.00,9,  -999.00,9,  -999.00,9,  -999.00,9,  -999.00,9, -999.000,9, -999.000,9,  -999.00,9,   -999.0,9,   -999.0,9,-999.0000,9,   -999.0,  9,  -999.00,9,   -999.0,  -999.00,9,  -999.00,9,  -999.00,9,  -999.00,9,   -999.0,-999.0000, -999,9, 1501,   0.1507,  27.3474,   -999.0,9
       SM08-10,  NONE,SM-5476,  1,      4,8802-009,2,20081106,2212, 42.4890, 138.6953, 3690,   2026.1,   0.2141,  34.0696,2,   -999.0,9,-999.0000,9,    207.3,2,  -999.00,9,  -999.00,9,  -999.00,9,  -999.00,9,  -999.00,9, -999.000,9, -999.000,9,  -999.00,9,   -999.0,9,   -999.0,9,-999.0000,9,   -999.0,  9,  -999.00,9,   -999.0,  -999.00,9,  -999.00,9,  -999.00,9,  -999.00,9,   -999.0,-999.0000, -999,9, 2000,   0.1053,  27.3497,   -999.0,9
       SM08-10,  NONE,SM-5476,  1,      3,10017-01,2,20081106,2202, 42.4890, 138.6953, 3690,   2533.4,   0.2308,  34.0701,2,   -999.0,9,-999.0000,9,    207.2,2,  -999.00,9,  -999.00,9,  -999.00,9,  -999.00,9,  -999.00,9, -999.000,9, -999.000,9,  -999.00,9,   -999.0,9,   -999.0,9,-999.0000,9,   -999.0,  9,  -999.00,9,   -999.0,  -999.00,9,  -999.00,9,  -999.00,9,  -999.00,9,   -999.0,-999.0000, -999,9, 2498,   0.0838,  27.3512,   -999.0,9
       SM08-10,  NONE,SM-5476,  1,      2,02-17553,2,20081106,2153, 42.4890, 138.6953, 3690,   3041.7,   0.2700,  34.0703,2,   -999.0,9,-999.0000,9,    208.4,2,  -999.00,9,  -999.00,9,  -999.00,9,  -999.00,9,  -999.00,9, -999.000,9, -999.000,9,  -999.00,9,   -999.0,9,   -999.0,9,-999.0000,9,   -999.0,  9,  -999.00,9,   -999.0,  -999.00,9,  -999.00,9,  -999.00,9,  -999.00,9,   -999.0,-999.0000, -999,9, 2996,   0.0800,  27.3516,   -999.0,9
       SM08-10,  NONE,SM-5476,  1,      1,8802-011,2,20081106,2147, 42.4890, 138.6953, 3690,   3397.1,   0.3029,  34.0704,2,   -999.0,9,-999.0000,9,    208.8,2,  -999.00,9,  -999.00,9,  -999.00,9,  -999.00,9,  -999.00,9, -999.000,9, -999.000,9,  -999.00,9,   -999.0,9,   -999.0,9,-999.0000,9,   -999.0,  9,  -999.00,9,   -999.0,  -999.00,9,  -999.00,9,  -999.00,9,  -999.00,9,   -999.0,-999.0000, -999,9, 3343,   0.0803,  27.3516,   -999.0,9
       SM08-10,  NONE,SM-5481,  1,      9,02-18042,2,20081109,1430, 40.9937, 139.8303, 1410,     20.0,  18.6653,  33.7199,2,   -999.0,9,  33.7194,2,   -999.0,9,  -999.00,9,  -999.00,9,  -999.00,9,  -999.00,9,  -999.00,9, -999.000,9, -999.000,9,  -999.00,9,   -999.0,9,   -999.0,9,-999.0000,9,   -999.0,  9,  -999.00,9,   -999.0,  -999.00,9,  -999.00,9,  -999.00,9,  -999.00,9,   -999.0,-999.0000, -999,9,   20,  18.6618,  24.1281,   -999.0,9
       SM08-10,  NONE,SM-5481,  1,      8,10017-03,2,20081109,1429, 40.9937, 139.8303, 1410,     49.6,  18.6758,  33.7175,2,   -999.0,9,  33.7181,2,   -999.0,9,  -999.00,9,  -999.00,9,  -999.00,9,  -999.00,9,  -999.00,9, -999.000,9, -999.000,9,  -999.00,9,   -999.0,9,   -999.0,9,-999.0000,9,   -999.0,  9,  -999.00,9,   -999.0,  -999.00,9,  -999.00,9,  -999.00,9,  -999.00,9,   -999.0,-999.0000, -999,9,   49,  18.6672,  24.1249,   -999.0,9
       SM08-10,  NONE,SM-5481,  1,      7,02-15147,2,20081109,1428, 40.9937, 139.8303, 1410,     99.6,  18.6206,  33.9020,2,   -999.0,9,  33.8836,4,   -999.0,9,  -999.00,9,  -999.00,9,  -999.00,9,  -999.00,9,  -999.00,9, -999.000,9, -999.000,9,  -999.00,9,   -999.0,9,   -999.0,9,-999.0000,9,   -999.0,  9,  -999.00,9,   -999.0,  -999.00,9,  -999.00,9,  -999.00,9,  -999.00,9,   -999.0,-999.0000, -999,9,   99,  18.6032,  24.2820,   -999.0,9
       SM08-10,  NONE,SM-5481,  1,      6,02-10267,2,20081109,1422, 40.9937, 139.8303, 1410,    203.4,   8.7253,  34.2187,2,   -999.0,9,  34.2274,4,   -999.0,9,  -999.00,9,  -999.00,9,  -999.00,9,  -999.00,9,  -999.00,9, -999.000,9, -999.000,9,  -999.00,9,   -999.0,9,   -999.0,9,-999.0000,9,   -999.0,  9,  -999.00,9,   -999.0,  -999.00,9,  -999.00,9,  -999.00,9,  -999.00,9,   -999.0,-999.0000, -999,9,  202,   8.7038,  26.5530,   -999.0,9
       SM08-10,  NONE,SM-5481,  1,      5, 02-6327,2,20081109,1417, 40.9937, 139.8303, 1410,    402.1,   0.8957,  34.0713,2,   -999.0,9,-999.0000,4,   -999.0,9,  -999.00,9,  -999.00,9,  -999.00,9,  -999.00,9,  -999.00,9, -999.000,9, -999.000,9,  -999.00,9,   -999.0,9,   -999.0,9,-999.0000,9,   -999.0,  9,  -999.00,9,   -999.0,  -999.00,9,  -999.00,9,  -999.00,9,  -999.00,9,   -999.0,-999.0000, -999,9,  399,   0.8775,  27.3065,   -999.0,9
       SM08-10,  NONE,SM-5481,  1,      4,8802-009,2,20081109,1411, 40.9937, 139.8303, 1410,    606.3,   0.4473,  34.0719,2,   -999.0,9,  34.0717,2,   -999.0,9,  -999.00,9,  -999.00,9,  -999.00,9,  -999.00,9,  -999.00,9, -999.000,9, -999.000,9,  -999.00,9,   -999.0,9,   -999.0,9,-999.0000,9,   -999.0,  9,  -999.00,9,   -999.0,  -999.00,9,  -999.00,9,  -999.00,9,  -999.00,9,   -999.0,-999.0000, -999,9,  601,   0.4210,  27.3343,   -999.0,9
       SM08-10,  NONE,SM-5481,  1,      3,10017-01,2,20081109,1405, 40.9937, 139.8303, 1410,    807.5,   0.3005,  34.0703,2,   -999.0,9,  34.0697,2,   -999.0,9,  -999.00,9,  -999.00,9,  -999.00,9,  -999.00,9,  -999.00,9, -999.000,9, -999.000,9,  -999.00,9,   -999.0,9,   -999.0,9,-999.0000,9,   -999.0,  9,  -999.00,9,   -999.0,  -999.00,9,  -999.00,9,  -999.00,9,  -999.00,9,   -999.0,-999.0000, -999,9,  800,   0.2651,  27.3417,   -999.0,9
       SM08-10,  NONE,SM-5481,  1,      2,02-17553,2,20081109,1402, 40.9937, 139.8303, 1410,   1007.9,   0.2296,  34.0695,2,   -999.0,9,  34.0699,2,   -999.0,9,  -999.00,9,  -999.00,9,  -999.00,9,  -999.00,9,  -999.00,9, -999.000,9, -999.000,9,  -999.00,9,   -999.0,9,   -999.0,9,-999.0000,9,   -999.0,  9,  -999.00,9,   -999.0,  -999.00,9,  -999.00,9,  -999.00,9,  -999.00,9,   -999.0,-999.0000, -999,9,  998,   0.1842,  27.3454,   -999.0,9
       SM08-10,  NONE,SM-5481,  1,      1,8802-011,2,20081109,1359, 40.9937, 139.8303, 1410,   1206.8,   0.1981,  34.0691,2,   -999.0,9,  34.0685,2,   -999.0,9,  -999.00,9,  -999.00,9,  -999.00,9,  -999.00,9,  -999.00,9, -999.000,9, -999.000,9,  -999.00,9,   -999.0,9,   -999.0,9,-999.0000,9,   -999.0,  9,  -999.00,9,   -999.0,  -999.00,9,  -999.00,9,  -999.00,9,  -999.00,9,   -999.0,-999.0000, -999,9, 1194,   0.1419,  27.3473,   -999.0,9
       SM08-10,  NONE,SM-5486,  1,     -9,      -9,5,20081115,2028, 40.5127, 139.0098, 3138,      0.0,  18.0815,  33.3213,2,   -999.0,9,-999.0000,9,    236.1,2,  -999.00,9,  -999.00,9,  -999.00,9,  -999.00,9,  -999.00,9, -999.000,9, -999.000,9,  -999.00,9,   -999.0,9,   -999.0,9,-999.0000,9,   -999.0,  9,  -999.00,9,   -999.0,  -999.00,9,  -999.00,9,  -999.00,9,  -999.00,9,   -999.0,-999.0000, -999,9,    0,  18.0814,  23.9669,   -999.0,9
       SM08-10,  NONE,SM-5486,  1,     12,02-14035,2,20081115,2025, 40.5127, 139.0098, 3138,     49.8,  17.6721,  33.9343,2,   -999.0,9,  33.9374,2,    229.5,2,  -999.00,9,  -999.00,9,  -999.00,9,  -999.00,9,  -999.00,9, -999.000,9, -999.000,9,  -999.00,9,   -999.0,9,   -999.0,9,-999.0000,9,   -999.0,  9,  -999.00,9,   -999.0,  -999.00,9,  -999.00,9,  -999.00,9,  -999.00,9,   -999.0,-999.0000, -999,9,   49,  17.6637,  24.5378,   -999.0,9
       SM08-10,  NONE,SM-5486,  1,     11, 02-6324,2,20081115,2024, 40.5127, 139.0098, 3138,    100.2,  11.6154,  34.3503,2,   -999.0,9,  34.3579,2,    238.8,2,  -999.00,9,  -999.00,9,  -999.00,9,  -999.00,9,  -999.00,9, -999.000,9, -999.000,9,  -999.00,9,   -999.0,9,   -999.0,9,-999.0000,9,   -999.0,  9,  -999.00,9,   -999.0,  -999.00,9,  -999.00,9,  -999.00,9,  -999.00,9,   -999.0,-999.0000, -999,9,   99,  11.6027,  26.1592,   -999.0,9
       SM08-10,  NONE,SM-5486,  1,     10,8802-010,2,20081115,2019, 40.5127, 139.0098, 3138,    201.9,   3.1016,  34.0589,2,   -999.0,9,  34.0633,2,    262.4,2,  -999.00,9,  -999.00,9,  -999.00,9,  -999.00,9,  -999.00,9, -999.000,9, -999.000,9,  -999.00,9,   -999.0,9,   -999.0,9,-999.0000,9,   -999.0,  9,  -999.00,9,   -999.0,  -999.00,9,  -999.00,9,  -999.00,9,  -999.00,9,   -999.0,-999.0000, -999,9,  200,   3.0892,  27.1258,   -999.0,9
       SM08-10,  NONE,SM-5486,  1,      9,02-18042,2,20081115,2014, 40.5127, 139.0098, 3138,    403.5,   0.8443,  34.0690,2,   -999.0,9,  34.0713,2,    217.2,2,  -999.00,9,  -999.00,9,  -999.00,9,  -999.00,9,  -999.00,9, -999.000,9, -999.000,9,  -999.00,9,   -999.0,9,   -999.0,9,-999.0000,9,   -999.0,  9,  -999.00,9,   -999.0,  -999.00,9,  -999.00,9,  -999.00,9,  -999.00,9,   -999.0,-999.0000, -999,9,  400,   0.8262,  27.3078,   -999.0,9
       SM08-10,  NONE,SM-5486,  1,      8,10017-03,2,20081115,2008, 40.5127, 139.0098, 3138,    606.4,   0.5236,  34.0707,2,   -999.0,9,  34.0719,2,    215.2,2,  -999.00,9,  -999.00,9,  -999.00,9,  -999.00,9,  -999.00,9, -999.000,9, -999.000,9,  -999.00,9,   -999.0,9,   -999.0,9,-999.0000,9,   -999.0,  9,  -999.00,9,   -999.0,  -999.00,9,  -999.00,9,  -999.00,9,  -999.00,9,   -999.0,-999.0000, -999,9,  601,   0.4970,  27.3289,   -999.0,9
       SM08-10,  NONE,SM-5486,  1,      7,02-15147,2,20081115,2002, 40.5127, 139.0098, 3138,    809.0,   0.3852,  34.0701,2,   -999.0,9,  34.0733,2,    213.4,2,  -999.00,9,  -999.00,9,  -999.00,9,  -999.00,9,  -999.00,9, -999.000,9, -999.000,9,  -999.00,9,   -999.0,9,   -999.0,9,-999.0000,9,   -999.0,  9,  -999.00,9,   -999.0,  -999.00,9,  -999.00,9,  -999.00,9,  -999.00,9,   -999.0,-999.0000, -999,9,  801,   0.3491,  27.3368,   -999.0,9
       SM08-10,  NONE,SM-5486,  1,      6,02-10267,2,20081115,1958, 40.5127, 139.0098, 3138,   1011.4,   0.3046,  34.0692,2,   -999.0,9,  34.0695,2,    211.1,2,  -999.00,9,  -999.00,9,  -999.00,9,  -999.00,9,  -999.00,9, -999.000,9, -999.000,9,  -999.00,9,   -999.0,9,   -999.0,9,-999.0000,9,   -999.0,  9,  -999.00,9,   -999.0,  -999.00,9,  -999.00,9,  -999.00,9,  -999.00,9,   -999.0,-999.0000, -999,9, 1001,   0.2584,  27.3411,   -999.0,9
       SM08-10,  NONE,SM-5486,  1,      5, 02-6327,2,20081115,1953, 40.5127, 139.0098, 3138,   1213.7,   0.2540,  34.0685,2,   -999.0,9,  34.0690,2,    209.5,2,  -999.00,9,  -999.00,9,  -999.00,9,  -999.00,9,  -999.00,9, -999.000,9, -999.000,9,  -999.00,9,   -999.0,9,   -999.0,9,-999.0000,9,   -999.0,  9,  -999.00,9,   -999.0,  -999.00,9,  -999.00,9,  -999.00,9,  -999.00,9,   -999.0,-999.0000, -999,9, 1201,   0.1969,  27.3439,   -999.0,9
       SM08-10,  NONE,SM-5486,  1,      4,8802-009,2,20081115,1948, 40.5127, 139.0098, 3138,   1516.3,   0.2235,  34.0677,2,   -999.0,9,  34.0685,2,    208.5,2,  -999.00,9,  -999.00,9,  -999.00,9,  -999.00,9,  -999.00,9, -999.000,9, -999.000,9,  -999.00,9,   -999.0,9,   -999.0,9,-999.0000,9,   -999.0,  9,  -999.00,9,   -999.0,  -999.00,9,  -999.00,9,  -999.00,9,  -999.00,9,   -999.0,-999.0000, -999,9, 1499,   0.1486,  27.3459,   -999.0,9
       SM08-10,  NONE,SM-5486,  1,      3,10017-01,2,20081115,1939, 40.5127, 139.0098, 3138,   2024.2,   0.2149,  34.0680,2,   -999.0,9,  34.0681,2,    207.1,2,  -999.00,9,  -999.00,9,  -999.00,9,  -999.00,9,  -999.00,9, -999.000,9, -999.000,9,  -999.00,9,   -999.0,9,   -999.0,9,-999.0000,9,   -999.0,  9,  -999.00,9,   -999.0,  -999.00,9,  -999.00,9,  -999.00,9,  -999.00,9,   -999.0,-999.0000, -999,9, 1999,   0.1062,  27.3484,   -999.0,9
       SM08-10,  NONE,SM-5486,  1,      2,02-17553,2,20081115,1930, 40.5127, 139.0098, 3138,   2533.7,   0.2322,  34.0683,2,   -999.0,9,  34.0684,2,    208.4,2,  -999.00,9,  -999.00,9,  -999.00,9,  -999.00,9,  -999.00,9, -999.000,9, -999.000,9,  -999.00,9,   -999.0,9,   -999.0,9,-999.0000,9,   -999.0,  9,  -999.00,9,   -999.0,  -999.00,9,  -999.00,9,  -999.00,9,  -999.00,9,   -999.0,-999.0000, -999,9, 2499,   0.0851,  27.3496,   -999.0,9
       SM08-10,  NONE,SM-5486,  1,      1,8802-011,2,20081115,1921, 40.5127, 139.0098, 3138,   3041.8,   0.2731,  34.0682,2,   -999.0,9,  34.0683,2,    209.5,2,  -999.00,9,  -999.00,9,  -999.00,9,  -999.00,9,  -999.00,9, -999.000,9, -999.000,9,  -999.00,9,   -999.0,9,   -999.0,9,-999.0000,9,   -999.0,  9,  -999.00,9,   -999.0,  -999.00,9,  -999.00,9,  -999.00,9,  -999.00,9,   -999.0,-999.0000, -999,9, 2997,   0.0830,  27.3497,   -999.0,9