BOTTLE,20130510GEMDJMAYT
EXPOCODE,SECT_ID,STNNBR,CASTNO,SAMPNO,BTLNBR,BTLNBR_FLAG_W,DATE,TIME,LATITUDE,LONGITUDE,DEPTH,CTDPRS,CTDTMP,CTDSAL,CTDSAL_FLAG_W,CTDOXY,CTDOXY_FLAG_W,SALNTY,SALNTY_FLAG_W,OXYGEN,OXYGEN_FLAG_W,SILCAT,SILCAT_FLAG_W,NITRAT,NITRAT_FLAG_W,NO2+NO3,NO2+NO3_FLAG_W,NITRIT,NITRIT_FLAG_W,PHSPHT,PHSPHT_FLAG_W,CFC-11,CFC-11_FLAG_W,CFC-12,CFC-12_FLAG_W,DELC13,DELC13_FLAG_W,TCARBN,TCARBN_FLAG_W,ALKALI,ALKALI_FLAG_W,PH,PH_FLAG_W,PH_TMP,PH_SCALE,PH_NBS,PH_NBS_FLAG_W,C13ERR,TOTALP,TOTALP_FLAG_W,AMMONI,AMMONI_FLAG_W,CHLORA,CHLORA_FLAG_W,PPHYTN,PPHYTN_FLAG_W,REVPRS,REVTMP,DEPTH_,DEPTH_FLAG,CTDDEP,THETA,SIGTHT,DOC,DOC_FLAG_W
,,,,,,,GMT,GMT,,,METER,DBAR,ITS-90,PSS-78,,UMOL/KG,,PSS-78,,UMOL/KG,,UMOL/KG,,UMOL/KG,,UMOL/KG,,UMOL/KG,,UMOL/KG,,PMOL/KG,,PMOL/KG,,/MILLE,,UMOL/KG,,UMOL/KG,,25_DEG_C,,DEG_C,,,,/MILLE,UMOL/KG,,UMOL/KG,,UG/L,,UG/L,,DBAR,ITS-90,METERS,,METERS,DEG_C,,UMOL/L,
       SM08-10,  NONE,SM-5493,  1,     -9,      -9,5,20081117,0729, 39.0740, 135.9760, 2602,      0.0,  14.9777,  34.0091,2,   -999.0,9,-999.0000,9,    251.2,2,  -999.00,9,  -999.00,9,  -999.00,9,  -999.00,9,  -999.00,9, -999.000,9, -999.000,9,  -999.00,9,   -999.0,9,   -999.0,9,-999.0000,9,   -999.0,  9,  -999.00,9,   -999.0,  -999.00,9,  -999.00,9,  -999.00,9,  -999.00,9,   -999.0,-999.0000, -999,9,    0,  14.9776,  25.2129,   -999.0,9
       SM08-10,  NONE,SM-5493,  1,     12,02-14035,2,20081117,0728, 39.0740, 135.9760, 2602,     19.9,  14.9688,  34.0212,2,   -999.0,9,  34.0245,2,    250.5,2,  -999.00,9,  -999.00,9,  -999.00,9,  -999.00,9,  -999.00,9, -999.000,9, -999.000,9,  -999.00,9,   -999.0,9,   -999.0,9,-999.0000,9,   -999.0,  9,  -999.00,9,   -999.0,  -999.00,9,  -999.00,9,  -999.00,9,  -999.00,9,   -999.0,-999.0000, -999,9,   20,  14.9658,  25.2248,   -999.0,9
       SM08-10,  NONE,SM-5493,  1,     11, 02-6324,2,20081117,0727, 39.0740, 135.9760, 2602,     52.2,  14.8834,  34.0430,2,   -999.0,9,  34.0499,2,    251.0,2,  -999.00,9,  -999.00,9,  -999.00,9,  -999.00,9,  -999.00,9, -999.000,9, -999.000,9,  -999.00,9,   -999.0,9,   -999.0,9,-999.0000,9,   -999.0,  9,  -999.00,9,   -999.0,  -999.00,9,  -999.00,9,  -999.00,9,  -999.00,9,   -999.0,-999.0000, -999,9,   52,  14.8756,  25.2612,   -999.0,9
       SM08-10,  NONE,SM-5493,  1,     10,8802-010,2,20081117,0724, 39.0740, 135.9760, 2602,    103.7,   6.8098,  34.1407,2,   -999.0,9,  34.1567,4,    261.6,2,  -999.00,9,  -999.00,9,  -999.00,9,  -999.00,9,  -999.00,9, -999.000,9, -999.000,9,  -999.00,9,   -999.0,9,   -999.0,9,-999.0000,9,   -999.0,  9,  -999.00,9,   -999.0,  -999.00,9,  -999.00,9,  -999.00,9,  -999.00,9,   -999.0,-999.0000, -999,9,  103,   6.8004,  26.7691,   -999.0,9
       SM08-10,  NONE,SM-5493,  1,      9,02-18042,2,20081117,0719, 39.0740, 135.9760, 2602,    203.3,   2.0737,  34.0578,2,   -999.0,9,  34.0595,2,    252.6,2,  -999.00,9,  -999.00,9,  -999.00,9,  -999.00,9,  -999.00,9, -999.000,9, -999.000,9,  -999.00,9,   -999.0,9,   -999.0,9,-999.0000,9,   -999.0,  9,  -999.00,9,   -999.0,  -999.00,9,  -999.00,9,  -999.00,9,  -999.00,9,   -999.0,-999.0000, -999,9,  202,   2.0629,  27.2119,   -999.0,9
       SM08-10,  NONE,SM-5493,  1,      8,10017-03,2,20081117,0713, 39.0740, 135.9760, 2602,    404.8,   0.7306,  34.0697,2,   -999.0,9,  34.0699,2,    220.2,2,  -999.00,9,  -999.00,9,  -999.00,9,  -999.00,9,  -999.00,9, -999.000,9, -999.000,9,  -999.00,9,   -999.0,9,   -999.0,9,-999.0000,9,   -999.0,  9,  -999.00,9,   -999.0,  -999.00,9,  -999.00,9,  -999.00,9,  -999.00,9,   -999.0,-999.0000, -999,9,  401,   0.7128,  27.3154,   -999.0,9
       SM08-10,  NONE,SM-5493,  1,      7,02-15147,2,20081117,0706, 39.0740, 135.9760, 2602,    605.2,   0.4858,  34.0706,2,   -999.0,9,  34.0699,2,    210.5,2,  -999.00,9,  -999.00,9,  -999.00,9,  -999.00,9,  -999.00,9, -999.000,9, -999.000,9,  -999.00,9,   -999.0,9,   -999.0,9,-999.0000,9,   -999.0,  9,  -999.00,9,   -999.0,  -999.00,9,  -999.00,9,  -999.00,9,  -999.00,9,   -999.0,-999.0000, -999,9,  600,   0.4594,  27.3310,   -999.0,9
       SM08-10,  NONE,SM-5493,  1,      6,02-10267,2,20081117,0701, 39.0740, 135.9760, 2602,    806.6,   0.3501,  34.0696,2,   -999.0,9,  34.0695,2,    209.0,2,  -999.00,9,  -999.00,9,  -999.00,9,  -999.00,9,  -999.00,9, -999.000,9, -999.000,9,  -999.00,9,   -999.0,9,   -999.0,9,-999.0000,9,   -999.0,  9,  -999.00,9,   -999.0,  -999.00,9,  -999.00,9,  -999.00,9,  -999.00,9,   -999.0,-999.0000, -999,9,  799,   0.3144,  27.3384,   -999.0,9
       SM08-10,  NONE,SM-5493,  1,      5, 02-6327,2,20081117,0657, 39.0740, 135.9760, 2602,   1006.0,   0.2826,  34.0688,2,   -999.0,9,  34.0684,2,    207.8,2,  -999.00,9,  -999.00,9,  -999.00,9,  -999.00,9,  -999.00,9, -999.000,9, -999.000,9,  -999.00,9,   -999.0,9,   -999.0,9,-999.0000,9,   -999.0,  9,  -999.00,9,   -999.0,  -999.00,9,  -999.00,9,  -999.00,9,  -999.00,9,   -999.0,-999.0000, -999,9,  996,   0.2369,  27.3420,   -999.0,9
       SM08-10,  NONE,SM-5493,  1,      4,8802-009,2,20081117,0654, 39.0740, 135.9760, 2602,   1211.4,   0.2453,  34.0684,2,   -999.0,9,  34.0679,2,    207.2,2,  -999.00,9,  -999.00,9,  -999.00,9,  -999.00,9,  -999.00,9, -999.000,9, -999.000,9,  -999.00,9,   -999.0,9,   -999.0,9,-999.0000,9,   -999.0,  9,  -999.00,9,   -999.0,  -999.00,9,  -999.00,9,  -999.00,9,  -999.00,9,   -999.0,-999.0000, -999,9, 1199,   0.1884,  27.3443,   -999.0,9
       SM08-10,  NONE,SM-5493,  1,      3,10017-01,2,20081117,0649, 39.0740, 135.9760, 2602,   1512.6,   0.2168,  34.0679,2,   -999.0,9,  34.0674,2,    205.6,2,  -999.00,9,  -999.00,9,  -999.00,9,  -999.00,9,  -999.00,9, -999.000,9, -999.000,9,  -999.00,9,   -999.0,9,   -999.0,9,-999.0000,9,   -999.0,  9,  -999.00,9,   -999.0,  -999.00,9,  -999.00,9,  -999.00,9,  -999.00,9,   -999.0,-999.0000, -999,9, 1496,   0.1422,  27.3463,   -999.0,9
       SM08-10,  NONE,SM-5493,  1,      2,02-17553,2,20081117,0641, 39.0740, 135.9760, 2602,   2020.5,   0.2136,  34.0680,2,   -999.0,9,  34.0672,2,    204.8,2,  -999.00,9,  -999.00,9,  -999.00,9,  -999.00,9,  -999.00,9, -999.000,9, -999.000,9,  -999.00,9,   -999.0,9,   -999.0,9,-999.0000,9,   -999.0,  9,  -999.00,9,   -999.0,  -999.00,9,  -999.00,9,  -999.00,9,  -999.00,9,   -999.0,-999.0000, -999,9, 1996,   0.1052,  27.3484,   -999.0,9
       SM08-10,  NONE,SM-5493,  1,      1,8802-011,2,20081117,0632, 39.0740, 135.9760, 2602,   2539.2,   0.2448,  34.0680,2,   -999.0,9,  34.0680,2,    203.5,2,  -999.00,9,  -999.00,9,  -999.00,9,  -999.00,9,  -999.00,9, -999.000,9, -999.000,9,  -999.00,9,   -999.0,9,   -999.0,9,-999.0000,9,   -999.0,  9,  -999.00,9,   -999.0,  -999.00,9,  -999.00,9,  -999.00,9,  -999.00,9,   -999.0,-999.0000, -999,9, 2505,   0.0971,  27.3489,   -999.0,9
       SM08-10,  137E,SM-5494,  1,     -9,      -9,5,20081122,1232, 38.4922, 136.5263, 2623,      0.0,  17.9298,  33.7628,2,   -999.0,9,-999.0000,9,    231.7,2,  -999.00,9,  -999.00,9,  -999.00,9,  -999.00,9,  -999.00,9, -999.000,9, -999.000,9,  -999.00,9,   -999.0,9,   -999.0,9,-999.0000,9,   -999.0,  9,  -999.00,9,   -999.0,  -999.00,9,  -999.00,9,  -999.00,9,  -999.00,9,   -999.0,-999.0000, -999,9,    0,  17.9297,  24.3418,   -999.0,9
       SM08-10,  137E,SM-5494,  1,     12,02-14035,2,20081122,1231, 38.4922, 136.5263, 2623,     20.8,  17.9434,  33.7628,2,   -999.0,9,-999.0000,9,    231.3,2,  -999.00,9,  -999.00,9,  -999.00,9,  -999.00,9,  -999.00,9, -999.000,9, -999.000,9,  -999.00,9,   -999.0,9,   -999.0,9,-999.0000,9,   -999.0,  9,  -999.00,9,   -999.0,  -999.00,9,  -999.00,9,  -999.00,9,  -999.00,9,   -999.0,-999.0000, -999,9,   21,  17.9399,  24.3394,   -999.0,9
       SM08-10,  137E,SM-5494,  1,     11, 02-6324,2,20081122,1230, 38.4922, 136.5263, 2623,     51.0,  17.7259,  33.7599,2,   -999.0,9,-999.0000,9,    231.9,2,  -999.00,9,  -999.00,9,  -999.00,9,  -999.00,9,  -999.00,9, -999.000,9, -999.000,9,  -999.00,9,   -999.0,9,   -999.0,9,-999.0000,9,   -999.0,  9,  -999.00,9,   -999.0,  -999.00,9,  -999.00,9,  -999.00,9,  -999.00,9,   -999.0,-999.0000, -999,9,   51,  17.7173,  24.3912,   -999.0,9
       SM08-10,  137E,SM-5494,  1,     10,8802-010,2,20081122,1228, 38.4922, 136.5263, 2623,    101.5,  13.0427,  34.4264,2,   -999.0,9,-999.0000,9,    228.5,2,  -999.00,9,  -999.00,9,  -999.00,9,  -999.00,9,  -999.00,9, -999.000,9, -999.000,9,  -999.00,9,   -999.0,9,   -999.0,9,-999.0000,9,   -999.0,  9,  -999.00,9,   -999.0,  -999.00,9,  -999.00,9,  -999.00,9,  -999.00,9,   -999.0,-999.0000, -999,9,  101,  13.0288,  25.9427,   -999.0,9
       SM08-10,  137E,SM-5494,  1,      9,02-18042,2,20081122,1225, 38.4922, 136.5263, 2623,    203.9,   3.0207,  34.0583,2,   -999.0,9,-999.0000,9,    259.4,2,  -999.00,9,  -999.00,9,  -999.00,9,  -999.00,9,  -999.00,9, -999.000,9, -999.000,9,  -999.00,9,   -999.0,9,   -999.0,9,-999.0000,9,   -999.0,  9,  -999.00,9,   -999.0,  -999.00,9,  -999.00,9,  -999.00,9,  -999.00,9,   -999.0,-999.0000, -999,9,  202,   3.0083,  27.1326,   -999.0,9
       SM08-10,  137E,SM-5494,  1,      8,10017-03,2,20081122,1217, 38.4922, 136.5263, 2623,    406.1,   0.7593,  34.0685,2,   -999.0,9,-999.0000,9,    214.9,2,  -999.00,9,  -999.00,9,  -999.00,9,  -999.00,9,  -999.00,9, -999.000,9, -999.000,9,  -999.00,9,   -999.0,9,   -999.0,9,-999.0000,9,   -999.0,  9,  -999.00,9,   -999.0,  -999.00,9,  -999.00,9,  -999.00,9,  -999.00,9,   -999.0,-999.0000, -999,9,  403,   0.7414,  27.3127,   -999.0,9
       SM08-10,  137E,SM-5494,  1,      7,02-15147,2,20081122,1213, 38.4922, 136.5263, 2623,    605.3,   0.4933,  34.0697,2,   -999.0,9,-999.0000,9,    209.7,2,  -999.00,9,  -999.00,9,  -999.00,9,  -999.00,9,  -999.00,9, -999.000,9, -999.000,9,  -999.00,9,   -999.0,9,   -999.0,9,-999.0000,9,   -999.0,  9,  -999.00,9,   -999.0,  -999.00,9,  -999.00,9,  -999.00,9,  -999.00,9,   -999.0,-999.0000, -999,9,  600,   0.4669,  27.3299,   -999.0,9
       SM08-10,  137E,SM-5494,  1,      6,02-10267,2,20081122,1209, 38.4922, 136.5263, 2623,    808.3,   0.3469,  34.0691,2,   -999.0,9,-999.0000,9,    207.0,2,  -999.00,9,  -999.00,9,  -999.00,9,  -999.00,9,  -999.00,9, -999.000,9, -999.000,9,  -999.00,9,   -999.0,9,   -999.0,9,-999.0000,9,   -999.0,  9,  -999.00,9,   -999.0,  -999.00,9,  -999.00,9,  -999.00,9,  -999.00,9,   -999.0,-999.0000, -999,9,  801,   0.3111,  27.3382,   -999.0,9
       SM08-10,  137E,SM-5494,  1,      5, 02-6327,2,20081122,1206, 38.4922, 136.5263, 2623,   1007.1,   0.2837,  34.0686,2,   -999.0,9,-999.0000,9,    206.9,2,  -999.00,9,  -999.00,9,  -999.00,9,  -999.00,9,  -999.00,9, -999.000,9, -999.000,9,  -999.00,9,   -999.0,9,   -999.0,9,-999.0000,9,   -999.0,  9,  -999.00,9,   -999.0,  -999.00,9,  -999.00,9,  -999.00,9,  -999.00,9,   -999.0,-999.0000, -999,9,  997,   0.2379,  27.3417,   -999.0,9
       SM08-10,  137E,SM-5494,  1,      4,8802-009,2,20081122,1202, 38.4922, 136.5263, 2623,   1209.2,   0.2480,  34.0681,2,   -999.0,9,-999.0000,9,    206.5,2,  -999.00,9,  -999.00,9,  -999.00,9,  -999.00,9,  -999.00,9, -999.000,9, -999.000,9,  -999.00,9,   -999.0,9,   -999.0,9,-999.0000,9,   -999.0,  9,  -999.00,9,   -999.0,  -999.00,9,  -999.00,9,  -999.00,9,  -999.00,9,   -999.0,-999.0000, -999,9, 1197,   0.1912,  27.3439,   -999.0,9
       SM08-10,  137E,SM-5494,  1,      3,10017-01,2,20081122,1158, 38.4922, 136.5263, 2623,   1514.5,   0.2225,  34.0677,2,   -999.0,9,-999.0000,9,    205.7,2,  -999.00,9,  -999.00,9,  -999.00,9,  -999.00,9,  -999.00,9, -999.000,9, -999.000,9,  -999.00,9,   -999.0,9,   -999.0,9,-999.0000,9,   -999.0,  9,  -999.00,9,   -999.0,  -999.00,9,  -999.00,9,  -999.00,9,  -999.00,9,   -999.0,-999.0000, -999,9, 1498,   0.1477,  27.3459,   -999.0,9
       SM08-10,  137E,SM-5494,  1,      2,02-17553,2,20081122,1150, 38.4922, 136.5263, 2623,   2019.4,   0.2170,  34.0680,2,   -999.0,9,-999.0000,9,    204.9,2,  -999.00,9,  -999.00,9,  -999.00,9,  -999.00,9,  -999.00,9, -999.000,9, -999.000,9,  -999.00,9,   -999.0,9,   -999.0,9,-999.0000,9,   -999.0,  9,  -999.00,9,   -999.0,  -999.00,9,  -999.00,9,  -999.00,9,  -999.00,9,   -999.0,-999.0000, -999,9, 1995,   0.1087,  27.3482,   -999.0,9
       SM08-10,  137E,SM-5494,  1,      1,8802-011,2,20081122,1142, 38.4922, 136.5263, 2623,   2533.4,   0.2461,  34.0682,2,   -999.0,9,-999.0000,9,    204.6,2,  -999.00,9,  -999.00,9,  -999.00,9,  -999.00,9,  -999.00,9, -999.000,9, -999.000,9,  -999.00,9,   -999.0,9,   -999.0,9,-999.0000,9,   -999.0,  9,  -999.00,9,   -999.0,  -999.00,9,  -999.00,9,  -999.00,9,  -999.00,9,   -999.0,-999.0000, -999,9, 2499,   0.0988,  27.3489,   -999.0,9
       SM08-10,  NONE,SM-5495,  1,     -9,      -9,5,20081122,2042, 37.8283, 135.8557, 2589,      0.0,  16.7681,  33.8781,2,   -999.0,9,-999.0000,9,    229.5,2,  -999.00,9,  -999.00,9,  -999.00,9,  -999.00,9,  -999.00,9, -999.000,9, -999.000,9,  -999.00,9,   -999.0,9,   -999.0,9,-999.0000,9,   -999.0,  9,  -999.00,9,   -999.0,  -999.00,9,  -999.00,9,  -999.00,9,  -999.00,9,   -999.0,-999.0000, -999,9,    0,  16.7680,  24.7078,   -999.0,9
       SM08-10,  NONE,SM-5495,  1,     12,02-14035,2,20081122,2040, 37.8283, 135.8557, 2589,     20.4,  16.7882,  33.8833,2,   -999.0,9,-999.0000,9,    227.7,2,  -999.00,9,  -999.00,9,  -999.00,9,  -999.00,9,  -999.00,9, -999.000,9, -999.000,9,  -999.00,9,   -999.0,9,   -999.0,9,-999.0000,9,   -999.0,  9,  -999.00,9,   -999.0,  -999.00,9,  -999.00,9,  -999.00,9,  -999.00,9,   -999.0,-999.0000, -999,9,   20,  16.7849,  24.7078,   -999.0,9
       SM08-10,  NONE,SM-5495,  1,     11, 02-6324,2,20081122,2038, 37.8283, 135.8557, 2589,     53.1,  16.7936,  33.8843,2,   -999.0,9,-999.0000,9,    227.8,2,  -999.00,9,  -999.00,9,  -999.00,9,  -999.00,9,  -999.00,9, -999.000,9, -999.000,9,  -999.00,9,   -999.0,9,   -999.0,9,-999.0000,9,   -999.0,  9,  -999.00,9,   -999.0,  -999.00,9,  -999.00,9,  -999.00,9,  -999.00,9,   -999.0,-999.0000, -999,9,   53,  16.7850,  24.7085,   -999.0,9
       SM08-10,  NONE,SM-5495,  1,     10,8802-010,2,20081122,2037, 37.8283, 135.8557, 2589,    101.1,  14.5978,  34.4941,2,   -999.0,9,-999.0000,9,    206.6,2,  -999.00,9,  -999.00,9,  -999.00,9,  -999.00,9,  -999.00,9, -999.000,9, -999.000,9,  -999.00,9,   -999.0,9,   -999.0,9,-999.0000,9,   -999.0,  9,  -999.00,9,   -999.0,  -999.00,9,  -999.00,9,  -999.00,9,  -999.00,9,   -999.0,-999.0000, -999,9,  100,  14.5829,  25.6724,   -999.0,9
       SM08-10,  NONE,SM-5495,  1,      9,02-18042,2,20081122,2032, 37.8283, 135.8557, 2589,    203.7,   4.1247,  34.0816,2,   -999.0,9,-999.0000,9,    250.1,2,  -999.00,9,  -999.00,9,  -999.00,9,  -999.00,9,  -999.00,9, -999.000,9, -999.000,9,  -999.00,9,   -999.0,9,   -999.0,9,-999.0000,9,   -999.0,  9,  -999.00,9,   -999.0,  -999.00,9,  -999.00,9,  -999.00,9,  -999.00,9,   -999.0,-999.0000, -999,9,  202,   4.1105,  27.0442,   -999.0,9
       SM08-10,  NONE,SM-5495,  1,      8,10017-03,2,20081122,2027, 37.8283, 135.8557, 2589,    403.1,   0.8669,  34.0683,2,   -999.0,9,-999.0000,9,    225.3,2,  -999.00,9,  -999.00,9,  -999.00,9,  -999.00,9,  -999.00,9, -999.000,9, -999.000,9,  -999.00,9,   -999.0,9,   -999.0,9,-999.0000,9,   -999.0,  9,  -999.00,9,   -999.0,  -999.00,9,  -999.00,9,  -999.00,9,  -999.00,9,   -999.0,-999.0000, -999,9,  400,   0.8488,  27.3059,   -999.0,9
       SM08-10,  NONE,SM-5495,  1,      7,02-15147,2,20081122,2023, 37.8283, 135.8557, 2589,    606.1,   0.4946,  34.0705,2,   -999.0,9,-999.0000,9,    212.3,2,  -999.00,9,  -999.00,9,  -999.00,9,  -999.00,9,  -999.00,9, -999.000,9, -999.000,9,  -999.00,9,   -999.0,9,   -999.0,9,-999.0000,9,   -999.0,  9,  -999.00,9,   -999.0,  -999.00,9,  -999.00,9,  -999.00,9,  -999.00,9,   -999.0,-999.0000, -999,9,  601,   0.4681,  27.3305,   -999.0,9
       SM08-10,  NONE,SM-5495,  1,      6,02-10267,2,20081122,2018, 37.8283, 135.8557, 2589,    808.1,   0.3477,  34.0692,2,   -999.0,9,-999.0000,9,    209.2,2,  -999.00,9,  -999.00,9,  -999.00,9,  -999.00,9,  -999.00,9, -999.000,9, -999.000,9,  -999.00,9,   -999.0,9,   -999.0,9,-999.0000,9,   -999.0,  9,  -999.00,9,   -999.0,  -999.00,9,  -999.00,9,  -999.00,9,  -999.00,9,   -999.0,-999.0000, -999,9,  801,   0.3119,  27.3382,   -999.0,9
       SM08-10,  NONE,SM-5495,  1,      5, 02-6327,2,20081122,2014, 37.8283, 135.8557, 2589,   1007.2,   0.2740,  34.0686,2,   -999.0,9,-999.0000,9,    208.6,2,  -999.00,9,  -999.00,9,  -999.00,9,  -999.00,9,  -999.00,9, -999.000,9, -999.000,9,  -999.00,9,   -999.0,9,   -999.0,9,-999.0000,9,   -999.0,  9,  -999.00,9,   -999.0,  -999.00,9,  -999.00,9,  -999.00,9,  -999.00,9,   -999.0,-999.0000, -999,9,  997,   0.2283,  27.3423,   -999.0,9
       SM08-10,  NONE,SM-5495,  1,      4,8802-009,2,20081122,2009, 37.8283, 135.8557, 2589,   1212.7,   0.2398,  34.0682,2,   -999.0,9,-999.0000,9,    207.6,2,  -999.00,9,  -999.00,9,  -999.00,9,  -999.00,9,  -999.00,9, -999.000,9, -999.000,9,  -999.00,9,   -999.0,9,   -999.0,9,-999.0000,9,   -999.0,  9,  -999.00,9,   -999.0,  -999.00,9,  -999.00,9,  -999.00,9,  -999.00,9,   -999.0,-999.0000, -999,9, 1200,   0.1829,  27.3444,   -999.0,9
       SM08-10,  NONE,SM-5495,  1,      3,10017-01,2,20081122,2003, 37.8283, 135.8557, 2589,   1515.6,   0.2102,  34.0678,2,   -999.0,9,-999.0000,9,    206.3,2,  -999.00,9,  -999.00,9,  -999.00,9,  -999.00,9,  -999.00,9, -999.000,9, -999.000,9,  -999.00,9,   -999.0,9,   -999.0,9,-999.0000,9,   -999.0,  9,  -999.00,9,   -999.0,  -999.00,9,  -999.00,9,  -999.00,9,  -999.00,9,   -999.0,-999.0000, -999,9, 1499,   0.1355,  27.3466,   -999.0,9
       SM08-10,  NONE,SM-5495,  1,      2,02-17553,2,20081122,1955, 37.8283, 135.8557, 2589,   2022.3,   0.2091,  34.0679,2,   -999.0,9,-999.0000,9,    205.4,2,  -999.00,9,  -999.00,9,  -999.00,9,  -999.00,9,  -999.00,9, -999.000,9, -999.000,9,  -999.00,9,   -999.0,9,   -999.0,9,-999.0000,9,   -999.0,  9,  -999.00,9,   -999.0,  -999.00,9,  -999.00,9,  -999.00,9,  -999.00,9,   -999.0,-999.0000, -999,9, 1998,   0.1007,  27.3485,   -999.0,9
       SM08-10,  NONE,SM-5495,  1,      1,8802-011,2,20081122,1946, 37.8283, 135.8557, 2589,   2530.6,   0.2454,  34.0677,2,   -999.0,9,-999.0000,9,    203.8,2,  -999.00,9,  -999.00,9,  -999.00,9,  -999.00,9,  -999.00,9, -999.000,9, -999.000,9,  -999.00,9,   -999.0,9,   -999.0,9,-999.0000,9,   -999.0,  9,  -999.00,9,   -999.0,  -999.00,9,  -999.00,9,  -999.00,9,  -999.00,9,   -999.0,-999.0000, -999,9, 2497,   0.0983,  27.3485,   -999.0,9