BOTTLE,20130510GEMDJMAYT
EXPOCODE,SECT_ID,STNNBR,CASTNO,SAMPNO,BTLNBR,BTLNBR_FLAG_W,DATE,TIME,LATITUDE,LONGITUDE,DEPTH,CTDPRS,CTDTMP,CTDSAL,CTDSAL_FLAG_W,CTDOXY,CTDOXY_FLAG_W,SALNTY,SALNTY_FLAG_W,OXYGEN,OXYGEN_FLAG_W,SILCAT,SILCAT_FLAG_W,NITRAT,NITRAT_FLAG_W,NO2+NO3,NO2+NO3_FLAG_W,NITRIT,NITRIT_FLAG_W,PHSPHT,PHSPHT_FLAG_W,CFC-11,CFC-11_FLAG_W,CFC-12,CFC-12_FLAG_W,DELC13,DELC13_FLAG_W,TCARBN,TCARBN_FLAG_W,ALKALI,ALKALI_FLAG_W,PH,PH_FLAG_W,PH_TMP,PH_SCALE,PH_NBS,PH_NBS_FLAG_W,C13ERR,TOTALP,TOTALP_FLAG_W,AMMONI,AMMONI_FLAG_W,CHLORA,CHLORA_FLAG_W,PPHYTN,PPHYTN_FLAG_W,REVPRS,REVTMP,DEPTH_,DEPTH_FLAG,CTDDEP,THETA,SIGTHT,DOC,DOC_FLAG_W
,,,,,,,GMT,GMT,,,METER,DBAR,ITS-90,PSS-78,,UMOL/KG,,PSS-78,,UMOL/KG,,UMOL/KG,,UMOL/KG,,UMOL/KG,,UMOL/KG,,UMOL/KG,,PMOL/KG,,PMOL/KG,,/MILLE,,UMOL/KG,,UMOL/KG,,25_DEG_C,,DEG_C,,,,/MILLE,UMOL/KG,,UMOL/KG,,UG/L,,UG/L,,DBAR,ITS-90,METERS,,METERS,DEG_C,,UMOL/L,
       SM08-10,  NONE,SM-5469,  1,     12,02-14035,2,20081105,1149, 40.8417, 138.0083, 3653,   1212.3,   0.2561,  34.0700,2,   -999.0,9,-999.0000,9,    210.2,2,    66.35,2,  -999.00,9,    25.50,2,  -999.00,9,     1.96,2, -999.000,9, -999.000,9,  -999.00,9,   -999.0,9,   -999.0,9,-999.0000,9,   -999.0,  9,  -999.00,9,   -999.0,  -999.00,9,  -999.00,9,  -999.00,9,  -999.00,9,   -999.0,-999.0000, -999,9, 1199,   0.1990,  27.3450,   -999.0,9
       SM08-10,  NONE,SM-5469,  1,     11, 02-6324,2,20081105,1149, 40.8417, 138.0083, 3653,   1211.8,   0.2565,  34.0700,2,   -999.0,9,-999.0000,9,   -999.0,9,  -999.00,9,  -999.00,9,  -999.00,9,  -999.00,9,  -999.00,9, -999.000,9, -999.000,9,  -999.00,9,   2232.5,3,   -999.0,1,-999.0000,9,   -999.0,  9,  -999.00,9,   -999.0,  -999.00,9,  -999.00,9,  -999.00,9,  -999.00,9,   -999.0,-999.0000, -999,9, 1199,   0.1995,  27.3450,   -999.0,9
       SM08-10,  NONE,SM-5469,  1,     10,8802-010,2,20081105,1143, 40.8417, 138.0083, 3653,   1516.0,   0.2216,  34.0694,2,   -999.0,9,-999.0000,9,    209.1,2,    71.53,2,  -999.00,9,    25.50,2,  -999.00,9,     1.96,2, -999.000,9, -999.000,9,  -999.00,9,   -999.0,9,   -999.0,9,-999.0000,9,   -999.0,  9,  -999.00,9,   -999.0,  -999.00,9,  -999.00,9,  -999.00,9,  -999.00,9,   -999.0,-999.0000, -999,9, 1499,   0.1467,  27.3473,   -999.0,9
       SM08-10,  NONE,SM-5469,  1,      9,02-18042,2,20081105,1143, 40.8417, 138.0083, 3653,   1515.3,   0.2216,  34.0696,2,   -999.0,9,-999.0000,9,   -999.0,9,  -999.00,9,  -999.00,9,  -999.00,9,  -999.00,9,  -999.00,9, -999.000,9, -999.000,9,  -999.00,9,   2239.5,3,   -999.0,1,-999.0000,9,   -999.0,  9,  -999.00,9,   -999.0,  -999.00,9,  -999.00,9,  -999.00,9,  -999.00,9,   -999.0,-999.0000, -999,9, 1498,   0.1467,  27.3475,   -999.0,9
       SM08-10,  NONE,SM-5469,  1,      8,10017-03,2,20081105,1134, 40.8417, 138.0083, 3653,   2023.0,   0.2103,  34.0697,2,   -999.0,9,-999.0000,9,    208.3,2,    77.84,2,  -999.00,9,    25.79,2,  -999.00,9,     1.98,2, -999.000,9, -999.000,9,  -999.00,9,   -999.0,9,   -999.0,9,-999.0000,9,   -999.0,  9,  -999.00,9,   -999.0,  -999.00,9,  -999.00,9,  -999.00,9,  -999.00,9,   -999.0,-999.0000, -999,9, 1998,   0.1018,  27.3499,   -999.0,9
       SM08-10,  NONE,SM-5469,  1,      7,02-15147,2,20081105,1134, 40.8417, 138.0083, 3653,   2024.9,   0.2103,  34.0696,2,   -999.0,9,-999.0000,9,   -999.0,9,  -999.00,9,  -999.00,9,  -999.00,9,  -999.00,9,  -999.00,9, -999.000,9, -999.000,9,  -999.00,9,   2230.3,3,   -999.0,1,-999.0000,9,   -999.0,  9,  -999.00,9,   -999.0,  -999.00,9,  -999.00,9,  -999.00,9,  -999.00,9,   -999.0,-999.0000, -999,9, 2000,   0.1017,  27.3498,   -999.0,9
       SM08-10,  NONE,SM-5469,  1,      6,02-10267,2,20081105,1125, 40.8417, 138.0083, 3653,   2533.5,   0.2270,  34.0701,2,   -999.0,9,-999.0000,9,    208.1,2,    83.19,2,  -999.00,9,    25.89,2,  -999.00,9,     1.99,2, -999.000,9, -999.000,9,  -999.00,9,   -999.0,9,   -999.0,9,-999.0000,9,   -999.0,  9,  -999.00,9,   -999.0,  -999.00,9,  -999.00,9,  -999.00,9,  -999.00,9,   -999.0,-999.0000, -999,9, 2499,   0.0800,  27.3514,   -999.0,9
       SM08-10,  NONE,SM-5469,  1,      5, 02-6327,2,20081105,1125, 40.8417, 138.0083, 3653,   2533.8,   0.2273,  34.0700,2,   -999.0,9,-999.0000,9,   -999.0,9,  -999.00,9,  -999.00,9,  -999.00,9,  -999.00,9,  -999.00,9, -999.000,9, -999.000,9,  -999.00,9,   2237.2,3,   -999.0,1,-999.0000,9,   -999.0,  9,  -999.00,9,   -999.0,  -999.00,9,  -999.00,9,  -999.00,9,  -999.00,9,   -999.0,-999.0000, -999,9, 2499,   0.0803,  27.3513,   -999.0,9
       SM08-10,  NONE,SM-5469,  1,      4,8802-009,2,20081105,1115, 40.8417, 138.0083, 3653,   3044.9,   0.2701,  34.0702,2,   -999.0,9,-999.0000,9,    208.4,2,    83.31,2,  -999.00,9,    25.89,2,  -999.00,9,     2.00,2, -999.000,9, -999.000,9,  -999.00,9,   -999.0,9,   -999.0,9,-999.0000,9,   -999.0,  9,  -999.00,9,   -999.0,  -999.00,9,  -999.00,9,  -999.00,9,  -999.00,9,   -999.0,-999.0000, -999,9, 3000,   0.0798,  27.3515,   -999.0,9
       SM08-10,  NONE,SM-5469,  1,      3,10017-01,2,20081105,1115, 40.8417, 138.0083, 3653,   3044.5,   0.2702,  34.0702,2,   -999.0,9,-999.0000,9,   -999.0,9,  -999.00,9,  -999.00,9,  -999.00,9,  -999.00,9,  -999.00,9, -999.000,9, -999.000,9,  -999.00,9,   2240.0,3,   -999.0,1,-999.0000,9,   -999.0,  9,  -999.00,9,   -999.0,  -999.00,9,  -999.00,9,  -999.00,9,  -999.00,9,   -999.0,-999.0000, -999,9, 2999,   0.0800,  27.3515,   -999.0,9
       SM08-10,  NONE,SM-5469,  1,      2,02-17553,2,20081105,1105, 40.8417, 138.0083, 3653,   3558.8,   0.3182,  34.0704,2,   -999.0,9,-999.0000,9,    209.0,2,    83.15,2,  -999.00,9,    25.99,2,  -999.00,9,     1.98,2, -999.000,9, -999.000,9,  -999.00,9,   -999.0,9,   -999.0,9,-999.0000,9,   -999.0,  9,  -999.00,9,   -999.0,  -999.00,9,  -999.00,9,  -999.00,9,  -999.00,9,   -999.0,-999.0000, -999,9, 3502,   0.0801,  27.3516,   -999.0,9
       SM08-10,  NONE,SM-5469,  1,      1,8802-011,2,20081105,1105, 40.8417, 138.0083, 3653,   3557.9,   0.3182,  34.0703,2,   -999.0,9,-999.0000,9,   -999.0,9,  -999.00,9,  -999.00,9,  -999.00,9,  -999.00,9,  -999.00,9, -999.000,9, -999.000,9,  -999.00,9,   2240.8,3,   -999.0,1,-999.0000,9,   -999.0,  9,  -999.00,9,   -999.0,  -999.00,9,  -999.00,9,  -999.00,9,  -999.00,9,   -999.0,-999.0000, -999,9, 3501,   0.0802,  27.3515,   -999.0,9
       SM08-10,  NONE,SM-5470,  1,     -9,      -9,5,20081105,1904, 41.1518, 138.0317, 3686,      0.0,  12.7900,  34.0127,2,   -999.0,9,-999.0000,9,    265.4,2,  -999.00,9,  -999.00,9,  -999.00,9,  -999.00,9,  -999.00,9, -999.000,9, -999.000,9,  -999.00,9,   -999.0,9,   -999.0,9,-999.0000,9,   -999.0,  9,  -999.00,9,   -999.0,  -999.00,9,  -999.00,9,  -999.00,9,  -999.00,9,   -999.0,-999.0000, -999,9,    0,  12.7899,  25.6697,   -999.0,9
       SM08-10,  NONE,SM-5470,  1,     12,02-14035,2,20081105,1900, 41.1518, 138.0317, 3686,    102.3,   2.2544,  34.0794,2,   -999.0,9,  34.0788,2,    290.6,2,  -999.00,9,  -999.00,9,  -999.00,9,  -999.00,9,  -999.00,9, -999.000,9, -999.000,9,  -999.00,9,   -999.0,9,   -999.0,9,-999.0000,9,   -999.0,  9,  -999.00,9,   -999.0,  -999.00,9,  -999.00,9,  -999.00,9,  -999.00,9,   -999.0,-999.0000, -999,9,  101,   2.2489,  27.2144,   -999.0,9
       SM08-10,  NONE,SM-5470,  1,     11, 02-6324,2,20081105,1857, 41.1518, 138.0317, 3686,    203.8,   1.5033,  34.0802,2,   -999.0,9,  34.0806,2,    291.9,2,  -999.00,9,  -999.00,9,  -999.00,9,  -999.00,9,  -999.00,9, -999.000,9, -999.000,9,  -999.00,9,   -999.0,9,   -999.0,9,-999.0000,9,   -999.0,  9,  -999.00,9,   -999.0,  -999.00,9,  -999.00,9,  -999.00,9,  -999.00,9,   -999.0,-999.0000, -999,9,  202,   1.4934,  27.2724,   -999.0,9
       SM08-10,  NONE,SM-5470,  1,     10,8802-010,2,20081105,1849, 41.1518, 138.0317, 3686,    405.9,   0.8318,  34.0735,2,   -999.0,9,  34.0731,2,    245.5,2,  -999.00,9,  -999.00,9,  -999.00,9,  -999.00,9,  -999.00,9, -999.000,9, -999.000,9,  -999.00,9,   -999.0,9,   -999.0,9,-999.0000,9,   -999.0,  9,  -999.00,9,   -999.0,  -999.00,9,  -999.00,9,  -999.00,9,  -999.00,9,   -999.0,-999.0000, -999,9,  402,   0.8136,  27.3122,   -999.0,9
       SM08-10,  NONE,SM-5470,  1,      9,02-18042,2,20081105,1843, 41.1518, 138.0317, 3686,    606.8,   0.5618,  34.0746,2,   -999.0,9,  34.0737,2,    224.8,2,  -999.00,9,  -999.00,9,  -999.00,9,  -999.00,9,  -999.00,9, -999.000,9, -999.000,9,  -999.00,9,   -999.0,9,   -999.0,9,-999.0000,9,   -999.0,  9,  -999.00,9,   -999.0,  -999.00,9,  -999.00,9,  -999.00,9,  -999.00,9,   -999.0,-999.0000, -999,9,  601,   0.5349,  27.3299,   -999.0,9
       SM08-10,  NONE,SM-5470,  1,      8,10017-03,2,20081105,1830, 41.1518, 138.0317, 3686,    808.7,   0.4131,  34.0727,2,   -999.0,9,  34.0742,2,    218.2,2,  -999.00,9,  -999.00,9,  -999.00,9,  -999.00,9,  -999.00,9, -999.000,9, -999.000,9,  -999.00,9,   -999.0,9,   -999.0,9,-999.0000,9,   -999.0,  9,  -999.00,9,   -999.0,  -999.00,9,  -999.00,9,  -999.00,9,  -999.00,9,   -999.0,-999.0000, -999,9,  801,   0.3769,  27.3374,   -999.0,9
       SM08-10,  NONE,SM-5470,  1,      7,02-15147,2,20081105,1826, 41.1518, 138.0317, 3686,   1010.4,   0.3116,  34.0712,2,   -999.0,9,  34.0707,2,    213.2,2,  -999.00,9,  -999.00,9,  -999.00,9,  -999.00,9,  -999.00,9, -999.000,9, -999.000,9,  -999.00,9,   -999.0,9,   -999.0,9,-999.0000,9,   -999.0,  9,  -999.00,9,   -999.0,  -999.00,9,  -999.00,9,  -999.00,9,  -999.00,9,   -999.0,-999.0000, -999,9, 1000,   0.2654,  27.3424,   -999.0,9
       SM08-10,  NONE,SM-5470,  1,      6,02-10267,2,20081105,1821, 41.1518, 138.0317, 3686,   1213.5,   0.2622,  34.0700,2,   -999.0,9,  34.0693,2,    211.7,2,  -999.00,9,  -999.00,9,  -999.00,9,  -999.00,9,  -999.00,9, -999.000,9, -999.000,9,  -999.00,9,   -999.0,9,   -999.0,9,-999.0000,9,   -999.0,  9,  -999.00,9,   -999.0,  -999.00,9,  -999.00,9,  -999.00,9,  -999.00,9,   -999.0,-999.0000, -999,9, 1201,   0.2050,  27.3447,   -999.0,9
       SM08-10,  NONE,SM-5470,  1,      5, 02-6327,2,20081105,1815, 41.1518, 138.0317, 3686,   1517.9,   0.2220,  34.0694,2,   -999.0,9,  34.0682,2,    209.5,2,  -999.00,9,  -999.00,9,  -999.00,9,  -999.00,9,  -999.00,9, -999.000,9, -999.000,9,  -999.00,9,   -999.0,9,   -999.0,9,-999.0000,9,   -999.0,  9,  -999.00,9,   -999.0,  -999.00,9,  -999.00,9,  -999.00,9,  -999.00,9,   -999.0,-999.0000, -999,9, 1501,   0.1470,  27.3473,   -999.0,9
       SM08-10,  NONE,SM-5470,  1,      4,8802-009,2,20081105,1806, 41.1518, 138.0317, 3686,   2024.4,   0.2128,  34.0692,2,   -999.0,9,  34.0678,2,    207.8,2,  -999.00,9,  -999.00,9,  -999.00,9,  -999.00,9,  -999.00,9, -999.000,9, -999.000,9,  -999.00,9,   -999.0,9,   -999.0,9,-999.0000,9,   -999.0,  9,  -999.00,9,   -999.0,  -999.00,9,  -999.00,9,  -999.00,9,  -999.00,9,   -999.0,-999.0000, -999,9, 1999,   0.1042,  27.3494,   -999.0,9
       SM08-10,  NONE,SM-5470,  1,      3,10017-01,2,20081105,1757, 41.1518, 138.0317, 3686,   2533.5,   0.2268,  34.0699,2,   -999.0,9,  34.0680,2,    208.7,2,  -999.00,9,  -999.00,9,  -999.00,9,  -999.00,9,  -999.00,9, -999.000,9, -999.000,9,  -999.00,9,   -999.0,9,   -999.0,9,-999.0000,9,   -999.0,  9,  -999.00,9,   -999.0,  -999.00,9,  -999.00,9,  -999.00,9,  -999.00,9,   -999.0,-999.0000, -999,9, 2499,   0.0798,  27.3513,   -999.0,9
       SM08-10,  NONE,SM-5470,  1,      2,02-17553,2,20081105,1749, 41.1518, 138.0317, 3686,   3042.7,   0.2694,  34.0703,2,   -999.0,9,  34.0681,2,    213.3,4,  -999.00,9,  -999.00,9,  -999.00,9,  -999.00,9,  -999.00,9, -999.000,9, -999.000,9,  -999.00,9,   -999.0,9,   -999.0,9,-999.0000,9,   -999.0,  9,  -999.00,9,   -999.0,  -999.00,9,  -999.00,9,  -999.00,9,  -999.00,9,   -999.0,-999.0000, -999,9, 2997,   0.0794,  27.3516,   -999.0,9
       SM08-10,  NONE,SM-5470,  1,      1,8802-011,2,20081105,1744, 41.1518, 138.0317, 3686,   3336.3,   0.2964,  34.0702,2,   -999.0,9,  34.0697,2,    209.5,2,  -999.00,9,  -999.00,9,  -999.00,9,  -999.00,9,  -999.00,9, -999.000,9, -999.000,9,  -999.00,9,   -999.0,9,   -999.0,9,-999.0000,9,   -999.0,  9,  -999.00,9,   -999.0,  -999.00,9,  -999.00,9,  -999.00,9,  -999.00,9,   -999.0,-999.0000, -999,9, 3284,   0.0795,  27.3515,   -999.0,9
       SM08-10,  NONE,SM-5472,  1,     -9,      -9,5,20081106,0402, 41.8362, 138.0052, 3688,      0.0,  12.0683,  34.0938,2,   -999.0,9,-999.0000,9,    270.1,2,  -999.00,9,  -999.00,9,  -999.00,9,  -999.00,9,  -999.00,9, -999.000,9, -999.000,9,  -999.00,9,   -999.0,9,   -999.0,9,-999.0000,9,   -999.0,  9,  -999.00,9,   -999.0,  -999.00,9,  -999.00,9,  -999.00,9,  -999.00,9,   -999.0,-999.0000, -999,9,    0,  12.0682,  25.8723,   -999.0,9
       SM08-10,  NONE,SM-5472,  1,     12,02-14035,2,20081106,0400, 41.8362, 138.0052, 3688,    101.0,   2.5274,  34.0971,2,   -999.0,9,-999.0000,9,    296.4,2,  -999.00,9,  -999.00,9,  -999.00,9,  -999.00,9,  -999.00,9, -999.000,9, -999.000,9,  -999.00,9,   -999.0,9,   -999.0,9,-999.0000,9,   -999.0,  9,  -999.00,9,   -999.0,  -999.00,9,  -999.00,9,  -999.00,9,  -999.00,9,   -999.0,-999.0000, -999,9,  100,   2.5217,  27.2060,   -999.0,9
       SM08-10,  NONE,SM-5472,  1,     11, 02-6324,2,20081106,0357, 41.8362, 138.0052, 3688,    203.1,   1.8031,  34.0858,2,   -999.0,9,-999.0000,9,    294.9,2,  -999.00,9,  -999.00,9,  -999.00,9,  -999.00,9,  -999.00,9, -999.000,9, -999.000,9,  -999.00,9,   -999.0,9,   -999.0,9,-999.0000,9,   -999.0,  9,  -999.00,9,   -999.0,  -999.00,9,  -999.00,9,  -999.00,9,  -999.00,9,   -999.0,-999.0000, -999,9,  201,   1.7927,  27.2550,   -999.0,9
       SM08-10,  NONE,SM-5472,  1,     10,8802-010,2,20081106,0353, 41.8362, 138.0052, 3688,    402.7,   0.9426,  34.0752,2,   -999.0,9,-999.0000,9,    261.9,2,  -999.00,9,  -999.00,9,  -999.00,9,  -999.00,9,  -999.00,9, -999.000,9, -999.000,9,  -999.00,9,   -999.0,9,   -999.0,9,-999.0000,9,   -999.0,  9,  -999.00,9,   -999.0,  -999.00,9,  -999.00,9,  -999.00,9,  -999.00,9,   -999.0,-999.0000, -999,9,  399,   0.9242,  27.3067,   -999.0,9
       SM08-10,  NONE,SM-5472,  1,      9,02-18042,2,20081106,0347, 41.8362, 138.0052, 3688,    605.7,   0.6079,  34.0743,2,   -999.0,9,-999.0000,9,    227.0,2,  -999.00,9,  -999.00,9,  -999.00,9,  -999.00,9,  -999.00,9, -999.000,9, -999.000,9,  -999.00,9,   -999.0,9,   -999.0,9,-999.0000,9,   -999.0,  9,  -999.00,9,   -999.0,  -999.00,9,  -999.00,9,  -999.00,9,  -999.00,9,   -999.0,-999.0000, -999,9,  600,   0.5809,  27.3270,   -999.0,9
       SM08-10,  NONE,SM-5472,  1,      8,10017-03,2,20081106,0343, 41.8362, 138.0052, 3688,    807.9,   0.4443,  34.0732,2,   -999.0,9,-999.0000,9,    220.4,2,  -999.00,9,  -999.00,9,  -999.00,9,  -999.00,9,  -999.00,9, -999.000,9, -999.000,9,  -999.00,9,   -999.0,9,   -999.0,9,-999.0000,9,   -999.0,  9,  -999.00,9,   -999.0,  -999.00,9,  -999.00,9,  -999.00,9,  -999.00,9,   -999.0,-999.0000, -999,9,  800,   0.4079,  27.3361,   -999.0,9
       SM08-10,  NONE,SM-5472,  1,      7,02-15147,2,20081106,0339, 41.8362, 138.0052, 3688,   1012.6,   0.3310,  34.0712,2,   -999.0,9,-999.0000,9,    213.5,2,  -999.00,9,  -999.00,9,  -999.00,9,  -999.00,9,  -999.00,9, -999.000,9, -999.000,9,  -999.00,9,   -999.0,9,   -999.0,9,-999.0000,9,   -999.0,  9,  -999.00,9,   -999.0,  -999.00,9,  -999.00,9,  -999.00,9,  -999.00,9,   -999.0,-999.0000, -999,9, 1002,   0.2845,  27.3414,   -999.0,9
       SM08-10,  NONE,SM-5472,  1,      6,02-10267,2,20081106,0335, 41.8362, 138.0052, 3688,   1213.7,   0.2807,  34.0705,2,   -999.0,9,-999.0000,9,    211.7,2,  -999.00,9,  -999.00,9,  -999.00,9,  -999.00,9,  -999.00,9, -999.000,9, -999.000,9,  -999.00,9,   -999.0,9,   -999.0,9,-999.0000,9,   -999.0,  9,  -999.00,9,   -999.0,  -999.00,9,  -999.00,9,  -999.00,9,  -999.00,9,   -999.0,-999.0000, -999,9, 1201,   0.2233,  27.3441,   -999.0,9
       SM08-10,  NONE,SM-5472,  1,      5, 02-6327,2,20081106,0328, 41.8362, 138.0052, 3688,   1515.3,   0.2300,  34.0695,2,   -999.0,9,-999.0000,9,    209.5,2,  -999.00,9,  -999.00,9,  -999.00,9,  -999.00,9,  -999.00,9, -999.000,9, -999.000,9,  -999.00,9,   -999.0,9,   -999.0,9,-999.0000,9,   -999.0,  9,  -999.00,9,   -999.0,  -999.00,9,  -999.00,9,  -999.00,9,  -999.00,9,   -999.0,-999.0000, -999,9, 1498,   0.1550,  27.3470,   -999.0,9
       SM08-10,  NONE,SM-5472,  1,      4,8802-009,2,20081106,0320, 41.8362, 138.0052, 3688,   2026.3,   0.2131,  34.0694,2,   -999.0,9,-999.0000,9,    207.3,2,  -999.00,9,  -999.00,9,  -999.00,9,  -999.00,9,  -999.00,9, -999.000,9, -999.000,9,  -999.00,9,   -999.0,9,   -999.0,9,-999.0000,9,   -999.0,  9,  -999.00,9,   -999.0,  -999.00,9,  -999.00,9,  -999.00,9,  -999.00,9,   -999.0,-999.0000, -999,9, 2001,   0.1043,  27.3495,   -999.0,9
       SM08-10,  NONE,SM-5472,  1,      3,10017-01,2,20081106,0311, 41.8362, 138.0052, 3688,   2534.3,   0.2268,  34.0701,2,   -999.0,9,-999.0000,9,    208.0,2,  -999.00,9,  -999.00,9,  -999.00,9,  -999.00,9,  -999.00,9, -999.000,9, -999.000,9,  -999.00,9,   -999.0,9,   -999.0,9,-999.0000,9,   -999.0,  9,  -999.00,9,   -999.0,  -999.00,9,  -999.00,9,  -999.00,9,  -999.00,9,   -999.0,-999.0000, -999,9, 2499,   0.0798,  27.3514,   -999.0,9
       SM08-10,  NONE,SM-5472,  1,      2,02-17553,2,20081106,0302, 41.8362, 138.0052, 3688,   3045.9,   0.2700,  34.0701,2,   -999.0,9,-999.0000,9,    209.2,2,  -999.00,9,  -999.00,9,  -999.00,9,  -999.00,9,  -999.00,9, -999.000,9, -999.000,9,  -999.00,9,   -999.0,9,   -999.0,9,-999.0000,9,   -999.0,  9,  -999.00,9,   -999.0,  -999.00,9,  -999.00,9,  -999.00,9,  -999.00,9,   -999.0,-999.0000, -999,9, 3000,   0.0797,  27.3514,   -999.0,9
       SM08-10,  NONE,SM-5472,  1,      1,8802-011,2,20081106,0253, 41.8362, 138.0052, 3688,   3558.7,   0.3182,  34.0701,2,   -999.0,9,-999.0000,9,    208.6,2,  -999.00,9,  -999.00,9,  -999.00,9,  -999.00,9,  -999.00,9, -999.000,9, -999.000,9,  -999.00,9,   -999.0,9,   -999.0,9,-999.0000,9,   -999.0,  9,  -999.00,9,   -999.0,  -999.00,9,  -999.00,9,  -999.00,9,  -999.00,9,   -999.0,-999.0000, -999,9, 3501,   0.0801,  27.3514,   -999.0,9