BOTTLE,20130510GEMDJMAYT
EXPOCODE,SECT_ID,STNNBR,CASTNO,SAMPNO,BTLNBR,BTLNBR_FLAG_W,DATE,TIME,LATITUDE,LONGITUDE,DEPTH,CTDPRS,CTDTMP,CTDSAL,CTDSAL_FLAG_W,CTDOXY,CTDOXY_FLAG_W,SALNTY,SALNTY_FLAG_W,OXYGEN,OXYGEN_FLAG_W,SILCAT,SILCAT_FLAG_W,NITRAT,NITRAT_FLAG_W,NO2+NO3,NO2+NO3_FLAG_W,NITRIT,NITRIT_FLAG_W,PHSPHT,PHSPHT_FLAG_W,CFC-11,CFC-11_FLAG_W,CFC-12,CFC-12_FLAG_W,DELC13,DELC13_FLAG_W,TCARBN,TCARBN_FLAG_W,ALKALI,ALKALI_FLAG_W,PH,PH_FLAG_W,PH_TMP,PH_SCALE,PH_NBS,PH_NBS_FLAG_W,C13ERR,TOTALP,TOTALP_FLAG_W,AMMONI,AMMONI_FLAG_W,CHLORA,CHLORA_FLAG_W,PPHYTN,PPHYTN_FLAG_W,REVPRS,REVTMP,DEPTH_,DEPTH_FLAG,CTDDEP,THETA,SIGTHT,DOC,DOC_FLAG_W
,,,,,,,GMT,GMT,,,METER,DBAR,ITS-90,PSS-78,,UMOL/KG,,PSS-78,,UMOL/KG,,UMOL/KG,,UMOL/KG,,UMOL/KG,,UMOL/KG,,UMOL/KG,,PMOL/KG,,PMOL/KG,,/MILLE,,UMOL/KG,,UMOL/KG,,25_DEG_C,,DEG_C,,,,/MILLE,UMOL/KG,,UMOL/KG,,UG/L,,UG/L,,DBAR,ITS-90,METERS,,METERS,DEG_C,,UMOL/L,
       SM08-10,  137E,SM-5454,  2,     12,02-14035,2,20081026,1758, 40.3063, 136.0730, 2393,    307.3,   0.9450,  34.0697,2,   -999.0,9,-999.0000,9,    255.0,2,    31.89,2,  -999.00,9,    20.83,2,  -999.00,9,     1.52,2, -999.000,9, -999.000,9,  -999.00,9,   -999.0,9,   -999.0,9,-999.0000,9,   -999.0,  9,  -999.00,9,   -999.0,  -999.00,9,  -999.00,9,     0.00,2,     0.03,2,   -999.0,-999.0000, -999,9,  305,   0.9312,  27.3018,   -999.0,9
       SM08-10,  137E,SM-5454,  2,     11, 02-6324,2,20081026,1753, 40.3063, 136.0730, 2393,    407.0,   0.7374,  34.0712,2,   -999.0,9,  34.0704,2,    236.3,2,    38.24,2,  -999.00,9,    23.07,2,  -999.00,9,     1.70,2, -999.000,9, -999.000,9,  -999.00,9,   -999.0,9,   -999.0,9,-999.0000,9,   -999.0,  9,  -999.00,9,   -999.0,  -999.00,9,  -999.00,9,  -999.00,9,  -999.00,9,   -999.0,-999.0000, -999,9,  403,   0.7195,  27.3162,   -999.0,9
       SM08-10,  137E,SM-5454,  2,     10,8802-010,2,20081026,1752, 40.3063, 136.0730, 2393,    407.5,   0.7368,  34.0711,2,   -999.0,9,-999.0000,9,   -999.0,9,  -999.00,9,  -999.00,9,  -999.00,9,  -999.00,9,  -999.00,9, -999.000,9, -999.000,9,  -999.00,9,   2216.3,2,   -999.0,1,-999.0000,9,   -999.0,  9,  -999.00,9,   -999.0,  -999.00,9,  -999.00,9,  -999.00,9,  -999.00,9,   -999.0,-999.0000, -999,9,  404,   0.7189,  27.3161,   -999.0,9
       SM08-10,  137E,SM-5454,  2,      9,02-18042,2,20081026,1750, 40.3063, 136.0730, 2393,    507.7,   0.5837,  34.0731,2,   -999.0,9,-999.0000,9,    230.6,2,    43.30,2,  -999.00,9,    23.75,2,  -999.00,9,     1.78,2, -999.000,9, -999.000,9,  -999.00,9,   -999.0,9,   -999.0,9,-999.0000,9,   -999.0,  9,  -999.00,9,   -999.0,  -999.00,9,  -999.00,9,  -999.00,9,  -999.00,9,   -999.0,-999.0000, -999,9,  503,   0.5616,  27.3271,   -999.0,9
       SM08-10,  137E,SM-5454,  2,      8,10017-03,2,20081026,1746, 40.3063, 136.0730, 2393,    605.2,   0.5109,  34.0732,2,   -999.0,9,  34.0724,2,    226.7,2,    46.83,2,  -999.00,9,    24.24,2,  -999.00,9,     1.81,2, -999.000,9, -999.000,9,  -999.00,9,   -999.0,9,   -999.0,9,-999.0000,9,   -999.0,  9,  -999.00,9,   -999.0,  -999.00,9,  -999.00,9,  -999.00,9,  -999.00,9,   -999.0,-999.0000, -999,9,  600,   0.4844,  27.3317,   -999.0,9
       SM08-10,  137E,SM-5454,  2,      7,02-15147,2,20081026,1746, 40.3063, 136.0730, 2393,    606.4,   0.5105,  34.0733,2,   -999.0,9,-999.0000,9,   -999.0,9,  -999.00,9,  -999.00,9,  -999.00,9,  -999.00,9,  -999.00,9, -999.000,9, -999.000,9,  -999.00,9,   2221.6,2,   -999.0,1,-999.0000,9,   -999.0,  9,  -999.00,9,   -999.0,  -999.00,9,  -999.00,9,  -999.00,9,  -999.00,9,   -999.0,-999.0000, -999,9,  601,   0.4839,  27.3318,   -999.0,9
       SM08-10,  137E,SM-5454,  2,      6,02-10267,2,20081026,1744, 40.3063, 136.0730, 2393,    705.0,   0.4320,  34.0720,2,   -999.0,9,-999.0000,9,    219.8,2,    51.70,2,  -999.00,9,    24.72,2,  -999.00,9,     1.86,2, -999.000,9, -999.000,9,  -999.00,9,   -999.0,9,   -999.0,9,-999.0000,9,   -999.0,  9,  -999.00,9,   -999.0,  -999.00,9,  -999.00,9,  -999.00,9,  -999.00,9,   -999.0,-999.0000, -999,9,  698,   0.4009,  27.3355,   -999.0,9
       SM08-10,  137E,SM-5454,  2,      5, 02-6327,2,20081026,1741, 40.3063, 136.0730, 2393,    805.4,   0.3695,  34.0708,2,   -999.0,9,  34.0717,2,    215.0,2,    56.26,2,  -999.00,9,    25.11,2,  -999.00,9,     1.88,2, -999.000,9, -999.000,9,  -999.00,9,   -999.0,9,   -999.0,9,-999.0000,9,   -999.0,  9,  -999.00,9,   -999.0,  -999.00,9,  -999.00,9,  -999.00,9,  -999.00,9,   -999.0,-999.0000, -999,9,  798,   0.3337,  27.3383,   -999.0,9
       SM08-10,  137E,SM-5454,  2,      4,8802-009,2,20081026,1741, 40.3063, 136.0730, 2393,    808.5,   0.3672,  34.0706,2,   -999.0,9,-999.0000,9,   -999.0,9,  -999.00,9,  -999.00,9,  -999.00,9,  -999.00,9,  -999.00,9, -999.000,9, -999.000,9,  -999.00,9,   2237.4,2,   -999.0,1,-999.0000,9,   -999.0,  9,  -999.00,9,   -999.0,  -999.00,9,  -999.00,9,  -999.00,9,  -999.00,9,   -999.0,-999.0000, -999,9,  801,   0.3313,  27.3383,   -999.0,9
       SM08-10,  137E,SM-5454,  2,      3,10017-01,2,20081026,1739, 40.3063, 136.0730, 2393,    905.6,   0.3267,  34.0701,2,   -999.0,9,-999.0000,9,    213.4,2,    59.62,2,  -999.00,9,    25.21,2,  -999.00,9,     1.90,2, -999.000,9, -999.000,9,  -999.00,9,   -999.0,9,   -999.0,9,-999.0000,9,   -999.0,  9,  -999.00,9,   -999.0,  -999.00,9,  -999.00,9,  -999.00,9,  -999.00,9,   -999.0,-999.0000, -999,9,  897,   0.2860,  27.3404,   -999.0,9
       SM08-10,  137E,SM-5454,  2,      2,02-17553,2,20081026,1738, 40.3063, 136.0730, 2393,   1004.3,   0.2933,  34.0695,2,   -999.0,9,  34.0706,2,    211.2,2,    62.85,2,  -999.00,9,    25.31,2,  -999.00,9,     1.91,2, -999.000,9, -999.000,9,  -999.00,9,   -999.0,9,   -999.0,9,-999.0000,9,   -999.0,  9,  -999.00,9,   -999.0,  -999.00,9,  -999.00,9,  -999.00,9,  -999.00,9,   -999.0,-999.0000, -999,9,  994,   0.2476,  27.3420,   -999.0,9
       SM08-10,  137E,SM-5454,  2,      1,8802-011,2,20081026,1738, 40.3063, 136.0730, 2393,   1006.1,   0.2934,  34.0695,2,   -999.0,9,-999.0000,9,   -999.0,9,  -999.00,9,  -999.00,9,  -999.00,9,  -999.00,9,  -999.00,9, -999.000,9, -999.000,9,  -999.00,9,   2239.5,2,   -999.0,1,-999.0000,9,   -999.0,  9,  -999.00,9,   -999.0,  -999.00,9,  -999.00,9,  -999.00,9,  -999.00,9,   -999.0,-999.0000, -999,9,  996,   0.2476,  27.3420,   -999.0,9
       SM08-10,  137E,SM-5454,  1,     12,02-14035,2,20081026,1607, 40.3272, 136.0202, 2620,   1214.4,   0.2525,  34.0688,2,   -999.0,9,  34.0779,4,    208.9,2,    67.61,2,  -999.00,9,    25.50,2,  -999.00,9,     1.92,2, -999.000,9, -999.000,9,  -999.00,9,   -999.0,9,   -999.0,9,-999.0000,9,   -999.0,  9,  -999.00,9,   -999.0,  -999.00,9,  -999.00,9,  -999.00,9,  -999.00,9,   -999.0,-999.0000, -999,9, 1202,   0.1954,  27.3442,   -999.0,9
       SM08-10,  137E,SM-5454,  1,     11, 02-6324,2,20081026,1607, 40.3272, 136.0202, 2620,   1214.2,   0.2526,  34.0690,2,   -999.0,9,-999.0000,9,   -999.0,9,  -999.00,9,  -999.00,9,  -999.00,9,  -999.00,9,  -999.00,9, -999.000,9, -999.000,9,  -999.00,9,   2239.4,6,   -999.0,1,-999.0000,9,   -999.0,  9,  -999.00,9,   -999.0,  -999.00,9,  -999.00,9,  -999.00,9,  -999.00,9,   -999.0,-999.0000, -999,9, 1201,   0.1955,  27.3444,   -999.0,9
       SM08-10,  137E,SM-5454,  1,     10,8802-010,2,20081026,1601, 40.3272, 136.0202, 2620,   1518.1,   0.2201,  34.0684,2,   -999.0,9,  34.0690,2,    208.1,2,    71.94,2,  -999.00,9,    25.50,2,  -999.00,9,     1.93,2, -999.000,9, -999.000,9,  -999.00,9,   2244.7,2,   -999.0,1,-999.0000,9,   -999.0,  9,  -999.00,9,   -999.0,  -999.00,9,  -999.00,9,  -999.00,9,  -999.00,9,   -999.0,-999.0000, -999,9, 1501,   0.1451,  27.3466,   -999.0,9
       SM08-10,  137E,SM-5454,  1,      9,02-18042,2,20081026,1601, 40.3272, 136.0202, 2620,   1517.9,   0.2201,  34.0685,2,   -999.0,9,-999.0000,9,   -999.0,9,  -999.00,9,  -999.00,9,  -999.00,9,  -999.00,9,  -999.00,9, -999.000,9, -999.000,9,  -999.00,9,   -999.0,9,   -999.0,9,-999.0000,9,   -999.0,  9,  -999.00,9,   -999.0,  -999.00,9,  -999.00,9,  -999.00,9,  -999.00,9,   -999.0,-999.0000, -999,9, 1501,   0.1451,  27.3467,   -999.0,9
       SM08-10,  137E,SM-5454,  1,      8,10017-03,2,20081026,1557, 40.3272, 136.0202, 2620,   1718.4,   0.2157,  34.0689,2,   -999.0,9,-999.0000,9,    204.9,2,    77.58,2,  -999.00,9,    25.79,2,  -999.00,9,     1.97,2, -999.000,9, -999.000,9,  -999.00,9,   -999.0,9,   -999.0,9,-999.0000,9,   -999.0,  9,  -999.00,9,   -999.0,  -999.00,9,  -999.00,9,  -999.00,9,  -999.00,9,   -999.0,-999.0000, -999,9, 1698,   0.1279,  27.3479,   -999.0,9
       SM08-10,  137E,SM-5454,  1,      7,02-15147,2,20081026,1557, 40.3272, 136.0202, 2620,   1718.1,   0.2159,  34.0689,2,   -999.0,9,-999.0000,9,   -999.0,9,  -999.00,9,  -999.00,9,  -999.00,9,  -999.00,9,  -999.00,9, -999.000,9, -999.000,9,  -999.00,9,   2245.6,2,   -999.0,1,-999.0000,9,   -999.0,  9,  -999.00,9,   -999.0,  -999.00,9,  -999.00,9,  -999.00,9,  -999.00,9,   -999.0,-999.0000, -999,9, 1698,   0.1281,  27.3479,   -999.0,9
       SM08-10,  137E,SM-5454,  1,      6,02-10267,2,20081026,1553, 40.3272, 136.0202, 2620,   1918.8,   0.2143,  34.0689,2,   -999.0,9,-999.0000,9,    204.7,2,    79.83,2,  -999.00,9,    25.89,2,  -999.00,9,     1.97,2, -999.000,9, -999.000,9,  -999.00,9,   -999.0,9,   -999.0,9,-999.0000,9,   -999.0,  9,  -999.00,9,   -999.0,  -999.00,9,  -999.00,9,  -999.00,9,  -999.00,9,   -999.0,-999.0000, -999,9, 1895,   0.1130,  27.3487,   -999.0,9
       SM08-10,  137E,SM-5454,  1,      5, 02-6327,2,20081026,1553, 40.3272, 136.0202, 2620,   1920.7,   0.2142,  34.0688,2,   -999.0,9,-999.0000,9,   -999.0,9,  -999.00,9,  -999.00,9,  -999.00,9,  -999.00,9,  -999.00,9, -999.000,9, -999.000,9,  -999.00,9,   2248.8,2,   -999.0,1,-999.0000,9,   -999.0,  9,  -999.00,9,   -999.0,  -999.00,9,  -999.00,9,  -999.00,9,  -999.00,9,   -999.0,-999.0000, -999,9, 1897,   0.1128,  27.3486,   -999.0,9
       SM08-10,  137E,SM-5454,  1,      4,8802-009,2,20081026,1551, 40.3272, 136.0202, 2620,   2022.8,   0.2135,  34.0689,2,   -999.0,9,  34.0676,2,    204.8,2,    81.17,2,  -999.00,9,    25.99,2,  -999.00,9,     1.98,2, -999.000,9, -999.000,9,  -999.00,9,   -999.0,9,   -999.0,9,-999.0000,9,   -999.0,  9,  -999.00,9,   -999.0,  -999.00,9,  -999.00,9,  -999.00,9,  -999.00,9,   -999.0,-999.0000, -999,9, 1998,   0.1050,  27.3491,   -999.0,9
       SM08-10,  137E,SM-5454,  1,      3,10017-01,2,20081026,1551, 40.3272, 136.0202, 2620,   2021.7,   0.2135,  34.0690,2,   -999.0,9,-999.0000,9,   -999.0,9,  -999.00,9,  -999.00,9,  -999.00,9,  -999.00,9,  -999.00,9, -999.000,9, -999.000,9,  -999.00,9,   2244.4,3,   -999.0,1,-999.0000,9,   -999.0,  9,  -999.00,9,   -999.0,  -999.00,9,  -999.00,9,  -999.00,9,  -999.00,9,   -999.0,-999.0000, -999,9, 1996,   0.1050,  27.3492,   -999.0,9
       SM08-10,  137E,SM-5454,  1,      2,02-17553,2,20081026,1546, 40.3272, 136.0202, 2620,   2326.2,   0.2206,  34.0691,2,   -999.0,9,  34.0691,2,    205.7,2,    83.19,2,  -999.00,9,    26.28,2,  -999.00,9,     1.97,2, -999.000,9, -999.000,9,  -999.00,9,   -999.0,9,   -999.0,9,-999.0000,9,   -999.0,  9,  -999.00,9,   -999.0,  -999.00,9,  -999.00,9,  -999.00,9,  -999.00,9,   -999.0,-999.0000, -999,9, 2296,   0.0898,  27.3501,   -999.0,9
       SM08-10,  137E,SM-5454,  1,      1,8802-011,2,20081026,1546, 40.3272, 136.0202, 2620,   2327.7,   0.2207,  34.0690,2,   -999.0,9,-999.0000,9,   -999.0,9,  -999.00,9,  -999.00,9,  -999.00,9,  -999.00,9,  -999.00,9, -999.000,9, -999.000,9,  -999.00,9,   2251.4,2,   -999.0,1,-999.0000,9,   -999.0,  9,  -999.00,9,   -999.0,  -999.00,9,  -999.00,9,  -999.00,9,  -999.00,9,   -999.0,-999.0000, -999,9, 2297,   0.0897,  27.3500,   -999.0,9
       SM08-10,  137E,SM-5456,  2,     -9,      -9,5,20081027,0219, 39.8743, 136.3367, 2082,      0.0,  17.3742,  33.9042,2,   -999.0,9,-999.0000,9,    242.1,2,     3.12,2,  -999.00,9,     0.10,2,  -999.00,9,     0.00,2, -999.000,9, -999.000,9,  -999.00,9,   -999.0,9,   -999.0,9,-999.0000,9,   -999.0,  9,  -999.00,9,   -999.0,  -999.00,9,  -999.00,9,     0.21,2,     0.11,2,   -999.0,-999.0000, -999,9,    0,  17.3741,  24.5844,   -999.0,9
       SM08-10,  137E,SM-5456,  2,     11, 02-6324,2,20081027,0218, 39.8743, 136.3367, 2082,     10.7,  17.3797,  33.9034,2,   -999.0,9,-999.0000,9,    242.3,2,     3.07,2,  -999.00,9,     0.10,2,  -999.00,9,     0.01,2, -999.000,9, -999.000,9,  -999.00,9,   -999.0,9,   -999.0,9,-999.0000,9,   -999.0,  9,  -999.00,9,   -999.0,  -999.00,9,  -999.00,9,     0.23,2,     0.11,2,   -999.0,-999.0000, -999,9,   11,  17.3779,  24.5829,   -999.0,9
       SM08-10,  137E,SM-5456,  2,     10,8802-010,2,20081027,0217, 39.8743, 136.3367, 2082,     20.1,  17.3719,  33.9019,2,   -999.0,9,-999.0000,9,    241.8,2,     3.15,2,  -999.00,9,     0.20,2,  -999.00,9,     0.02,2, -999.000,9, -999.000,9,  -999.00,9,   -999.0,9,   -999.0,9,-999.0000,9,   -999.0,  9,  -999.00,9,   -999.0,  -999.00,9,  -999.00,9,     0.24,2,     0.10,2,   -999.0,-999.0000, -999,9,   20,  17.3686,  24.5839,   -999.0,9
       SM08-10,  137E,SM-5456,  2,      9,02-18042,2,20081027,0216, 39.8743, 136.3367, 2082,     31.1,  16.0008,  34.1720,2,   -999.0,9,-999.0000,9,    249.6,2,     3.56,2,  -999.00,9,     0.29,2,  -999.00,9,     0.04,2, -999.000,9, -999.000,9,  -999.00,9,   -999.0,9,   -999.0,9,-999.0000,9,   -999.0,  9,  -999.00,9,   -999.0,  -999.00,9,  -999.00,9,     0.32,2,     0.20,2,   -999.0,-999.0000, -999,9,   31,  15.9959,  25.1116,   -999.0,9
       SM08-10,  137E,SM-5456,  2,      8,10017-03,2,20081027,0215, 39.8743, 136.3367, 2082,     50.4,  11.9324,  34.3746,2,   -999.0,9,-999.0000,9,    235.8,2,     6.02,2,  -999.00,9,     5.17,2,  -999.00,9,     0.37,2, -999.000,9, -999.000,9,  -999.00,9,   -999.0,9,   -999.0,9,-999.0000,9,   -999.0,  9,  -999.00,9,   -999.0,  -999.00,9,  -999.00,9,     0.32,2,     0.26,2,   -999.0,-999.0000, -999,9,   50,  11.9259,  26.1174,   -999.0,9
       SM08-10,  137E,SM-5456,  2,      7,02-15147,2,20081027,0215, 39.8743, 136.3367, 2082,     77.1,   8.8791,  34.2263,2,   -999.0,9,-999.0000,9,    253.5,2,     8.29,2,  -999.00,9,     7.99,2,  -999.00,9,     0.54,2, -999.000,9, -999.000,9,  -999.00,9,   -999.0,9,   -999.0,9,-999.0000,9,   -999.0,  9,  -999.00,9,   -999.0,  -999.00,9,  -999.00,9,     0.11,2,     0.10,2,   -999.0,-999.0000, -999,9,   76,   8.8709,  26.5327,   -999.0,9
       SM08-10,  137E,SM-5456,  2,      6,02-10267,2,20081027,0214, 39.8743, 136.3367, 2082,    101.0,   6.0464,  34.1149,2,   -999.0,9,-999.0000,9,    268.7,2,    10.45,2,  -999.00,9,     9.74,2,  -999.00,9,     0.66,2, -999.000,9, -999.000,9,  -999.00,9,   -999.0,9,   -999.0,9,-999.0000,9,   -999.0,  9,  -999.00,9,   -999.0,  -999.00,9,  -999.00,9,     0.08,2,     0.09,2,   -999.0,-999.0000, -999,9,  100,   6.0379,  26.8485,   -999.0,9
       SM08-10,  137E,SM-5456,  2,      5, 02-6327,2,20081027,0213, 39.8743, 136.3367, 2082,    125.8,   4.6275,  34.0751,2,   -999.0,9,-999.0000,9,    289.3,2,    11.39,2,  -999.00,9,     9.64,2,  -999.00,9,     0.67,2, -999.000,9, -999.000,9,  -999.00,9,   -999.0,9,   -999.0,9,-999.0000,9,   -999.0,  9,  -999.00,9,   -999.0,  -999.00,9,  -999.00,9,     0.06,2,     0.07,2,   -999.0,-999.0000, -999,9,  125,   4.6183,  26.9848,   -999.0,9
       SM08-10,  137E,SM-5456,  2,      4,8802-009,2,20081027,0212, 39.8743, 136.3367, 2082,    151.9,   4.0410,  34.0639,2,   -999.0,9,-999.0000,9,    296.2,2,    11.96,2,  -999.00,9,     9.64,2,  -999.00,9,     0.66,2, -999.000,9, -999.000,9,  -999.00,9,   -999.0,9,   -999.0,9,-999.0000,9,   -999.0,  9,  -999.00,9,   -999.0,  -999.00,9,  -999.00,9,     0.04,2,     0.07,2,   -999.0,-999.0000, -999,9,  151,   4.0306,  27.0384,   -999.0,9
       SM08-10,  137E,SM-5456,  2,      3,10017-01,2,20081027,0211, 39.8743, 136.3367, 2082,    201.6,   2.9134,  34.0429,2,   -999.0,9,-999.0000,9,    293.0,2,    15.67,2,  -999.00,9,    12.46,2,  -999.00,9,     0.87,2, -999.000,9, -999.000,9,  -999.00,9,   -999.0,9,   -999.0,9,-999.0000,9,   -999.0,  9,  -999.00,9,   -999.0,  -999.00,9,  -999.00,9,     0.01,2,     0.06,2,   -999.0,-999.0000, -999,9,  200,   2.9013,  27.1299,   -999.0,9
       SM08-10,  137E,SM-5456,  2,      2,02-17553,2,20081027,0209, 39.8743, 136.3367, 2082,    251.1,   1.9675,  34.0475,2,   -999.0,9,-999.0000,9,    288.8,2,    19.77,2,  -999.00,9,    14.99,2,  -999.00,9,     1.06,2, -999.000,9, -999.000,9,  -999.00,9,   -999.0,9,   -999.0,9,-999.0000,9,   -999.0,  9,  -999.00,9,   -999.0,  -999.00,9,  -999.00,9,     0.00,2,     0.04,2,   -999.0,-999.0000, -999,9,  249,   1.9543,  27.2121,   -999.0,9
       SM08-10,  137E,SM-5456,  2,      1,8802-011,2,20081027,0208, 39.8743, 136.3367, 2082,    303.3,   1.5655,  34.0562,2,   -999.0,9,-999.0000,9,    281.1,2,    22.99,2,  -999.00,9,    16.84,2,  -999.00,9,     1.20,2, -999.000,9, -999.000,9,  -999.00,9,   -999.0,9,   -999.0,9,-999.0000,9,   -999.0,  9,  -999.00,9,   -999.0,  -999.00,9,  -999.00,9,     0.00,2,     0.04,2,   -999.0,-999.0000, -999,9,  301,   1.5504,  27.2491,   -999.0,9