BOTTLE,20130510GEMDJMAYT
EXPOCODE,SECT_ID,STNNBR,CASTNO,SAMPNO,BTLNBR,BTLNBR_FLAG_W,DATE,TIME,LATITUDE,LONGITUDE,DEPTH,CTDPRS,CTDTMP,CTDSAL,CTDSAL_FLAG_W,CTDOXY,CTDOXY_FLAG_W,SALNTY,SALNTY_FLAG_W,OXYGEN,OXYGEN_FLAG_W,SILCAT,SILCAT_FLAG_W,NITRAT,NITRAT_FLAG_W,NO2+NO3,NO2+NO3_FLAG_W,NITRIT,NITRIT_FLAG_W,PHSPHT,PHSPHT_FLAG_W,CFC-11,CFC-11_FLAG_W,CFC-12,CFC-12_FLAG_W,DELC13,DELC13_FLAG_W,TCARBN,TCARBN_FLAG_W,ALKALI,ALKALI_FLAG_W,PH,PH_FLAG_W,PH_TMP,PH_SCALE,PH_NBS,PH_NBS_FLAG_W,C13ERR,TOTALP,TOTALP_FLAG_W,AMMONI,AMMONI_FLAG_W,CHLORA,CHLORA_FLAG_W,PPHYTN,PPHYTN_FLAG_W,REVPRS,REVTMP,DEPTH_,DEPTH_FLAG,CTDDEP,THETA,SIGTHT,DOC,DOC_FLAG_W
,,,,,,,GMT,GMT,,,METER,DBAR,ITS-90,PSS-78,,UMOL/KG,,PSS-78,,UMOL/KG,,UMOL/KG,,UMOL/KG,,UMOL/KG,,UMOL/KG,,UMOL/KG,,PMOL/KG,,PMOL/KG,,/MILLE,,UMOL/KG,,UMOL/KG,,25_DEG_C,,DEG_C,,,,/MILLE,UMOL/KG,,UMOL/KG,,UG/L,,UG/L,,DBAR,ITS-90,METERS,,METERS,DEG_C,,UMOL/L,
       SH00-01,  NONE,SH-5921,  2,     -9,      -9,5,20000202,1400, 29.5043, 133.4887, 2700,      0.0,  19.7943,  34.7748,2,   -999.0,9,-999.0000,9,    224.5,2,  -999.00,9,  -999.00,9,     0.29,2,     0.16,2,     0.05,2, -999.000,9, -999.000,9,  -999.00,9,   -999.0,9,   -999.0,9,-999.0000,9,   -999.0,  9,     8.18,2,   -999.0,  -999.00,9,  -999.00,9,     0.21,2,     0.25,2,   -999.0,-999.0000, -999,9,    0,  19.7943,  24.6439,   -999.0,9
       SH00-01,  NONE,SH-5921,  2,     10,1-133-94,2,20000202,1359, 29.5043, 133.4887, 2700,     11.1,  19.8131,  34.7746,2,   -999.0,9,  34.7817,2,    223.6,2,  -999.00,9,  -999.00,9,     0.39,2,     0.17,2,     0.04,2, -999.000,9, -999.000,9,  -999.00,9,   -999.0,9,   -999.0,9,-999.0000,9,   -999.0,  9,     8.18,2,   -999.0,  -999.00,9,  -999.00,9,     0.19,2,     0.27,2,   -999.0,-999.0000, -999,9,   11,  19.8111,  24.6394,   -999.0,9
       SH00-01,  NONE,SH-5921,  2,      9, S-1-1-6,2,20000202,1358, 29.5043, 133.4887, 2700,     26.3,  19.8150,  34.7743,2,   -999.0,9,  34.7776,2,    223.4,2,  -999.00,9,  -999.00,9,     0.39,2,     0.17,2,     0.04,2, -999.000,9, -999.000,9,  -999.00,9,   -999.0,9,   -999.0,9,-999.0000,9,   -999.0,  9,     8.17,2,   -999.0,  -999.00,9,  -999.00,9,     0.18,2,     0.24,2,   -999.0,-999.0000, -999,9,   26,  19.8102,  24.6394,   -999.0,9
       SH00-01,  NONE,SH-5921,  2,      8,1-133-95,2,20000202,1357, 29.5043, 133.4887, 2700,     50.0,  19.8181,  34.7748,2,   -999.0,9,  34.7766,2,    224.0,2,  -999.00,9,  -999.00,9,     0.39,2,     0.17,2,     0.04,2, -999.000,9, -999.000,9,  -999.00,9,   -999.0,9,   -999.0,9,-999.0000,9,   -999.0,  9,     8.18,2,   -999.0,  -999.00,9,  -999.00,9,     0.21,2,     0.24,2,   -999.0,-999.0000, -999,9,   50,  19.8090,  24.6401,   -999.0,9
       SH00-01,  NONE,SH-5921,  2,      7, S-1-1-4,2,20000202,1356, 29.5043, 133.4887, 2700,     75.3,  19.8216,  34.7751,2,   -999.0,9,  34.7764,2,    224.4,2,  -999.00,9,  -999.00,9,     0.39,2,     0.16,2,     0.04,2, -999.000,9, -999.000,9,  -999.00,9,   -999.0,9,   -999.0,9,-999.0000,9,   -999.0,  9,     8.18,2,   -999.0,  -999.00,9,  -999.00,9,     0.19,2,     0.24,2,   -999.0,-999.0000, -999,9,   75,  19.8078,  24.6407,   -999.0,9
       SH00-01,  NONE,SH-5921,  2,      6,1-133-93,2,20000202,1355, 29.5043, 133.4887, 2700,    100.9,  19.8233,  34.7753,2,   -999.0,9,  34.7764,2,    224.0,2,  -999.00,9,  -999.00,9,     0.39,2,     0.16,2,     0.04,2, -999.000,9, -999.000,9,  -999.00,9,   -999.0,9,   -999.0,9,-999.0000,9,   -999.0,  9,     8.18,2,   -999.0,  -999.00,9,  -999.00,9,     0.16,2,     0.31,2,   -999.0,-999.0000, -999,9,  100,  19.8048,  24.6416,   -999.0,9
       SH00-01,  NONE,SH-5921,  2,      5, 1-133-2,2,20000202,1354, 29.5043, 133.4887, 2700,    125.9,  19.7431,  34.7800,2,   -999.0,9,  34.7823,2,    223.8,2,  -999.00,9,  -999.00,9,     0.49,2,     0.17,2,     0.04,2, -999.000,9, -999.000,9,  -999.00,9,   -999.0,9,   -999.0,9,-999.0000,9,   -999.0,  9,     8.18,2,   -999.0,  -999.00,9,  -999.00,9,     0.17,2,     0.20,2,   -999.0,-999.0000, -999,9,  125,  19.7201,  24.6673,   -999.0,9
       SH00-01,  NONE,SH-5921,  2,      4, S-1-1-2,2,20000202,1353, 29.5043, 133.4887, 2700,    153.1,  19.7057,  34.7833,2,   -999.0,9,  34.7847,2,    224.6,2,  -999.00,9,  -999.00,9,     0.39,2,     0.14,2,     0.05,2, -999.000,9, -999.000,9,  -999.00,9,   -999.0,9,   -999.0,9,-999.0000,9,   -999.0,  9,     8.18,2,   -999.0,  -999.00,9,  -999.00,9,     0.23,2,     0.29,2,   -999.0,-999.0000, -999,9,  152,  19.6778,  24.6808,   -999.0,9
       SH00-01,  NONE,SH-5921,  2,      3,1-133-84,2,20000202,1351, 29.5043, 133.4887, 2700,    201.2,  19.1244,  34.8104,2,   -999.0,9,  34.8111,2,    204.6,2,  -999.00,9,  -999.00,9,     2.73,2,     0.02,2,     0.19,2, -999.000,9, -999.000,9,  -999.00,9,   -999.0,9,   -999.0,9,-999.0000,9,   -999.0,  9,     8.14,2,   -999.0,  -999.00,9,  -999.00,9,     0.01,2,     0.03,2,   -999.0,-999.0000, -999,9,  200,  19.0884,  24.8537,   -999.0,9
       SH00-01,  NONE,SH-5921,  2,      2, S-1-1-7,2,20000202,1350, 29.5043, 133.4887, 2700,    252.7,  18.4553,  34.8054,2,   -999.0,9,  34.8067,2,    200.5,2,  -999.00,9,  -999.00,9,     4.00,2,     0.01,2,     0.25,2, -999.000,9, -999.000,9,  -999.00,9,   -999.0,9,   -999.0,9,-999.0000,9,   -999.0,  9,     8.11,2,   -999.0,  -999.00,9,  -999.00,9,     0.00,2,     0.01,2,   -999.0,-999.0000, -999,9,  251,  18.4111,  25.0210,   -999.0,9
       SH00-01,  NONE,SH-5921,  2,      1, 1-133-1,2,20000202,1348, 29.5043, 133.4887, 2700,    303.6,  17.6621,  34.7938,2,   -999.0,9,  34.7959,2,    196.4,2,  -999.00,9,  -999.00,9,     5.27,2,     0.00,2,     0.35,2, -999.000,9, -999.000,9,  -999.00,9,   -999.0,9,   -999.0,9,-999.0000,9,   -999.0,  9,     8.09,2,   -999.0,  -999.00,9,  -999.00,9,     0.00,2,     0.01,2,   -999.0,-999.0000, -999,9,  301,  17.6106,  25.2094,   -999.0,9
       SH00-01,  NONE,SH-5921,  2,     12, 1-133-7,2,20000202,1346, 29.5043, 133.4887, 2700,    405.0,  15.5216,  34.6671,2,   -999.0,9,  34.6660,2,    189.4,2,  -999.00,9,  -999.00,9,     9.17,2,     0.00,2,     0.60,2, -999.000,9, -999.000,9,  -999.00,9,   -999.0,9,   -999.0,9,-999.0000,9,   -999.0,  9,     8.03,2,   -999.0,  -999.00,9,  -999.00,9,  -999.00,9,  -999.00,9,   -999.0,-999.0000, -999,9,  402,  15.4586,  25.6138,   -999.0,9
       SH00-01,  NONE,SH-5921,  1,     11, S-1-1-9,2,20000202,1314, 29.5055, 133.4893, 2700,    503.6,  12.7600,  34.4676,2,   -999.0,9,  34.4664,2,    176.1,2,  -999.00,9,  -999.00,9,    14.81,2,     0.00,2,     0.99,2, -999.000,9, -999.000,9,  -999.00,9,   -999.0,9,   -999.0,9,-999.0000,9,   -999.0,  9,     7.94,2,   -999.0,  -999.00,9,  -999.00,9,  -999.00,9,  -999.00,9,   -999.0,-999.0000, -999,9,  500,  12.6911,  26.0417,   -999.0,9
       SH00-01,  NONE,SH-5921,  1,     10,1-133-94,2,20000202,1312, 29.5055, 133.4893, 2700,    604.2,  10.4671,  34.3150,2,   -999.0,9,  34.3178,2,    163.0,2,  -999.00,9,  -999.00,9,    20.07,2,     0.00,2,     1.38,2, -999.000,9, -999.000,9,  -999.00,9,   -999.0,9,   -999.0,9,-999.0000,9,   -999.0,  9,     7.85,2,   -999.0,  -999.00,9,  -999.00,9,  -999.00,9,  -999.00,9,   -999.0,-999.0000, -999,9,  599,  10.3941,  26.3493,   -999.0,9
       SH00-01,  NONE,SH-5921,  1,      9, S-1-1-6,2,20000202,1310, 29.5055, 133.4893, 2700,    704.7,   8.2201,  34.2219,2,   -999.0,9,  34.2212,2,    135.7,2,  -999.00,9,  -999.00,9,    26.20,2,     0.00,2,     1.86,2, -999.000,9, -999.000,9,  -999.00,9,   -999.0,9,   -999.0,9,-999.0000,9,   -999.0,  9,     7.74,2,   -999.0,  -999.00,9,  -999.00,9,  -999.00,9,  -999.00,9,   -999.0,-999.0000, -999,9,  699,   8.1462,  26.6409,   -999.0,9
       SH00-01,  NONE,SH-5921,  1,      8,1-133-95,2,20000202,1307, 29.5055, 133.4893, 2700,    807.3,   6.6922,  34.2110,2,   -999.0,9,  34.2053,2,    111.5,2,  -999.00,9,  -999.00,9,    31.07,2,     0.00,2,     2.20,2, -999.000,9, -999.000,9,  -999.00,9,   -999.0,9,   -999.0,9,-999.0000,9,   -999.0,  9,     7.66,2,   -999.0,  -999.00,9,  -999.00,9,  -999.00,9,  -999.00,9,   -999.0,-999.0000, -999,9,  800,   6.6161,  26.8492,   -999.0,9
       SH00-01,  NONE,SH-5921,  1,      7, S-1-1-4,2,20000202,1305, 29.5055, 133.4893, 2700,    906.8,   5.3769,  34.2558,2,   -999.0,9,  34.2508,2,     85.5,2,  -999.00,9,  -999.00,9,    35.34,2,     0.00,2,     2.49,2, -999.000,9, -999.000,9,  -999.00,9,   -999.0,9,   -999.0,9,-999.0000,9,   -999.0,  9,     7.59,2,   -999.0,  -999.00,9,  -999.00,9,  -999.00,9,  -999.00,9,   -999.0,-999.0000, -999,9,  899,   5.2998,  27.0503,   -999.0,9
       SH00-01,  NONE,SH-5921,  1,      6,1-133-93,2,20000202,1303, 29.5055, 133.4893, 2700,   1008.1,   4.2007,  34.3044,2,   -999.0,9,  34.3029,2,     64.3,2,  -999.00,9,  -999.00,9,    38.84,2,     0.00,2,     2.75,2, -999.000,9, -999.000,9,  -999.00,9,   -999.0,9,   -999.0,9,-999.0000,9,   -999.0,  9,     7.53,2,   -999.0,  -999.00,9,  -999.00,9,  -999.00,9,  -999.00,9,   -999.0,-999.0000, -999,9,  999,   4.1232,  27.2200,   -999.0,9
       SH00-01,  NONE,SH-5921,  1,      5, 1-133-2,2,20000202,1259, 29.5055, 133.4893, 2700,   1211.4,   3.2890,  34.4102,2,   -999.0,9,  34.4070,2,     57.8,2,  -999.00,9,  -999.00,9,    40.39,2,     0.00,2,     2.86,2, -999.000,9, -999.000,9,  -999.00,9,   -999.0,9,   -999.0,9,-999.0000,9,   -999.0,  9,     7.52,2,   -999.0,  -999.00,9,  -999.00,9,  -999.00,9,  -999.00,9,   -999.0,-999.0000, -999,9, 1200,   3.2022,  27.3956,   -999.0,9
       SH00-01,  NONE,SH-5921,  1,      4, S-1-1-2,2,20000202,1254, 29.5055, 133.4893, 2700,   1515.4,   2.6325,  34.5184,2,   -999.0,9,  34.5157,2,   -999.0,9,  -999.00,9,  -999.00,9,  -999.00,9,  -999.00,9,  -999.00,9, -999.000,9, -999.000,9,  -999.00,9,   -999.0,9,   -999.0,9,-999.0000,9,   -999.0,  9,  -999.00,9,   -999.0,  -999.00,9,  -999.00,9,  -999.00,9,  -999.00,9,   -999.0,-999.0000, -999,9, 1500,   2.5278,  27.5424,   -999.0,9
       SH00-01,  NONE,SH-5921,  1,      3,1-133-84,2,20000202,1246, 29.5055, 133.4893, 2700,   2023.0,   2.0347,  34.6051,2,   -999.0,9,  34.6005,2,   -999.0,9,  -999.00,9,  -999.00,9,  -999.00,9,  -999.00,9,  -999.00,9, -999.000,9, -999.000,9,  -999.00,9,   -999.0,9,   -999.0,9,-999.0000,9,   -999.0,  9,  -999.00,9,   -999.0,  -999.00,9,  -999.00,9,  -999.00,9,  -999.00,9,   -999.0,-999.0000, -999,9, 2000,   1.8959,  27.6635,   -999.0,9
       SH00-01,  NONE,SH-5921,  1,      2, S-1-1-7,2,20000202,1237, 29.5055, 133.4893, 2700,   2532.5,   1.7146,  34.6553,2,   -999.0,9,  34.6469,2,   -999.0,9,  -999.00,9,  -999.00,9,  -999.00,9,  -999.00,9,  -999.00,9, -999.000,9, -999.000,9,  -999.00,9,   -999.0,9,   -999.0,9,-999.0000,9,   -999.0,  9,  -999.00,9,   -999.0,  -999.00,9,  -999.00,9,  -999.00,9,  -999.00,9,   -999.0,-999.0000, -999,9, 2500,   1.5368,  27.7308,   -999.0,9
       SH00-01,  NONE,SH-5921,  1,      1, 1-133-1,2,20000202,1235, 29.5055, 133.4893, 2700,   2638.1,   1.6956,  34.6588,2,   -999.0,9,  34.6509,2,   -999.0,9,  -999.00,9,  -999.00,9,  -999.00,9,  -999.00,9,  -999.00,9, -999.000,9, -999.000,9,  -999.00,9,   -999.0,9,   -999.0,9,-999.0000,9,   -999.0,  9,  -999.00,9,   -999.0,  -999.00,9,  -999.00,9,  -999.00,9,  -999.00,9,   -999.0,-999.0000, -999,9, 2604,   1.5085,  27.7357,   -999.0,9
       SH00-01,  NONE,SH-5922,  2,     -9,      -9,5,20000202,1918, 29.0787, 133.9825, 2500,      0.0,  19.8039,  34.7896,2,   -999.0,9,-999.0000,9,    224.5,2,  -999.00,9,  -999.00,9,     0.29,2,     0.07,2,     0.04,2, -999.000,9, -999.000,9,  -999.00,9,   -999.0,9,   -999.0,9,-999.0000,9,   -999.0,  9,  -999.00,9,   -999.0,  -999.00,9,  -999.00,9,     0.26,2,     0.28,2,   -999.0,-999.0000, -999,9,    0,  19.8039,  24.6527,   -999.0,9
       SH00-01,  NONE,SH-5922,  2,      5, 1-133-2,2,20000202,1918, 29.0787, 133.9825, 2500,     11.2,  19.8131,  34.7892,2,   -999.0,9,-999.0000,9,    224.8,2,  -999.00,9,  -999.00,9,     0.29,2,     0.07,2,     0.04,2, -999.000,9, -999.000,9,  -999.00,9,   -999.0,9,   -999.0,9,-999.0000,9,   -999.0,  9,  -999.00,9,   -999.0,  -999.00,9,  -999.00,9,     0.25,2,     0.29,2,   -999.0,-999.0000, -999,9,   11,  19.8110,  24.6505,   -999.0,9
       SH00-01,  NONE,SH-5922,  2,      4, S-1-1-2,2,20000202,1917, 29.0787, 133.9825, 2500,     25.7,  19.8170,  34.7898,2,   -999.0,9,-999.0000,9,    223.6,2,  -999.00,9,  -999.00,9,     0.39,2,     0.07,2,     0.04,2, -999.000,9, -999.000,9,  -999.00,9,   -999.0,9,   -999.0,9,-999.0000,9,   -999.0,  9,  -999.00,9,   -999.0,  -999.00,9,  -999.00,9,     0.27,2,     0.29,2,   -999.0,-999.0000, -999,9,   26,  19.8123,  24.6507,   -999.0,9
       SH00-01,  NONE,SH-5922,  2,      3,1-133-84,2,20000202,1916, 29.0787, 133.9825, 2500,     51.6,  19.7513,  34.7878,2,   -999.0,9,-999.0000,9,    223.4,2,  -999.00,9,  -999.00,9,     0.59,2,     0.14,2,     0.05,2, -999.000,9, -999.000,9,  -999.00,9,   -999.0,9,   -999.0,9,-999.0000,9,   -999.0,  9,  -999.00,9,   -999.0,  -999.00,9,  -999.00,9,     0.25,2,     0.23,2,   -999.0,-999.0000, -999,9,   51,  19.7419,  24.6676,   -999.0,9
       SH00-01,  NONE,SH-5922,  2,      2, S-1-1-7,2,20000202,1915, 29.0787, 133.9825, 2500,     75.6,  19.6807,  34.7859,2,   -999.0,9,-999.0000,9,    224.0,2,  -999.00,9,  -999.00,9,     0.49,2,     0.18,2,     0.05,2, -999.000,9, -999.000,9,  -999.00,9,   -999.0,9,   -999.0,9,-999.0000,9,   -999.0,  9,  -999.00,9,   -999.0,  -999.00,9,  -999.00,9,     0.21,2,     0.22,2,   -999.0,-999.0000, -999,9,   75,  19.6669,  24.6857,   -999.0,9
       SH00-01,  NONE,SH-5922,  2,      1, 1-133-1,2,20000202,1914, 29.0787, 133.9825, 2500,    102.0,  19.6811,  34.7869,2,   -999.0,9,-999.0000,9,    223.6,2,  -999.00,9,  -999.00,9,     0.59,2,     0.18,2,     0.05,2, -999.000,9, -999.000,9,  -999.00,9,   -999.0,9,   -999.0,9,-999.0000,9,   -999.0,  9,  -999.00,9,   -999.0,  -999.00,9,  -999.00,9,     0.12,2,     0.14,2,   -999.0,-999.0000, -999,9,  101,  19.6625,  24.6876,   -999.0,9
       SH00-01,  NONE,SH-5922,  2,     12, 1-133-7,2,20000202,1914, 29.0787, 133.9825, 2500,    126.3,  19.6812,  34.7871,2,   -999.0,9,-999.0000,9,    223.6,2,  -999.00,9,  -999.00,9,     0.59,2,     0.16,2,     0.05,2, -999.000,9, -999.000,9,  -999.00,9,   -999.0,9,   -999.0,9,-999.0000,9,   -999.0,  9,  -999.00,9,   -999.0,  -999.00,9,  -999.00,9,     0.22,2,     0.23,2,   -999.0,-999.0000, -999,9,  125,  19.6581,  24.6888,   -999.0,9
       SH00-01,  NONE,SH-5922,  2,     11, S-1-1-9,4,20000202,1913, 29.0787, 133.9825, 2500,    152.2,  19.5155,  34.8010,2,   -999.0,9,-999.0000,9,    214.7,2,  -999.00,9,  -999.00,9,     1.46,2,     0.10,2,     0.12,2, -999.000,9, -999.000,9,  -999.00,9,   -999.0,9,   -999.0,9,-999.0000,9,   -999.0,  9,  -999.00,9,   -999.0,  -999.00,9,  -999.00,9,     0.09,2,     0.09,2,   -999.0,-999.0000, -999,9,  151,  19.4879,  24.7437,   -999.0,9
       SH00-01,  NONE,SH-5922,  2,     10,1-133-94,2,20000202,1913, 29.0787, 133.9825, 2500,    152.2,  19.5155,  34.8010,2,   -999.0,9,-999.0000,9,    215.1,2,  -999.00,9,  -999.00,9,     1.56,2,     0.10,2,     0.11,2, -999.000,9, -999.000,9,  -999.00,9,   -999.0,9,   -999.0,9,-999.0000,9,   -999.0,  9,  -999.00,9,   -999.0,  -999.00,9,  -999.00,9,     0.08,2,     0.10,2,   -999.0,-999.0000, -999,9,  151,  19.4879,  24.7437,   -999.0,9
       SH00-01,  NONE,SH-5922,  2,      9, S-1-1-6,2,20000202,1912, 29.0787, 133.9825, 2500,    203.1,  18.6125,  34.8094,2,   -999.0,9,-999.0000,9,    201.2,2,  -999.00,9,  -999.00,9,     3.80,2,     0.02,2,     0.24,2, -999.000,9, -999.000,9,  -999.00,9,   -999.0,9,   -999.0,9,-999.0000,9,   -999.0,  9,  -999.00,9,   -999.0,  -999.00,9,  -999.00,9,     0.00,2,     0.01,2,   -999.0,-999.0000, -999,9,  202,  18.5768,  24.9826,   -999.0,9
       SH00-01,  NONE,SH-5922,  2,      8,1-133-95,2,20000202,1911, 29.0787, 133.9825, 2500,    252.9,  18.1268,  34.7990,2,   -999.0,9,-999.0000,9,    203.5,2,  -999.00,9,  -999.00,9,     4.29,2,     0.02,2,     0.27,2, -999.000,9, -999.000,9,  -999.00,9,   -999.0,9,   -999.0,9,-999.0000,9,   -999.0,  9,  -999.00,9,   -999.0,  -999.00,9,  -999.00,9,     0.00,2,     0.01,2,   -999.0,-999.0000, -999,9,  251,  18.0831,  25.0976,   -999.0,9
       SH00-01,  NONE,SH-5922,  2,      7, S-1-1-4,2,20000202,1910, 29.0787, 133.9825, 2500,    305.3,  17.3024,  34.7734,2,   -999.0,9,-999.0000,9,    195.9,2,  -999.00,9,  -999.00,9,     6.05,2,     0.01,2,     0.38,2, -999.000,9, -999.000,9,  -999.00,9,   -999.0,9,   -999.0,9,-999.0000,9,   -999.0,  9,  -999.00,9,   -999.0,  -999.00,9,  -999.00,9,     0.00,2,     0.01,2,   -999.0,-999.0000, -999,9,  303,  17.2513,  25.2804,   -999.0,9
       SH00-01,  NONE,SH-5922,  1,      6,1-133-93,2,20000202,1847, 29.0815, 133.9837, 2580,    400.4,  15.7484,  34.6856,2,   -999.0,9,-999.0000,9,    189.5,2,  -999.00,9,  -999.00,9,     8.97,2,     0.01,2,     0.58,2, -999.000,9, -999.000,9,  -999.00,9,   -999.0,9,   -999.0,9,-999.0000,9,   -999.0,  9,  -999.00,9,   -999.0,  -999.00,9,  -999.00,9,  -999.00,9,  -999.00,9,   -999.0,-999.0000, -999,9,  397,  15.6855,  25.5771,   -999.0,9
       SH00-01,  NONE,SH-5922,  1,      5, 1-133-2,2,20000202,1845, 29.0815, 133.9837, 2580,    501.6,  13.2950,  34.5079,2,   -999.0,9,-999.0000,9,    177.9,2,  -999.00,9,  -999.00,9,    13.84,2,     0.01,2,     0.94,2, -999.000,9, -999.000,9,  -999.00,9,   -999.0,9,   -999.0,9,-999.0000,9,   -999.0,  9,  -999.00,9,   -999.0,  -999.00,9,  -999.00,9,  -999.00,9,  -999.00,9,   -999.0,-999.0000, -999,9,  498,  13.2246,  25.9664,   -999.0,9
       SH00-01,  NONE,SH-5922,  1,      4, S-1-1-2,2,20000202,1844, 29.0815, 133.9837, 2580,    601.9,  10.5825,  34.3227,2,   -999.0,9,-999.0000,9,    163.9,2,  -999.00,9,  -999.00,9,    19.68,2,     0.01,2,     1.36,2, -999.000,9, -999.000,9,  -999.00,9,   -999.0,9,   -999.0,9,-999.0000,9,   -999.0,  9,  -999.00,9,   -999.0,  -999.00,9,  -999.00,9,  -999.00,9,  -999.00,9,   -999.0,-999.0000, -999,9,  597,  10.5093,  26.3352,   -999.0,9
       SH00-01,  NONE,SH-5922,  1,      3,1-133-84,2,20000202,1842, 29.0815, 133.9837, 2580,    701.8,   7.9136,  34.2136,2,   -999.0,9,-999.0000,9,    133.9,2,  -999.00,9,  -999.00,9,    26.98,2,     0.01,2,     1.90,2, -999.000,9, -999.000,9,  -999.00,9,   -999.0,9,   -999.0,9,-999.0000,9,   -999.0,  9,  -999.00,9,   -999.0,  -999.00,9,  -999.00,9,  -999.00,9,  -999.00,9,   -999.0,-999.0000, -999,9,  696,   7.8415,  26.6796,   -999.0,9
       SH00-01,  NONE,SH-5922,  1,      2, S-1-1-7,2,20000202,1840, 29.0815, 133.9837, 2580,    803.7,   6.2367,  34.2107,2,   -999.0,9,-999.0000,9,    102.7,2,  -999.00,9,  -999.00,9,    32.72,2,     0.01,2,     2.32,2, -999.000,9, -999.000,9,  -999.00,9,   -999.0,9,   -999.0,9,-999.0000,9,   -999.0,  9,  -999.00,9,   -999.0,  -999.00,9,  -999.00,9,  -999.00,9,  -999.00,9,   -999.0,-999.0000, -999,9,  797,   6.1637,  26.9081,   -999.0,9
       SH00-01,  NONE,SH-5922,  1,      1, 1-133-1,2,20000202,1838, 29.0815, 133.9837, 2580,    904.1,   5.0319,  34.2690,2,   -999.0,9,-999.0000,9,     79.3,2,  -999.00,9,  -999.00,9,    36.61,2,     0.01,2,     2.61,2, -999.000,9, -999.000,9,  -999.00,9,   -999.0,9,   -999.0,9,-999.0000,9,   -999.0,  9,  -999.00,9,   -999.0,  -999.00,9,  -999.00,9,  -999.00,9,  -999.00,9,   -999.0,-999.0000, -999,9,  896,   4.9574,  27.1006,   -999.0,9
       SH00-01,  NONE,SH-5922,  1,     12, 1-133-7,2,20000202,1836, 29.0815, 133.9837, 2580,   1004.8,   4.0118,  34.3122,2,   -999.0,9,-999.0000,9,     61.6,2,  -999.00,9,  -999.00,9,    39.33,2,     0.01,2,     2.79,2, -999.000,9, -999.000,9,  -999.00,9,   -999.0,9,   -999.0,9,-999.0000,9,   -999.0,  9,  -999.00,9,   -999.0,  -999.00,9,  -999.00,9,  -999.00,9,  -999.00,9,   -999.0,-999.0000, -999,9,  996,   3.9360,  27.2456,   -999.0,9
       SH00-01,  NONE,SH-5922,  1,     11, S-1-1-9,2,20000202,1833, 29.0815, 133.9837, 2580,   1207.9,   3.3152,  34.4105,2,   -999.0,9,-999.0000,9,     59.6,2,  -999.00,9,  -999.00,9,    40.30,2,     0.01,2,     2.88,2, -999.000,9, -999.000,9,  -999.00,9,   -999.0,9,   -999.0,9,-999.0000,9,   -999.0,  9,  -999.00,9,   -999.0,  -999.00,9,  -999.00,9,  -999.00,9,  -999.00,9,   -999.0,-999.0000, -999,9, 1196,   3.2284,  27.3934,   -999.0,9