BOTTLE,20130510GEMDJMAYT
EXPOCODE,SECT_ID,STNNBR,CASTNO,SAMPNO,BTLNBR,BTLNBR_FLAG_W,DATE,TIME,LATITUDE,LONGITUDE,DEPTH,CTDPRS,CTDTMP,CTDSAL,CTDSAL_FLAG_W,CTDOXY,CTDOXY_FLAG_W,SALNTY,SALNTY_FLAG_W,OXYGEN,OXYGEN_FLAG_W,SILCAT,SILCAT_FLAG_W,NITRAT,NITRAT_FLAG_W,NO2+NO3,NO2+NO3_FLAG_W,NITRIT,NITRIT_FLAG_W,PHSPHT,PHSPHT_FLAG_W,CFC-11,CFC-11_FLAG_W,CFC-12,CFC-12_FLAG_W,DELC13,DELC13_FLAG_W,TCARBN,TCARBN_FLAG_W,ALKALI,ALKALI_FLAG_W,PH,PH_FLAG_W,PH_TMP,PH_SCALE,PH_NBS,PH_NBS_FLAG_W,C13ERR,TOTALP,TOTALP_FLAG_W,AMMONI,AMMONI_FLAG_W,CHLORA,CHLORA_FLAG_W,PPHYTN,PPHYTN_FLAG_W,REVPRS,REVTMP,DEPTH_,DEPTH_FLAG,CTDDEP,THETA,SIGTHT,DOC,DOC_FLAG_W
,,,,,,,GMT,GMT,,,METER,DBAR,ITS-90,PSS-78,,UMOL/KG,,PSS-78,,UMOL/KG,,UMOL/KG,,UMOL/KG,,UMOL/KG,,UMOL/KG,,UMOL/KG,,PMOL/KG,,PMOL/KG,,/MILLE,,UMOL/KG,,UMOL/KG,,25_DEG_C,,DEG_C,,,,/MILLE,UMOL/KG,,UMOL/KG,,UG/L,,UG/L,,DBAR,ITS-90,METERS,,METERS,DEG_C,,UMOL/L,
       SH00-01,  NONE,SH-5909,  2,     -9,      -9,5,20000122,2331, 30.5038, 135.2465, 4290,      0.0,  20.1057,  34.7511,2,   -999.0,9,  34.7514,2,    223.7,2,  -999.00,9,  -999.00,9,     0.39,2,     0.13,2,     0.05,2, -999.000,9, -999.000,9,  -999.00,9,   1974.1,6,   -999.0,9,-999.0000,9,   -999.0,  9,     8.55,2,   -999.0,  -999.00,9,  -999.00,9,     0.24,2,     0.22,2,   -999.0,-999.0000, -999,9,    0,  20.1057,  24.5440,   -999.0,9
       SH00-01,  NONE,SH-5909,  2,      7, S-1-1-4,2,20000122,2329, 30.5038, 135.2465, 4290,     12.1,  20.1082,  34.7520,2,   -999.0,9,-999.0000,9,    222.8,2,  -999.00,9,  -999.00,9,     0.20,2,     0.13,2,     0.04,2, -999.000,9, -999.000,9,  -999.00,9,   -999.0,9,   -999.0,9,-999.0000,9,   -999.0,  9,  -999.00,9,   -999.0,  -999.00,9,  -999.00,9,     0.22,2,     0.21,2,   -999.0,-999.0000, -999,9,   12,  20.1060,  24.5446,   -999.0,9
       SH00-01,  NONE,SH-5909,  2,      6,1-133-93,2,20000122,2328, 30.5038, 135.2465, 4290,     26.1,  20.1203,  34.7509,2,   -999.0,9,-999.0000,9,    223.0,2,  -999.00,9,  -999.00,9,     0.29,2,     0.13,2,     0.04,2, -999.000,9, -999.000,9,  -999.00,9,   -999.0,9,   -999.0,9,-999.0000,9,   -999.0,  9,  -999.00,9,   -999.0,  -999.00,9,  -999.00,9,     0.22,2,     0.23,2,   -999.0,-999.0000, -999,9,   26,  20.1155,  24.5413,   -999.0,9
       SH00-01,  NONE,SH-5909,  2,      5, 1-133-2,2,20000122,2327, 30.5038, 135.2465, 4290,     51.8,  20.1217,  34.7512,2,   -999.0,9,-999.0000,9,    222.7,2,  -999.00,9,  -999.00,9,     0.39,2,     0.13,2,     0.04,2, -999.000,9, -999.000,9,  -999.00,9,   -999.0,9,   -999.0,9,-999.0000,9,   -999.0,  9,  -999.00,9,   -999.0,  -999.00,9,  -999.00,9,     0.24,2,     0.22,2,   -999.0,-999.0000, -999,9,   51,  20.1121,  24.5424,   -999.0,9
       SH00-01,  NONE,SH-5909,  2,      4, S-1-1-2,2,20000122,2326, 30.5038, 135.2465, 4290,     78.5,  20.1114,  34.7527,2,   -999.0,9,-999.0000,9,    222.7,2,  -999.00,9,  -999.00,9,     0.39,2,     0.12,2,     0.04,2, -999.000,9, -999.000,9,  -999.00,9,   -999.0,9,   -999.0,9,-999.0000,9,   -999.0,  9,  -999.00,9,   -999.0,  -999.00,9,  -999.00,9,     0.21,2,     0.23,2,   -999.0,-999.0000, -999,9,   78,  20.0969,  24.5475,   -999.0,9
       SH00-01,  NONE,SH-5909,  2,      3,1-133-84,2,20000122,2325, 30.5038, 135.2465, 4290,    101.4,  20.0760,  34.7531,2,   -999.0,9,-999.0000,9,    223.1,2,  -999.00,9,  -999.00,9,     0.39,2,     0.12,2,     0.06,2, -999.000,9, -999.000,9,  -999.00,9,   -999.0,9,   -999.0,9,-999.0000,9,   -999.0,  9,  -999.00,9,   -999.0,  -999.00,9,  -999.00,9,     0.21,2,     0.21,2,   -999.0,-999.0000, -999,9,  101,  20.0572,  24.5583,   -999.0,9
       SH00-01,  NONE,SH-5909,  2,      2, S-1-1-7,2,20000122,2324, 30.5038, 135.2465, 4290,    127.4,  20.0106,  34.7526,2,   -999.0,9,-999.0000,9,    224.2,2,  -999.00,9,  -999.00,9,     0.29,2,     0.12,2,     0.04,2, -999.000,9, -999.000,9,  -999.00,9,   -999.0,9,   -999.0,9,-999.0000,9,   -999.0,  9,  -999.00,9,   -999.0,  -999.00,9,  -999.00,9,     0.19,2,     0.20,2,   -999.0,-999.0000, -999,9,  126,  19.9871,  24.5764,   -999.0,9
       SH00-01,  NONE,SH-5909,  2,      1, 1-133-1,2,20000122,2322, 30.5038, 135.2465, 4290,    152.8,  19.9325,  34.7771,2,   -999.0,9,-999.0000,9,    217.7,2,  -999.00,9,  -999.00,9,     0.88,2,     0.09,2,     0.08,2, -999.000,9, -999.000,9,  -999.00,9,   -999.0,9,   -999.0,9,-999.0000,9,   -999.0,  9,  -999.00,9,   -999.0,  -999.00,9,  -999.00,9,     0.07,2,     0.10,2,   -999.0,-999.0000, -999,9,  152,  19.9043,  24.6168,   -999.0,9
       SH00-01,  NONE,SH-5909,  2,     12, 1-133-7,2,20000122,2320, 30.5038, 135.2465, 4290,    203.5,  18.9253,  34.8058,2,   -999.0,9,-999.0000,9,    207.2,2,  -999.00,9,  -999.00,9,     2.73,2,     0.02,2,     0.19,2, -999.000,9, -999.000,9,  -999.00,9,   -999.0,9,   -999.0,9,-999.0000,9,   -999.0,  9,  -999.00,9,   -999.0,  -999.00,9,  -999.00,9,     0.00,2,     0.01,2,   -999.0,-999.0000, -999,9,  202,  18.8891,  24.9009,   -999.0,9
       SH00-01,  NONE,SH-5909,  2,     11, S-1-1-9,2,20000122,2319, 30.5038, 135.2465, 4290,    253.8,  18.2578,  34.8047,2,   -999.0,9,-999.0000,9,    202.2,2,  -999.00,9,  -999.00,9,     4.00,2,     0.01,2,     0.27,2, -999.000,9, -999.000,9,  -999.00,9,   -999.0,9,   -999.0,9,-999.0000,9,   -999.0,  9,  -999.00,9,   -999.0,  -999.00,9,  -999.00,9,     0.00,2,     0.01,2,   -999.0,-999.0000, -999,9,  252,  18.2137,  25.0696,   -999.0,9
       SH00-01,  NONE,SH-5909,  2,     10,1-133-94,2,20000122,2317, 30.5038, 135.2465, 4290,    305.2,  17.6510,  34.7908,2,   -999.0,9,-999.0000,9,    199.0,2,  -999.00,9,  -999.00,9,     5.17,2,     0.01,2,     0.34,2, -999.000,9, -999.000,9,  -999.00,9,   -999.0,9,   -999.0,9,-999.0000,9,   -999.0,  9,  -999.00,9,   -999.0,  -999.00,9,  -999.00,9,     0.00,2,     0.01,2,   -999.0,-999.0000, -999,9,  303,  17.5993,  25.2098,   -999.0,9
       SH00-01,  NONE,SH-5909,  1,      9, S-1-1-6,2,20000122,2253, 30.5033, 135.2463, 4290,    404.3,  15.8093,  34.6914,2,   -999.0,9,-999.0000,9,    195.1,2,  -999.00,9,  -999.00,9,     8.29,2,     0.01,2,     0.55,2, -999.000,9, -999.000,9,  -999.00,9,   -999.0,9,   -999.0,9,-999.0000,9,   -999.0,  9,  -999.00,9,   -999.0,  -999.00,9,  -999.00,9,  -999.00,9,  -999.00,9,   -999.0,-999.0000, -999,9,  401,  15.7456,  25.5680,   -999.0,9
       SH00-01,  NONE,SH-5909,  1,      8,1-133-95,2,20000122,2251, 30.5033, 135.2463, 4290,    505.0,  13.3856,  34.5120,2,   -999.0,9,-999.0000,9,    181.4,2,  -999.00,9,  -999.00,9,    13.45,2,     0.00,2,     0.92,2, -999.000,9, -999.000,9,  -999.00,9,   -999.0,9,   -999.0,9,-999.0000,9,   -999.0,  9,  -999.00,9,   -999.0,  -999.00,9,  -999.00,9,  -999.00,9,  -999.00,9,   -999.0,-999.0000, -999,9,  501,  13.3144,  25.9514,   -999.0,9
       SH00-01,  NONE,SH-5909,  1,      7, S-1-1-4,2,20000122,2249, 30.5033, 135.2463, 4290,    606.9,  11.1260,  34.3616,2,   -999.0,9,-999.0000,9,    171.3,2,  -999.00,9,  -999.00,9,    18.12,2,     0.01,2,     1.26,2, -999.000,9, -999.000,9,  -999.00,9,   -999.0,9,   -999.0,9,-999.0000,9,   -999.0,  9,  -999.00,9,   -999.0,  -999.00,9,  -999.00,9,  -999.00,9,  -999.00,9,   -999.0,-999.0000, -999,9,  602,  11.0497,  26.2694,   -999.0,9
       SH00-01,  NONE,SH-5909,  1,      6,1-133-93,2,20000122,2246, 30.5033, 135.2463, 4290,    706.9,   8.9339,  34.2385,2,   -999.0,9,-999.0000,9,    148.3,2,  -999.00,9,  -999.00,9,    24.06,2,     0.00,2,     1.69,2, -999.000,9, -999.000,9,  -999.00,9,   -999.0,9,   -999.0,9,-999.0000,9,   -999.0,  9,  -999.00,9,   -999.0,  -999.00,9,  -999.00,9,  -999.00,9,  -999.00,9,   -999.0,-999.0000, -999,9,  701,   8.8560,  26.5447,   -999.0,9
       SH00-01,  NONE,SH-5909,  1,      5, 1-133-2,2,20000122,2245, 30.5033, 135.2463, 4290,    806.8,   6.9646,  34.2222,2,   -999.0,9,-999.0000,9,    113.7,2,  -999.00,9,  -999.00,9,    24.15,4,     0.00,4,     1.68,4, -999.000,9, -999.000,9,  -999.00,9,   -999.0,9,   -999.0,9,-999.0000,9,   -999.0,  9,  -999.00,9,   -999.0,  -999.00,9,  -999.00,9,  -999.00,9,  -999.00,9,   -999.0,-999.0000, -999,9,  800,   6.8869,  26.8215,   -999.0,9
       SH00-01,  NONE,SH-5909,  1,      4, S-1-1-2,2,20000122,2243, 30.5033, 135.2463, 4290,    909.6,   5.8768,  34.2785,2,   -999.0,9,-999.0000,9,     92.9,2,  -999.00,9,  -999.00,9,    34.27,2,     0.00,2,     2.43,2, -999.000,9, -999.000,9,  -999.00,9,   -999.0,9,   -999.0,9,-999.0000,9,   -999.0,  9,  -999.00,9,   -999.0,  -999.00,9,  -999.00,9,  -999.00,9,  -999.00,9,   -999.0,-999.0000, -999,9,  901,   5.7959,  27.0081,   -999.0,9
       SH00-01,  NONE,SH-5909,  1,      3,1-133-84,2,20000122,2242, 30.5033, 135.2463, 4290,   1010.0,   4.7632,  34.3289,2,   -999.0,9,-999.0000,9,     75.6,2,  -999.00,9,  -999.00,9,    37.48,2,     0.00,2,     2.66,2, -999.000,9, -999.000,9,  -999.00,9,   -999.0,9,   -999.0,9,-999.0000,9,   -999.0,  9,  -999.00,9,   -999.0,  -999.00,9,  -999.00,9,  -999.00,9,  -999.00,9,   -999.0,-999.0000, -999,9, 1001,   4.6810,  27.1793,   -999.0,9
       SH00-01,  NONE,SH-5909,  1,      2, S-1-1-7,2,20000122,2239, 30.5033, 135.2463, 4290,   1232.0,   3.3889,  34.4147,2,   -999.0,9,-999.0000,9,     63.1,2,  -999.00,9,  -999.00,9,    40.69,2,     0.00,2,     3.03,2, -999.000,9, -999.000,9,  -999.00,9,   -999.0,9,   -999.0,9,-999.0000,9,   -999.0,  9,  -999.00,9,   -999.0,  -999.00,9,  -999.00,9,  -999.00,9,  -999.00,9,   -999.0,-999.0000, -999,9, 1220,   3.2995,  27.3900,   -999.0,9
       SH00-01,  NONE,SH-5910,  2,     -9,      -9,5,20000123,0413, 30.0062, 135.2448, 4310,      0.0,  20.1918,  34.7463,2,   -999.0,9,  34.7485,2,    223.2,2,  -999.00,9,  -999.00,9,     0.29,2,     0.16,2,     0.04,2, -999.000,9, -999.000,9,  -999.00,9,   1972.8,6,   -999.0,9,-999.0000,9,   -999.0,  9,     8.19,2,   -999.0,  -999.00,9,  -999.00,9,     0.13,2,     0.17,2,   -999.0,-999.0000, -999,9,    0,  20.1918,  24.5176,   -999.0,9
       SH00-01,  NONE,SH-5910,  2,     12, 1-133-7,2,20000123,0412, 30.0062, 135.2448, 4310,     10.7,  20.1972,  34.7462,2,   -999.0,9,  34.7475,2,    223.2,2,  -999.00,9,  -999.00,9,     0.29,2,     0.16,2,     0.04,2, -999.000,9, -999.000,9,  -999.00,9,   -999.0,9,   -999.0,9,-999.0000,9,   -999.0,  9,  -999.00,9,   -999.0,  -999.00,9,  -999.00,9,     0.14,2,     0.17,2,   -999.0,-999.0000, -999,9,   11,  20.1952,  24.5166,   -999.0,9
       SH00-01,  NONE,SH-5910,  2,     11, S-1-1-9,2,20000123,0411, 30.0062, 135.2448, 4310,     25.9,  20.1964,  34.7453,2,   -999.0,9,  34.7487,2,    223.0,2,  -999.00,9,  -999.00,9,     0.29,2,     0.17,2,     0.05,2, -999.000,9, -999.000,9,  -999.00,9,   -999.0,9,   -999.0,9,-999.0000,9,   -999.0,  9,  -999.00,9,   -999.0,  -999.00,9,  -999.00,9,     0.15,2,     0.19,2,   -999.0,-999.0000, -999,9,   26,  20.1916,  24.5168,   -999.0,9
       SH00-01,  NONE,SH-5910,  2,     10,1-133-94,2,20000123,0410, 30.0062, 135.2448, 4310,     51.0,  20.1954,  34.7454,2,   -999.0,9,  34.7487,2,    222.7,2,  -999.00,9,  -999.00,9,     0.29,2,     0.17,2,     0.04,2, -999.000,9, -999.000,9,  -999.00,9,   -999.0,9,   -999.0,9,-999.0000,9,   -999.0,  9,  -999.00,9,   -999.0,  -999.00,9,  -999.00,9,     0.06,4,     0.08,4,   -999.0,-999.0000, -999,9,   51,  20.1859,  24.5185,   -999.0,9
       SH00-01,  NONE,SH-5910,  2,      9, S-1-1-6,2,20000123,0409, 30.0062, 135.2448, 4310,     75.8,  20.1984,  34.7456,2,   -999.0,9,  34.7457,2,    222.3,2,  -999.00,9,  -999.00,9,     0.29,2,     0.17,2,     0.04,2, -999.000,9, -999.000,9,  -999.00,9,   -999.0,9,   -999.0,9,-999.0000,9,   -999.0,  9,  -999.00,9,   -999.0,  -999.00,9,  -999.00,9,     0.16,2,     0.19,2,   -999.0,-999.0000, -999,9,   75,  20.1843,  24.5190,   -999.0,9
       SH00-01,  NONE,SH-5910,  2,      8,1-133-95,2,20000123,0408, 30.0062, 135.2448, 4310,    102.0,  20.2028,  34.7458,2,   -999.0,9,  34.7465,2,    222.3,2,  -999.00,9,  -999.00,9,     0.29,2,     0.17,2,     0.04,2, -999.000,9, -999.000,9,  -999.00,9,   -999.0,9,   -999.0,9,-999.0000,9,   -999.0,  9,  -999.00,9,   -999.0,  -999.00,9,  -999.00,9,     0.16,2,     0.19,2,   -999.0,-999.0000, -999,9,  101,  20.1839,  24.5193,   -999.0,9
       SH00-01,  NONE,SH-5910,  2,      7, S-1-1-4,2,20000123,0407, 30.0062, 135.2448, 4310,    126.2,  20.2053,  34.7466,2,   -999.0,9,  34.7465,2,    222.4,2,  -999.00,9,  -999.00,9,     0.29,2,     0.17,2,     0.04,2, -999.000,9, -999.000,9,  -999.00,9,   -999.0,9,   -999.0,9,-999.0000,9,   -999.0,  9,  -999.00,9,   -999.0,  -999.00,9,  -999.00,9,     0.14,2,     0.15,2,   -999.0,-999.0000, -999,9,  125,  20.1819,  24.5204,   -999.0,9
       SH00-01,  NONE,SH-5910,  2,      6,1-133-93,2,20000123,0406, 30.0062, 135.2448, 4310,    151.8,  20.2010,  34.7489,2,   -999.0,9,  34.7487,2,    222.1,2,  -999.00,9,  -999.00,9,     0.39,2,     0.17,2,     0.04,2, -999.000,9, -999.000,9,  -999.00,9,   -999.0,9,   -999.0,9,-999.0000,9,   -999.0,  9,  -999.00,9,   -999.0,  -999.00,9,  -999.00,9,     0.14,2,     0.16,2,   -999.0,-999.0000, -999,9,  151,  20.1728,  24.5246,   -999.0,9
       SH00-01,  NONE,SH-5910,  2,      5, 1-133-2,2,20000123,0405, 30.0062, 135.2448, 4310,    202.1,  19.5291,  34.8226,2,   -999.0,9,  34.8217,2,    191.3,3,  -999.00,9,  -999.00,9,     3.71,2,     0.02,2,     0.27,2, -999.000,9, -999.000,9,  -999.00,9,   -999.0,9,   -999.0,9,-999.0000,9,   -999.0,  9,  -999.00,9,   -999.0,  -999.00,9,  -999.00,9,     0.00,2,     0.03,2,   -999.0,-999.0000, -999,9,  201,  19.4924,  24.7590,   -999.0,9
       SH00-01,  NONE,SH-5910,  2,      4, S-1-1-2,2,20000123,0404, 30.0062, 135.2448, 4310,    252.4,  18.5690,  34.8067,2,   -999.0,9,  34.8083,2,    204.0,2,  -999.00,9,  -999.00,9,     3.41,2,     0.01,2,     0.23,2, -999.000,9, -999.000,9,  -999.00,9,   -999.0,9,   -999.0,9,-999.0000,9,   -999.0,  9,  -999.00,9,   -999.0,  -999.00,9,  -999.00,9,     0.00,2,     0.01,2,   -999.0,-999.0000, -999,9,  251,  18.5247,  24.9936,   -999.0,9
       SH00-01,  NONE,SH-5910,  2,      3,1-133-84,2,20000123,0403, 30.0062, 135.2448, 4310,    303.1,  17.8276,  34.7996,2,   -999.0,9,  34.7991,2,    199.4,2,  -999.00,9,  -999.00,9,     4.88,2,     0.01,2,     0.33,2, -999.000,9, -999.000,9,  -999.00,9,   -999.0,9,   -999.0,9,-999.0000,9,   -999.0,  9,  -999.00,9,   -999.0,  -999.00,9,  -999.00,9,     0.00,2,     0.01,2,   -999.0,-999.0000, -999,9,  301,  17.7758,  25.1735,   -999.0,9
       SH00-01,  NONE,SH-5910,  1,      2, S-1-1-7,2,20000123,0334, 30.0040, 135.2463, 4310,    402.7,  16.1659,  34.7195,2,   -999.0,9,  34.7188,2,    191.6,2,  -999.00,9,  -999.00,9,     7.90,2,     0.00,2,     0.52,2, -999.000,9, -999.000,9,  -999.00,9,   -999.0,9,   -999.0,9,-999.0000,9,   -999.0,  9,  -999.00,9,   -999.0,  -999.00,9,  -999.00,9,  -999.00,9,  -999.00,9,   -999.0,-999.0000, -999,9,  400,  16.1014,  25.5086,   -999.0,9
       SH00-01,  NONE,SH-5910,  1,      1, 1-133-1,2,20000123,0332, 30.0040, 135.2463, 4310,    502.8,  14.2871,  34.5792,2,   -999.0,9,  34.5787,2,    184.0,2,  -999.00,9,  -999.00,9,    11.60,2,     0.00,2,     0.79,2, -999.000,9, -999.000,9,  -999.00,9,   -999.0,9,   -999.0,9,-999.0000,9,   -999.0,  9,  -999.00,9,   -999.0,  -999.00,9,  -999.00,9,  -999.00,9,  -999.00,9,   -999.0,-999.0000, -999,9,  499,  14.2130,  25.8170,   -999.0,9
       SH00-01,  NONE,SH-5910,  1,     12, 1-133-7,2,20000123,0330, 30.0040, 135.2463, 4310,    604.3,  11.3896,  34.3801,2,   -999.0,9,  34.3797,2,    167.4,2,  -999.00,9,  -999.00,9,    18.03,2,     0.00,2,     1.25,2, -999.000,9, -999.000,9,  -999.00,9,   -999.0,9,   -999.0,9,-999.0000,9,   -999.0,  9,  -999.00,9,   -999.0,  -999.00,9,  -999.00,9,  -999.00,9,  -999.00,9,   -999.0,-999.0000, -999,9,  599,  11.3126,  26.2359,   -999.0,9
       SH00-01,  NONE,SH-5910,  1,     11, S-1-1-9,2,20000123,0328, 30.0040, 135.2463, 4310,    705.3,   8.7263,  34.2432,2,   -999.0,9,  34.2369,4,    144.0,2,  -999.00,9,  -999.00,9,    24.74,2,     0.00,2,     1.74,2, -999.000,9, -999.000,9,  -999.00,9,   -999.0,9,   -999.0,9,-999.0000,9,   -999.0,  9,  -999.00,9,   -999.0,  -999.00,9,  -999.00,9,  -999.00,9,  -999.00,9,   -999.0,-999.0000, -999,9,  699,   8.6497,  26.5807,   -999.0,9
       SH00-01,  NONE,SH-5910,  1,     10,1-133-94,2,20000123,0327, 30.0040, 135.2463, 4310,    806.7,   6.8126,  34.2107,2,   -999.0,9,  34.2076,2,    113.2,2,  -999.00,9,  -999.00,9,    30.97,2,     0.00,2,     2.20,2, -999.000,9, -999.000,9,  -999.00,9,   -999.0,9,   -999.0,9,-999.0000,9,   -999.0,  9,  -999.00,9,   -999.0,  -999.00,9,  -999.00,9,  -999.00,9,  -999.00,9,   -999.0,-999.0000, -999,9,  800,   6.7358,  26.8330,   -999.0,9
       SH00-01,  NONE,SH-5910,  1,      9, S-1-1-6,2,20000123,0325, 30.0040, 135.2463, 4310,    908.1,   5.2827,  34.2575,2,   -999.0,9,-999.0000,4,     85.0,2,  -999.00,9,  -999.00,9,    35.93,2,     0.00,2,     2.56,2, -999.000,9, -999.000,9,  -999.00,9,   -999.0,9,   -999.0,9,-999.0000,9,   -999.0,  9,  -999.00,9,   -999.0,  -999.00,9,  -999.00,9,  -999.00,9,  -999.00,9,   -999.0,-999.0000, -999,9,  900,   5.2060,  27.0627,   -999.0,9
       SH00-01,  NONE,SH-5910,  1,      8,1-133-95,2,20000123,0323, 30.0040, 135.2463, 4310,   1010.3,   4.5481,  34.3167,2,   -999.0,9,  34.3156,2,     72.6,2,  -999.00,9,  -999.00,9,    37.87,2,     0.00,2,     2.72,2, -999.000,9, -999.000,9,  -999.00,9,   -999.0,9,   -999.0,9,-999.0000,9,   -999.0,  9,  -999.00,9,   -999.0,  -999.00,9,  -999.00,9,  -999.00,9,  -999.00,9,   -999.0,-999.0000, -999,9, 1001,   4.4677,  27.1931,   -999.0,9
       SH00-01,  NONE,SH-5910,  1,      7, S-1-1-4,2,20000123,0320, 30.0040, 135.2463, 4310,   1224.5,   3.4227,  34.4286,2,   -999.0,9,  34.4259,2,     66.1,2,  -999.00,9,  -999.00,9,    40.10,2,     0.00,2,     2.87,2, -999.000,9, -999.000,9,  -999.00,9,   -999.0,9,   -999.0,9,-999.0000,9,   -999.0,  9,  -999.00,9,   -999.0,  -999.00,9,  -999.00,9,  -999.00,9,  -999.00,9,   -999.0,-999.0000, -999,9, 1213,   3.3336,  27.3979,   -999.0,9