BOTTLE,20130510GEMDJMAYT
EXPOCODE,SECT_ID,STNNBR,CASTNO,SAMPNO,BTLNBR,BTLNBR_FLAG_W,DATE,TIME,LATITUDE,LONGITUDE,DEPTH,CTDPRS,CTDTMP,CTDSAL,CTDSAL_FLAG_W,CTDOXY,CTDOXY_FLAG_W,SALNTY,SALNTY_FLAG_W,OXYGEN,OXYGEN_FLAG_W,SILCAT,SILCAT_FLAG_W,NITRAT,NITRAT_FLAG_W,NO2+NO3,NO2+NO3_FLAG_W,NITRIT,NITRIT_FLAG_W,PHSPHT,PHSPHT_FLAG_W,CFC-11,CFC-11_FLAG_W,CFC-12,CFC-12_FLAG_W,DELC13,DELC13_FLAG_W,TCARBN,TCARBN_FLAG_W,ALKALI,ALKALI_FLAG_W,PH,PH_FLAG_W,PH_TMP,PH_SCALE,PH_NBS,PH_NBS_FLAG_W,C13ERR,TOTALP,TOTALP_FLAG_W,AMMONI,AMMONI_FLAG_W,CHLORA,CHLORA_FLAG_W,PPHYTN,PPHYTN_FLAG_W,REVPRS,REVTMP,DEPTH_,DEPTH_FLAG,CTDDEP,THETA,SIGTHT,DOC,DOC_FLAG_W
,,,,,,,GMT,GMT,,,METER,DBAR,ITS-90,PSS-78,,UMOL/KG,,PSS-78,,UMOL/KG,,UMOL/KG,,UMOL/KG,,UMOL/KG,,UMOL/KG,,UMOL/KG,,PMOL/KG,,PMOL/KG,,/MILLE,,UMOL/KG,,UMOL/KG,,25_DEG_C,,DEG_C,,,,/MILLE,UMOL/KG,,UMOL/KG,,UG/L,,UG/L,,DBAR,ITS-90,METERS,,METERS,DEG_C,,UMOL/L,
       SH00-01,  NONE,SH-5911,  2,     -9,      -9,5,20000123,0943, 29.5202, 135.2457, 4430,      0.0,  20.2342,  34.7499,2,   -999.0,9,-999.0000,9,    230.0,2,  -999.00,9,  -999.00,9,     0.29,2,     0.16,2,     0.04,2, -999.000,9, -999.000,9,  -999.00,9,   -999.0,9,   -999.0,9,-999.0000,9,   -999.0,  9,     8.19,2,   -999.0,     0.23,2,  -999.00,9,     0.16,2,     0.19,2,   -999.0,-999.0000, -999,9,    0,  20.2342,  24.5091,   -999.0,9
       SH00-01,  NONE,SH-5911,  2,      7, S-1-1-4,2,20000123,0941, 29.5202, 135.2457, 4430,     13.1,  20.2401,  34.7510,2,   -999.0,9,-999.0000,9,    222.8,2,  -999.00,9,  -999.00,9,     0.29,2,     0.16,2,     0.04,2, -999.000,9, -999.000,9,  -999.00,9,   -999.0,9,   -999.0,9,-999.0000,9,   -999.0,  9,     8.18,2,   -999.0,     0.28,2,  -999.00,9,     0.08,2,     0.11,2,   -999.0,-999.0000, -999,9,   13,  20.2377,  24.5090,   -999.0,9
       SH00-01,  NONE,SH-5911,  2,      6,1-133-93,2,20000123,0941, 29.5202, 135.2457, 4430,     27.5,  20.2481,  34.7502,2,   -999.0,9,-999.0000,9,    223.0,2,  -999.00,9,  -999.00,9,     0.29,2,     0.16,2,     0.04,2, -999.000,9, -999.000,9,  -999.00,9,   -999.0,9,   -999.0,9,-999.0000,9,   -999.0,  9,     8.19,2,   -999.0,     0.24,2,  -999.00,9,     0.18,2,     0.22,2,   -999.0,-999.0000, -999,9,   27,  20.2430,  24.5070,   -999.0,9
       SH00-01,  NONE,SH-5911,  2,      5, 1-133-2,2,20000123,0940, 29.5202, 135.2457, 4430,     53.2,  20.2528,  34.7500,2,   -999.0,9,-999.0000,9,    223.6,2,  -999.00,9,  -999.00,9,     0.29,2,     0.16,2,     0.04,2, -999.000,9, -999.000,9,  -999.00,9,   -999.0,9,   -999.0,9,-999.0000,9,   -999.0,  9,     8.18,2,   -999.0,     0.26,2,  -999.00,9,     0.18,2,     0.20,2,   -999.0,-999.0000, -999,9,   53,  20.2429,  24.5069,   -999.0,9
       SH00-01,  NONE,SH-5911,  2,      4, S-1-1-2,2,20000123,0939, 29.5202, 135.2457, 4430,     77.4,  20.2564,  34.7502,2,   -999.0,9,-999.0000,9,    222.7,2,  -999.00,9,  -999.00,9,     0.29,2,     0.18,2,     0.04,2, -999.000,9, -999.000,9,  -999.00,9,   -999.0,9,   -999.0,9,-999.0000,9,   -999.0,  9,     8.18,2,   -999.0,     0.29,2,  -999.00,9,     0.16,2,     0.17,2,   -999.0,-999.0000, -999,9,   77,  20.2420,  24.5072,   -999.0,9
       SH00-01,  NONE,SH-5911,  2,      3,1-133-84,2,20000123,0938, 29.5202, 135.2457, 4430,    102.6,  20.2584,  34.7503,2,   -999.0,9,-999.0000,9,    221.5,2,  -999.00,9,  -999.00,9,     0.29,2,     0.19,2,     0.05,2, -999.000,9, -999.000,9,  -999.00,9,   -999.0,9,   -999.0,9,-999.0000,9,   -999.0,  9,     8.18,2,   -999.0,     0.23,2,  -999.00,9,     0.16,2,     0.17,2,   -999.0,-999.0000, -999,9,  102,  20.2394,  24.5080,   -999.0,9
       SH00-01,  NONE,SH-5911,  2,      2, S-1-1-7,2,20000123,0937, 29.5202, 135.2457, 4430,    128.4,  20.2634,  34.7509,2,   -999.0,9,-999.0000,9,    222.4,2,  -999.00,9,  -999.00,9,     0.29,2,     0.18,2,     0.04,2, -999.000,9, -999.000,9,  -999.00,9,   -999.0,9,   -999.0,9,-999.0000,9,   -999.0,  9,     8.18,2,   -999.0,     0.23,2,  -999.00,9,     0.16,2,     0.17,2,   -999.0,-999.0000, -999,9,  127,  20.2395,  24.5085,   -999.0,9
       SH00-01,  NONE,SH-5911,  2,      1, 1-133-1,2,20000123,0936, 29.5202, 135.2457, 4430,    153.3,  20.2649,  34.7524,2,   -999.0,9,-999.0000,9,    222.4,2,  -999.00,9,  -999.00,9,     0.29,2,     0.18,2,     0.05,2, -999.000,9, -999.000,9,  -999.00,9,   -999.0,9,   -999.0,9,-999.0000,9,   -999.0,  9,     8.18,2,   -999.0,     0.24,2,  -999.00,9,     0.16,2,     0.18,2,   -999.0,-999.0000, -999,9,  152,  20.2364,  24.5104,   -999.0,9
       SH00-01,  NONE,SH-5911,  2,     12, 1-133-7,2,20000123,0935, 29.5202, 135.2457, 4430,    203.9,  19.2754,  34.8139,2,   -999.0,9,-999.0000,9,    204.2,2,  -999.00,9,  -999.00,9,     2.63,2,     0.02,2,     0.19,2, -999.000,9, -999.000,9,  -999.00,9,   -999.0,9,   -999.0,9,-999.0000,9,   -999.0,  9,     8.13,2,   -999.0,     0.42,2,  -999.00,9,     0.01,2,     0.03,2,   -999.0,-999.0000, -999,9,  202,  19.2387,  24.8178,   -999.0,9
       SH00-01,  NONE,SH-5911,  2,     11, S-1-1-9,2,20000123,0934, 29.5202, 135.2457, 4430,    254.6,  18.3580,  34.8073,2,   -999.0,9,-999.0000,9,    201.0,2,  -999.00,9,  -999.00,9,     4.00,2,     0.01,2,     0.27,2, -999.000,9, -999.000,9,  -999.00,9,   -999.0,9,   -999.0,9,-999.0000,9,   -999.0,  9,     8.11,2,   -999.0,     0.45,2,  -999.00,9,     0.00,2,     0.01,2,   -999.0,-999.0000, -999,9,  253,  18.3137,  25.0467,   -999.0,9
       SH00-01,  NONE,SH-5911,  2,     10,1-133-94,2,20000123,0933, 29.5202, 135.2457, 4430,    305.9,  17.6920,  34.7973,2,   -999.0,9,-999.0000,9,    197.2,2,  -999.00,9,  -999.00,9,     5.17,2,     0.01,2,     0.35,2, -999.000,9, -999.000,9,  -999.00,9,   -999.0,9,   -999.0,9,-999.0000,9,   -999.0,  9,     8.09,2,   -999.0,     0.52,2,  -999.00,9,     0.00,2,     0.01,2,   -999.0,-999.0000, -999,9,  304,  17.6401,  25.2049,   -999.0,9
       SH00-01,  NONE,SH-5911,  1,      9, S-1-1-6,2,20000123,0856, 29.5050, 135.2455, 4450,    404.6,  15.9221,  34.6962,2,   -999.0,9,-999.0000,9,    189.5,2,  -999.00,9,  -999.00,9,     8.48,2,     0.00,2,     0.57,2, -999.000,9, -999.000,9,  -999.00,9,   -999.0,9,   -999.0,9,-999.0000,9,   -999.0,  9,     8.03,2,   -999.0,     0.79,2,  -999.00,9,  -999.00,9,  -999.00,9,   -999.0,-999.0000, -999,9,  401,  15.8581,  25.5462,   -999.0,9
       SH00-01,  NONE,SH-5911,  1,      8,1-133-95,2,20000123,0854, 29.5050, 135.2455, 4450,    505.3,  13.6912,  34.5388,2,   -999.0,9,-999.0000,9,    181.8,2,  -999.00,9,  -999.00,9,    12.87,2,     0.00,2,     0.88,2, -999.000,9, -999.000,9,  -999.00,9,   -999.0,9,   -999.0,9,-999.0000,9,   -999.0,  9,     7.97,2,   -999.0,     1.08,2,  -999.00,9,  -999.00,9,  -999.00,9,   -999.0,-999.0000, -999,9,  501,  13.6188,  25.9099,   -999.0,9
       SH00-01,  NONE,SH-5911,  1,      7, S-1-1-4,2,20000123,0852, 29.5050, 135.2455, 4450,    605.4,  11.0836,  34.3589,2,   -999.0,9,-999.0000,9,    166.0,2,  -999.00,9,  -999.00,9,    18.81,2,     0.00,2,     1.31,2, -999.000,9, -999.000,9,  -999.00,9,   -999.0,9,   -999.0,9,-999.0000,9,   -999.0,  9,     7.87,2,   -999.0,     1.55,2,  -999.00,9,  -999.00,9,  -999.00,9,   -999.0,-999.0000, -999,9,  600,  11.0077,  26.2748,   -999.0,9
       SH00-01,  NONE,SH-5911,  1,      6,1-133-93,2,20000123,0850, 29.5050, 135.2455, 4450,    706.5,   8.4991,  34.2270,2,   -999.0,9,-999.0000,9,    140.9,2,  -999.00,9,  -999.00,9,    25.42,2,     0.00,2,     1.79,2, -999.000,9, -999.000,9,  -999.00,9,   -999.0,9,   -999.0,9,-999.0000,9,   -999.0,  9,     7.76,2,   -999.0,     2.08,2,  -999.00,9,  -999.00,9,  -999.00,9,   -999.0,-999.0000, -999,9,  701,   8.4234,  26.6028,   -999.0,9
       SH00-01,  NONE,SH-5911,  1,      5, 1-133-2,2,20000123,0848, 29.5050, 135.2455, 4450,    807.3,   6.3356,  34.2088,2,   -999.0,9,-999.0000,9,    106.2,2,  -999.00,9,  -999.00,9,    32.23,2,     0.00,2,     2.29,2, -999.000,9, -999.000,9,  -999.00,9,   -999.0,9,   -999.0,9,-999.0000,9,   -999.0,  9,     7.65,2,   -999.0,     2.60,2,  -999.00,9,  -999.00,9,  -999.00,9,   -999.0,-999.0000, -999,9,  800,   6.2617,  26.8940,   -999.0,9
       SH00-01,  NONE,SH-5911,  1,      4, S-1-1-2,2,20000123,0847, 29.5050, 135.2455, 4450,    907.8,   5.2579,  34.2600,2,   -999.0,9,-999.0000,9,     83.7,2,  -999.00,9,  -999.00,9,    36.02,2,     0.00,2,     2.55,2, -999.000,9, -999.000,9,  -999.00,9,   -999.0,9,   -999.0,9,-999.0000,9,   -999.0,  9,     7.59,2,   -999.0,     2.90,2,  -999.00,9,  -999.00,9,  -999.00,9,   -999.0,-999.0000, -999,9,  900,   5.1815,  27.0676,   -999.0,9
       SH00-01,  NONE,SH-5911,  1,      3,1-133-84,2,20000123,0845, 29.5050, 135.2455, 4450,   1008.3,   4.3769,  34.3324,2,   -999.0,9,-999.0000,9,   -999.0,9,  -999.00,9,  -999.00,9,  -999.00,9,  -999.00,9,  -999.00,9, -999.000,9, -999.000,9,  -999.00,9,   -999.0,9,   -999.0,9,-999.0000,9,   -999.0,  9,  -999.00,9,   -999.0,  -999.00,9,  -999.00,9,  -999.00,9,  -999.00,9,   -999.0,-999.0000, -999,9,  999,   4.2979,  27.2238,   -999.0,9
       SH00-01,  NONE,SH-5911,  1,      2, S-1-1-7,2,20000123,0845, 29.5050, 135.2455, 4450,   1010.5,   4.3711,  34.3338,2,   -999.0,9,-999.0000,9,     72.1,2,  -999.00,9,  -999.00,9,    38.36,2,     0.00,2,     2.75,2, -999.000,9, -999.000,9,  -999.00,9,   -999.0,9,   -999.0,9,-999.0000,9,   -999.0,  9,     7.56,2,   -999.0,     3.09,2,  -999.00,9,  -999.00,9,  -999.00,9,   -999.0,-999.0000, -999,9, 1001,   4.2919,  27.2255,   -999.0,9
       SH00-01,  NONE,SH-5911,  1,      1, 1-133-1,2,20000123,0842, 29.5050, 135.2455, 4450,   1223.7,   3.2414,  34.4292,2,   -999.0,9,-999.0000,9,     62.2,2,  -999.00,9,  -999.00,9,    40.68,2,     0.00,2,     2.90,2, -999.000,9, -999.000,9,  -999.00,9,   -999.0,9,   -999.0,9,-999.0000,9,   -999.0,  9,     7.54,2,   -999.0,     3.29,2,  -999.00,9,  -999.00,9,  -999.00,9,   -999.0,-999.0000, -999,9, 1212,   3.1541,  27.4152,   -999.0,9
       SH00-01,  NONE,SH-5916,  1,     -9,      -9,5,20000201,1228, 31.1778, 131.5138,  280,      0.0,  20.2798,  34.6674,2,   -999.0,9,-999.0000,9,    225.4,2,  -999.00,9,  -999.00,9,     1.46,2,     0.28,2,     0.13,2, -999.000,9, -999.000,9,  -999.00,9,   -999.0,9,   -999.0,9,-999.0000,9,   -999.0,  9,     8.15,2,   -999.0,  -999.00,9,  -999.00,9,     0.07,2,     0.10,2,   -999.0,-999.0000, -999,9,    0,  20.2798,  24.4341,   -999.0,9
       SH00-01,  NONE,SH-5916,  1,      3,1-133-84,2,20000201,1227, 31.1778, 131.5138,  280,     12.2,  20.2959,  34.6666,2,   -999.0,9,-999.0000,9,    221.6,2,  -999.00,9,  -999.00,9,     1.37,2,     0.27,2,     0.13,2, -999.000,9, -999.000,9,  -999.00,9,   -999.0,9,   -999.0,9,-999.0000,9,   -999.0,  9,     8.18,2,   -999.0,  -999.00,9,  -999.00,9,     0.25,2,     0.27,2,   -999.0,-999.0000, -999,9,   12,  20.2936,  24.4298,   -999.0,9
       SH00-01,  NONE,SH-5916,  1,      2, S-1-1-7,2,20000201,1226, 31.1778, 131.5138,  280,     27.6,  20.2946,  34.6668,2,   -999.0,9,-999.0000,9,    221.6,2,  -999.00,9,  -999.00,9,     1.27,2,     0.27,2,     0.13,2, -999.000,9, -999.000,9,  -999.00,9,   -999.0,9,   -999.0,9,-999.0000,9,   -999.0,  9,     8.19,2,   -999.0,  -999.00,9,  -999.00,9,     0.14,2,     0.18,2,   -999.0,-999.0000, -999,9,   27,  20.2895,  24.4310,   -999.0,9
       SH00-01,  NONE,SH-5916,  1,      1, 1-133-1,4,20000201,1225, 31.1778, 131.5138,  280,     53.0,  20.2989,  34.6665,2,   -999.0,9,-999.0000,9,    221.3,2,  -999.00,9,  -999.00,9,     1.37,2,     0.27,2,     0.13,2, -999.000,9, -999.000,9,  -999.00,9,   -999.0,9,   -999.0,9,-999.0000,9,   -999.0,  9,     8.18,2,   -999.0,  -999.00,9,  -999.00,9,     0.19,2,     0.26,2,   -999.0,-999.0000, -999,9,   53,  20.2891,  24.4309,   -999.0,9
       SH00-01,  NONE,SH-5916,  1,     12, 1-133-7,2,20000201,1225, 31.1778, 131.5138,  280,     53.0,  20.2989,  34.6665,2,   -999.0,9,-999.0000,9,    221.1,2,  -999.00,9,  -999.00,9,     1.46,2,     0.27,2,     0.15,2, -999.000,9, -999.000,9,  -999.00,9,   -999.0,9,   -999.0,9,-999.0000,9,   -999.0,  9,     8.18,2,   -999.0,  -999.00,9,  -999.00,9,     0.18,2,     0.21,2,   -999.0,-999.0000, -999,9,   53,  20.2891,  24.4309,   -999.0,9
       SH00-01,  NONE,SH-5916,  1,     11, S-1-1-9,2,20000201,1224, 31.1778, 131.5138,  280,     74.9,  20.2998,  34.6675,2,   -999.0,9,-999.0000,9,    216.7,2,  -999.00,9,  -999.00,9,     2.15,2,     0.27,2,     0.19,2, -999.000,9, -999.000,9,  -999.00,9,   -999.0,9,   -999.0,9,-999.0000,9,   -999.0,  9,     8.17,2,   -999.0,  -999.00,9,  -999.00,9,     0.09,2,     0.15,2,   -999.0,-999.0000, -999,9,   74,  20.2859,  24.4325,   -999.0,9
       SH00-01,  NONE,SH-5916,  1,     10,1-133-94,2,20000201,1223, 31.1778, 131.5138,  280,    102.2,  20.0605,  34.6476,2,   -999.0,9,-999.0000,9,    207.7,2,  -999.00,9,  -999.00,9,     3.81,2,     0.16,2,     0.34,2, -999.000,9, -999.000,9,  -999.00,9,   -999.0,9,   -999.0,9,-999.0000,9,   -999.0,  9,     8.13,2,   -999.0,  -999.00,9,  -999.00,9,     0.03,2,     0.07,2,   -999.0,-999.0000, -999,9,  101,  20.0417,  24.4820,   -999.0,9
       SH00-01,  NONE,SH-5916,  1,      9, S-1-1-6,2,20000201,1222, 31.1778, 131.5138,  280,    128.1,  19.1957,  34.6324,2,   -999.0,9,-999.0000,9,    199.7,2,  -999.00,9,  -999.00,9,     5.37,2,     0.09,2,     0.37,2, -999.000,9, -999.000,9,  -999.00,9,   -999.0,9,   -999.0,9,-999.0000,9,   -999.0,  9,     8.11,2,   -999.0,  -999.00,9,  -999.00,9,     0.03,2,     0.07,2,   -999.0,-999.0000, -999,9,  127,  19.1727,  24.6961,   -999.0,9
       SH00-01,  NONE,SH-5916,  1,      8,1-133-95,2,20000201,1221, 31.1778, 131.5138,  280,    152.8,  18.3498,  34.5870,2,   -999.0,9,-999.0000,9,    198.7,2,  -999.00,9,  -999.00,9,     5.66,2,     0.08,2,     0.40,2, -999.000,9, -999.000,9,  -999.00,9,   -999.0,9,   -999.0,9,-999.0000,9,   -999.0,  9,     8.10,2,   -999.0,  -999.00,9,  -999.00,9,     0.02,2,     0.06,2,   -999.0,-999.0000, -999,9,  152,  18.3233,  24.8758,   -999.0,9
       SH00-01,  NONE,SH-5916,  1,      7, S-1-1-4,2,20000201,1219, 31.1778, 131.5138,  280,    202.7,  15.4047,  34.6301,2,   -999.0,9,-999.0000,9,    178.6,2,  -999.00,9,  -999.00,9,    10.73,2,     0.00,2,     0.72,2, -999.000,9, -999.000,9,  -999.00,9,   -999.0,9,   -999.0,9,-999.0000,9,   -999.0,  9,     8.00,2,   -999.0,  -999.00,9,  -999.00,9,     0.00,2,     0.02,2,   -999.0,-999.0000, -999,9,  201,  15.3736,  25.6043,   -999.0,9
       SH00-01,  NONE,SH-5916,  1,      6,1-133-93,2,20000201,1218, 31.1778, 131.5138,  280,    234.5,  14.2764,  34.5989,2,   -999.0,9,-999.0000,9,    176.2,2,  -999.00,9,  -999.00,9,    12.58,2,     0.00,2,     0.85,2, -999.000,9, -999.000,9,  -999.00,9,   -999.0,9,   -999.0,9,-999.0000,9,   -999.0,  9,     7.98,2,   -999.0,  -999.00,9,  -999.00,9,     0.00,2,     0.02,2,   -999.0,-999.0000, -999,9,  233,  14.2421,  25.8260,   -999.0,9
       SH00-01,  NONE,SH-5917,  2,     -9,      -9,5,20000201,1546, 31.0168, 131.7345, 1440,      0.0,  21.5483,  34.6973,2,   -999.0,9,-999.0000,9,    217.5,2,  -999.00,9,  -999.00,9,     0.68,2,     0.18,2,     0.07,2, -999.000,9, -999.000,9,  -999.00,9,   -999.0,9,   -999.0,9,-999.0000,9,   -999.0,  9,  -999.00,9,   -999.0,  -999.00,9,  -999.00,9,     0.22,2,     0.24,2,   -999.0,-999.0000, -999,9,    0,  21.5483,  24.1134,   -999.0,9
       SH00-01,  NONE,SH-5917,  2,     12, 1-133-7,2,20000201,1545, 31.0168, 131.7345, 1440,     11.1,  21.5671,  34.6987,2,   -999.0,9,  34.7002,2,    215.6,2,  -999.00,9,  -999.00,9,     0.88,2,     0.18,2,     0.07,2, -999.000,9, -999.000,9,  -999.00,9,   -999.0,9,   -999.0,9,-999.0000,9,   -999.0,  9,  -999.00,9,   -999.0,  -999.00,9,  -999.00,9,     0.20,2,     0.23,2,   -999.0,-999.0000, -999,9,   11,  21.5649,  24.1098,   -999.0,9
       SH00-01,  NONE,SH-5917,  2,     11, S-1-1-9,2,20000201,1544, 31.0168, 131.7345, 1440,     25.6,  21.5717,  34.6993,2,   -999.0,9,  34.7026,2,    215.7,2,  -999.00,9,  -999.00,9,     0.68,2,     0.18,2,     0.07,2, -999.000,9, -999.000,9,  -999.00,9,   -999.0,9,   -999.0,9,-999.0000,9,   -999.0,  9,  -999.00,9,   -999.0,  -999.00,9,  -999.00,9,     0.22,2,     0.23,2,   -999.0,-999.0000, -999,9,   25,  21.5668,  24.1097,   -999.0,9
       SH00-01,  NONE,SH-5917,  2,     10,1-133-94,4,20000201,1543, 31.0168, 131.7345, 1440,     49.9,  21.5865,  34.6975,2,   -999.0,9,  34.6945,4,    215.8,2,  -999.00,9,  -999.00,9,     0.68,2,     0.18,2,     0.07,2, -999.000,9, -999.000,9,  -999.00,9,   -999.0,9,   -999.0,9,-999.0000,9,   -999.0,  9,  -999.00,9,   -999.0,  -999.00,9,  -999.00,9,     0.22,2,     0.27,2,   -999.0,-999.0000, -999,9,   50,  21.5768,  24.1056,   -999.0,9
       SH00-01,  NONE,SH-5917,  2,      9, S-1-1-6,2,20000201,1543, 31.0168, 131.7345, 1440,     49.9,  21.5865,  34.6975,2,   -999.0,9,  34.7008,2,    215.6,2,  -999.00,9,  -999.00,9,     0.78,2,     0.18,2,     0.07,2, -999.000,9, -999.000,9,  -999.00,9,   -999.0,9,   -999.0,9,-999.0000,9,   -999.0,  9,  -999.00,9,   -999.0,  -999.00,9,  -999.00,9,     0.23,2,     0.22,2,   -999.0,-999.0000, -999,9,   50,  21.5768,  24.1056,   -999.0,9
       SH00-01,  NONE,SH-5917,  2,      8,1-133-95,2,20000201,1542, 31.0168, 131.7345, 1440,     75.6,  21.5932,  34.6974,2,   -999.0,9,  34.7010,2,    215.1,2,  -999.00,9,  -999.00,9,     0.78,2,     0.17,2,     0.07,2, -999.000,9, -999.000,9,  -999.00,9,   -999.0,9,   -999.0,9,-999.0000,9,   -999.0,  9,  -999.00,9,   -999.0,  -999.00,9,  -999.00,9,     0.21,2,     0.22,2,   -999.0,-999.0000, -999,9,   75,  21.5785,  24.1051,   -999.0,9
       SH00-01,  NONE,SH-5917,  2,      7, S-1-1-4,2,20000201,1541, 31.0168, 131.7345, 1440,    102.7,  20.8286,  34.7731,2,   -999.0,9,  34.7772,2,    195.7,2,  -999.00,9,  -999.00,9,     2.83,2,     0.05,2,     0.21,2, -999.000,9, -999.000,9,  -999.00,9,   -999.0,9,   -999.0,9,-999.0000,9,   -999.0,  9,  -999.00,9,   -999.0,  -999.00,9,  -999.00,9,     0.03,2,     0.06,2,   -999.0,-999.0000, -999,9,  102,  20.8091,  24.3729,   -999.0,9
       SH00-01,  NONE,SH-5917,  2,      6,1-133-93,2,20000201,1540, 31.0168, 131.7345, 1440,    128.1,  19.9993,  34.7583,2,   -999.0,9,  34.7721,4,    193.6,2,  -999.00,9,  -999.00,9,     3.90,2,     0.04,2,     0.26,2, -999.000,9, -999.000,9,  -999.00,9,   -999.0,9,   -999.0,9,-999.0000,9,   -999.0,  9,  -999.00,9,   -999.0,  -999.00,9,  -999.00,9,     0.02,2,     0.04,2,   -999.0,-999.0000, -999,9,  127,  19.9757,  24.5838,   -999.0,9
       SH00-01,  NONE,SH-5917,  2,      5, 1-133-2,2,20000201,1539, 31.0168, 131.7345, 1440,    153.1,  19.1626,  34.7766,2,   -999.0,9,  34.7800,2,    190.1,2,  -999.00,9,  -999.00,9,     4.98,2,     0.02,2,     0.34,2, -999.000,9, -999.000,9,  -999.00,9,   -999.0,9,   -999.0,9,-999.0000,9,   -999.0,  9,  -999.00,9,   -999.0,  -999.00,9,  -999.00,9,     0.01,2,     0.04,2,   -999.0,-999.0000, -999,9,  152,  19.1352,  24.8158,   -999.0,9
       SH00-01,  NONE,SH-5917,  2,      4, S-1-1-2,2,20000201,1537, 31.0168, 131.7345, 1440,    202.3,  17.9608,  34.7873,2,   -999.0,9,  34.7890,2,    190.8,2,  -999.00,9,  -999.00,9,     5.85,2,     0.01,2,     0.39,2, -999.000,9, -999.000,9,  -999.00,9,   -999.0,9,   -999.0,9,-999.0000,9,   -999.0,  9,  -999.00,9,   -999.0,  -999.00,9,  -999.00,9,     0.00,2,     0.02,2,   -999.0,-999.0000, -999,9,  201,  17.9261,  25.1273,   -999.0,9
       SH00-01,  NONE,SH-5917,  2,      3,1-133-84,2,20000201,1536, 31.0168, 131.7345, 1440,    251.7,  16.5260,  34.7152,2,   -999.0,9,  34.7191,2,    188.3,2,  -999.00,9,  -999.00,9,     8.19,2,     0.01,2,     0.55,2, -999.000,9, -999.000,9,  -999.00,9,   -999.0,9,   -999.0,9,-999.0000,9,   -999.0,  9,  -999.00,9,   -999.0,  -999.00,9,  -999.00,9,     0.00,2,     0.01,2,   -999.0,-999.0000, -999,9,  250,  16.4853,  25.4166,   -999.0,9
       SH00-01,  NONE,SH-5917,  2,      2, S-1-1-7,2,20000201,1535, 31.0168, 131.7345, 1440,    302.0,  15.1995,  34.6386,2,   -999.0,9,  34.6428,2,    184.6,2,  -999.00,9,  -999.00,9,    10.43,2,     0.01,2,     0.69,2, -999.000,9, -999.000,9,  -999.00,9,   -999.0,9,   -999.0,9,-999.0000,9,   -999.0,  9,  -999.00,9,   -999.0,  -999.00,9,  -999.00,9,     0.00,2,     0.01,2,   -999.0,-999.0000, -999,9,  300,  15.1534,  25.6596,   -999.0,9