BOTTLE,20130510GEMDJMAYT
EXPOCODE,SECT_ID,STNNBR,CASTNO,SAMPNO,BTLNBR,BTLNBR_FLAG_W,DATE,TIME,LATITUDE,LONGITUDE,DEPTH,CTDPRS,CTDTMP,CTDSAL,CTDSAL_FLAG_W,CTDOXY,CTDOXY_FLAG_W,SALNTY,SALNTY_FLAG_W,OXYGEN,OXYGEN_FLAG_W,SILCAT,SILCAT_FLAG_W,NITRAT,NITRAT_FLAG_W,NO2+NO3,NO2+NO3_FLAG_W,NITRIT,NITRIT_FLAG_W,PHSPHT,PHSPHT_FLAG_W,CFC-11,CFC-11_FLAG_W,CFC-12,CFC-12_FLAG_W,DELC13,DELC13_FLAG_W,TCARBN,TCARBN_FLAG_W,ALKALI,ALKALI_FLAG_W,PH,PH_FLAG_W,PH_TMP,PH_SCALE,PH_NBS,PH_NBS_FLAG_W,C13ERR,TOTALP,TOTALP_FLAG_W,AMMONI,AMMONI_FLAG_W,CHLORA,CHLORA_FLAG_W,PPHYTN,PPHYTN_FLAG_W,REVPRS,REVTMP,DEPTH_,DEPTH_FLAG,CTDDEP,THETA,SIGTHT,DOC,DOC_FLAG_W
,,,,,,,GMT,GMT,,,METER,DBAR,ITS-90,PSS-78,,UMOL/KG,,PSS-78,,UMOL/KG,,UMOL/KG,,UMOL/KG,,UMOL/KG,,UMOL/KG,,UMOL/KG,,PMOL/KG,,PMOL/KG,,/MILLE,,UMOL/KG,,UMOL/KG,,25_DEG_C,,DEG_C,,,,/MILLE,UMOL/KG,,UMOL/KG,,UG/L,,UG/L,,DBAR,ITS-90,METERS,,METERS,DEG_C,,UMOL/L,
       SH00-01,  NONE,SH-5917,  1,     11, S-1-1-9,2,20000201,1502, 31.0048, 131.7232, 1440,    404.0,  12.2236,  34.4591,2,   -999.0,9,  34.4703,4,    162.1,2,  -999.00,9,  -999.00,9,    17.25,2,     0.01,2,     1.19,2, -999.000,9, -999.000,9,  -999.00,9,   -999.0,9,   -999.0,9,-999.0000,9,   -999.0,  9,  -999.00,9,   -999.0,  -999.00,9,  -999.00,9,  -999.00,9,  -999.00,9,   -999.0,-999.0000, -999,9,  401,  12.1701,  26.1364,   -999.0,9
       SH00-01,  NONE,SH-5917,  1,     10,1-133-94,2,20000201,1500, 31.0048, 131.7232, 1440,    504.1,   7.7018,  34.3125,2,   -999.0,9,  34.3154,2,    114.0,2,  -999.00,9,  -999.00,9,    29.22,2,     0.00,2,     2.05,2, -999.000,9, -999.000,9,  -999.00,9,   -999.0,9,   -999.0,9,-999.0000,9,   -999.0,  9,  -999.00,9,   -999.0,  -999.00,9,  -999.00,9,  -999.00,9,  -999.00,9,   -999.0,-999.0000, -999,9,  500,   7.6515,  26.7851,   -999.0,9
       SH00-01,  NONE,SH-5917,  1,      9, S-1-1-6,2,20000201,1458, 31.0048, 131.7232, 1440,    604.8,   6.5926,  34.3439,2,   -999.0,9,  34.3445,2,    100.4,2,  -999.00,9,  -999.00,9,    32.04,2,     0.00,2,     2.27,2, -999.000,9, -999.000,9,  -999.00,9,   -999.0,9,   -999.0,9,-999.0000,9,   -999.0,  9,  -999.00,9,   -999.0,  -999.00,9,  -999.00,9,  -999.00,9,  -999.00,9,   -999.0,-999.0000, -999,9,  600,   6.5367,  26.9646,   -999.0,9
       SH00-01,  NONE,SH-5917,  1,      8,1-133-95,2,20000201,1456, 31.0048, 131.7232, 1440,    705.0,   5.0059,  34.2965,2,   -999.0,9,  34.2838,4,     76.0,2,  -999.00,9,  -999.00,9,    36.90,2,     0.01,2,     2.62,2, -999.000,9, -999.000,9,  -999.00,9,   -999.0,9,   -999.0,9,-999.0000,9,   -999.0,  9,  -999.00,9,   -999.0,  -999.00,9,  -999.00,9,  -999.00,9,  -999.00,9,   -999.0,-999.0000, -999,9,  699,   4.9489,  27.1233,   -999.0,9
       SH00-01,  NONE,SH-5917,  1,      7, S-1-1-4,2,20000201,1453, 31.0048, 131.7232, 1440,    808.1,   4.6068,  34.3637,2,   -999.0,9,  34.3655,2,     76.6,2,  -999.00,9,  -999.00,9,    37.48,2,     0.01,2,     2.68,2, -999.000,9, -999.000,9,  -999.00,9,   -999.0,9,   -999.0,9,-999.0000,9,   -999.0,  9,  -999.00,9,   -999.0,  -999.00,9,  -999.00,9,  -999.00,9,  -999.00,9,   -999.0,-999.0000, -999,9,  801,   4.5432,  27.2221,   -999.0,9
       SH00-01,  NONE,SH-5917,  1,      6,1-133-93,2,20000201,1451, 31.0048, 131.7232, 1440,    906.9,   3.8836,  34.3950,2,   -999.0,9,  34.3956,2,     68.0,2,  -999.00,9,  -999.00,9,    39.23,2,     0.01,2,     2.79,2, -999.000,9, -999.000,9,  -999.00,9,   -999.0,9,   -999.0,9,-999.0000,9,   -999.0,  9,  -999.00,9,   -999.0,  -999.00,9,  -999.00,9,  -999.00,9,  -999.00,9,   -999.0,-999.0000, -999,9,  899,   3.8166,  27.3236,   -999.0,9
       SH00-01,  NONE,SH-5917,  1,      5, 1-133-2,2,20000201,1449, 31.0048, 131.7232, 1440,   1008.3,   3.5087,  34.4350,2,   -999.0,9,  34.4412,2,     70.9,2,  -999.00,9,  -999.00,9,    39.32,2,     0.00,2,     2.81,2, -999.000,9, -999.000,9,  -999.00,9,   -999.0,9,   -999.0,9,-999.0000,9,   -999.0,  9,  -999.00,9,   -999.0,  -999.00,9,  -999.00,9,  -999.00,9,  -999.00,9,   -999.0,-999.0000, -999,9,  999,   3.4363,  27.3931,   -999.0,9
       SH00-01,  NONE,SH-5917,  1,      4, S-1-1-2,2,20000201,1446, 31.0048, 131.7232, 1440,   1211.7,   2.8769,  34.4857,2,   -999.0,9,  34.4862,2,     73.2,2,  -999.00,9,  -999.00,9,    39.90,2,     0.01,2,     2.86,2, -999.000,9, -999.000,9,  -999.00,9,   -999.0,9,   -999.0,9,-999.0000,9,   -999.0,  9,  -999.00,9,   -999.0,  -999.00,9,  -999.00,9,  -999.00,9,  -999.00,9,   -999.0,-999.0000, -999,9, 1200,   2.7938,  27.4931,   -999.0,9
       SH00-01,  NONE,SH-5918,  2,     -9,      -9,5,20000201,2128, 30.6348, 132.1848, 2490,      0.0,  21.3633,  34.7039,2,   -999.0,9,-999.0000,9,    217.4,2,  -999.00,9,  -999.00,9,     0.78,2,     0.20,2,     0.07,2, -999.000,9, -999.000,9,  -999.00,9,   -999.0,9,   -999.0,9,-999.0000,9,   -999.0,  9,     8.20,2,   -999.0,  -999.00,9,  -999.00,9,     0.22,2,     0.24,2,   -999.0,-999.0000, -999,9,    0,  21.3633,  24.1693,   -999.0,9
       SH00-01,  NONE,SH-5918,  2,      6,1-133-93,2,20000201,2127, 30.6348, 132.1848, 2490,     10.0,  21.3670,  34.7037,2,   -999.0,9,-999.0000,9,    218.6,2,  -999.00,9,  -999.00,9,     0.78,2,     0.21,2,     0.07,2, -999.000,9, -999.000,9,  -999.00,9,   -999.0,9,   -999.0,9,-999.0000,9,   -999.0,  9,     8.20,2,   -999.0,  -999.00,9,  -999.00,9,     0.21,2,     0.24,2,   -999.0,-999.0000, -999,9,   10,  21.3650,  24.1687,   -999.0,9
       SH00-01,  NONE,SH-5918,  2,      5, 1-133-2,2,20000201,2126, 30.6348, 132.1848, 2490,     25.9,  21.3732,  34.7033,2,   -999.0,9,-999.0000,9,    217.2,2,  -999.00,9,  -999.00,9,     0.78,2,     0.21,2,     0.07,2, -999.000,9, -999.000,9,  -999.00,9,   -999.0,9,   -999.0,9,-999.0000,9,   -999.0,  9,     8.19,2,   -999.0,  -999.00,9,  -999.00,9,     0.22,2,     0.22,2,   -999.0,-999.0000, -999,9,   26,  21.3682,  24.1675,   -999.0,9
       SH00-01,  NONE,SH-5918,  2,      4, S-1-1-2,2,20000201,2125, 30.6348, 132.1848, 2490,     50.6,  21.3832,  34.7055,2,   -999.0,9,-999.0000,9,    217.2,2,  -999.00,9,  -999.00,9,     0.68,2,     0.21,2,     0.07,2, -999.000,9, -999.000,9,  -999.00,9,   -999.0,9,   -999.0,9,-999.0000,9,   -999.0,  9,     8.19,2,   -999.0,  -999.00,9,  -999.00,9,     0.16,2,     0.17,2,   -999.0,-999.0000, -999,9,   50,  21.3734,  24.1677,   -999.0,9
       SH00-01,  NONE,SH-5918,  2,      3,1-133-84,2,20000201,2124, 30.6348, 132.1848, 2490,     77.0,  21.2930,  34.7321,2,   -999.0,9,-999.0000,9,    216.4,2,  -999.00,9,  -999.00,9,     0.68,2,     0.17,2,     0.06,2, -999.000,9, -999.000,9,  -999.00,9,   -999.0,9,   -999.0,9,-999.0000,9,   -999.0,  9,     8.19,2,   -999.0,  -999.00,9,  -999.00,9,     0.15,2,     0.18,2,   -999.0,-999.0000, -999,9,   76,  21.2781,  24.2142,   -999.0,9
       SH00-01,  NONE,SH-5918,  2,      2, S-1-1-7,2,20000201,2123, 30.6348, 132.1848, 2490,    102.4,  21.1979,  34.7481,2,   -999.0,9,-999.0000,9,    218.1,2,  -999.00,9,  -999.00,9,     0.39,2,     0.14,2,     0.05,2, -999.000,9, -999.000,9,  -999.00,9,   -999.0,9,   -999.0,9,-999.0000,9,   -999.0,  9,     8.16,2,   -999.0,  -999.00,9,  -999.00,9,     0.13,2,     0.13,2,   -999.0,-999.0000, -999,9,  102,  21.1782,  24.2536,   -999.0,9
       SH00-01,  NONE,SH-5918,  2,      1, 1-133-1,2,20000201,2122, 30.6348, 132.1848, 2490,    126.8,  21.0992,  34.7244,2,   -999.0,9,-999.0000,9,    217.8,2,  -999.00,9,  -999.00,9,     0.68,2,     0.21,2,     0.07,2, -999.000,9, -999.000,9,  -999.00,9,   -999.0,9,   -999.0,9,-999.0000,9,   -999.0,  9,     8.19,2,   -999.0,  -999.00,9,  -999.00,9,     0.18,2,     0.16,2,   -999.0,-999.0000, -999,9,  126,  21.0749,  24.2638,   -999.0,9
       SH00-01,  NONE,SH-5918,  2,     12, 1-133-7,2,20000201,2121, 30.6348, 132.1848, 2490,    152.2,  20.6646,  34.7971,2,   -999.0,9,-999.0000,9,    198.4,2,  -999.00,9,  -999.00,9,     2.54,2,     0.06,2,     0.19,2, -999.000,9, -999.000,9,  -999.00,9,   -999.0,9,   -999.0,9,-999.0000,9,   -999.0,  9,     8.15,2,   -999.0,  -999.00,9,  -999.00,9,     0.03,2,     0.05,2,   -999.0,-999.0000, -999,9,  151,  20.6359,  24.4378,   -999.0,9
       SH00-01,  NONE,SH-5918,  2,     11, S-1-1-9,2,20000201,2120, 30.6348, 132.1848, 2490,    202.6,  19.1258,  34.8190,2,   -999.0,9,-999.0000,9,    191.7,2,  -999.00,9,  -999.00,9,     4.29,2,     0.01,2,     0.30,2, -999.000,9, -999.000,9,  -999.00,9,   -999.0,9,   -999.0,9,-999.0000,9,   -999.0,  9,     8.10,2,   -999.0,  -999.00,9,  -999.00,9,     0.00,2,     0.02,2,   -999.0,-999.0000, -999,9,  201,  19.0895,  24.8600,   -999.0,9
       SH00-01,  NONE,SH-5918,  2,     10,1-133-94,2,20000201,2119, 30.6348, 132.1848, 2490,    252.9,  17.9564,  34.8060,2,   -999.0,9,-999.0000,9,    192.3,2,  -999.00,9,  -999.00,9,     5.46,2,     0.01,2,     0.37,2, -999.000,9, -999.000,9,  -999.00,9,   -999.0,9,   -999.0,9,-999.0000,9,   -999.0,  9,     8.07,2,   -999.0,  -999.00,9,  -999.00,9,     0.00,2,     0.01,2,   -999.0,-999.0000, -999,9,  251,  17.9130,  25.1448,   -999.0,9
       SH00-01,  NONE,SH-5918,  2,      9, S-1-1-6,2,20000201,2118, 30.6348, 132.1848, 2490,    301.5,  16.7187,  34.7573,2,   -999.0,9,-999.0000,9,    192.0,2,  -999.00,9,  -999.00,9,     7.12,2,     0.00,2,     0.47,2, -999.000,9, -999.000,9,  -999.00,9,   -999.0,9,   -999.0,9,-999.0000,9,   -999.0,  9,     8.05,2,   -999.0,  -999.00,9,  -999.00,9,     0.00,2,     0.01,2,   -999.0,-999.0000, -999,9,  299,  16.6695,  25.4059,   -999.0,9
       SH00-01,  NONE,SH-5918,  1,      8,1-133-95,2,20000201,2036, 30.6270, 132.1660, 2500,    402.1,  14.9251,  34.6165,2,   -999.0,9,-999.0000,9,    186.4,2,  -999.00,9,  -999.00,9,    10.33,2,     0.00,2,     0.69,2, -999.000,9, -999.000,9,  -999.00,9,   -999.0,9,   -999.0,9,-999.0000,9,   -999.0,  9,     8.00,2,   -999.0,  -999.00,9,  -999.00,9,  -999.00,9,  -999.00,9,   -999.0,-999.0000, -999,9,  399,  14.8642,  25.7060,   -999.0,9
       SH00-01,  NONE,SH-5918,  1,      7, S-1-1-4,2,20000201,2034, 30.6270, 132.1660, 2500,    503.1,  12.0122,  34.4095,2,   -999.0,9,-999.0000,9,    168.3,2,  -999.00,9,  -999.00,9,    16.86,2,     0.00,2,     1.16,2, -999.000,9, -999.000,9,  -999.00,9,   -999.0,9,   -999.0,9,-999.0000,9,   -999.0,  9,     7.90,2,   -999.0,  -999.00,9,  -999.00,9,  -999.00,9,  -999.00,9,   -999.0,-999.0000, -999,9,  499,  11.9461,  26.1406,   -999.0,9
       SH00-01,  NONE,SH-5918,  1,      6,1-133-93,2,20000201,2032, 30.6270, 132.1660, 2500,    603.9,   8.7931,  34.2339,2,   -999.0,9,-999.0000,9,    146.5,2,  -999.00,9,  -999.00,9,    24.26,2,     0.00,2,     1.69,2, -999.000,9, -999.000,9,  -999.00,9,   -999.0,9,   -999.0,9,-999.0000,9,   -999.0,  9,     7.77,2,   -999.0,  -999.00,9,  -999.00,9,  -999.00,9,  -999.00,9,   -999.0,-999.0000, -999,9,  599,   8.7276,  26.5612,   -999.0,9
       SH00-01,  NONE,SH-5918,  1,      5, 1-133-2,2,20000201,2030, 30.6270, 132.1660, 2500,    703.6,   6.6970,  34.1980,2,   -999.0,9,-999.0000,9,    110.0,2,  -999.00,9,  -999.00,9,    31.07,2,     0.00,2,     2.20,2, -999.000,9, -999.000,9,  -999.00,9,   -999.0,9,   -999.0,9,-999.0000,9,   -999.0,  9,     7.65,2,   -999.0,  -999.00,9,  -999.00,9,  -999.00,9,  -999.00,9,   -999.0,-999.0000, -999,9,  698,   6.6312,  26.8370,   -999.0,9
       SH00-01,  NONE,SH-5918,  1,      4, S-1-1-2,2,20000201,2029, 30.6270, 132.1660, 2500,    804.9,   5.4867,  34.2636,2,   -999.0,9,-999.0000,9,     84.0,2,  -999.00,9,  -999.00,9,    35.34,2,     0.00,2,     2.51,2, -999.000,9, -999.000,9,  -999.00,9,   -999.0,9,   -999.0,9,-999.0000,9,   -999.0,  9,     7.58,2,   -999.0,  -999.00,9,  -999.00,9,  -999.00,9,  -999.00,9,   -999.0,-999.0000, -999,9,  798,   5.4181,  27.0423,   -999.0,9
       SH00-01,  NONE,SH-5918,  1,      3,1-133-84,2,20000201,2027, 30.6270, 132.1660, 2500,    906.4,   4.4387,  34.2826,2,   -999.0,9,-999.0000,9,     69.8,2,  -999.00,9,  -999.00,9,    37.97,2,     0.00,2,     2.72,2, -999.000,9, -999.000,9,  -999.00,9,   -999.0,9,   -999.0,9,-999.0000,9,   -999.0,  9,     7.53,2,   -999.0,  -999.00,9,  -999.00,9,  -999.00,9,  -999.00,9,   -999.0,-999.0000, -999,9,  898,   4.3680,  27.1767,   -999.0,9
       SH00-01,  NONE,SH-5918,  1,      2, S-1-1-7,2,20000201,2025, 30.6270, 132.1660, 2500,   1007.8,   3.8937,  34.3725,2,   -999.0,9,-999.0000,9,     66.0,2,  -999.00,9,  -999.00,9,    39.13,2,     0.01,2,     2.79,2, -999.000,9, -999.000,9,  -999.00,9,   -999.0,9,   -999.0,9,-999.0000,9,   -999.0,  9,     7.53,2,   -999.0,  -999.00,9,  -999.00,9,  -999.00,9,  -999.00,9,   -999.0,-999.0000, -999,9,  998,   3.8184,  27.3055,   -999.0,9
       SH00-01,  NONE,SH-5918,  1,      1, 1-133-1,2,20000201,2021, 30.6270, 132.1660, 2500,   1208.9,   3.2699,  34.4588,2,   -999.0,9,-999.0000,9,     71.0,2,  -999.00,9,  -999.00,9,    39.61,2,     0.00,2,     2.82,2, -999.000,9, -999.000,9,  -999.00,9,   -999.0,9,   -999.0,9,-999.0000,9,   -999.0,  9,     7.54,2,   -999.0,  -999.00,9,  -999.00,9,  -999.00,9,  -999.00,9,   -999.0,-999.0000, -999,9, 1197,   3.1834,  27.4361,   -999.0,9
       SH00-01,  NONE,SH-5919,  2,     -9,      -9,5,20000202,0306, 30.2757, 132.5545, 3800,      0.0,  19.7418,  34.7747,2,   -999.0,9,-999.0000,9,    225.3,2,  -999.00,9,  -999.00,9,     0.39,2,     0.14,2,     0.06,2, -999.000,9, -999.000,9,  -999.00,9,   -999.0,9,   -999.0,9,-999.0000,9,   -999.0,  9,  -999.00,9,   -999.0,  -999.00,9,  -999.00,9,     0.23,2,     0.22,2,   -999.0,-999.0000, -999,9,    0,  19.7418,  24.6576,   -999.0,9
       SH00-01,  NONE,SH-5919,  2,      5, 1-133-2,2,20000202,0305, 30.2757, 132.5545, 3800,     12.0,  19.7475,  34.7738,2,   -999.0,9,  34.7768,2,    232.2,2,  -999.00,9,  -999.00,9,     0.39,2,     0.14,2,     0.04,2, -999.000,9, -999.000,9,  -999.00,9,   -999.0,9,   -999.0,9,-999.0000,9,   -999.0,  9,  -999.00,9,   -999.0,  -999.00,9,  -999.00,9,     0.23,2,     0.22,2,   -999.0,-999.0000, -999,9,   12,  19.7453,  24.6560,   -999.0,9
       SH00-01,  NONE,SH-5919,  2,      4, S-1-1-2,2,20000202,0303, 30.2757, 132.5545, 3800,     29.3,  19.7566,  34.7746,2,   -999.0,9,  34.7784,2,    224.7,2,  -999.00,9,  -999.00,9,     0.39,2,     0.14,2,     0.04,2, -999.000,9, -999.000,9,  -999.00,9,   -999.0,9,   -999.0,9,-999.0000,9,   -999.0,  9,  -999.00,9,   -999.0,  -999.00,9,  -999.00,9,     0.23,2,     0.22,2,   -999.0,-999.0000, -999,9,   29,  19.7512,  24.6550,   -999.0,9
       SH00-01,  NONE,SH-5919,  2,      3,1-133-84,2,20000202,0301, 30.2757, 132.5545, 3800,     52.8,  19.7605,  34.7740,2,   -999.0,9,  34.7778,2,    224.9,2,  -999.00,9,  -999.00,9,     0.39,2,     0.14,2,     0.04,2, -999.000,9, -999.000,9,  -999.00,9,   -999.0,9,   -999.0,9,-999.0000,9,   -999.0,  9,  -999.00,9,   -999.0,  -999.00,9,  -999.00,9,     0.28,2,     0.21,2,   -999.0,-999.0000, -999,9,   52,  19.7508,  24.6547,   -999.0,9
       SH00-01,  NONE,SH-5919,  2,      2, S-1-1-7,2,20000202,0300, 30.2757, 132.5545, 3800,     77.6,  19.7603,  34.7749,2,   -999.0,9,  34.7772,2,    224.9,2,  -999.00,9,  -999.00,9,     0.29,2,     0.14,2,     0.04,2, -999.000,9, -999.000,9,  -999.00,9,   -999.0,9,   -999.0,9,-999.0000,9,   -999.0,  9,  -999.00,9,   -999.0,  -999.00,9,  -999.00,9,     0.23,2,     0.22,2,   -999.0,-999.0000, -999,9,   77,  19.7462,  24.6566,   -999.0,9
       SH00-01,  NONE,SH-5919,  2,      1, 1-133-1,2,20000202,0259, 30.2757, 132.5545, 3800,    102.7,  19.7578,  34.7749,2,   -999.0,9,  34.7776,2,    225.2,2,  -999.00,9,  -999.00,9,     0.39,2,     0.14,2,     0.04,2, -999.000,9, -999.000,9,  -999.00,9,   -999.0,9,   -999.0,9,-999.0000,9,   -999.0,  9,  -999.00,9,   -999.0,  -999.00,9,  -999.00,9,     0.24,2,     0.20,2,   -999.0,-999.0000, -999,9,  102,  19.7390,  24.6585,   -999.0,9
       SH00-01,  NONE,SH-5919,  2,     12, 1-133-7,2,20000202,0258, 30.2757, 132.5545, 3800,    126.9,  19.7585,  34.7755,2,   -999.0,9,  34.7792,2,    227.6,2,  -999.00,9,  -999.00,9,     0.39,2,     0.15,2,     0.04,2, -999.000,9, -999.000,9,  -999.00,9,   -999.0,9,   -999.0,9,-999.0000,9,   -999.0,  9,  -999.00,9,   -999.0,  -999.00,9,  -999.00,9,     0.21,2,     0.20,2,   -999.0,-999.0000, -999,9,  126,  19.7353,  24.6599,   -999.0,9
       SH00-01,  NONE,SH-5919,  2,     11, S-1-1-9,2,20000202,0257, 30.2757, 132.5545, 3800,    152.7,  19.7595,  34.7762,2,   -999.0,9,  34.7788,2,    223.7,2,  -999.00,9,  -999.00,9,     0.39,2,     0.15,2,     0.04,2, -999.000,9, -999.000,9,  -999.00,9,   -999.0,9,   -999.0,9,-999.0000,9,   -999.0,  9,  -999.00,9,   -999.0,  -999.00,9,  -999.00,9,     0.20,2,     0.19,2,   -999.0,-999.0000, -999,9,  152,  19.7315,  24.6614,   -999.0,9
       SH00-01,  NONE,SH-5919,  2,     10,1-133-94,2,20000202,0256, 30.2757, 132.5545, 3800,    202.3,  19.0144,  34.8068,2,   -999.0,9,  34.8089,2,    210.7,2,  -999.00,9,  -999.00,9,     2.54,2,     0.01,2,     0.18,2, -999.000,9, -999.000,9,  -999.00,9,   -999.0,9,   -999.0,9,-999.0000,9,   -999.0,  9,  -999.00,9,   -999.0,  -999.00,9,  -999.00,9,     0.00,2,     0.01,2,   -999.0,-999.0000, -999,9,  201,  18.9783,  24.8790,   -999.0,9
       SH00-01,  NONE,SH-5919,  2,      9, S-1-1-6,2,20000202,0254, 30.2757, 132.5545, 3800,    254.2,  18.2443,  34.7992,2,   -999.0,9,  34.8016,2,    202.6,2,  -999.00,9,  -999.00,9,     4.10,2,     0.01,2,     0.27,2, -999.000,9, -999.000,9,  -999.00,9,   -999.0,9,   -999.0,9,-999.0000,9,   -999.0,  9,  -999.00,9,   -999.0,  -999.00,9,  -999.00,9,     0.00,2,     0.01,2,   -999.0,-999.0000, -999,9,  252,  18.2003,  25.0688,   -999.0,9
       SH00-01,  NONE,SH-5919,  2,      8,1-133-95,2,20000202,0253, 30.2757, 132.5545, 3800,    303.9,  17.4866,  34.7883,2,   -999.0,9,  34.7902,2,    197.2,2,  -999.00,9,  -999.00,9,     5.66,2,     0.00,2,     0.37,2, -999.000,9, -999.000,9,  -999.00,9,   -999.0,9,   -999.0,9,-999.0000,9,   -999.0,  9,  -999.00,9,   -999.0,  -999.00,9,  -999.00,9,     0.00,2,     0.01,2,   -999.0,-999.0000, -999,9,  302,  17.4354,  25.2475,   -999.0,9
       SH00-01,  NONE,SH-5919,  2,      7, S-1-1-4,2,20000202,0251, 30.2757, 132.5545, 3800,    407.0,  15.2722,  34.6489,2,   -999.0,9,  34.6530,2,    192.5,2,  -999.00,9,  -999.00,9,     9.26,2,     0.00,2,     0.61,2, -999.000,9, -999.000,9,  -999.00,9,   -999.0,9,   -999.0,9,-999.0000,9,   -999.0,  9,  -999.00,9,   -999.0,  -999.00,9,  -999.00,9,  -999.00,9,  -999.00,9,   -999.0,-999.0000, -999,9,  404,  15.2096,  25.6551,   -999.0,9