BOTTLE,20130510GEMDJMAYT
EXPOCODE,SECT_ID,STNNBR,CASTNO,SAMPNO,BTLNBR,BTLNBR_FLAG_W,DATE,TIME,LATITUDE,LONGITUDE,DEPTH,CTDPRS,CTDTMP,CTDSAL,CTDSAL_FLAG_W,CTDOXY,CTDOXY_FLAG_W,SALNTY,SALNTY_FLAG_W,OXYGEN,OXYGEN_FLAG_W,SILCAT,SILCAT_FLAG_W,NITRAT,NITRAT_FLAG_W,NO2+NO3,NO2+NO3_FLAG_W,NITRIT,NITRIT_FLAG_W,PHSPHT,PHSPHT_FLAG_W,CFC-11,CFC-11_FLAG_W,CFC-12,CFC-12_FLAG_W,DELC13,DELC13_FLAG_W,TCARBN,TCARBN_FLAG_W,ALKALI,ALKALI_FLAG_W,PH,PH_FLAG_W,PH_TMP,PH_SCALE,PH_NBS,PH_NBS_FLAG_W,C13ERR,TOTALP,TOTALP_FLAG_W,AMMONI,AMMONI_FLAG_W,CHLORA,CHLORA_FLAG_W,PPHYTN,PPHYTN_FLAG_W,REVPRS,REVTMP,DEPTH_,DEPTH_FLAG,CTDDEP,THETA,SIGTHT,DOC,DOC_FLAG_W
,,,,,,,GMT,GMT,,,METER,DBAR,ITS-90,PSS-78,,UMOL/KG,,PSS-78,,UMOL/KG,,UMOL/KG,,UMOL/KG,,UMOL/KG,,UMOL/KG,,UMOL/KG,,PMOL/KG,,PMOL/KG,,/MILLE,,UMOL/KG,,UMOL/KG,,25_DEG_C,,DEG_C,,,,/MILLE,UMOL/KG,,UMOL/KG,,UG/L,,UG/L,,DBAR,ITS-90,METERS,,METERS,DEG_C,,UMOL/L,
       SH00-01,  NONE,SH-5923,  2,     -9,      -9,5,20000203,0153, 28.6497, 134.4735, 3680,      0.0,  19.9084,  34.7766,2,   -999.0,9,-999.0000,9,    224.5,2,  -999.00,9,  -999.00,9,     0.59,2,     0.17,2,     0.05,2, -999.000,9, -999.000,9,  -999.00,9,   -999.0,9,   -999.0,9,-999.0000,9,   -999.0,  9,     8.19,2,   -999.0,  -999.00,9,  -999.00,9,     0.21,2,     0.22,2,   -999.0,-999.0000, -999,9,    0,  19.9084,  24.6154,   -999.0,9
       SH00-01,  NONE,SH-5923,  2,      5, 1-133-2,4,20000203,0152, 28.6497, 134.4735, 3680,     11.2,  19.8761,  34.7774,2,   -999.0,9,  34.7802,2,    223.7,2,  -999.00,9,  -999.00,9,     0.68,2,     0.17,2,     0.05,2, -999.000,9, -999.000,9,  -999.00,9,   -999.0,9,   -999.0,9,-999.0000,9,   -999.0,  9,     8.19,2,   -999.0,  -999.00,9,  -999.00,9,     0.20,2,     0.22,2,   -999.0,-999.0000, -999,9,   11,  19.8741,  24.6251,   -999.0,9
       SH00-01,  NONE,SH-5923,  2,      4, S-1-1-2,2,20000203,0152, 28.6497, 134.4735, 3680,     11.2,  19.8761,  34.7774,2,   -999.0,9,  34.7804,4,    223.6,2,  -999.00,9,  -999.00,9,     0.68,2,     0.18,2,     0.05,2, -999.000,9, -999.000,9,  -999.00,9,   -999.0,9,   -999.0,9,-999.0000,9,   -999.0,  9,     8.18,2,   -999.0,  -999.00,9,  -999.00,9,     0.20,2,     0.24,2,   -999.0,-999.0000, -999,9,   11,  19.8741,  24.6251,   -999.0,9
       SH00-01,  NONE,SH-5923,  2,      3,1-133-84,2,20000203,0151, 28.6497, 134.4735, 3680,     25.4,  19.8746,  34.7778,2,   -999.0,9,  34.8046,4,    223.0,2,  -999.00,9,  -999.00,9,     0.68,2,     0.19,2,     0.04,2, -999.000,9, -999.000,9,  -999.00,9,   -999.0,9,   -999.0,9,-999.0000,9,   -999.0,  9,     8.18,2,   -999.0,  -999.00,9,  -999.00,9,     0.26,2,     0.26,2,   -999.0,-999.0000, -999,9,   25,  19.8699,  24.6264,   -999.0,9
       SH00-01,  NONE,SH-5923,  2,      2, S-1-1-7,2,20000203,0150, 28.6497, 134.4735, 3680,     51.4,  19.8735,  34.7776,2,   -999.0,9,  34.7804,2,    223.2,2,  -999.00,9,  -999.00,9,     0.59,2,     0.19,2,     0.03,2, -999.000,9, -999.000,9,  -999.00,9,   -999.0,9,   -999.0,9,-999.0000,9,   -999.0,  9,     8.19,2,   -999.0,  -999.00,9,  -999.00,9,     0.23,2,     0.29,2,   -999.0,-999.0000, -999,9,   51,  19.8641,  24.6278,   -999.0,9
       SH00-01,  NONE,SH-5923,  2,      1, 1-133-1,2,20000203,0149, 28.6497, 134.4735, 3680,     74.8,  19.8801,  34.7776,2,   -999.0,9,  34.7800,2,    223.1,2,  -999.00,9,  -999.00,9,     0.39,2,     0.19,2,     0.04,2, -999.000,9, -999.000,9,  -999.00,9,   -999.0,9,   -999.0,9,-999.0000,9,   -999.0,  9,     8.19,2,   -999.0,  -999.00,9,  -999.00,9,     0.24,2,     0.26,2,   -999.0,-999.0000, -999,9,   74,  19.8664,  24.6272,   -999.0,9
       SH00-01,  NONE,SH-5923,  2,     12, 1-133-7,2,20000203,0148, 28.6497, 134.4735, 3680,    102.7,  19.8814,  34.7782,2,   -999.0,9,  34.7802,2,    222.3,2,  -999.00,9,  -999.00,9,     0.49,2,     0.18,2,     0.03,2, -999.000,9, -999.000,9,  -999.00,9,   -999.0,9,   -999.0,9,-999.0000,9,   -999.0,  9,     8.19,2,   -999.0,  -999.00,9,  -999.00,9,     0.24,2,     0.29,2,   -999.0,-999.0000, -999,9,  102,  19.8625,  24.6287,   -999.0,9
       SH00-01,  NONE,SH-5923,  2,     11, S-1-1-9,2,20000203,0147, 28.6497, 134.4735, 3680,    126.8,  19.8858,  34.7776,2,   -999.0,9,  34.7786,2,    222.4,2,  -999.00,9,  -999.00,9,     0.39,2,     0.18,2,     0.03,2, -999.000,9, -999.000,9,  -999.00,9,   -999.0,9,   -999.0,9,-999.0000,9,   -999.0,  9,     8.19,2,   -999.0,  -999.00,9,  -999.00,9,     0.22,2,     0.25,2,   -999.0,-999.0000, -999,9,  126,  19.8625,  24.6282,   -999.0,9
       SH00-01,  NONE,SH-5923,  2,     10,1-133-94,2,20000203,0146, 28.6497, 134.4735, 3680,    151.9,  19.8897,  34.7787,2,   -999.0,9,  34.7792,2,    222.9,2,  -999.00,9,  -999.00,9,     0.39,2,     0.18,2,     0.03,2, -999.000,9, -999.000,9,  -999.00,9,   -999.0,9,   -999.0,9,-999.0000,9,   -999.0,  9,     8.19,2,   -999.0,  -999.00,9,  -999.00,9,     0.32,2,     0.26,2,   -999.0,-999.0000, -999,9,  151,  19.8618,  24.6293,   -999.0,9
       SH00-01,  NONE,SH-5923,  2,      9, S-1-1-6,2,20000203,0144, 28.6497, 134.4735, 3680,    203.6,  18.8878,  34.8032,2,   -999.0,9,  34.8079,2,    202.5,2,  -999.00,9,  -999.00,9,     3.12,2,     0.02,2,     0.20,2, -999.000,9, -999.000,9,  -999.00,9,   -999.0,9,   -999.0,9,-999.0000,9,   -999.0,  9,     8.14,2,   -999.0,  -999.00,9,  -999.00,9,     0.01,2,     0.02,2,   -999.0,-999.0000, -999,9,  202,  18.8517,  24.9085,   -999.0,9
       SH00-01,  NONE,SH-5923,  2,      8,1-133-95,2,20000203,0143, 28.6497, 134.4735, 3680,    253.4,  18.3070,  34.8052,2,   -999.0,9,  34.8067,2,    199.6,2,  -999.00,9,  -999.00,9,     4.19,2,     0.01,2,     0.26,2, -999.000,9, -999.000,9,  -999.00,9,   -999.0,9,   -999.0,9,-999.0000,9,   -999.0,  9,     8.12,2,   -999.0,  -999.00,9,  -999.00,9,     0.00,2,     0.01,2,   -999.0,-999.0000, -999,9,  251,  18.2630,  25.0578,   -999.0,9
       SH00-01,  NONE,SH-5923,  2,      7, S-1-1-4,2,20000203,0141, 28.6497, 134.4735, 3680,    303.4,  17.2566,  34.7807,2,   -999.0,9,  34.7810,2,    194.6,2,  -999.00,9,  -999.00,9,     6.14,2,     0.00,2,     0.38,2, -999.000,9, -999.000,9,  -999.00,9,   -999.0,9,   -999.0,9,-999.0000,9,   -999.0,  9,     8.09,2,   -999.0,  -999.00,9,  -999.00,9,     0.00,2,     0.01,2,   -999.0,-999.0000, -999,9,  301,  17.2060,  25.2969,   -999.0,9
       SH00-01,  NONE,SH-5923,  2,      6,1-133-93,2,20000203,0137, 28.6497, 134.4735, 3680,    405.2,  15.0365,  34.6265,2,   -999.0,9,  34.6308,2,    183.7,2,  -999.00,9,  -999.00,9,    10.43,2,     0.00,2,     0.68,2, -999.000,9, -999.000,9,  -999.00,9,   -999.0,9,   -999.0,9,-999.0000,9,   -999.0,  9,     8.01,2,   -999.0,  -999.00,9,  -999.00,9,  -999.00,9,  -999.00,9,   -999.0,-999.0000, -999,9,  402,  14.9748,  25.6895,   -999.0,9
       SH00-01,  NONE,SH-5923,  1,      5, 1-133-2,2,20000203,0104, 28.6587, 134.4707, 3690,    505.6,  12.7014,  34.4637,2,   -999.0,9,  34.4650,2,    175.0,2,  -999.00,9,  -999.00,9,    14.91,2,     0.00,2,     0.99,2, -999.000,9, -999.000,9,  -999.00,9,   -999.0,9,   -999.0,9,-999.0000,9,   -999.0,  9,     7.94,2,   -999.0,  -999.00,9,  -999.00,9,  -999.00,9,  -999.00,9,   -999.0,-999.0000, -999,9,  502,  12.6325,  26.0502,   -999.0,9
       SH00-01,  NONE,SH-5923,  1,      4, S-1-1-2,2,20000203,0101, 28.6587, 134.4707, 3690,    604.4,   9.7798,  34.2798,2,   -999.0,9,  34.2820,2,    157.0,2,  -999.00,9,  -999.00,9,    21.63,2,     0.00,2,     1.47,2, -999.000,9, -999.000,9,  -999.00,9,   -999.0,9,   -999.0,9,-999.0000,9,   -999.0,  9,     7.83,2,   -999.0,  -999.00,9,  -999.00,9,  -999.00,9,  -999.00,9,   -999.0,-999.0000, -999,9,  599,   9.7098,  26.4384,   -999.0,9
       SH00-01,  NONE,SH-5923,  1,      3,1-133-84,2,20000203,0059, 28.6587, 134.4707, 3690,    705.9,   7.5978,  34.1923,2,   -999.0,9,  34.1886,2,    132.1,2,  -999.00,9,  -999.00,9,    27.56,2,     0.00,2,     1.94,2, -999.000,9, -999.000,9,  -999.00,9,   -999.0,9,   -999.0,9,-999.0000,9,   -999.0,  9,     7.73,2,   -999.0,  -999.00,9,  -999.00,9,  -999.00,9,  -999.00,9,   -999.0,-999.0000, -999,9,  700,   7.5269,  26.7085,   -999.0,9
       SH00-01,  NONE,SH-5923,  1,      2, S-1-1-7,2,20000203,0056, 28.6587, 134.4707, 3690,    806.0,   6.0532,  34.1895,2,   -999.0,9,  34.1952,2,    103.0,2,  -999.00,9,  -999.00,9,    32.62,2,     0.00,2,     2.31,2, -999.000,9, -999.000,9,  -999.00,9,   -999.0,9,   -999.0,9,-999.0000,9,   -999.0,  9,     7.65,2,   -999.0,  -999.00,9,  -999.00,9,  -999.00,9,  -999.00,9,   -999.0,-999.0000, -999,9,  799,   5.9812,  26.9146,   -999.0,9
       SH00-01,  NONE,SH-5923,  1,      1, 1-133-1,2,20000203,0053, 28.6587, 134.4707, 3690,    907.4,   4.9695,  34.2816,2,   -999.0,9,  34.2765,2,     77.9,2,  -999.00,9,  -999.00,9,    36.70,2,     0.01,2,     2.62,2, -999.000,9, -999.000,9,  -999.00,9,   -999.0,9,   -999.0,9,-999.0000,9,   -999.0,  9,     7.59,2,   -999.0,  -999.00,9,  -999.00,9,  -999.00,9,  -999.00,9,   -999.0,-999.0000, -999,9,  899,   4.8950,  27.1176,   -999.0,9
       SH00-01,  NONE,SH-5923,  1,     12, 1-133-7,2,20000203,0051, 28.6587, 134.4707, 3690,   1007.6,   4.1747,  34.3059,2,   -999.0,9,  34.3033,2,     64.5,2,  -999.00,9,  -999.00,9,    39.04,2,     0.00,2,     2.75,2, -999.000,9, -999.000,9,  -999.00,9,   -999.0,9,   -999.0,9,-999.0000,9,   -999.0,  9,     7.55,2,   -999.0,  -999.00,9,  -999.00,9,  -999.00,9,  -999.00,9,   -999.0,-999.0000, -999,9,  998,   4.0974,  27.2239,   -999.0,9
       SH00-01,  NONE,SH-5923,  1,     11, S-1-1-9,2,20000203,0047, 28.6587, 134.4707, 3690,   1209.9,   3.2474,  34.4160,2,   -999.0,9,  34.4133,2,     57.7,2,  -999.00,9,  -999.00,9,    40.39,2,     0.00,2,     2.89,2, -999.000,9, -999.000,9,  -999.00,9,   -999.0,9,   -999.0,9,-999.0000,9,   -999.0,  9,     7.54,2,   -999.0,  -999.00,9,  -999.00,9,  -999.00,9,  -999.00,9,   -999.0,-999.0000, -999,9, 1198,   3.1612,  27.4041,   -999.0,9
       SH00-01,  NONE,SH-5923,  1,     10,1-133-94,2,20000203,0041, 28.6587, 134.4707, 3690,   1514.0,   2.6013,  34.5215,2,   -999.0,9,  34.5187,2,   -999.0,9,  -999.00,9,  -999.00,9,  -999.00,9,  -999.00,9,  -999.00,9, -999.000,9, -999.000,9,  -999.00,9,   -999.0,9,   -999.0,9,-999.0000,9,   -999.0,  9,  -999.00,9,   -999.0,  -999.00,9,  -999.00,9,  -999.00,9,  -999.00,9,   -999.0,-999.0000, -999,9, 1498,   2.4971,  27.5476,   -999.0,9
       SH00-01,  NONE,SH-5923,  1,      9, S-1-1-6,2,20000203,0033, 28.6587, 134.4707, 3690,   2021.0,   2.0139,  34.6086,2,   -999.0,9,  34.6038,2,   -999.0,9,  -999.00,9,  -999.00,9,  -999.00,9,  -999.00,9,  -999.00,9, -999.000,9, -999.000,9,  -999.00,9,   -999.0,9,   -999.0,9,-999.0000,9,   -999.0,  9,  -999.00,9,   -999.0,  -999.00,9,  -999.00,9,  -999.00,9,  -999.00,9,   -999.0,-999.0000, -999,9, 1998,   1.8756,  27.6679,   -999.0,9
       SH00-01,  NONE,SH-5923,  1,      8,1-133-95,2,20000203,0024, 28.6587, 134.4707, 3690,   2530.8,   1.7067,  34.6560,2,   -999.0,9,  34.6465,2,   -999.0,9,  -999.00,9,  -999.00,9,  -999.00,9,  -999.00,9,  -999.00,9, -999.000,9, -999.000,9,  -999.00,9,   -999.0,9,   -999.0,9,-999.0000,9,   -999.0,  9,  -999.00,9,   -999.0,  -999.00,9,  -999.00,9,  -999.00,9,  -999.00,9,   -999.0,-999.0000, -999,9, 2499,   1.5291,  27.7320,   -999.0,9
       SH00-01,  NONE,SH-5923,  1,      7, S-1-1-4,2,20000203,0015, 28.6587, 134.4707, 3690,   3041.2,   1.5188,  34.6836,2,   -999.0,9,  34.6808,2,   -999.0,9,  -999.00,9,  -999.00,9,  -999.00,9,  -999.00,9,  -999.00,9, -999.000,9, -999.000,9,  -999.00,9,   -999.0,9,   -999.0,9,-999.0000,9,   -999.0,  9,  -999.00,9,   -999.0,  -999.00,9,  -999.00,9,  -999.00,9,  -999.00,9,   -999.0,-999.0000, -999,9, 2999,   1.2976,  27.7708,   -999.0,9
       SH00-01,  NONE,SH-5923,  1,      6,1-133-93,2,20000203,0004, 28.6587, 134.4707, 3690,   3646.8,   1.5109,  34.6934,2,   -999.0,9,  34.6810,2,   -999.0,9,  -999.00,9,  -999.00,9,  -999.00,9,  -999.00,9,  -999.00,9, -999.000,9, -999.000,9,  -999.00,9,   -999.0,9,   -999.0,9,-999.0000,9,   -999.0,  9,  -999.00,9,   -999.0,  -999.00,9,  -999.00,9,  -999.00,9,  -999.00,9,   -999.0,-999.0000, -999,9, 3591,   1.2293,  27.7834,   -999.0,9