BOTTLE,20130510GEMDJMAYT
EXPOCODE,SECT_ID,STNNBR,CASTNO,SAMPNO,BTLNBR,BTLNBR_FLAG_W,DATE,TIME,LATITUDE,LONGITUDE,DEPTH,CTDPRS,CTDTMP,CTDSAL,CTDSAL_FLAG_W,CTDOXY,CTDOXY_FLAG_W,SALNTY,SALNTY_FLAG_W,OXYGEN,OXYGEN_FLAG_W,SILCAT,SILCAT_FLAG_W,NITRAT,NITRAT_FLAG_W,NO2+NO3,NO2+NO3_FLAG_W,NITRIT,NITRIT_FLAG_W,PHSPHT,PHSPHT_FLAG_W,CFC-11,CFC-11_FLAG_W,CFC-12,CFC-12_FLAG_W,DELC13,DELC13_FLAG_W,TCARBN,TCARBN_FLAG_W,ALKALI,ALKALI_FLAG_W,PH,PH_FLAG_W,PH_TMP,PH_SCALE,PH_NBS,PH_NBS_FLAG_W,C13ERR,TOTALP,TOTALP_FLAG_W,AMMONI,AMMONI_FLAG_W,CHLORA,CHLORA_FLAG_W,PPHYTN,PPHYTN_FLAG_W,REVPRS,REVTMP,DEPTH_,DEPTH_FLAG,CTDDEP,THETA,SIGTHT,DOC,DOC_FLAG_W
,,,,,,,GMT,GMT,,,METER,DBAR,ITS-90,PSS-78,,UMOL/KG,,PSS-78,,UMOL/KG,,UMOL/KG,,UMOL/KG,,UMOL/KG,,UMOL/KG,,UMOL/KG,,PMOL/KG,,PMOL/KG,,/MILLE,,UMOL/KG,,UMOL/KG,,25_DEG_C,,DEG_C,,,,/MILLE,UMOL/KG,,UMOL/KG,,UG/L,,UG/L,,DBAR,ITS-90,METERS,,METERS,DEG_C,,UMOL/L,
       SH00-01,  NONE,SH-5919,  1,      6,1-133-93,2,20000202,0214, 30.2793, 132.5477, 3690,    501.9,  13.1136,  34.4903,2,   -999.0,9,  34.4894,2,    180.5,2,  -999.00,9,  -999.00,9,    13.94,2,     0.00,2,     0.94,2, -999.000,9, -999.000,9,  -999.00,9,   -999.0,9,   -999.0,9,-999.0000,9,   -999.0,  9,  -999.00,9,   -999.0,  -999.00,9,  -999.00,9,  -999.00,9,  -999.00,9,   -999.0,-999.0000, -999,9,  498,  13.0438,  25.9892,   -999.0,9
       SH00-01,  NONE,SH-5919,  1,      5, 1-133-2,2,20000202,0212, 30.2793, 132.5477, 3690,    604.0,  10.2353,  34.2932,2,   -999.0,9,  34.3013,2,    165.1,2,  -999.00,9,  -999.00,9,    20.07,2,     0.00,2,     1.38,2, -999.000,9, -999.000,9,  -999.00,9,   -999.0,9,   -999.0,9,-999.0000,9,   -999.0,  9,  -999.00,9,   -999.0,  -999.00,9,  -999.00,9,  -999.00,9,  -999.00,9,   -999.0,-999.0000, -999,9,  599,  10.1634,  26.3721,   -999.0,9
       SH00-01,  NONE,SH-5919,  1,      4, S-1-1-2,2,20000202,0209, 30.2793, 132.5477, 3690,    705.1,   7.7610,  34.1788,2,   -999.0,9,  34.1784,2,    138.7,2,  -999.00,9,  -999.00,9,    26.88,2,     0.00,2,     1.88,2, -999.000,9, -999.000,9,  -999.00,9,   -999.0,9,   -999.0,9,-999.0000,9,   -999.0,  9,  -999.00,9,   -999.0,  -999.00,9,  -999.00,9,  -999.00,9,  -999.00,9,   -999.0,-999.0000, -999,9,  699,   7.6895,  26.6744,   -999.0,9
       SH00-01,  NONE,SH-5919,  1,      3,1-133-84,2,20000202,0207, 30.2793, 132.5477, 3690,    806.7,   5.9106,  34.1546,2,   -999.0,9,  34.1579,2,    107.1,2,  -999.00,9,  -999.00,9,    32.82,2,     0.00,2,     2.33,2, -999.000,9, -999.000,9,  -999.00,9,   -999.0,9,   -999.0,9,-999.0000,9,   -999.0,  9,  -999.00,9,   -999.0,  -999.00,9,  -999.00,9,  -999.00,9,  -999.00,9,   -999.0,-999.0000, -999,9,  800,   5.8394,  26.9047,   -999.0,9
       SH00-01,  NONE,SH-5919,  1,      2, S-1-1-7,2,20000202,0205, 30.2793, 132.5477, 3690,    906.7,   5.3252,  34.2644,2,   -999.0,9,  34.2628,2,     83.7,2,  -999.00,9,  -999.00,9,    35.54,2,     0.00,2,     2.54,2, -999.000,9, -999.000,9,  -999.00,9,   -999.0,9,   -999.0,9,-999.0000,9,   -999.0,  9,  -999.00,9,   -999.0,  -999.00,9,  -999.00,9,  -999.00,9,  -999.00,9,   -999.0,-999.0000, -999,9,  899,   5.2484,  27.0631,   -999.0,9
       SH00-01,  NONE,SH-5919,  1,      1, 1-133-1,2,20000202,0203, 30.2793, 132.5477, 3690,   1007.4,   4.2277,  34.2723,2,   -999.0,9,  34.2634,2,     64.3,2,  -999.00,9,  -999.00,9,    38.84,2,     0.00,2,     2.76,2, -999.000,9, -999.000,9,  -999.00,9,   -999.0,9,   -999.0,9,-999.0000,9,   -999.0,  9,  -999.00,9,   -999.0,  -999.00,9,  -999.00,9,  -999.00,9,  -999.00,9,   -999.0,-999.0000, -999,9,  998,   4.1500,  27.1917,   -999.0,9
       SH00-01,  NONE,SH-5919,  1,     12, 1-133-7,2,20000202,0200, 30.2793, 132.5477, 3690,   1210.1,   3.5248,  34.4141,2,   -999.0,9,  34.4129,2,     64.8,2,  -999.00,9,  -999.00,9,    39.81,2,     0.00,2,     2.83,2, -999.000,9, -999.000,9,  -999.00,9,   -999.0,9,   -999.0,9,-999.0000,9,   -999.0,  9,  -999.00,9,   -999.0,  -999.00,9,  -999.00,9,  -999.00,9,  -999.00,9,   -999.0,-999.0000, -999,9, 1198,   3.4359,  27.3764,   -999.0,9
       SH00-01,  NONE,SH-5919,  1,     11, S-1-1-9,2,20000202,0155, 30.2793, 132.5477, 3690,   1514.4,   2.6838,  34.5126,2,   -999.0,9,  34.5104,2,   -999.0,9,  -999.00,9,  -999.00,9,  -999.00,9,  -999.00,9,  -999.00,9, -999.000,9, -999.000,9,  -999.00,9,   -999.0,9,   -999.0,9,-999.0000,9,   -999.0,  9,  -999.00,9,   -999.0,  -999.00,9,  -999.00,9,  -999.00,9,  -999.00,9,   -999.0,-999.0000, -999,9, 1499,   2.5786,  27.5334,   -999.0,9
       SH00-01,  NONE,SH-5919,  1,     10,1-133-94,2,20000202,0148, 30.2793, 132.5477, 3690,   2020.2,   2.0560,  34.6022,2,   -999.0,9,  34.5954,2,   -999.0,9,  -999.00,9,  -999.00,9,  -999.00,9,  -999.00,9,  -999.00,9, -999.000,9, -999.000,9,  -999.00,9,   -999.0,9,   -999.0,9,-999.0000,9,   -999.0,  9,  -999.00,9,   -999.0,  -999.00,9,  -999.00,9,  -999.00,9,  -999.00,9,   -999.0,-999.0000, -999,9, 1997,   1.9171,  27.6595,   -999.0,9
       SH00-01,  NONE,SH-5919,  1,      9, S-1-1-6,2,20000202,0140, 30.2793, 132.5477, 3690,   2529.3,   1.7426,  34.6528,2,   -999.0,9,  34.6434,2,   -999.0,9,  -999.00,9,  -999.00,9,  -999.00,9,  -999.00,9,  -999.00,9, -999.000,9, -999.000,9,  -999.00,9,   -999.0,9,   -999.0,9,-999.0000,9,   -999.0,  9,  -999.00,9,   -999.0,  -999.00,9,  -999.00,9,  -999.00,9,  -999.00,9,   -999.0,-999.0000, -999,9, 2497,   1.5645,  27.7268,   -999.0,9
       SH00-01,  NONE,SH-5919,  1,      8,1-133-95,2,20000202,0133, 30.2793, 132.5477, 3690,   3042.4,   1.5710,  34.6786,2,   -999.0,9,  34.6686,2,   -999.0,9,  -999.00,9,  -999.00,9,  -999.00,9,  -999.00,9,  -999.00,9, -999.000,9, -999.000,9,  -999.00,9,   -999.0,9,   -999.0,9,-999.0000,9,   -999.0,  9,  -999.00,9,   -999.0,  -999.00,9,  -999.00,9,  -999.00,9,  -999.00,9,   -999.0,-999.0000, -999,9, 3000,   1.3486,  27.7632,   -999.0,9
       SH00-01,  NONE,SH-5919,  1,      7, S-1-1-4,2,20000202,0125, 30.2793, 132.5477, 3690,   3555.0,   1.5278,  34.6910,2,   -999.0,9,  34.6804,2,   -999.0,9,  -999.00,9,  -999.00,9,  -999.00,9,  -999.00,9,  -999.00,9, -999.000,9, -999.000,9,  -999.00,9,   -999.0,9,   -999.0,9,-999.0000,9,   -999.0,  9,  -999.00,9,   -999.0,  -999.00,9,  -999.00,9,  -999.00,9,  -999.00,9,   -999.0,-999.0000, -999,9, 3501,   1.2553,  27.7797,   -999.0,9
       SH00-01,  NONE,SH-5920,  2,     -9,      -9,5,20000202,0809, 29.9342, 132.9590, 3850,      0.0,  19.5734,  34.7724,2,   -999.0,9,-999.0000,9,    226.2,2,  -999.00,9,  -999.00,9,     0.39,2,     0.14,2,     0.04,2, -999.000,9, -999.000,9,  -999.00,9,   -999.0,9,   -999.0,9,-999.0000,9,   -999.0,  9,  -999.00,9,   -999.0,  -999.00,9,  -999.00,9,     0.22,2,     0.25,2,   -999.0,-999.0000, -999,9,    0,  19.5734,  24.6997,   -999.0,9
       SH00-01,  NONE,SH-5920,  2,     12, 1-133-7,2,20000202,0808, 29.9342, 132.9590, 3850,      9.3,  19.5770,  34.7728,2,   -999.0,9,-999.0000,9,    225.3,2,  -999.00,9,  -999.00,9,     0.39,2,     0.14,2,     0.04,2, -999.000,9, -999.000,9,  -999.00,9,   -999.0,9,   -999.0,9,-999.0000,9,   -999.0,  9,  -999.00,9,   -999.0,  -999.00,9,  -999.00,9,     0.24,2,     0.26,2,   -999.0,-999.0000, -999,9,    9,  19.5753,  24.6995,   -999.0,9
       SH00-01,  NONE,SH-5920,  2,     11, S-1-1-9,2,20000202,0807, 29.9342, 132.9590, 3850,     23.6,  19.5855,  34.7724,2,   -999.0,9,-999.0000,9,    225.5,2,  -999.00,9,  -999.00,9,     0.39,2,     0.14,2,     0.04,2, -999.000,9, -999.000,9,  -999.00,9,   -999.0,9,   -999.0,9,-999.0000,9,   -999.0,  9,  -999.00,9,   -999.0,  -999.00,9,  -999.00,9,     0.24,2,     0.26,2,   -999.0,-999.0000, -999,9,   23,  19.5812,  24.6977,   -999.0,9
       SH00-01,  NONE,SH-5920,  2,     10,1-133-94,2,20000202,0806, 29.9342, 132.9590, 3850,     49.4,  19.5865,  34.7729,2,   -999.0,9,-999.0000,9,    226.6,2,  -999.00,9,  -999.00,9,     0.39,2,     0.14,2,     0.04,2, -999.000,9, -999.000,9,  -999.00,9,   -999.0,9,   -999.0,9,-999.0000,9,   -999.0,  9,  -999.00,9,   -999.0,  -999.00,9,  -999.00,9,     0.23,2,     0.25,2,   -999.0,-999.0000, -999,9,   49,  19.5776,  24.6990,   -999.0,9
       SH00-01,  NONE,SH-5920,  2,      9, S-1-1-6,2,20000202,0806, 29.9342, 132.9590, 3850,     74.1,  19.5890,  34.7725,2,   -999.0,9,-999.0000,9,    225.2,2,  -999.00,9,  -999.00,9,     0.39,2,     0.14,2,     0.04,2, -999.000,9, -999.000,9,  -999.00,9,   -999.0,9,   -999.0,9,-999.0000,9,   -999.0,  9,  -999.00,9,   -999.0,  -999.00,9,  -999.00,9,     0.24,2,     0.24,2,   -999.0,-999.0000, -999,9,   74,  19.5756,  24.6992,   -999.0,9
       SH00-01,  NONE,SH-5920,  2,      8,1-133-95,2,20000202,0805, 29.9342, 132.9590, 3850,     98.4,  19.5820,  34.7737,2,   -999.0,9,-999.0000,9,    225.2,2,  -999.00,9,  -999.00,9,     0.39,2,     0.15,2,     0.04,2, -999.000,9, -999.000,9,  -999.00,9,   -999.0,9,   -999.0,9,-999.0000,9,   -999.0,  9,  -999.00,9,   -999.0,  -999.00,9,  -999.00,9,     0.25,2,     0.24,2,   -999.0,-999.0000, -999,9,   98,  19.5641,  24.7031,   -999.0,9
       SH00-01,  NONE,SH-5920,  2,      7, S-1-1-4,2,20000202,0804, 29.9342, 132.9590, 3850,    125.2,  19.5645,  34.7733,2,   -999.0,9,-999.0000,9,    225.9,2,  -999.00,9,  -999.00,9,     0.39,2,     0.14,2,     0.04,2, -999.000,9, -999.000,9,  -999.00,9,   -999.0,9,   -999.0,9,-999.0000,9,   -999.0,  9,  -999.00,9,   -999.0,  -999.00,9,  -999.00,9,     0.28,2,     0.28,2,   -999.0,-999.0000, -999,9,  124,  19.5418,  24.7086,   -999.0,9
       SH00-01,  NONE,SH-5920,  2,      6,1-133-93,2,20000202,0803, 29.9342, 132.9590, 3850,    149.5,  19.5633,  34.7764,2,   -999.0,9,-999.0000,9,    224.6,2,  -999.00,9,  -999.00,9,     0.49,2,     0.15,2,     0.04,2, -999.000,9, -999.000,9,  -999.00,9,   -999.0,9,   -999.0,9,-999.0000,9,   -999.0,  9,  -999.00,9,   -999.0,  -999.00,9,  -999.00,9,     0.22,2,     0.21,2,   -999.0,-999.0000, -999,9,  148,  19.5361,  24.7124,   -999.0,9
       SH00-01,  NONE,SH-5920,  2,      5, 1-133-2,2,20000202,0802, 29.9342, 132.9590, 3850,    199.8,  18.9990,  34.8071,2,   -999.0,9,-999.0000,9,    209.4,2,  -999.00,9,  -999.00,9,     2.54,2,     0.01,2,     0.18,2, -999.000,9, -999.000,9,  -999.00,9,   -999.0,9,   -999.0,9,-999.0000,9,   -999.0,  9,  -999.00,9,   -999.0,  -999.00,9,  -999.00,9,     0.00,2,     0.01,2,   -999.0,-999.0000, -999,9,  198,  18.9634,  24.8831,   -999.0,9
       SH00-01,  NONE,SH-5920,  2,      4, S-1-1-2,2,20000202,0801, 29.9342, 132.9590, 3850,    250.8,  18.4948,  34.8004,2,   -999.0,9,-999.0000,9,    206.1,2,  -999.00,9,  -999.00,9,     3.51,2,     0.01,2,     0.23,2, -999.000,9, -999.000,9,  -999.00,9,   -999.0,9,   -999.0,9,-999.0000,9,   -999.0,  9,  -999.00,9,   -999.0,  -999.00,9,  -999.00,9,     0.00,2,     0.01,2,   -999.0,-999.0000, -999,9,  249,  18.4509,  25.0072,   -999.0,9
       SH00-01,  NONE,SH-5920,  2,      3,1-133-84,2,20000202,0800, 29.9342, 132.9590, 3850,    302.1,  17.7533,  34.7908,2,   -999.0,9,-999.0000,9,    201.1,2,  -999.00,9,  -999.00,9,     4.97,2,     0.01,2,     0.32,2, -999.000,9, -999.000,9,  -999.00,9,   -999.0,9,   -999.0,9,-999.0000,9,   -999.0,  9,  -999.00,9,   -999.0,  -999.00,9,  -999.00,9,     0.00,2,     0.01,2,   -999.0,-999.0000, -999,9,  300,  17.7018,  25.1849,   -999.0,9
       SH00-01,  NONE,SH-5920,  1,      2, S-1-1-7,2,20000202,0732, 29.9425, 132.9543, 3840,    402.4,  15.8772,  34.6925,2,   -999.0,9,-999.0000,9,    193.4,2,  -999.00,9,  -999.00,9,     8.19,2,     0.00,2,     0.53,2, -999.000,9, -999.000,9,  -999.00,9,   -999.0,9,   -999.0,9,-999.0000,9,   -999.0,  9,  -999.00,9,   -999.0,  -999.00,9,  -999.00,9,  -999.00,9,  -999.00,9,   -999.0,-999.0000, -999,9,  399,  15.8136,  25.5534,   -999.0,9
       SH00-01,  NONE,SH-5920,  1,      1, 1-133-1,2,20000202,0731, 29.9425, 132.9543, 3840,    503.2,  13.3681,  34.5055,2,   -999.0,9,-999.0000,9,    181.2,2,  -999.00,9,  -999.00,9,    13.45,2,     0.01,2,     0.90,2, -999.000,9, -999.000,9,  -999.00,9,   -999.0,9,   -999.0,9,-999.0000,9,   -999.0,  9,  -999.00,9,   -999.0,  -999.00,9,  -999.00,9,  -999.00,9,  -999.00,9,   -999.0,-999.0000, -999,9,  499,  13.2971,  25.9499,   -999.0,9
       SH00-01,  NONE,SH-5920,  1,     12, 1-133-7,2,20000202,0729, 29.9425, 132.9543, 3840,    603.7,  10.6733,  34.3263,2,   -999.0,9,-999.0000,9,    165.6,2,  -999.00,9,  -999.00,9,    19.39,2,     0.00,2,     1.33,2, -999.000,9, -999.000,9,  -999.00,9,   -999.0,9,   -999.0,9,-999.0000,9,   -999.0,  9,  -999.00,9,   -999.0,  -999.00,9,  -999.00,9,  -999.00,9,  -999.00,9,   -999.0,-999.0000, -999,9,  599,  10.5995,  26.3222,   -999.0,9
       SH00-01,  NONE,SH-5920,  1,     11, S-1-1-9,2,20000202,0727, 29.9425, 132.9543, 3840,    704.1,   8.4068,  34.2238,2,   -999.0,9,-999.0000,9,    140.9,2,  -999.00,9,  -999.00,9,    25.62,2,     0.00,2,     1.79,2, -999.000,9, -999.000,9,  -999.00,9,   -999.0,9,   -999.0,9,-999.0000,9,   -999.0,  9,  -999.00,9,   -999.0,  -999.00,9,  -999.00,9,  -999.00,9,  -999.00,9,   -999.0,-999.0000, -999,9,  698,   8.3319,  26.6143,   -999.0,9
       SH00-01,  NONE,SH-5920,  1,     10,1-133-94,2,20000202,0727, 29.9425, 132.9543, 3840,    703.7,   8.4200,  34.2203,2,   -999.0,9,-999.0000,9,    140.9,2,  -999.00,9,  -999.00,9,    25.52,2,     0.00,2,     1.79,2, -999.000,9, -999.000,9,  -999.00,9,   -999.0,9,   -999.0,9,-999.0000,9,   -999.0,  9,  -999.00,9,   -999.0,  -999.00,9,  -999.00,9,  -999.00,9,  -999.00,9,   -999.0,-999.0000, -999,9,  698,   8.3451,  26.6096,   -999.0,9
       SH00-01,  NONE,SH-5920,  1,      9, S-1-1-6,2,20000202,0725, 29.9425, 132.9543, 3840,    805.3,   6.2347,  34.1750,2,   -999.0,9,-999.0000,9,    108.9,2,  -999.00,9,  -999.00,9,    32.04,2,     0.00,2,     2.28,2, -999.000,9, -999.000,9,  -999.00,9,   -999.0,9,   -999.0,9,-999.0000,9,   -999.0,  9,  -999.00,9,   -999.0,  -999.00,9,  -999.00,9,  -999.00,9,  -999.00,9,   -999.0,-999.0000, -999,9,  798,   6.1616,  26.8802,   -999.0,9
       SH00-01,  NONE,SH-5920,  1,      8,1-133-95,2,20000202,0723, 29.9425, 132.9543, 3840,    905.7,   5.4404,  34.2264,2,   -999.0,9,-999.0000,9,     88.5,2,  -999.00,9,  -999.00,9,    35.15,2,     0.00,2,     2.49,2, -999.000,9, -999.000,9,  -999.00,9,   -999.0,9,   -999.0,9,-999.0000,9,   -999.0,  9,  -999.00,9,   -999.0,  -999.00,9,  -999.00,9,  -999.00,9,  -999.00,9,   -999.0,-999.0000, -999,9,  898,   5.3629,  27.0195,   -999.0,9
       SH00-01,  NONE,SH-5920,  1,      7, S-1-1-4,2,20000202,0721, 29.9425, 132.9543, 3840,   1006.9,   4.2117,  34.2745,2,   -999.0,9,-999.0000,9,     65.6,2,  -999.00,9,  -999.00,9,    38.65,2,     0.00,2,     2.76,2, -999.000,9, -999.000,9,  -999.00,9,   -999.0,9,   -999.0,9,-999.0000,9,   -999.0,  9,  -999.00,9,   -999.0,  -999.00,9,  -999.00,9,  -999.00,9,  -999.00,9,   -999.0,-999.0000, -999,9,  998,   4.1342,  27.1951,   -999.0,9
       SH00-01,  NONE,SH-5920,  1,      6,1-133-93,2,20000202,0719, 29.9425, 132.9543, 3840,   1209.3,   3.5361,  34.3991,2,   -999.0,9,-999.0000,9,     62.7,2,  -999.00,9,  -999.00,9,    39.91,2,     0.00,2,     2.85,2, -999.000,9, -999.000,9,  -999.00,9,   -999.0,9,   -999.0,9,-999.0000,9,   -999.0,  9,  -999.00,9,   -999.0,  -999.00,9,  -999.00,9,  -999.00,9,  -999.00,9,   -999.0,-999.0000, -999,9, 1198,   3.4473,  27.3634,   -999.0,9