BOTTLE,20130510GEMDJMAYT
EXPOCODE,SECT_ID,STNNBR,CASTNO,SAMPNO,BTLNBR,BTLNBR_FLAG_W,DATE,TIME,LATITUDE,LONGITUDE,DEPTH,CTDPRS,CTDTMP,CTDSAL,CTDSAL_FLAG_W,CTDOXY,CTDOXY_FLAG_W,SALNTY,SALNTY_FLAG_W,OXYGEN,OXYGEN_FLAG_W,SILCAT,SILCAT_FLAG_W,NITRAT,NITRAT_FLAG_W,NO2+NO3,NO2+NO3_FLAG_W,NITRIT,NITRIT_FLAG_W,PHSPHT,PHSPHT_FLAG_W,CFC-11,CFC-11_FLAG_W,CFC-12,CFC-12_FLAG_W,DELC13,DELC13_FLAG_W,TCARBN,TCARBN_FLAG_W,ALKALI,ALKALI_FLAG_W,PH,PH_FLAG_W,PH_TMP,PH_SCALE,PH_NBS,PH_NBS_FLAG_W,C13ERR,TOTALP,TOTALP_FLAG_W,AMMONI,AMMONI_FLAG_W,CHLORA,CHLORA_FLAG_W,PPHYTN,PPHYTN_FLAG_W,REVPRS,REVTMP,DEPTH_,DEPTH_FLAG,CTDDEP,THETA,SIGTHT,DOC,DOC_FLAG_W
,,,,,,,GMT,GMT,,,METER,DBAR,ITS-90,PSS-78,,UMOL/KG,,PSS-78,,UMOL/KG,,UMOL/KG,,UMOL/KG,,UMOL/KG,,UMOL/KG,,UMOL/KG,,PMOL/KG,,PMOL/KG,,/MILLE,,UMOL/KG,,UMOL/KG,,25_DEG_C,,DEG_C,,,,/MILLE,UMOL/KG,,UMOL/KG,,UG/L,,UG/L,,DBAR,ITS-90,METERS,,METERS,DEG_C,,UMOL/L,
     RF97-05-2,  137E,RF-0440,  1,     -9,      -9,5,19970701,1311, 20.0022, 136.9767, 4634,      0.0,  29.4235,  34.3318,2,   -999.0,9,-999.0000,9,    197.1,2,     2.05,2,  -999.00,9,     0.09,2,     0.00,2,     0.06,2, -999.000,9, -999.000,9,  -999.00,9,   -999.0,9,   -999.0,9,-999.0000,9,   -999.0,  9,  -999.00,9,   -999.0,  -999.00,9,  -999.00,9,     0.05,2,     0.01,2,   -999.0,-999.0000, -999,9,    0,  29.4235,  21.4206,   -999.0,9
     RF97-05-2,  137E,RF-0440,  1,     24,02-12830,2,19970701,1309, 20.0022, 136.9767, 4634,     11.7,  29.4328,  34.3595,2,   -999.0,9,  34.3651,2,    196.6,2,     1.47,2,  -999.00,9,     0.09,2,     0.00,2,     0.06,2, -999.000,9, -999.000,9,  -999.00,9,   -999.0,9,   -999.0,9,-999.0000,9,   -999.0,  9,  -999.00,9,   -999.0,  -999.00,9,  -999.00,9,     0.05,2,     0.01,2,   -999.0,-999.0000, -999,9,   12,  29.4299,  21.4392,   -999.0,9
     RF97-05-2,  137E,RF-0440,  1,     23,02-13591,2,19970701,1308, 20.0022, 136.9767, 4634,     26.4,  29.2404,  34.3829,2,   -999.0,9,-999.0000,9,    198.5,2,     1.41,2,  -999.00,9,     0.00,2,     0.00,2,     0.05,2, -999.000,9, -999.000,9,  -999.00,9,   -999.0,9,   -999.0,9,-999.0000,9,   -999.0,  9,  -999.00,9,   -999.0,  -999.00,9,  -999.00,9,     0.05,2,     0.01,2,   -999.0,-999.0000, -999,9,   26,  29.2340,  21.5225,   -999.0,9
     RF97-05-2,  137E,RF-0440,  1,     22,02-12828,2,19970701,1306, 20.0022, 136.9767, 4634,     51.6,  28.9279,  34.3845,2,   -999.0,9,  34.4328,4,    203.0,2,     1.33,2,  -999.00,9,     0.04,2,     0.00,2,     0.03,2, -999.000,9, -999.000,9,  -999.00,9,   -999.0,9,   -999.0,9,-999.0000,9,   -999.0,  9,  -999.00,9,   -999.0,  -999.00,9,  -999.00,9,     0.08,2,     0.01,2,   -999.0,-999.0000, -999,9,   51,  28.9155,  21.6301,   -999.0,9
     RF97-05-2,  137E,RF-0440,  1,     21,02-12827,2,19970701,1305, 20.0022, 136.9767, 4634,     76.6,  27.3392,  34.5462,2,   -999.0,9,-999.0000,9,    210.2,2,     1.33,2,  -999.00,9,     0.04,2,     0.00,2,     0.04,2, -999.000,9, -999.000,9,  -999.00,9,   -999.0,9,   -999.0,9,-999.0000,9,   -999.0,  9,  -999.00,9,   -999.0,  -999.00,9,  -999.00,9,     0.11,2,     0.05,2,   -999.0,-999.0000, -999,9,   76,  27.3215,  22.2731,   -999.0,9
     RF97-05-2,  137E,RF-0440,  1,     20,02-12826,2,19970701,1304, 20.0022, 136.9767, 4634,    101.1,  26.6538,  34.6092,2,   -999.0,9,  34.6180,2,    208.9,2,     1.20,2,  -999.00,9,     0.01,2,     0.00,2,     0.04,2, -999.000,9, -999.000,9,  -999.00,9,   -999.0,9,   -999.0,9,-999.0000,9,   -999.0,  9,  -999.00,9,   -999.0,  -999.00,9,  -999.00,9,     0.21,2,     0.10,2,   -999.0,-999.0000, -999,9,  100,  26.6309,  22.5406,   -999.0,9
     RF97-05-2,  137E,RF-0440,  1,     19,02-12825,2,19970701,1302, 20.0022, 136.9767, 4634,    127.1,  25.7017,  34.7037,2,   -999.0,9,-999.0000,9,    205.6,2,     1.27,2,  -999.00,9,     0.02,2,     0.01,2,     0.04,2, -999.000,9, -999.000,9,  -999.00,9,   -999.0,9,   -999.0,9,-999.0000,9,   -999.0,  9,  -999.00,9,   -999.0,  -999.00,9,  -999.00,9,     0.28,2,     0.33,2,   -999.0,-999.0000, -999,9,  126,  25.6736,  22.9110,   -999.0,9
     RF97-05-2,  137E,RF-0440,  1,     18,02-12824,2,19970701,1301, 20.0022, 136.9767, 4634,    151.5,  24.6422,  34.8030,2,   -999.0,9,-999.0000,9,    200.0,2,     1.40,2,  -999.00,9,     0.19,2,     0.17,2,     0.06,2, -999.000,9, -999.000,9,  -999.00,9,   -999.0,9,   -999.0,9,-999.0000,9,   -999.0,  9,  -999.00,9,   -999.0,  -999.00,9,  -999.00,9,     0.18,2,     0.33,2,   -999.0,-999.0000, -999,9,  151,  24.6097,  23.3103,   -999.0,9
     RF97-05-2,  137E,RF-0440,  1,     17,02-12814,2,19970701,1259, 20.0022, 136.9767, 4634,    201.8,  22.0553,  35.0234,2,   -999.0,9,  35.0128,4,    189.6,2,     1.74,2,  -999.00,9,     1.29,2,     0.02,2,     0.15,2, -999.000,9, -999.000,9,  -999.00,9,   -999.0,9,   -999.0,9,-999.0000,9,   -999.0,  9,  -999.00,9,   -999.0,  -999.00,9,  -999.00,9,     0.02,2,     0.06,2,   -999.0,-999.0000, -999,9,  200,  22.0153,  24.2313,   -999.0,9
     RF97-05-2,  137E,RF-0440,  1,     16,02-12832,2,19970701,1257, 20.0022, 136.9767, 4634,    302.7,  17.3006,  34.8240,2,   -999.0,9,-999.0000,9,    194.3,2,     4.64,2,  -999.00,9,     5.36,2,     0.00,2,     0.38,2, -999.000,9, -999.000,9,  -999.00,9,   -999.0,9,   -999.0,9,-999.0000,9,   -999.0,  9,  -999.00,9,   -999.0,  -999.00,9,  -999.00,9,  -999.00,9,  -999.00,9,   -999.0,-999.0000, -999,9,  301,  17.2500,  25.3196,   -999.0,9
     RF97-05-2,  137E,RF-0440,  1,     15,02-12833,2,19970701,1254, 20.0022, 136.9767, 4634,    403.8,  13.7731,  34.5165,2,   -999.0,9,-999.0000,9,    151.6,2,    15.05,2,  -999.00,9,    14.81,2,     0.00,2,     1.08,2, -999.000,9, -999.000,9,  -999.00,9,   -999.0,9,   -999.0,9,-999.0000,9,   -999.0,  9,  -999.00,9,   -999.0,  -999.00,9,  -999.00,9,  -999.00,9,  -999.00,9,   -999.0,-999.0000, -999,9,  401,  13.7152,  25.8727,   -999.0,9
     RF97-05-2,  137E,RF-0440,  1,     14,02-13578,2,19970701,1252, 20.0022, 136.9767, 4634,    505.0,  10.2392,  34.2970,2,   -999.0,9,  34.2163,4,    134.3,2,  -999.00,4,  -999.00,9,  -999.00,4,  -999.00,4,  -999.00,4, -999.000,9, -999.000,9,  -999.00,9,   -999.0,9,   -999.0,9,-999.0000,9,   -999.0,  9,  -999.00,9,   -999.0,  -999.00,9,  -999.00,9,  -999.00,9,  -999.00,9,   -999.0,-999.0000, -999,9,  501,  10.1793,  26.3724,   -999.0,9
     RF97-05-2,  137E,RF-0440,  1,     13,02-13590,2,19970701,1249, 20.0022, 136.9767, 4634,    605.1,   7.6662,  34.1580,2,   -999.0,9,-999.0000,9,    126.9,2,    49.10,2,  -999.00,9,    27.80,2,     0.00,2,     2.02,2, -999.000,9, -999.000,9,  -999.00,9,   -999.0,9,   -999.0,9,-999.0000,9,   -999.0,  9,  -999.00,9,   -999.0,  -999.00,9,  -999.00,9,  -999.00,9,  -999.00,9,   -999.0,-999.0000, -999,9,  601,   7.6056,  26.6703,   -999.0,9
     RF97-05-2,  137E,RF-0440,  1,     12,02-12821,2,19970701,1247, 20.0022, 136.9767, 4634,    706.6,   5.7342,  34.1916,2,   -999.0,9,-999.0000,9,     83.4,2,    75.41,2,  -999.00,9,    35.00,2,     0.00,2,     2.59,2, -999.000,9, -999.000,9,  -999.00,9,   -999.0,9,   -999.0,9,-999.0000,9,   -999.0,  9,  -999.00,9,   -999.0,  -999.00,9,  -999.00,9,  -999.00,9,  -999.00,9,   -999.0,-999.0000, -999,9,  701,   5.6732,  26.9545,   -999.0,9
     RF97-05-2,  137E,RF-0440,  1,     11,02-12811,2,19970701,1244, 20.0022, 136.9767, 4634,    807.0,   4.8295,  34.2847,2,   -999.0,9,  34.2838,2,     62.8,2,    92.54,2,  -999.00,9,    38.25,2,     0.00,2,     2.82,2, -999.000,9, -999.000,9,  -999.00,9,   -999.0,9,   -999.0,9,-999.0000,9,   -999.0,  9,  -999.00,9,   -999.0,  -999.00,9,  -999.00,9,  -999.00,9,  -999.00,9,   -999.0,-999.0000, -999,9,  800,   4.7647,  27.1349,   -999.0,9
     RF97-05-2,  137E,RF-0440,  1,      9,02-12810,2,19970701,1240, 20.0022, 136.9767, 4634,   1010.6,   4.0022,  34.4622,2,   -999.0,9,-999.0000,9,   -999.0,9,  -999.00,9,  -999.00,9,  -999.00,9,  -999.00,9,  -999.00,9, -999.000,9, -999.000,9,  -999.00,9,   -999.0,9,   -999.0,9,-999.0000,9,   -999.0,  9,  -999.00,9,   -999.0,  -999.00,9,  -999.00,9,  -999.00,9,  -999.00,9,   1009.0,-999.0000, -999,9, 1002,   3.9257,  27.3660,   -999.0,9
     RF97-05-2,  137E,RF-0440,  1,     10,02-10155,2,19970701,1240, 20.0022, 136.9767, 4634,   1012.8,   4.0009,  34.4611,2,   -999.0,9,  34.4615,2,     71.6,2,   109.14,2,  -999.00,9,    39.13,2,     0.00,2,     2.87,2, -999.000,9, -999.000,9,  -999.00,9,   -999.0,9,   -999.0,9,-999.0000,9,   -999.0,  9,  -999.00,9,   -999.0,  -999.00,9,  -999.00,9,  -999.00,9,  -999.00,9,   -999.0,-999.0000, -999,9, 1004,   3.9242,  27.3653,   -999.0,9
     RF97-05-2,  137E,RF-0440,  1,      8,02-12829,2,19970701,1235, 20.0022, 136.9767, 4634,   1261.7,   3.1484,  34.5345,2,   -999.0,9,  34.5338,2,     84.5,2,   124.80,2,  -999.00,9,    39.01,2,     0.00,2,     2.87,2, -999.000,9, -999.000,9,  -999.00,9,   -999.0,9,   -999.0,9,-999.0000,9,   -999.0,  9,  -999.00,9,   -999.0,  -999.00,9,  -999.00,9,  -999.00,9,  -999.00,9,   -999.0,-999.0000, -999,9, 1250,   3.0587,  27.5081,   -999.0,9
     RF97-05-2,  137E,RF-0440,  1,      7,02-13589,2,19970701,1229, 20.0022, 136.9767, 4634,   1516.2,   2.6898,  34.5722,2,   -999.0,9,  34.5706,2,     96.2,2,   131.93,2,  -999.00,9,    38.77,2,     0.00,2,     2.82,2, -999.000,9, -999.000,9,  -999.00,9,   -999.0,9,   -999.0,9,-999.0000,9,   -999.0,  9,  -999.00,9,   -999.0,  -999.00,9,  -999.00,9,  -999.00,9,  -999.00,9,   -999.0,-999.0000, -999,9, 1501,   2.5842,  27.5806,   -999.0,9
     RF97-05-2,  137E,RF-0440,  1,      6,02-12818,2,19970701,1220, 20.0022, 136.9767, 4634,   2023.6,   2.0845,  34.6237,2,   -999.0,9,  34.6194,2,    114.9,2,   139.06,2,  -999.00,9,    38.05,2,     0.00,2,     2.75,2, -999.000,9, -999.000,9,  -999.00,9,   -999.0,9,   -999.0,9,-999.0000,9,   -999.0,  9,  -999.00,9,   -999.0,  -999.00,9,  -999.00,9,  -999.00,9,  -999.00,9,   -999.0,-999.0000, -999,9, 2002,   1.9448,  27.6746,   -999.0,9
     RF97-05-2,  137E,RF-0440,  1,      5,02-12809,2,19970701,1210, 20.0022, 136.9767, 4634,   2532.5,   1.7795,  34.6493,2,   -999.0,9,  34.6477,2,    130.3,2,   141.24,2,  -999.00,9,    37.23,2,     0.00,2,     2.68,2, -999.000,9, -999.000,9,  -999.00,9,   -999.0,9,   -999.0,9,-999.0000,9,   -999.0,  9,  -999.00,9,   -999.0,  -999.00,9,  -999.00,9,  -999.00,9,  -999.00,9,   -999.0,-999.0000, -999,9, 2502,   1.6004,  27.7214,   -999.0,9
     RF97-05-2,  137E,RF-0440,  1,      4,02-12817,2,19970701,1202, 20.0022, 136.9767, 4634,   3041.3,   1.6544,  34.6650,2,   -999.0,9,  34.6625,2,    139.9,2,   140.85,2,  -999.00,9,    36.71,2,     0.00,2,     2.63,2, -999.000,9, -999.000,9,  -999.00,9,   -999.0,9,   -999.0,9,-999.0000,9,   -999.0,  9,  -999.00,9,   -999.0,  -999.00,9,  -999.00,9,  -999.00,9,  -999.00,9,   -999.0,-999.0000, -999,9, 3001,   1.4303,  27.7464,   -999.0,9
     RF97-05-2,  137E,RF-0440,  1,      3,02-12808,2,19970701,1154, 20.0022, 136.9767, 4634,   3552.3,   1.5774,  34.6753,2,   -999.0,9,  34.6729,2,    148.6,2,   139.53,2,  -999.00,9,    36.09,2,     0.00,2,     2.60,2, -999.000,9, -999.000,9,  -999.00,9,   -999.0,9,   -999.0,9,-999.0000,9,   -999.0,  9,  -999.00,9,   -999.0,  -999.00,9,  -999.00,9,  -999.00,9,  -999.00,9,   -999.0,-999.0000, -999,9, 3501,   1.3039,  27.7637,   -999.0,9
     RF97-05-2,  137E,RF-0440,  1,      2,02-13588,2,19970701,1146, 20.0022, 136.9767, 4634,   4064.6,   1.5209,  34.6849,2,   -999.0,9,  34.6802,2,    157.8,2,   137.51,2,  -999.00,9,    35.52,2,     0.00,2,     2.53,2, -999.000,9, -999.000,9,  -999.00,9,   -999.0,9,   -999.0,9,-999.0000,9,   -999.0,  9,  -999.00,9,   -999.0,  -999.00,9,  -999.00,9,  -999.00,9,  -999.00,9,   -999.0,-999.0000, -999,9, 4002,   1.1944,  27.7790,   -999.0,9
     RF97-05-2,  137E,RF-0440,  1,      1,02-12807,2,19970701,1137, 20.0022, 136.9767, 4634,   4683.0,   1.5611,  34.6861,2,   -999.0,9,  34.6849,2,    160.7,2,   136.76,2,  -999.00,9,    35.32,2,     0.00,2,     2.52,2, -999.000,9, -999.000,9,  -999.00,9,   -999.0,9,   -999.0,9,-999.0000,9,   -999.0,  9,  -999.00,9,   -999.0,  -999.00,9,  -999.00,9,  -999.00,9,  -999.00,9,   4682.0,-999.0000, -999,9, 4604,   1.1629,  27.7821,   -999.0,9