BOTTLE,20130510GEMDJMAYT
EXPOCODE,SECT_ID,STNNBR,CASTNO,SAMPNO,BTLNBR,BTLNBR_FLAG_W,DATE,TIME,LATITUDE,LONGITUDE,DEPTH,CTDPRS,CTDTMP,CTDSAL,CTDSAL_FLAG_W,CTDOXY,CTDOXY_FLAG_W,SALNTY,SALNTY_FLAG_W,OXYGEN,OXYGEN_FLAG_W,SILCAT,SILCAT_FLAG_W,NITRAT,NITRAT_FLAG_W,NO2+NO3,NO2+NO3_FLAG_W,NITRIT,NITRIT_FLAG_W,PHSPHT,PHSPHT_FLAG_W,CFC-11,CFC-11_FLAG_W,CFC-12,CFC-12_FLAG_W,DELC13,DELC13_FLAG_W,TCARBN,TCARBN_FLAG_W,ALKALI,ALKALI_FLAG_W,PH,PH_FLAG_W,PH_TMP,PH_SCALE,PH_NBS,PH_NBS_FLAG_W,C13ERR,TOTALP,TOTALP_FLAG_W,AMMONI,AMMONI_FLAG_W,CHLORA,CHLORA_FLAG_W,PPHYTN,PPHYTN_FLAG_W,REVPRS,REVTMP,DEPTH_,DEPTH_FLAG,CTDDEP,THETA,SIGTHT,DOC,DOC_FLAG_W
,,,,,,,GMT,GMT,,,METER,DBAR,ITS-90,PSS-78,,UMOL/KG,,PSS-78,,UMOL/KG,,UMOL/KG,,UMOL/KG,,UMOL/KG,,UMOL/KG,,UMOL/KG,,PMOL/KG,,PMOL/KG,,/MILLE,,UMOL/KG,,UMOL/KG,,25_DEG_C,,DEG_C,,,,/MILLE,UMOL/KG,,UMOL/KG,,UG/L,,UG/L,,DBAR,ITS-90,METERS,,METERS,DEG_C,,UMOL/L,
     RF97-05-2,  137E,RF-0456,  1,     -9,      -9,5,19970720,0420, 33.9880, 136.9882, 1066,      0.0,  24.5759,  34.1687,2,   -999.0,9,-999.0000,9,    213.8,2,     1.99,2,  -999.00,9,     0.11,2,     0.01,2,     0.10,2, -999.000,9, -999.000,9,  -999.00,9,   -999.0,9,   -999.0,9,-999.0000,9,   -999.0,  9,  -999.00,9,   -999.0,  -999.00,9,  -999.00,9,     0.37,2,     0.01,2,   -999.0,-999.0000, -999,9,    0,  24.5759,  22.8409,   -999.0,9
     RF97-05-2,  137E,RF-0456,  1,     23,02-13591,2,19970720,0418, 33.9880, 136.9882, 1066,     10.1,  23.6538,  34.1024,2,   -999.0,9,  34.4517,4,    223.1,2,     1.98,2,  -999.00,9,     0.06,2,     0.01,2,     0.08,2, -999.000,9, -999.000,9,  -999.00,9,   -999.0,9,   -999.0,9,-999.0000,9,   -999.0,  9,  -999.00,9,   -999.0,  -999.00,9,  -999.00,9,     0.35,2,     0.04,2,   -999.0,-999.0000, -999,9,   10,  23.6517,  23.0643,   -999.0,9
     RF97-05-2,  137E,RF-0456,  1,     22,02-12828,2,19970720,0416, 33.9880, 136.9882, 1066,     25.6,  20.0045,  34.3249,2,   -999.0,9,-999.0000,9,    213.9,2,     4.59,2,  -999.00,9,     1.65,2,     0.23,2,     0.25,2, -999.000,9, -999.000,9,  -999.00,9,   -999.0,9,   -999.0,9,-999.0000,9,   -999.0,  9,  -999.00,9,   -999.0,  -999.00,9,  -999.00,9,     0.87,2,     0.27,2,   -999.0,-999.0000, -999,9,   25,  19.9998,  24.2469,   -999.0,9
     RF97-05-2,  137E,RF-0456,  1,     21,02-12827,2,19970720,0415, 33.9880, 136.9882, 1066,     50.2,  16.3985,  34.4641,2,   -999.0,9,  34.4729,4,    181.8,2,    13.94,2,  -999.00,9,     9.45,2,     0.26,2,     0.69,2, -999.000,9, -999.000,9,  -999.00,9,   -999.0,9,   -999.0,9,-999.0000,9,   -999.0,  9,  -999.00,9,   -999.0,  -999.00,9,  -999.00,9,     0.21,2,     0.12,2,   -999.0,-999.0000, -999,9,   50,  16.3905,  25.2457,   -999.0,9
     RF97-05-2,  137E,RF-0456,  1,     20,02-12826,2,19970720,0414, 33.9880, 136.9882, 1066,     75.3,  15.2584,  34.4737,2,   -999.0,9,-999.0000,9,    174.9,2,    18.00,2,  -999.00,9,    11.76,2,     0.07,2,     0.85,2, -999.000,9, -999.000,9,  -999.00,9,   -999.0,9,   -999.0,9,-999.0000,9,   -999.0,  9,  -999.00,9,   -999.0,  -999.00,9,  -999.00,9,     0.09,2,     0.14,2,   -999.0,-999.0000, -999,9,   75,  15.2469,  25.5118,   -999.0,9
     RF97-05-2,  137E,RF-0456,  1,     19,02-12825,2,19970720,0412, 33.9880, 136.9882, 1066,    100.8,  13.9819,  34.5291,2,   -999.0,9,  34.5291,2,    165.5,2,    21.96,2,  -999.00,9,    14.29,2,     0.03,2,     1.02,2, -999.000,9, -999.000,9,  -999.00,9,   -999.0,9,   -999.0,9,-999.0000,9,   -999.0,  9,  -999.00,9,   -999.0,  -999.00,9,  -999.00,9,     0.05,2,     0.07,2,   -999.0,-999.0000, -999,9,  100,  13.9675,  25.8299,   -999.0,9
     RF97-05-2,  137E,RF-0456,  1,     18,02-12824,9,19970720,0412, 33.9880, 136.9882, 1066,    100.9,  13.9759,  34.5271,2,   -999.0,9,-999.0000,9,   -999.0,9,  -999.00,9,  -999.00,9,  -999.00,9,  -999.00,9,  -999.00,9, -999.000,9, -999.000,9,  -999.00,9,   -999.0,9,   -999.0,9,-999.0000,9,   -999.0,  9,  -999.00,9,   -999.0,  -999.00,9,  -999.00,9,  -999.00,9,  -999.00,9,   -999.0,-999.0000, -999,9,  100,  13.9614,  25.8297,   -999.0,9
     RF97-05-2,  137E,RF-0456,  1,     17,02-12814,2,19970720,0411, 33.9880, 136.9882, 1066,    125.2,  12.7228,  34.4595,2,   -999.0,9,-999.0000,9,    159.7,2,    27.49,2,  -999.00,9,    16.89,2,     0.02,2,     1.19,2, -999.000,9, -999.000,9,  -999.00,9,   -999.0,9,   -999.0,9,-999.0000,9,   -999.0,  9,  -999.00,9,   -999.0,  -999.00,9,  -999.00,9,     0.02,2,     0.06,2,   -999.0,-999.0000, -999,9,  124,  12.7060,  26.0325,   -999.0,9
     RF97-05-2,  137E,RF-0456,  1,     16,02-12832,2,19970720,0410, 33.9880, 136.9882, 1066,    150.3,  11.6522,  34.4145,2,   -999.0,9,-999.0000,9,    153.7,2,    32.54,2,  -999.00,9,    19.27,2,     0.01,2,     1.36,2, -999.000,9, -999.000,9,  -999.00,9,   -999.0,9,   -999.0,9,-999.0000,9,   -999.0,  9,  -999.00,9,   -999.0,  -999.00,9,  -999.00,9,     0.02,2,     0.06,2,   -999.0,-999.0000, -999,9,  149,  11.6332,  26.2034,   -999.0,9
     RF97-05-2,  137E,RF-0456,  1,     15,02-12833,2,19970720,0408, 33.9880, 136.9882, 1066,    201.5,  10.6453,  34.3637,2,   -999.0,9,  34.3710,2,    148.3,2,    36.27,2,  -999.00,9,    21.13,2,     0.01,2,     1.50,2, -999.000,9, -999.000,9,  -999.00,9,   -999.0,9,   -999.0,9,-999.0000,9,   -999.0,  9,  -999.00,9,   -999.0,  -999.00,9,  -999.00,9,     0.00,2,     0.04,2,   -999.0,-999.0000, -999,9,  200,  10.6212,  26.3475,   -999.0,9
     RF97-05-2,  137E,RF-0456,  1,     14,02-13578,2,19970720,0405, 33.9880, 136.9882, 1066,    251.3,   9.4539,  34.3102,2,   -999.0,9,-999.0000,9,    140.5,2,    44.11,2,  -999.00,9,    24.08,2,     0.01,2,     1.71,2, -999.000,9, -999.000,9,  -999.00,9,   -999.0,9,   -999.0,9,-999.0000,9,   -999.0,  9,  -999.00,9,   -999.0,  -999.00,9,  -999.00,9,  -999.00,9,  -999.00,9,   -999.0,-999.0000, -999,9,  249,   9.4259,  26.5091,   -999.0,9
     RF97-05-2,  137E,RF-0456,  1,     12,02-12821,9,19970720,0403, 33.9880, 136.9882, 1066,    301.7,   8.3232,  34.2796,2,   -999.0,9,-999.0000,9,   -999.0,9,  -999.00,9,  -999.00,9,  -999.00,9,  -999.00,9,  -999.00,9, -999.000,9, -999.000,9,  -999.00,9,   -999.0,9,   -999.0,9,-999.0000,9,   -999.0,  9,  -999.00,9,   -999.0,  -999.00,9,  -999.00,9,  -999.00,9,  -999.00,9,   -999.0,-999.0000, -999,9,  299,   8.2920,  26.6642,   -999.0,9
     RF97-05-2,  137E,RF-0456,  1,     13,02-13590,2,19970720,0404, 33.9880, 136.9882, 1066,    302.4,   8.3477,  34.2807,2,   -999.0,9,-999.0000,9,    125.8,2,    53.57,2,  -999.00,9,    27.36,2,     0.01,2,     1.96,2, -999.000,9, -999.000,9,  -999.00,9,   -999.0,9,   -999.0,9,-999.0000,9,   -999.0,  9,  -999.00,9,   -999.0,  -999.00,9,  -999.00,9,  -999.00,9,  -999.00,9,   -999.0,-999.0000, -999,9,  300,   8.3164,  26.6614,   -999.0,9
     RF97-05-2,  137E,RF-0456,  1,     11,02-12811,2,19970720,0400, 33.9880, 136.9882, 1066,    402.5,   6.7332,  34.2535,2,   -999.0,9,  34.2577,2,    103.7,2,    70.19,2,  -999.00,9,    31.98,2,     0.01,2,     2.30,2, -999.000,9, -999.000,9,  -999.00,9,   -999.0,9,   -999.0,9,-999.0000,9,   -999.0,  9,  -999.00,9,   -999.0,  -999.00,9,  -999.00,9,  -999.00,9,  -999.00,9,   -999.0,-999.0000, -999,9,  399,   6.6962,  26.8720,   -999.0,9
     RF97-05-2,  137E,RF-0456,  1,     10,02-10155,2,19970720,0357, 33.9880, 136.9882, 1066,    503.2,   5.4706,  34.2661,2,   -999.0,9,-999.0000,9,     85.5,2,    86.64,2,  -999.00,9,    35.76,2,     0.01,2,     2.58,2, -999.000,9, -999.000,9,  -999.00,9,   -999.0,9,   -999.0,9,-999.0000,9,   -999.0,  9,  -999.00,9,   -999.0,  -999.00,9,  -999.00,9,  -999.00,9,  -999.00,9,   -999.0,-999.0000, -999,9,  499,   5.4289,  27.0430,   -999.0,9
     RF97-05-2,  137E,RF-0456,  1,      8,02-12829,9,19970720,0352, 33.9880, 136.9882, 1066,    605.1,   4.7459,  34.3046,2,   -999.0,9,-999.0000,9,   -999.0,9,  -999.00,9,  -999.00,9,  -999.00,9,  -999.00,9,  -999.00,9, -999.000,9, -999.000,9,  -999.00,9,   -999.0,9,   -999.0,9,-999.0000,9,   -999.0,  9,  -999.00,9,   -999.0,  -999.00,9,  -999.00,9,  -999.00,9,  -999.00,9,   -999.0,-999.0000, -999,9,  600,   4.6986,  27.1581,   -999.0,9
     RF97-05-2,  137E,RF-0456,  1,      9,02-12810,2,19970720,0353, 33.9880, 136.9882, 1066,    605.9,   4.7447,  34.3042,2,   -999.0,9,  34.3072,2,     73.6,2,    98.47,2,  -999.00,9,    37.88,2,     0.00,2,     2.73,2, -999.000,9, -999.000,9,  -999.00,9,   -999.0,9,   -999.0,9,-999.0000,9,   -999.0,  9,  -999.00,9,   -999.0,  -999.00,9,  -999.00,9,  -999.00,9,  -999.00,9,   -999.0,-999.0000, -999,9,  601,   4.6974,  27.1579,   -999.0,9
     RF97-05-2,  137E,RF-0456,  1,      7,02-13589,2,19970720,0349, 33.9880, 136.9882, 1066,    704.9,   4.1723,  34.3427,2,   -999.0,9,-999.0000,9,     67.9,2,   109.35,2,  -999.00,9,    39.15,2,     0.00,2,     2.82,2, -999.000,9, -999.000,9,  -999.00,9,   -999.0,9,   -999.0,9,-999.0000,9,   -999.0,  9,  -999.00,9,   -999.0,  -999.00,9,  -999.00,9,  -999.00,9,  -999.00,9,   -999.0,-999.0000, -999,9,  699,   4.1198,  27.2508,   -999.0,9
     RF97-05-2,  137E,RF-0456,  1,      6,02-12818,2,19970720,0346, 33.9880, 136.9882, 1066,    806.4,   3.8903,  34.3699,2,   -999.0,9,  34.3716,2,     66.2,2,   115.00,2,  -999.00,9,    39.61,2,     0.00,2,     2.85,2, -999.000,9, -999.000,9,  -999.00,9,   -999.0,9,   -999.0,9,-999.0000,9,   -999.0,  9,  -999.00,9,   -999.0,  -999.00,9,  -999.00,9,  -999.00,9,  -999.00,9,   -999.0,-999.0000, -999,9,  799,   3.8313,  27.3022,   -999.0,9
     RF97-05-2,  137E,RF-0456,  1,      5,02-12809,2,19970720,0342, 33.9880, 136.9882, 1066,    907.0,   3.6084,  34.3973,2,   -999.0,9,-999.0000,9,     63.7,2,   120.66,2,  -999.00,9,    40.15,2,     0.01,2,     2.88,2, -999.000,9, -999.000,9,  -999.00,9,   -999.0,9,   -999.0,9,-999.0000,9,   -999.0,  9,  -999.00,9,   -999.0,  -999.00,9,  -999.00,9,  -999.00,9,  -999.00,9,    900.0,-999.0000, -999,9,  899,   3.5433,  27.3527,   -999.0,9
     RF97-05-2,  137E,RF-0456,  1,      4,02-12817,2,19970720,0339, 33.9880, 136.9882, 1066,   1011.4,   3.4097,  34.4212,2,   -999.0,9,  34.4198,2,     64.8,2,   124.40,2,  -999.00,9,    40.36,2,     0.01,2,     2.90,2, -999.000,9, -999.000,9,  -999.00,9,   -999.0,9,   -999.0,9,-999.0000,9,   -999.0,  9,  -999.00,9,   -999.0,  -999.00,9,  -999.00,9,  -999.00,9,  -999.00,9,   -999.0,-999.0000, -999,9, 1002,   3.3378,  27.3915,   -999.0,9
     RF97-05-2,  137E,RF-0456,  1,      3,02-12808,2,19970720,0339, 33.9880, 136.9882, 1066,   1011.9,   3.4080,  34.4224,2,   -999.0,9,-999.0000,9,   -999.0,9,  -999.00,9,  -999.00,9,  -999.00,9,  -999.00,9,  -999.00,9, -999.000,9, -999.000,9,  -999.00,9,   -999.0,9,   -999.0,9,-999.0000,9,   -999.0,  9,  -999.00,9,   -999.0,  -999.00,9,  -999.00,9,  -999.00,9,  -999.00,9,   -999.0,-999.0000, -999,9, 1002,   3.3361,  27.3927,   -999.0,9
     RF97-05-2,  137E,RF-0456,  1,      2,02-13588,2,19970720,0338, 33.9880, 136.9882, 1066,   1012.2,   3.4103,  34.4212,2,   -999.0,9,-999.0000,9,   -999.0,9,  -999.00,9,  -999.00,9,  -999.00,9,  -999.00,9,  -999.00,9, -999.000,9, -999.000,9,  -999.00,9,   -999.0,9,   -999.0,9,-999.0000,9,   -999.0,  9,  -999.00,9,   -999.0,  -999.00,9,  -999.00,9,  -999.00,9,  -999.00,9,   -999.0,-999.0000, -999,9, 1003,   3.3383,  27.3915,   -999.0,9
     RF97-05-2,  137E,RF-0456,  1,      1,02-12807,2,19970720,0338, 33.9880, 136.9882, 1066,   1012.6,   3.4071,  34.4236,2,   -999.0,9,  34.4206,2,     65.5,2,   123.98,2,  -999.00,9,    40.16,2,     0.01,2,     2.90,2, -999.000,9, -999.000,9,  -999.00,9,   -999.0,9,   -999.0,9,-999.0000,9,   -999.0,  9,  -999.00,9,   -999.0,  -999.00,9,  -999.00,9,  -999.00,9,  -999.00,9,   -999.0,-999.0000, -999,9, 1003,   3.3352,  27.3937,   -999.0,9