BOTTLE,20130510GEMDJMAYT
EXPOCODE,SECT_ID,STNNBR,CASTNO,SAMPNO,BTLNBR,BTLNBR_FLAG_W,DATE,TIME,LATITUDE,LONGITUDE,DEPTH,CTDPRS,CTDTMP,CTDSAL,CTDSAL_FLAG_W,CTDOXY,CTDOXY_FLAG_W,SALNTY,SALNTY_FLAG_W,OXYGEN,OXYGEN_FLAG_W,SILCAT,SILCAT_FLAG_W,NITRAT,NITRAT_FLAG_W,NO2+NO3,NO2+NO3_FLAG_W,NITRIT,NITRIT_FLAG_W,PHSPHT,PHSPHT_FLAG_W,CFC-11,CFC-11_FLAG_W,CFC-12,CFC-12_FLAG_W,DELC13,DELC13_FLAG_W,TCARBN,TCARBN_FLAG_W,ALKALI,ALKALI_FLAG_W,PH,PH_FLAG_W,PH_TMP,PH_SCALE,PH_NBS,PH_NBS_FLAG_W,C13ERR,TOTALP,TOTALP_FLAG_W,AMMONI,AMMONI_FLAG_W,CHLORA,CHLORA_FLAG_W,PPHYTN,PPHYTN_FLAG_W,REVPRS,REVTMP,DEPTH_,DEPTH_FLAG,CTDDEP,THETA,SIGTHT,DOC,DOC_FLAG_W
,,,,,,,GMT,GMT,,,METER,DBAR,ITS-90,PSS-78,,UMOL/KG,,PSS-78,,UMOL/KG,,UMOL/KG,,UMOL/KG,,UMOL/KG,,UMOL/KG,,UMOL/KG,,PMOL/KG,,PMOL/KG,,/MILLE,,UMOL/KG,,UMOL/KG,,25_DEG_C,,DEG_C,,,,/MILLE,UMOL/KG,,UMOL/KG,,UG/L,,UG/L,,DBAR,ITS-90,METERS,,METERS,DEG_C,,UMOL/L,
     RF97-05-2,  137E,RF-0450,  1,     -9,      -9,5,19970704,0451, 29.9963, 136.9985, 4520,      0.0,  26.6450,  34.6755,2,   -999.0,9,-999.0000,9,    208.0,2,     1.14,2,  -999.00,9,     0.06,2,     0.00,2,     0.02,2, -999.000,9, -999.000,9,  -999.00,9,   -999.0,9,   -999.0,9,-999.0000,9,   -999.0,  9,  -999.00,9,   -999.0,  -999.00,9,  -999.00,9,     0.06,2,     0.01,2,   -999.0,-999.0000, -999,9,    0,  26.6450,  22.5861,   -999.0,9
     RF97-05-2,  137E,RF-0450,  1,     24,02-12830,2,19970704,0449, 29.9963, 136.9985, 4520,     11.0,  26.2787,  34.6731,2,   -999.0,9,  34.6715,2,    208.6,2,     1.27,2,  -999.00,9,     0.00,2,     0.00,2,     0.02,2, -999.000,9, -999.000,9,  -999.00,9,   -999.0,9,   -999.0,9,-999.0000,9,   -999.0,  9,  -999.00,9,   -999.0,  -999.00,9,  -999.00,9,     0.06,2,     0.01,2,   -999.0,-999.0000, -999,9,   11,  26.2762,  22.7004,   -999.0,9
     RF97-05-2,  137E,RF-0450,  1,     23,02-13591,2,19970704,0448, 29.9963, 136.9985, 4520,     25.1,  25.4035,  34.6523,2,   -999.0,9,-999.0000,9,    212.5,2,     1.28,2,  -999.00,9,     0.06,2,     0.00,2,     0.01,2, -999.000,9, -999.000,9,  -999.00,9,   -999.0,9,   -999.0,9,-999.0000,9,   -999.0,  9,  -999.00,9,   -999.0,  -999.00,9,  -999.00,9,     0.07,2,     0.01,2,   -999.0,-999.0000, -999,9,   25,  25.3980,  22.9570,   -999.0,9
     RF97-05-2,  137E,RF-0450,  1,     22,02-12828,2,19970704,0446, 29.9963, 136.9985, 4520,     50.5,  23.2180,  34.8126,2,   -999.0,9,  34.7922,4,    224.0,2,     1.46,2,  -999.00,9,     0.08,2,     0.00,2,     0.01,2, -999.000,9, -999.000,9,  -999.00,9,   -999.0,9,   -999.0,9,-999.0000,9,   -999.0,  9,  -999.00,9,   -999.0,  -999.00,9,  -999.00,9,     0.12,2,     0.03,2,   -999.0,-999.0000, -999,9,   50,  23.2077,  23.7315,   -999.0,9
     RF97-05-2,  137E,RF-0450,  1,     21,02-12827,2,19970704,0445, 29.9963, 136.9985, 4520,     76.3,  21.5782,  34.8631,2,   -999.0,9,-999.0000,9,    228.4,2,     1.49,2,  -999.00,9,     0.04,2,     0.00,2,     0.01,2, -999.000,9, -999.000,9,  -999.00,9,   -999.0,9,   -999.0,9,-999.0000,9,   -999.0,  9,  -999.00,9,   -999.0,  -999.00,9,  -999.00,9,     0.26,2,     0.11,2,   -999.0,-999.0000, -999,9,   76,  21.5634,  24.2353,   -999.0,9
     RF97-05-2,  137E,RF-0450,  1,     20,02-12826,2,19970704,0443, 29.9963, 136.9985, 4520,    100.4,  20.6697,  34.8350,2,   -999.0,9,  34.8660,4,    223.7,2,     1.49,2,  -999.00,9,     0.02,2,     0.00,2,     0.03,2, -999.000,9, -999.000,9,  -999.00,9,   -999.0,9,   -999.0,9,-999.0000,9,   -999.0,  9,  -999.00,9,   -999.0,  -999.00,9,  -999.00,9,     0.43,2,     0.31,2,   -999.0,-999.0000, -999,9,  100,  20.6507,  24.4627,   -999.0,9
     RF97-05-2,  137E,RF-0450,  1,     19,02-12825,2,19970704,0442, 29.9963, 136.9985, 4520,    125.9,  20.0695,  34.8472,2,   -999.0,9,-999.0000,9,    222.3,2,     1.63,2,  -999.00,9,     0.53,2,     0.20,2,     0.05,2, -999.000,9, -999.000,9,  -999.00,9,   -999.0,9,   -999.0,9,-999.0000,9,   -999.0,  9,  -999.00,9,   -999.0,  -999.00,9,  -999.00,9,     0.18,2,     0.22,2,   -999.0,-999.0000, -999,9,  125,  20.0462,  24.6330,   -999.0,9
     RF97-05-2,  137E,RF-0450,  1,     18,02-12824,2,19970704,0441, 29.9963, 136.9985, 4520,    151.2,  19.5679,  34.8566,2,   -999.0,9,-999.0000,9,    217.0,2,     2.01,2,  -999.00,9,     1.29,2,     0.07,2,     0.10,2, -999.000,9, -999.000,9,  -999.00,9,   -999.0,9,   -999.0,9,-999.0000,9,   -999.0,  9,  -999.00,9,   -999.0,  -999.00,9,  -999.00,9,     0.09,2,     0.10,2,   -999.0,-999.0000, -999,9,  150,  19.5404,  24.7726,   -999.0,9
     RF97-05-2,  137E,RF-0450,  1,     17,02-12814,2,19970704,0439, 29.9963, 136.9985, 4520,    201.3,  18.6976,  34.8487,2,   -999.0,9,  34.8410,4,    215.3,2,     2.18,2,  -999.00,9,     2.07,2,     0.02,2,     0.14,2, -999.000,9, -999.000,9,  -999.00,9,   -999.0,9,   -999.0,9,-999.0000,9,   -999.0,  9,  -999.00,9,   -999.0,  -999.00,9,  -999.00,9,     0.03,2,     0.05,2,   -999.0,-999.0000, -999,9,  200,  18.6621,  24.9911,   -999.0,9
     RF97-05-2,  137E,RF-0450,  1,     16,02-12832,2,19970704,0437, 29.9963, 136.9985, 4520,    251.6,  18.2023,  34.8345,2,   -999.0,9,-999.0000,9,    210.8,2,     2.96,2,  -999.00,9,     3.00,2,     0.01,2,     0.20,2, -999.000,9, -999.000,9,  -999.00,9,   -999.0,9,   -999.0,9,-999.0000,9,   -999.0,  9,  -999.00,9,   -999.0,  -999.00,9,  -999.00,9,  -999.00,9,  -999.00,9,   -999.0,-999.0000, -999,9,  250,  18.1587,  25.1061,   -999.0,9
     RF97-05-2,  137E,RF-0450,  1,     15,02-12833,2,19970704,0435, 29.9963, 136.9985, 4520,    302.2,  17.8692,  34.8414,2,   -999.0,9,-999.0000,9,    203.6,2,     3.57,2,  -999.00,9,     4.19,2,     0.01,2,     0.27,2, -999.000,9, -999.000,9,  -999.00,9,   -999.0,9,   -999.0,9,-999.0000,9,   -999.0,  9,  -999.00,9,   -999.0,  -999.00,9,  -999.00,9,  -999.00,9,  -999.00,9,   -999.0,-999.0000, -999,9,  300,  17.8175,  25.1954,   -999.0,9
     RF97-05-2,  137E,RF-0450,  1,     14,02-13578,2,19970704,0433, 29.9963, 136.9985, 4520,    402.3,  16.2643,  34.7431,2,   -999.0,9,  34.7388,2,    194.6,2,     7.29,2,  -999.00,9,     7.39,2,     0.01,2,     0.49,2, -999.000,9, -999.000,9,  -999.00,9,   -999.0,9,   -999.0,9,-999.0000,9,   -999.0,  9,  -999.00,9,   -999.0,  -999.00,9,  -999.00,9,  -999.00,9,  -999.00,9,   -999.0,-999.0000, -999,9,  399,  16.1997,  25.5042,   -999.0,9
     RF97-05-2,  137E,RF-0450,  1,     13,02-13590,2,19970704,0430, 29.9963, 136.9985, 4520,    503.7,  14.2667,  34.5765,2,   -999.0,9,-999.0000,9,    181.1,2,    13.34,2,  -999.00,9,    11.64,2,     0.01,2,     0.80,2, -999.000,9, -999.000,9,  -999.00,9,   -999.0,9,   -999.0,9,-999.0000,9,   -999.0,  9,  -999.00,9,   -999.0,  -999.00,9,  -999.00,9,  -999.00,9,  -999.00,9,   -999.0,-999.0000, -999,9,  500,  14.1925,  25.8193,   -999.0,9
     RF97-05-2,  137E,RF-0450,  1,     12,02-12821,2,19970704,0428, 29.9963, 136.9985, 4520,    604.4,  11.6138,  34.3816,2,   -999.0,9,  34.3822,2,    166.9,2,    25.46,2,  -999.00,9,    17.58,2,     0.00,2,     1.24,2, -999.000,9, -999.000,9,  -999.00,9,   -999.0,9,   -999.0,9,-999.0000,9,   -999.0,  9,  -999.00,9,   -999.0,  -999.00,9,  -999.00,9,  -999.00,9,  -999.00,9,   -999.0,-999.0000, -999,9,  599,  11.5357,  26.1960,   -999.0,9
     RF97-05-2,  137E,RF-0450,  1,     11,02-12811,2,19970704,0425, 29.9963, 136.9985, 4520,    705.1,   8.7521,  34.2360,2,   -999.0,9,  34.2420,2,    146.5,2,    42.55,2,  -999.00,9,    23.77,2,     0.00,2,     1.71,2, -999.000,9, -999.000,9,  -999.00,9,   -999.0,9,   -999.0,9,-999.0000,9,   -999.0,  9,  -999.00,9,   -999.0,  -999.00,9,  -999.00,9,  -999.00,9,  -999.00,9,   -999.0,-999.0000, -999,9,  699,   8.6754,  26.5710,   -999.0,9
     RF97-05-2,  137E,RF-0450,  1,     10,02-10155,4,19970704,0422, 29.9963, 136.9985, 4520,    806.1,   6.7874,  34.1652,2,   -999.0,9,-999.0000,9,   -999.0,4,  -999.00,4,  -999.00,9,  -999.00,4,  -999.00,4,  -999.00,4, -999.000,9, -999.000,9,  -999.00,9,   -999.0,9,   -999.0,9,-999.0000,9,   -999.0,  9,  -999.00,9,   -999.0,  -999.00,9,  -999.00,9,  -999.00,9,  -999.00,9,   -999.0,-999.0000, -999,9,  799,   6.7110,  26.8004,   -999.0,9
     RF97-05-2,  137E,RF-0450,  1,      9,02-12810,4,19970704,0418, 29.9963, 136.9985, 4520,   1007.8,   4.4180,  34.3033,2,   -999.0,9,-999.0000,9,   -999.0,4,  -999.00,4,  -999.00,9,  -999.00,4,  -999.00,4,  -999.00,4, -999.000,9, -999.000,9,  -999.00,9,   -999.0,9,   -999.0,9,-999.0000,9,   -999.0,  9,  -999.00,9,   -999.0,  -999.00,9,  -999.00,9,  -999.00,9,  -999.00,9,   -999.0,-999.0000, -999,9,  999,   4.3388,  27.1963,   -999.0,9
     RF97-05-2,  137E,RF-0450,  1,      8,02-12829,2,19970704,0413, 29.9963, 136.9985, 4520,   1261.1,   3.1784,  34.4303,2,   -999.0,9,  34.4300,2,     60.0,2,   128.99,2,  -999.00,9,    40.07,2,     0.00,2,     2.93,2, -999.000,9, -999.000,9,  -999.00,9,   -999.0,9,   -999.0,9,-999.0000,9,   -999.0,  9,  -999.00,9,   -999.0,  -999.00,9,  -999.00,9,  -999.00,9,  -999.00,9,   -999.0,-999.0000, -999,9, 1249,   3.0886,  27.4222,   -999.0,9
     RF97-05-2,  137E,RF-0450,  1,      7,02-13589,2,19970704,0409, 29.9963, 136.9985, 4520,   1514.9,   2.6621,  34.5010,2,   -999.0,9,  34.5033,2,     67.9,2,   138.96,2,  -999.00,9,    40.20,2,     0.00,2,     2.93,2, -999.000,9, -999.000,9,  -999.00,9,   -999.0,9,   -999.0,9,-999.0000,9,   -999.0,  9,  -999.00,9,   -999.0,  -999.00,9,  -999.00,9,  -999.00,9,  -999.00,9,   -999.0,-999.0000, -999,9, 1499,   2.5572,  27.5260,   -999.0,9
     RF97-05-2,  137E,RF-0450,  1,      6,02-12818,2,19970704,0400, 29.9963, 136.9985, 4520,   2021.9,   2.0193,  34.5972,2,   -999.0,9,  34.6530,4,     99.0,2,   145.16,2,  -999.00,9,    38.63,2,     0.00,2,     2.79,2, -999.000,9, -999.000,9,  -999.00,9,   -999.0,9,   -999.0,9,-999.0000,9,   -999.0,  9,  -999.00,9,   -999.0,  -999.00,9,  -999.00,9,  -999.00,9,  -999.00,9,   -999.0,-999.0000, -999,9, 1999,   1.8808,  27.6583,   -999.0,9
     RF97-05-2,  137E,RF-0450,  1,      5,02-12809,2,19970704,0353, 29.9963, 136.9985, 4520,   2531.6,   1.7394,  34.6435,2,   -999.0,9,  34.6424,2,    129.6,2,   141.00,2,  -999.00,9,    36.86,2,     0.00,2,     2.65,2, -999.000,9, -999.000,9,  -999.00,9,   -999.0,9,   -999.0,9,-999.0000,9,   -999.0,  9,  -999.00,9,   -999.0,  -999.00,9,  -999.00,9,  -999.00,9,  -999.00,9,   -999.0,-999.0000, -999,9, 2499,   1.5612,  27.7196,   -999.0,9
     RF97-05-2,  137E,RF-0450,  1,      4,02-12817,2,19970704,0345, 29.9963, 136.9985, 4520,   3039.9,   1.5793,  34.6682,2,   -999.0,9,  34.6660,2,    144.1,2,   139.29,2,  -999.00,9,    36.00,2,     0.00,2,     2.57,2, -999.000,9, -999.000,9,  -999.00,9,   -999.0,9,   -999.0,9,-999.0000,9,   -999.0,  9,  -999.00,9,   -999.0,  -999.00,9,  -999.00,9,  -999.00,9,  -999.00,9,   -999.0,-999.0000, -999,9, 2998,   1.3570,  27.7542,   -999.0,9
     RF97-05-2,  137E,RF-0450,  1,      3,02-12808,2,19970704,0337, 29.9963, 136.9985, 4520,   3552.3,   1.5244,  34.6794,2,   -999.0,9,  34.6778,2,    152.0,2,   138.52,2,  -999.00,9,    35.57,2,     0.00,2,     2.54,2, -999.000,9, -999.000,9,  -999.00,9,   -999.0,9,   -999.0,9,-999.0000,9,   -999.0,  9,  -999.00,9,   -999.0,  -999.00,9,  -999.00,9,  -999.00,9,  -999.00,9,   -999.0,-999.0000, -999,9, 3499,   1.2523,  27.7706,   -999.0,9
     RF97-05-2,  137E,RF-0450,  1,      2,02-13588,4,19970704,0329, 29.9963, 136.9985, 4520,   4064.5,   1.5518,  34.6819,2,   -999.0,9,  34.6682,4,   -999.0,4,  -999.00,4,  -999.00,9,  -999.00,4,  -999.00,4,  -999.00,4, -999.000,9, -999.000,9,  -999.00,9,   -999.0,9,   -999.0,9,-999.0000,9,   -999.0,  9,  -999.00,9,   -999.0,  -999.00,9,  -999.00,9,  -999.00,9,  -999.00,9,   -999.0,-999.0000, -999,9, 3999,   1.2244,  27.7745,   -999.0,9
     RF97-05-2,  137E,RF-0450,  1,      1,02-12807,2,19970704,0322, 29.9963, 136.9985, 4520,   4479.4,   1.5893,  34.6829,2,   -999.0,9,  34.6800,2,    155.0,2,   138.07,2,  -999.00,9,    35.38,2,     0.00,2,     2.52,2, -999.000,9, -999.000,9,  -999.00,9,   -999.0,9,   -999.0,9,-999.0000,9,   -999.0,  9,  -999.00,9,   -999.0,  -999.00,9,  -999.00,9,  -999.00,9,  -999.00,9,   4476.0,-999.0000, -999,9, 4403,   1.2139,  27.7760,   -999.0,9