BOTTLE,20130510GEMDJMAYT
EXPOCODE,SECT_ID,STNNBR,CASTNO,SAMPNO,BTLNBR,BTLNBR_FLAG_W,DATE,TIME,LATITUDE,LONGITUDE,DEPTH,CTDPRS,CTDTMP,CTDSAL,CTDSAL_FLAG_W,CTDOXY,CTDOXY_FLAG_W,SALNTY,SALNTY_FLAG_W,OXYGEN,OXYGEN_FLAG_W,SILCAT,SILCAT_FLAG_W,NITRAT,NITRAT_FLAG_W,NO2+NO3,NO2+NO3_FLAG_W,NITRIT,NITRIT_FLAG_W,PHSPHT,PHSPHT_FLAG_W,CFC-11,CFC-11_FLAG_W,CFC-12,CFC-12_FLAG_W,DELC13,DELC13_FLAG_W,TCARBN,TCARBN_FLAG_W,ALKALI,ALKALI_FLAG_W,PH,PH_FLAG_W,PH_TMP,PH_SCALE,PH_NBS,PH_NBS_FLAG_W,C13ERR,TOTALP,TOTALP_FLAG_W,AMMONI,AMMONI_FLAG_W,CHLORA,CHLORA_FLAG_W,PPHYTN,PPHYTN_FLAG_W,REVPRS,REVTMP,DEPTH_,DEPTH_FLAG,CTDDEP,THETA,SIGTHT,DOC,DOC_FLAG_W
,,,,,,,GMT,GMT,,,METER,DBAR,ITS-90,PSS-78,,UMOL/KG,,PSS-78,,UMOL/KG,,UMOL/KG,,UMOL/KG,,UMOL/KG,,UMOL/KG,,UMOL/KG,,PMOL/KG,,PMOL/KG,,/MILLE,,UMOL/KG,,UMOL/KG,,25_DEG_C,,DEG_C,,,,/MILLE,UMOL/KG,,UMOL/KG,,UG/L,,UG/L,,DBAR,ITS-90,METERS,,METERS,DEG_C,,UMOL/L,
     RF97-05-2,  137E,RF-0430,  1,     -9,      -9,5,19970627,2018,  9.9788, 136.9762, 4910,      0.0,  29.0118,  34.0422,2,   -999.0,9,-999.0000,9,    196.8,2,     1.28,2,  -999.00,9,     0.14,2,     0.00,2,     0.15,2, -999.000,9, -999.000,9,  -999.00,9,   -999.0,9,   -999.0,9,-999.0000,9,   -999.0,  9,  -999.00,9,   -999.0,  -999.00,9,  -999.00,9,     0.07,2,     0.02,2,   -999.0,-999.0000, -999,9,    0,  29.0118,  21.3412,   -999.0,9
     RF97-05-2,  137E,RF-0430,  1,     24,02-12830,2,19970627,2015,  9.9788, 136.9762, 4910,      9.4,  29.0107,  34.0400,2,   -999.0,9,  34.0492,2,    196.0,2,     1.35,2,  -999.00,9,     0.11,2,     0.00,2,     0.08,2, -999.000,9, -999.000,9,  -999.00,9,   -999.0,9,   -999.0,9,-999.0000,9,   -999.0,  9,  -999.00,9,   -999.0,  -999.00,9,  -999.00,9,     0.06,2,     0.03,2,   -999.0,-999.0000, -999,9,    9,  29.0085,  21.3407,   -999.0,9
     RF97-05-2,  137E,RF-0430,  1,     23,02-13591,2,19970627,2014,  9.9788, 136.9762, 4910,     24.4,  28.9741,  34.0291,2,   -999.0,9,-999.0000,9,    196.9,2,     1.24,2,  -999.00,9,     0.07,2,     0.00,2,     0.07,2, -999.000,9, -999.000,9,  -999.00,9,   -999.0,9,   -999.0,9,-999.0000,9,   -999.0,  9,  -999.00,9,   -999.0,  -999.00,9,  -999.00,9,     0.07,2,     0.02,2,   -999.0,-999.0000, -999,9,   24,  28.9682,  21.3459,   -999.0,9
     RF97-05-2,  137E,RF-0430,  1,     22,02-12828,2,19970627,2013,  9.9788, 136.9762, 4910,     50.1,  28.3990,  34.2459,2,   -999.0,9,  34.3439,4,    202.8,2,     1.30,2,  -999.00,9,     0.09,2,     0.00,2,     0.08,2, -999.000,9, -999.000,9,  -999.00,9,   -999.0,9,   -999.0,9,-999.0000,9,   -999.0,  9,  -999.00,9,   -999.0,  -999.00,9,  -999.00,9,     0.10,2,     0.03,2,   -999.0,-999.0000, -999,9,   50,  28.3871,  21.7010,   -999.0,9
     RF97-05-2,  137E,RF-0430,  1,     21,02-12827,2,19970627,2011,  9.9788, 136.9762, 4910,     75.5,  25.6790,  34.7965,2,   -999.0,9,-999.0000,9,    202.0,2,     1.24,2,  -999.00,9,     0.03,2,     0.00,2,     0.11,2, -999.000,9, -999.000,9,  -999.00,9,   -999.0,9,   -999.0,9,-999.0000,9,   -999.0,  9,  -999.00,9,   -999.0,  -999.00,9,  -999.00,9,     0.15,2,     0.07,2,   -999.0,-999.0000, -999,9,   75,  25.6623,  22.9845,   -999.0,9
     RF97-05-2,  137E,RF-0430,  1,     20,02-12826,2,19970627,2010,  9.9788, 136.9762, 4910,    100.7,  21.4761,  34.8367,2,   -999.0,9,  34.8349,2,    174.1,2,     4.13,2,  -999.00,9,     3.09,2,     0.25,2,     0.36,2, -999.000,9, -999.000,9,  -999.00,9,   -999.0,9,   -999.0,9,-999.0000,9,   -999.0,  9,  -999.00,9,   -999.0,  -999.00,9,  -999.00,9,     0.27,2,     0.33,2,   -999.0,-999.0000, -999,9,  100,  21.4565,  24.2447,   -999.0,9
     RF97-05-2,  137E,RF-0430,  1,     19,02-12825,2,19970627,2009,  9.9788, 136.9762, 4910,    124.8,  19.5356,  34.7998,2,   -999.0,9,-999.0000,9,    164.5,2,     6.01,2,  -999.00,9,     6.38,2,     0.08,2,     0.54,2, -999.000,9, -999.000,9,  -999.00,9,   -999.0,9,   -999.0,9,-999.0000,9,   -999.0,  9,  -999.00,9,   -999.0,  -999.00,9,  -999.00,9,     0.14,2,     0.21,2,   -999.0,-999.0000, -999,9,  124,  19.5129,  24.7363,   -999.0,9
     RF97-05-2,  137E,RF-0430,  1,     18,02-12824,2,19970627,2007,  9.9788, 136.9762, 4910,    150.4,  17.7708,  34.8062,2,   -999.0,9,-999.0000,9,    178.9,3,     5.76,2,  -999.00,9,     6.47,2,     0.02,2,     0.51,2, -999.000,9, -999.000,9,  -999.00,9,   -999.0,9,   -999.0,9,-999.0000,9,   -999.0,  9,  -999.00,9,   -999.0,  -999.00,9,  -999.00,9,     0.07,2,     0.15,2,   -999.0,-999.0000, -999,9,  150,  17.7453,  25.1860,   -999.0,9
     RF97-05-2,  137E,RF-0430,  1,     17,02-12814,2,19970627,2006,  9.9788, 136.9762, 4910,    201.4,  12.9325,  34.5162,2,   -999.0,9,  34.5155,2,    125.1,2,    20.50,2,  -999.00,9,    19.47,2,     0.00,2,     1.42,2, -999.000,9, -999.000,9,  -999.00,9,   -999.0,9,   -999.0,9,-999.0000,9,   -999.0,  9,  -999.00,9,   -999.0,  -999.00,9,  -999.00,9,     0.01,2,     0.02,2,   -999.0,-999.0000, -999,9,  200,  12.9050,  26.0370,   -999.0,9
     RF97-05-2,  137E,RF-0430,  1,     16,02-12832,2,19970627,2003,  9.9788, 136.9762, 4910,    301.1,   8.6054,  34.4188,2,   -999.0,9,-999.0000,9,     80.3,2,    43.77,2,  -999.00,9,    31.39,2,     0.00,2,     2.28,2, -999.000,9, -999.000,9,  -999.00,9,   -999.0,9,   -999.0,9,-999.0000,9,   -999.0,  9,  -999.00,9,   -999.0,  -999.00,9,  -999.00,9,  -999.00,9,  -999.00,9,   -999.0,-999.0000, -999,9,  299,   8.5737,  26.7301,   -999.0,9
     RF97-05-2,  137E,RF-0430,  1,     15,02-12833,2,19970627,2001,  9.9788, 136.9762, 4910,    401.5,   7.9598,  34.5401,2,   -999.0,9,-999.0000,9,     73.8,2,    45.01,2,  -999.00,9,    34.08,2,     0.00,2,     2.45,2, -999.000,9, -999.000,9,  -999.00,9,   -999.0,9,   -999.0,9,-999.0000,9,   -999.0,  9,  -999.00,9,   -999.0,  -999.00,9,  -999.00,9,  -999.00,9,  -999.00,9,   -999.0,-999.0000, -999,9,  399,   7.9190,  26.9247,   -999.0,9
     RF97-05-2,  137E,RF-0430,  1,     14,02-13578,2,19970627,1958,  9.9788, 136.9762, 4910,    504.0,   7.0648,  34.5231,2,   -999.0,9,-999.0000,9,     81.2,2,    52.17,2,  -999.00,9,    35.10,2,     0.00,2,     2.55,2, -999.000,9, -999.000,9,  -999.00,9,   -999.0,9,   -999.0,9,-999.0000,9,   -999.0,  9,  -999.00,9,   -999.0,  -999.00,9,  -999.00,9,  -999.00,9,  -999.00,9,   -999.0,-999.0000, -999,9,  501,   7.0167,  27.0408,   -999.0,9
     RF97-05-2,  137E,RF-0430,  1,     13,02-13590,2,19970627,1956,  9.9788, 136.9762, 4910,    602.9,   6.4451,  34.5148,2,   -999.0,9,  34.5151,2,     86.7,2,    58.71,2,  -999.00,9,    35.82,2,     0.00,2,     2.59,2, -999.000,9, -999.000,9,  -999.00,9,   -999.0,9,   -999.0,9,-999.0000,9,   -999.0,  9,  -999.00,9,   -999.0,  -999.00,9,  -999.00,9,  -999.00,9,  -999.00,9,   -999.0,-999.0000, -999,9,  599,   6.3900,  27.1189,   -999.0,9
     RF97-05-2,  137E,RF-0430,  1,     12,02-12821,3,19970627,1953,  9.9788, 136.9762, 4910,    704.5,   5.8851,  34.5220,2,   -999.0,9,-999.0000,9,   -999.0,4,  -999.00,4,  -999.00,9,  -999.00,4,  -999.00,4,  -999.00,4, -999.000,9, -999.000,9,  -999.00,9,   -999.0,9,   -999.0,9,-999.0000,9,   -999.0,  9,  -999.00,9,   -999.0,  -999.00,9,  -999.00,9,  -999.00,9,  -999.00,9,   -999.0,-999.0000, -999,9,  699,   5.8231,  27.1972,   -999.0,9
     RF97-05-2,  137E,RF-0430,  1,     11,02-12811,2,19970627,1951,  9.9788, 136.9762, 4910,    806.5,   5.3169,  34.5278,2,   -999.0,9,  34.5291,2,     84.0,2,    76.82,2,  -999.00,9,    37.72,2,     0.00,2,     2.74,2, -999.000,9, -999.000,9,  -999.00,9,   -999.0,9,   -999.0,9,-999.0000,9,   -999.0,  9,  -999.00,9,   -999.0,  -999.00,9,  -999.00,9,  -999.00,9,  -999.00,9,   -999.0,-999.0000, -999,9,  800,   5.2488,  27.2718,   -999.0,9
     RF97-05-2,  137E,RF-0430,  1,      9,02-12810,2,19970627,1946,  9.9788, 136.9762, 4910,   1008.3,   4.3246,  34.5449,2,   -999.0,9,  34.5464,2,     93.1,2,    95.80,2,  -999.00,9,    38.51,2,     0.00,2,     2.80,2, -999.000,9, -999.000,9,  -999.00,9,   -999.0,9,   -999.0,9,-999.0000,9,   -999.0,  9,  -999.00,9,   -999.0,  -999.00,9,  -999.00,9,  -999.00,9,  -999.00,9,   1005.0,-999.0000, -999,9, 1000,   4.2457,  27.3983,   -999.0,9
     RF97-05-2,  137E,RF-0430,  1,     10,02-10155,2,19970627,1947,  9.9788, 136.9762, 4910,   1010.2,   4.3235,  34.5454,2,   -999.0,9,-999.0000,9,   -999.0,9,  -999.00,9,  -999.00,9,  -999.00,9,  -999.00,9,  -999.00,9, -999.000,9, -999.000,9,  -999.00,9,   -999.0,9,   -999.0,9,-999.0000,9,   -999.0,  9,  -999.00,9,   -999.0,  -999.00,9,  -999.00,9,  -999.00,9,  -999.00,9,   -999.0,-999.0000, -999,9, 1002,   4.2444,  27.3988,   -999.0,9
     RF97-05-2,  137E,RF-0430,  1,      8,02-12829,2,19970627,1941,  9.9788, 136.9762, 4910,   1260.8,   3.4761,  34.5733,2,   -999.0,9,  34.5779,2,     93.6,2,   112.08,2,  -999.00,9,    38.84,2,     0.00,2,     2.82,2, -999.000,9, -999.000,9,  -999.00,9,   -999.0,9,   -999.0,9,-999.0000,9,   -999.0,  9,  -999.00,9,   -999.0,  -999.00,9,  -999.00,9,  -999.00,9,  -999.00,9,   -999.0,-999.0000, -999,9, 1250,   3.3831,  27.5085,   -999.0,9
     RF97-05-2,  137E,RF-0430,  1,      7,02-13589,2,19970627,1937,  9.9788, 136.9762, 4910,   1513.6,   2.8481,  34.5997,2,   -999.0,9,  34.6076,2,    101.9,2,   124.06,2,  -999.00,9,    38.90,2,     0.00,2,     2.81,2, -999.000,9, -999.000,9,  -999.00,9,   -999.0,9,   -999.0,9,-999.0000,9,   -999.0,  9,  -999.00,9,   -999.0,  -999.00,9,  -999.00,9,  -999.00,9,  -999.00,9,   -999.0,-999.0000, -999,9, 1500,   2.7409,  27.5889,   -999.0,9
     RF97-05-2,  137E,RF-0430,  1,      6,02-12818,2,19970627,1929,  9.9788, 136.9762, 4910,   2020.6,   2.1381,  34.6358,2,   -999.0,9,  34.6365,2,    118.1,2,   135.98,2,  -999.00,9,    38.22,2,     0.00,2,     2.74,2, -999.000,9, -999.000,9,  -999.00,9,   -999.0,9,   -999.0,9,-999.0000,9,   -999.0,  9,  -999.00,9,   -999.0,  -999.00,9,  -999.00,9,  -999.00,9,  -999.00,9,   -999.0,-999.0000, -999,9, 2000,   1.9978,  27.6801,   -999.0,9
     RF97-05-2,  137E,RF-0430,  1,      5,02-12809,2,19970627,1920,  9.9788, 136.9762, 4910,   2531.0,   1.7637,  34.6582,2,   -999.0,9,  34.6621,2,    131.9,2,   140.99,2,  -999.00,9,    37.48,2,     0.00,2,     2.67,2, -999.000,9, -999.000,9,  -999.00,9,   -999.0,9,   -999.0,9,-999.0000,9,   -999.0,  9,  -999.00,9,   -999.0,  -999.00,9,  -999.00,9,  -999.00,9,  -999.00,9,   -999.0,-999.0000, -999,9, 2502,   1.5850,  27.7296,   -999.0,9
     RF97-05-2,  137E,RF-0430,  1,      4,02-12817,2,19970627,1912,  9.9788, 136.9762, 4910,   3040.3,   1.6116,  34.6703,2,   -999.0,9,  34.6694,2,    142.8,2,   140.11,2,  -999.00,9,    36.61,2,     0.00,2,     2.61,2, -999.000,9, -999.000,9,  -999.00,9,   -999.0,9,   -999.0,9,-999.0000,9,   -999.0,  9,  -999.00,9,   -999.0,  -999.00,9,  -999.00,9,  -999.00,9,  -999.00,9,   -999.0,-999.0000, -999,9, 3001,   1.3885,  27.7536,   -999.0,9
     RF97-05-2,  137E,RF-0430,  1,      3,02-12808,2,19970627,1904,  9.9788, 136.9762, 4910,   3550.7,   1.5525,  34.6766,2,   -999.0,9,  34.6764,2,    150.4,2,   138.93,2,  -999.00,9,    36.16,2,     0.00,2,     2.57,2, -999.000,9, -999.000,9,  -999.00,9,   -999.0,9,   -999.0,9,-999.0000,9,   -999.0,  9,  -999.00,9,   -999.0,  -999.00,9,  -999.00,9,  -999.00,9,  -999.00,9,   -999.0,-999.0000, -999,9, 3501,   1.2798,  27.7664,   -999.0,9
     RF97-05-2,  137E,RF-0430,  1,      2,02-13588,2,19970627,1856,  9.9788, 136.9762, 4910,   4064.2,   1.5380,  34.6820,2,   -999.0,9,  34.6818,2,    156.0,2,   137.80,2,  -999.00,9,    35.80,2,     0.00,2,     2.55,2, -999.000,9, -999.000,9,  -999.00,9,   -999.0,9,   -999.0,9,-999.0000,9,   -999.0,  9,  -999.00,9,   -999.0,  -999.00,9,  -999.00,9,  -999.00,9,  -999.00,9,   -999.0,-999.0000, -999,9, 4003,   1.2110,  27.7755,   -999.0,9
     RF97-05-2,  137E,RF-0430,  1,      1,02-12807,2,19970627,1842,  9.9788, 136.9762, 4910,   4901.0,   1.5945,  34.6849,2,   -999.0,9,  34.6465,4,    161.1,2,   136.40,2,  -999.00,9,    35.46,2,     0.00,2,     2.52,2, -999.000,9, -999.000,9,  -999.00,9,   -999.0,9,   -999.0,9,-999.0000,9,   -999.0,  9,  -999.00,9,   -999.0,  -999.00,9,  -999.00,9,  -999.00,9,  -999.00,9,   4899.0,-999.0000, -999,9, 4818,   1.1691,  27.7807,   -999.0,9