BOTTLE,20130510GEMDJMAYT
EXPOCODE,SECT_ID,STNNBR,CASTNO,SAMPNO,BTLNBR,BTLNBR_FLAG_W,DATE,TIME,LATITUDE,LONGITUDE,DEPTH,CTDPRS,CTDTMP,CTDSAL,CTDSAL_FLAG_W,CTDOXY,CTDOXY_FLAG_W,SALNTY,SALNTY_FLAG_W,OXYGEN,OXYGEN_FLAG_W,SILCAT,SILCAT_FLAG_W,NITRAT,NITRAT_FLAG_W,NO2+NO3,NO2+NO3_FLAG_W,NITRIT,NITRIT_FLAG_W,PHSPHT,PHSPHT_FLAG_W,CFC-11,CFC-11_FLAG_W,CFC-12,CFC-12_FLAG_W,DELC13,DELC13_FLAG_W,TCARBN,TCARBN_FLAG_W,ALKALI,ALKALI_FLAG_W,PH,PH_FLAG_W,PH_TMP,PH_SCALE,PH_NBS,PH_NBS_FLAG_W,C13ERR,TOTALP,TOTALP_FLAG_W,AMMONI,AMMONI_FLAG_W,CHLORA,CHLORA_FLAG_W,PPHYTN,PPHYTN_FLAG_W,REVPRS,REVTMP,DEPTH_,DEPTH_FLAG,CTDDEP,THETA,SIGTHT,DOC,DOC_FLAG_W
,,,,,,,GMT,GMT,,,METER,DBAR,ITS-90,PSS-78,,UMOL/KG,,PSS-78,,UMOL/KG,,UMOL/KG,,UMOL/KG,,UMOL/KG,,UMOL/KG,,UMOL/KG,,PMOL/KG,,PMOL/KG,,/MILLE,,UMOL/KG,,UMOL/KG,,25_DEG_C,,DEG_C,,,,/MILLE,UMOL/KG,,UMOL/KG,,UG/L,,UG/L,,DBAR,ITS-90,METERS,,METERS,DEG_C,,UMOL/L,
     RF97-05-2,  137E,RF-0435,  1,     -9,      -9,5,19970630,0144, 15.0007, 136.9813, 5507,      0.0,  29.1426,  34.1751,2,   -999.0,9,-999.0000,9,    196.6,2,     1.41,2,  -999.00,9,     0.09,2,     0.00,2,     0.06,2, -999.000,9, -999.000,9,  -999.00,9,   -999.0,9,   -999.0,9,-999.0000,9,   -999.0,  9,  -999.00,9,   -999.0,  -999.00,9,  -999.00,9,     0.05,2,     0.02,2,   -999.0,-999.0000, -999,9,    0,  29.1426,  21.3972,   -999.0,9
     RF97-05-2,  137E,RF-0435,  1,     24,02-12830,2,19970630,0141, 15.0007, 136.9813, 5507,      9.5,  29.1477,  34.1806,2,   -999.0,9,  34.1860,2,    196.0,2,     1.18,2,  -999.00,9,     0.07,2,     0.00,2,     0.05,2, -999.000,9, -999.000,9,  -999.00,9,   -999.0,9,   -999.0,9,-999.0000,9,   -999.0,  9,  -999.00,9,   -999.0,  -999.00,9,  -999.00,9,     0.05,2,     0.02,2,   -999.0,-999.0000, -999,9,    9,  29.1454,  21.4005,   -999.0,9
     RF97-05-2,  137E,RF-0435,  1,     23,02-13591,2,19970630,0140, 15.0007, 136.9813, 5507,     25.4,  29.0926,  34.1731,2,   -999.0,9,-999.0000,9,    196.9,2,     1.22,2,  -999.00,9,     0.07,2,     0.00,2,     0.04,2, -999.000,9, -999.000,9,  -999.00,9,   -999.0,9,   -999.0,9,-999.0000,9,   -999.0,  9,  -999.00,9,   -999.0,  -999.00,9,  -999.00,9,     0.05,2,     0.03,2,   -999.0,-999.0000, -999,9,   25,  29.0865,  21.4145,   -999.0,9
     RF97-05-2,  137E,RF-0435,  1,     22,02-12828,2,19970630,0139, 15.0007, 136.9813, 5507,     50.3,  28.9734,  34.2317,2,   -999.0,9,  34.2543,4,    197.5,2,     1.20,2,  -999.00,9,     0.06,2,     0.00,2,     0.04,2, -999.000,9, -999.000,9,  -999.00,9,   -999.0,9,   -999.0,9,-999.0000,9,   -999.0,  9,  -999.00,9,   -999.0,  -999.00,9,  -999.00,9,     0.06,2,     0.04,2,   -999.0,-999.0000, -999,9,   50,  28.9613,  21.5002,   -999.0,9
     RF97-05-2,  137E,RF-0435,  1,     21,02-12827,2,19970630,0137, 15.0007, 136.9813, 5507,     75.3,  27.6739,  34.6280,2,   -999.0,9,-999.0000,9,    206.9,2,     1.52,2,  -999.00,9,     0.07,2,     0.00,2,     0.03,2, -999.000,9, -999.000,9,  -999.00,9,   -999.0,9,   -999.0,9,-999.0000,9,   -999.0,  9,  -999.00,9,   -999.0,  -999.00,9,  -999.00,9,     0.10,2,     0.06,2,   -999.0,-999.0000, -999,9,   75,  27.6563,  22.2267,   -999.0,9
     RF97-05-2,  137E,RF-0435,  1,     20,02-12826,2,19970630,0136, 15.0007, 136.9813, 5507,    100.3,  26.1103,  34.7106,2,   -999.0,9,  34.7876,4,    199.5,2,     1.29,2,  -999.00,9,     0.08,2,     0.01,2,     0.05,2, -999.000,9, -999.000,9,  -999.00,9,   -999.0,9,   -999.0,9,-999.0000,9,   -999.0,  9,  -999.00,9,   -999.0,  -999.00,9,  -999.00,9,     0.21,2,     0.27,2,   -999.0,-999.0000, -999,9,  100,  26.0878,  22.7876,   -999.0,9
     RF97-05-2,  137E,RF-0435,  1,     19,02-12825,2,19970630,0135, 15.0007, 136.9813, 5507,    125.3,  24.2762,  35.0254,2,   -999.0,9,-999.0000,9,    187.6,2,     1.75,2,  -999.00,9,     0.31,2,     0.04,2,     0.11,2, -999.000,9, -999.000,9,  -999.00,9,   -999.0,9,   -999.0,9,-999.0000,9,   -999.0,  9,  -999.00,9,   -999.0,  -999.00,9,  -999.00,9,     0.14,2,     0.32,2,   -999.0,-999.0000, -999,9,  125,  24.2496,  23.5864,   -999.0,9
     RF97-05-2,  137E,RF-0435,  1,     18,02-12824,2,19970630,0134, 15.0007, 136.9813, 5507,    149.8,  21.8702,  35.0086,2,   -999.0,9,-999.0000,9,    178.8,2,     2.20,2,  -999.00,9,     1.06,2,     0.02,2,     0.24,2, -999.000,9, -999.000,9,  -999.00,9,   -999.0,9,   -999.0,9,-999.0000,9,   -999.0,  9,  -999.00,9,   -999.0,  -999.00,9,  -999.00,9,     0.06,2,     0.12,2,   -999.0,-999.0000, -999,9,  149,  21.8407,  24.2689,   -999.0,9
     RF97-05-2,  137E,RF-0435,  1,     17,02-12814,2,19970630,0132, 15.0007, 136.9813, 5507,    200.6,  18.0167,  34.8730,2,   -999.0,9,  34.8812,2,    192.4,2,     3.96,2,  -999.00,9,     2.65,2,     0.01,2,     0.33,2, -999.000,9, -999.000,9,  -999.00,9,   -999.0,9,   -999.0,9,-999.0000,9,   -999.0,  9,  -999.00,9,   -999.0,  -999.00,9,  -999.00,9,     0.01,2,     0.01,2,   -999.0,-999.0000, -999,9,  199,  17.9822,  25.1792,   -999.0,9
     RF97-05-2,  137E,RF-0435,  1,     16,02-12832,2,19970630,0129, 15.0007, 136.9813, 5507,    301.0,  12.9453,  34.4571,2,   -999.0,9,-999.0000,9,    172.7,2,    14.49,2,  -999.00,9,    10.29,2,     0.01,2,     1.00,2, -999.000,9, -999.000,9,  -999.00,9,   -999.0,9,   -999.0,9,-999.0000,9,   -999.0,  9,  -999.00,9,   -999.0,  -999.00,9,  -999.00,9,  -999.00,9,  -999.00,9,   -999.0,-999.0000, -999,9,  299,  12.9040,  25.9914,   -999.0,9
     RF97-05-2,  137E,RF-0435,  1,     15,02-12833,2,19970630,0127, 15.0007, 136.9813, 5507,    401.7,   8.5871,  34.3130,2,   -999.0,9,-999.0000,9,     95.9,2,    42.13,2,  -999.00,9,    26.84,2,     0.00,2,     2.14,2, -999.000,9, -999.000,9,  -999.00,9,   -999.0,9,   -999.0,9,-999.0000,9,   -999.0,  9,  -999.00,9,   -999.0,  -999.00,9,  -999.00,9,  -999.00,9,  -999.00,9,   -999.0,-999.0000, -999,9,  399,   8.5446,  26.6516,   -999.0,9
     RF97-05-2,  137E,RF-0435,  1,     14,02-13578,2,19970630,0124, 15.0007, 136.9813, 5507,    503.0,   7.4258,  34.3914,2,   -999.0,9,  34.3655,4,     74.9,2,    50.97,2,  -999.00,9,    31.41,2,     0.00,2,     2.42,2, -999.000,9, -999.000,9,  -999.00,9,   -999.0,9,   -999.0,9,-999.0000,9,   -999.0,  9,  -999.00,9,   -999.0,  -999.00,9,  -999.00,9,  -999.00,9,  -999.00,9,   -999.0,-999.0000, -999,9,  499,   7.3765,  26.8866,   -999.0,9
     RF97-05-2,  137E,RF-0435,  1,     13,02-13590,2,19970630,0122, 15.0007, 136.9813, 5507,    604.4,   6.5023,  34.4386,2,   -999.0,9,-999.0000,9,     69.7,2,    65.25,2,  -999.00,9,    35.38,2,     0.01,2,     2.67,2, -999.000,9, -999.000,9,  -999.00,9,   -999.0,9,   -999.0,9,-999.0000,9,   -999.0,  9,  -999.00,9,   -999.0,  -999.00,9,  -999.00,9,  -999.00,9,  -999.00,9,   -999.0,-999.0000, -999,9,  600,   6.4469,  27.0512,   -999.0,9
     RF97-05-2,  137E,RF-0435,  1,     12,02-12821,2,19970630,0118, 15.0007, 136.9813, 5507,    805.7,   5.1536,  34.4950,2,   -999.0,9,  34.4949,2,     79.1,2,    83.49,2,  -999.00,9,    37.58,2,     0.00,2,     2.77,2, -999.000,9, -999.000,9,  -999.00,9,   -999.0,9,   -999.0,9,-999.0000,9,   -999.0,  9,  -999.00,9,   -999.0,  -999.00,9,  -999.00,9,  -999.00,9,  -999.00,9,   -999.0,-999.0000, -999,9,  799,   5.0867,  27.2648,   -999.0,9
     RF97-05-2,  137E,RF-0435,  1,     11,02-12811,2,19970630,0114, 15.0007, 136.9813, 5507,   1008.4,   4.3329,  34.5312,2,   -999.0,9,  34.5307,2,     84.8,2,    97.73,2,  -999.00,9,    38.52,2,     0.00,2,     2.82,2, -999.000,9, -999.000,9,  -999.00,9,   -999.0,9,   -999.0,9,-999.0000,9,   -999.0,  9,  -999.00,9,   -999.0,  -999.00,9,  -999.00,9,  -999.00,9,  -999.00,9,   -999.0,-999.0000, -999,9, 1000,   4.2539,  27.3865,   -999.0,9
     RF97-05-2,  137E,RF-0435,  1,     10,02-10155,2,19970630,0109, 15.0007, 136.9813, 5507,   1259.8,   3.5589,  34.5580,2,   -999.0,9,  34.5574,2,     91.0,2,   113.08,2,  -999.00,9,    38.81,2,     0.01,2,     2.84,2, -999.000,9, -999.000,9,  -999.00,9,   -999.0,9,   -999.0,9,-999.0000,9,   -999.0,  9,  -999.00,9,   -999.0,  -999.00,9,  -999.00,9,  -999.00,9,  -999.00,9,   -999.0,-999.0000, -999,9, 1249,   3.4652,  27.4884,   -999.0,9
     RF97-05-2,  137E,RF-0435,  1,      9,02-12810,2,19970630,0104, 15.0007, 136.9813, 5507,   1515.0,   3.0348,  34.5783,2,   -999.0,9,  34.5765,2,     97.0,2,   123.84,2,  -999.00,9,    38.80,2,     0.00,2,     2.81,2, -999.000,9, -999.000,9,  -999.00,9,   -999.0,9,   -999.0,9,-999.0000,9,   -999.0,  9,  -999.00,9,   -999.0,  -999.00,9,  -999.00,9,  -999.00,9,  -999.00,9,   1509.0,-999.0000, -999,9, 1501,   2.9253,  27.5553,   -999.0,9
     RF97-05-2,  137E,RF-0435,  1,      8,02-12829,2,19970630,0056, 15.0007, 136.9813, 5507,   2021.4,   2.2295,  34.6219,2,   -999.0,9,  34.6208,2,    111.1,2,   136.31,2,  -999.00,9,    38.67,2,     0.00,2,     2.77,2, -999.000,9, -999.000,9,  -999.00,9,   -999.0,9,   -999.0,9,-999.0000,9,   -999.0,  9,  -999.00,9,   -999.0,  -999.00,9,  -999.00,9,  -999.00,9,  -999.00,9,   -999.0,-999.0000, -999,9, 2000,   2.0878,  27.6617,   -999.0,9
     RF97-05-2,  137E,RF-0435,  1,      7,02-13589,2,19970630,0048, 15.0007, 136.9813, 5507,   2530.4,   1.8308,  34.6512,2,   -999.0,9,  34.6479,2,    126.2,2,   142.32,2,  -999.00,9,    37.98,2,     0.00,2,     2.71,2, -999.000,9, -999.000,9,  -999.00,9,   -999.0,9,   -999.0,9,-999.0000,9,   -999.0,  9,  -999.00,9,   -999.0,  -999.00,9,  -999.00,9,  -999.00,9,  -999.00,9,   -999.0,-999.0000, -999,9, 2501,   1.6509,  27.7191,   -999.0,9
     RF97-05-2,  137E,RF-0435,  1,      6,02-12818,2,19970630,0039, 15.0007, 136.9813, 5507,   3041.1,   1.6739,  34.6659,2,   -999.0,9,  34.6638,2,    137.0,2,   142.43,2,  -999.00,9,    37.25,2,     0.00,2,     2.66,2, -999.000,9, -999.000,9,  -999.00,9,   -999.0,9,   -999.0,9,-999.0000,9,   -999.0,  9,  -999.00,9,   -999.0,  -999.00,9,  -999.00,9,  -999.00,9,  -999.00,9,   -999.0,-999.0000, -999,9, 3002,   1.4494,  27.7457,   -999.0,9
     RF97-05-2,  137E,RF-0435,  1,      5,02-12809,2,19970630,0031, 15.0007, 136.9813, 5507,   3550.9,   1.5916,  34.6745,2,   -999.0,9,  34.6737,2,    146.6,2,   140.67,2,  -999.00,9,    36.57,2,     0.00,2,     2.60,2, -999.000,9, -999.000,9,  -999.00,9,   -999.0,9,   -999.0,9,-999.0000,9,   -999.0,  9,  -999.00,9,   -999.0,  -999.00,9,  -999.00,9,  -999.00,9,  -999.00,9,   -999.0,-999.0000, -999,9, 3501,   1.3179,  27.7620,   -999.0,9
     RF97-05-2,  137E,RF-0435,  1,      4,02-12817,2,19970630,0022, 15.0007, 136.9813, 5507,   4063.7,   1.5610,  34.6811,2,   -999.0,9,  34.6794,2,    154.1,2,   138.73,2,  -999.00,9,    36.04,2,     0.01,2,     2.56,2, -999.000,9, -999.000,9,  -999.00,9,   -999.0,9,   -999.0,9,-999.0000,9,   -999.0,  9,  -999.00,9,   -999.0,  -999.00,9,  -999.00,9,  -999.00,9,  -999.00,9,   -999.0,-999.0000, -999,9, 4002,   1.2334,  27.7732,   -999.0,9
     RF97-05-2,  137E,RF-0435,  1,      3,02-12808,2,19970630,0014, 15.0007, 136.9813, 5507,   4576.9,   1.5361,  34.6865,2,   -999.0,9,  34.6851,2,    161.6,2,   136.80,2,  -999.00,9,    35.58,2,     0.01,2,     2.51,2, -999.000,9, -999.000,9,  -999.00,9,   -999.0,9,   -999.0,9,-999.0000,9,   -999.0,  9,  -999.00,9,   -999.0,  -999.00,9,  -999.00,9,  -999.00,9,  -999.00,9,   -999.0,-999.0000, -999,9, 4502,   1.1511,  27.7832,   -999.0,9
     RF97-05-2,  137E,RF-0435,  1,      2,02-13588,4,19970630,0005, 15.0007, 136.9813, 5507,   5092.1,   1.5842,  34.6871,2,   -999.0,9,  34.7642,4,   -999.0,4,  -999.00,4,  -999.00,9,  -999.00,4,  -999.00,4,  -999.00,4, -999.000,9, -999.000,9,  -999.00,9,   -999.0,9,   -999.0,9,-999.0000,9,   -999.0,  9,  -999.00,9,   -999.0,  -999.00,9,  -999.00,9,  -999.00,9,  -999.00,9,   -999.0,-999.0000, -999,9, 5003,   1.1359,  27.7847,   -999.0,9
     RF97-05-2,  137E,RF-0435,  1,      1,02-12807,2,19970629,2358, 15.0007, 136.9813, 5507,   5504.7,   1.6381,  34.6862,2,   -999.0,9,  34.6871,2,    163.1,2,   136.44,2,  -999.00,9,    35.20,2,     0.00,2,     2.50,2, -999.000,9, -999.000,9,  -999.00,9,   -999.0,9,   -999.0,9,-999.0000,9,   -999.0,  9,  -999.00,9,   -999.0,  -999.00,9,  -999.00,9,  -999.00,9,  -999.00,9,   5500.0,-999.0000, -999,9, 5403,   1.1359,  27.7841,   -999.0,9