BOTTLE,20130510GEMDJMAYT
EXPOCODE,SECT_ID,STNNBR,CASTNO,SAMPNO,BTLNBR,BTLNBR_FLAG_W,DATE,TIME,LATITUDE,LONGITUDE,DEPTH,CTDPRS,CTDTMP,CTDSAL,CTDSAL_FLAG_W,CTDOXY,CTDOXY_FLAG_W,SALNTY,SALNTY_FLAG_W,OXYGEN,OXYGEN_FLAG_W,SILCAT,SILCAT_FLAG_W,NITRAT,NITRAT_FLAG_W,NO2+NO3,NO2+NO3_FLAG_W,NITRIT,NITRIT_FLAG_W,PHSPHT,PHSPHT_FLAG_W,CFC-11,CFC-11_FLAG_W,CFC-12,CFC-12_FLAG_W,DELC13,DELC13_FLAG_W,TCARBN,TCARBN_FLAG_W,ALKALI,ALKALI_FLAG_W,PH,PH_FLAG_W,PH_TMP,PH_SCALE,PH_NBS,PH_NBS_FLAG_W,C13ERR,TOTALP,TOTALP_FLAG_W,AMMONI,AMMONI_FLAG_W,CHLORA,CHLORA_FLAG_W,PPHYTN,PPHYTN_FLAG_W,REVPRS,REVTMP,DEPTH_,DEPTH_FLAG,CTDDEP,THETA,SIGTHT,DOC,DOC_FLAG_W
,,,,,,,GMT,GMT,,,METER,DBAR,ITS-90,PSS-78,,UMOL/KG,,PSS-78,,UMOL/KG,,UMOL/KG,,UMOL/KG,,UMOL/KG,,UMOL/KG,,UMOL/KG,,PMOL/KG,,PMOL/KG,,/MILLE,,UMOL/KG,,UMOL/KG,,25_DEG_C,,DEG_C,,,,/MILLE,UMOL/KG,,UMOL/KG,,UG/L,,UG/L,,DBAR,ITS-90,METERS,,METERS,DEG_C,,UMOL/L,
     RF97-05-2,  NONE,RF-0451,  1,     -9,      -9,5,19970715,0033, 28.1768, 126.3777,  138,      0.0,  27.8813,  33.8000,2,   -999.0,9,-999.0000,9,    203.7,2,     1.74,2,  -999.00,9,     0.02,2,     0.00,2,     0.03,2, -999.000,9, -999.000,9,  -999.00,9,   -999.0,9,   -999.0,9,-999.0000,9,   -999.0,  9,  -999.00,9,   -999.0,  -999.00,9,  -999.00,9,     0.11,2,     0.03,2,   -999.0,-999.0000, -999,9,    0,  27.8813,  21.5311,   -999.0,9
     RF97-05-2,  NONE,RF-0451,  1,     24,02-12830,9,19970715,0030, 28.1768, 126.3777,  138,     10.6,  27.8460,  33.8143,2,   -999.0,9,-999.0000,9,   -999.0,9,  -999.00,9,  -999.00,9,  -999.00,9,  -999.00,9,  -999.00,9, -999.000,9, -999.000,9,  -999.00,9,   -999.0,9,   -999.0,9,-999.0000,9,   -999.0,  9,  -999.00,9,   -999.0,  -999.00,9,  -999.00,9,  -999.00,9,  -999.00,9,   -999.0,-999.0000, -999,9,   10,  27.8435,  21.5541,   -999.0,9
     RF97-05-2,  NONE,RF-0451,  1,     16,02-12832,9,19970715,0027, 28.1768, 126.3777,  138,     10.7,  27.8632,  33.8034,2,   -999.0,9,-999.0000,9,   -999.0,9,  -999.00,9,  -999.00,9,  -999.00,9,  -999.00,9,  -999.00,9, -999.000,9, -999.000,9,  -999.00,9,   -999.0,9,   -999.0,9,-999.0000,9,   -999.0,  9,  -999.00,9,   -999.0,  -999.00,9,  -999.00,9,  -999.00,9,  -999.00,9,   -999.0,-999.0000, -999,9,   11,  27.8607,  21.5404,   -999.0,9
     RF97-05-2,  NONE,RF-0451,  1,     17,02-12814,9,19970715,0027, 28.1768, 126.3777,  138,     10.7,  27.8482,  33.8056,2,   -999.0,9,-999.0000,9,   -999.0,9,  -999.00,9,  -999.00,9,  -999.00,9,  -999.00,9,  -999.00,9, -999.000,9, -999.000,9,  -999.00,9,   -999.0,9,   -999.0,9,-999.0000,9,   -999.0,  9,  -999.00,9,   -999.0,  -999.00,9,  -999.00,9,  -999.00,9,  -999.00,9,   -999.0,-999.0000, -999,9,   11,  27.8457,  21.5469,   -999.0,9
     RF97-05-2,  NONE,RF-0451,  1,     21,02-12827,9,19970715,0029, 28.1768, 126.3777,  138,     10.7,  27.8471,  33.8118,2,   -999.0,9,-999.0000,9,   -999.0,9,  -999.00,9,  -999.00,9,  -999.00,9,  -999.00,9,  -999.00,9, -999.000,9, -999.000,9,  -999.00,9,   -999.0,9,   -999.0,9,-999.0000,9,   -999.0,  9,  -999.00,9,   -999.0,  -999.00,9,  -999.00,9,  -999.00,9,  -999.00,9,   -999.0,-999.0000, -999,9,   11,  27.8446,  21.5519,   -999.0,9
     RF97-05-2,  NONE,RF-0451,  1,     20,02-12826,9,19970715,0029, 28.1768, 126.3777,  138,     10.7,  27.8399,  33.8160,2,   -999.0,9,-999.0000,9,   -999.0,9,  -999.00,9,  -999.00,9,  -999.00,9,  -999.00,9,  -999.00,9, -999.000,9, -999.000,9,  -999.00,9,   -999.0,9,   -999.0,9,-999.0000,9,   -999.0,  9,  -999.00,9,   -999.0,  -999.00,9,  -999.00,9,  -999.00,9,  -999.00,9,   -999.0,-999.0000, -999,9,   11,  27.8374,  21.5574,   -999.0,9
     RF97-05-2,  NONE,RF-0451,  1,     22,02-12828,9,19970715,0029, 28.1768, 126.3777,  138,     10.7,  27.8374,  33.8178,2,   -999.0,9,-999.0000,9,   -999.0,9,  -999.00,9,  -999.00,9,  -999.00,9,  -999.00,9,  -999.00,9, -999.000,9, -999.000,9,  -999.00,9,   -999.0,9,   -999.0,9,-999.0000,9,   -999.0,  9,  -999.00,9,   -999.0,  -999.00,9,  -999.00,9,  -999.00,9,  -999.00,9,   -999.0,-999.0000, -999,9,   11,  27.8349,  21.5595,   -999.0,9
     RF97-05-2,  NONE,RF-0451,  1,     19,02-12825,9,19970715,0028, 28.1768, 126.3777,  138,     10.7,  27.8394,  33.8143,2,   -999.0,9,-999.0000,9,   -999.0,9,  -999.00,9,  -999.00,9,  -999.00,9,  -999.00,9,  -999.00,9, -999.000,9, -999.000,9,  -999.00,9,   -999.0,9,   -999.0,9,-999.0000,9,   -999.0,  9,  -999.00,9,   -999.0,  -999.00,9,  -999.00,9,  -999.00,9,  -999.00,9,   -999.0,-999.0000, -999,9,   11,  27.8369,  21.5563,   -999.0,9
     RF97-05-2,  NONE,RF-0451,  1,     23,02-13591,9,19970715,0030, 28.1768, 126.3777,  138,     10.8,  27.8376,  33.8211,2,   -999.0,9,-999.0000,9,   -999.0,9,  -999.00,9,  -999.00,9,  -999.00,9,  -999.00,9,  -999.00,9, -999.000,9, -999.000,9,  -999.00,9,   -999.0,9,   -999.0,9,-999.0000,9,   -999.0,  9,  -999.00,9,   -999.0,  -999.00,9,  -999.00,9,  -999.00,9,  -999.00,9,   -999.0,-999.0000, -999,9,   11,  27.8351,  21.5619,   -999.0,9
     RF97-05-2,  NONE,RF-0451,  1,     14,02-13578,9,19970715,0026, 28.1768, 126.3777,  138,     10.8,  27.8586,  33.8020,2,   -999.0,9,-999.0000,9,   -999.0,9,  -999.00,9,  -999.00,9,  -999.00,9,  -999.00,9,  -999.00,9, -999.000,9, -999.000,9,  -999.00,9,   -999.0,9,   -999.0,9,-999.0000,9,   -999.0,  9,  -999.00,9,   -999.0,  -999.00,9,  -999.00,9,  -999.00,9,  -999.00,9,   -999.0,-999.0000, -999,9,   11,  27.8561,  21.5408,   -999.0,9
     RF97-05-2,  NONE,RF-0451,  1,     10,02-10155,9,19970715,0025, 28.1768, 126.3777,  138,     10.8,  27.8490,  33.8064,2,   -999.0,9,-999.0000,9,   -999.0,9,  -999.00,9,  -999.00,9,  -999.00,9,  -999.00,9,  -999.00,9, -999.000,9, -999.000,9,  -999.00,9,   -999.0,9,   -999.0,9,-999.0000,9,   -999.0,  9,  -999.00,9,   -999.0,  -999.00,9,  -999.00,9,  -999.00,9,  -999.00,9,   -999.0,-999.0000, -999,9,   11,  27.8464,  21.5472,   -999.0,9
     RF97-05-2,  NONE,RF-0451,  1,      8,02-12829,2,19970715,0024, 28.1768, 126.3777,  138,     10.8,  27.8410,  33.8126,2,   -999.0,9,-999.0000,9,   -999.0,9,  -999.00,9,  -999.00,9,  -999.00,9,  -999.00,9,  -999.00,9, -999.000,9, -999.000,9,  -999.00,9,   -999.0,9,   -999.0,9,-999.0000,9,   -999.0,  9,  -999.00,9,   -999.0,  -999.00,9,  -999.00,9,  -999.00,9,  -999.00,9,   -999.0,-999.0000, -999,9,   11,  27.8385,  21.5544,   -999.0,9
     RF97-05-2,  NONE,RF-0451,  1,     18,02-12824,9,19970715,0028, 28.1768, 126.3777,  138,     10.8,  27.8367,  33.8174,2,   -999.0,9,-999.0000,9,   -999.0,9,  -999.00,9,  -999.00,9,  -999.00,9,  -999.00,9,  -999.00,9, -999.000,9, -999.000,9,  -999.00,9,   -999.0,9,   -999.0,9,-999.0000,9,   -999.0,  9,  -999.00,9,   -999.0,  -999.00,9,  -999.00,9,  -999.00,9,  -999.00,9,   -999.0,-999.0000, -999,9,   11,  27.8342,  21.5595,   -999.0,9
     RF97-05-2,  NONE,RF-0451,  1,     13,02-13590,9,19970715,0026, 28.1768, 126.3777,  138,     10.8,  27.8517,  33.8057,2,   -999.0,9,-999.0000,9,   -999.0,9,  -999.00,9,  -999.00,9,  -999.00,9,  -999.00,9,  -999.00,9, -999.000,9, -999.000,9,  -999.00,9,   -999.0,9,   -999.0,9,-999.0000,9,   -999.0,  9,  -999.00,9,   -999.0,  -999.00,9,  -999.00,9,  -999.00,9,  -999.00,9,   -999.0,-999.0000, -999,9,   11,  27.8492,  21.5458,   -999.0,9
     RF97-05-2,  NONE,RF-0451,  1,     15,02-12833,9,19970715,0027, 28.1768, 126.3777,  138,     10.8,  27.8623,  33.8031,2,   -999.0,9,-999.0000,9,   -999.0,9,  -999.00,9,  -999.00,9,  -999.00,9,  -999.00,9,  -999.00,9, -999.000,9, -999.000,9,  -999.00,9,   -999.0,9,   -999.0,9,-999.0000,9,   -999.0,  9,  -999.00,9,   -999.0,  -999.00,9,  -999.00,9,  -999.00,9,  -999.00,9,   -999.0,-999.0000, -999,9,   11,  27.8597,  21.5404,   -999.0,9
     RF97-05-2,  NONE,RF-0451,  1,     12,02-12821,9,19970715,0026, 28.1768, 126.3777,  138,     10.9,  27.8482,  33.8089,2,   -999.0,9,-999.0000,9,   -999.0,9,  -999.00,9,  -999.00,9,  -999.00,9,  -999.00,9,  -999.00,9, -999.000,9, -999.000,9,  -999.00,9,   -999.0,9,   -999.0,9,-999.0000,9,   -999.0,  9,  -999.00,9,   -999.0,  -999.00,9,  -999.00,9,  -999.00,9,  -999.00,9,   -999.0,-999.0000, -999,9,   11,  27.8457,  21.5494,   -999.0,9
     RF97-05-2,  NONE,RF-0451,  1,      9,02-12810,9,19970715,0024, 28.1768, 126.3777,  138,     10.9,  27.8508,  33.8055,2,   -999.0,9,-999.0000,9,   -999.0,9,  -999.00,9,  -999.00,9,  -999.00,9,  -999.00,9,  -999.00,9, -999.000,9, -999.000,9,  -999.00,9,   -999.0,9,   -999.0,9,-999.0000,9,   -999.0,  9,  -999.00,9,   -999.0,  -999.00,9,  -999.00,9,  -999.00,9,  -999.00,9,   -999.0,-999.0000, -999,9,   11,  27.8482,  21.5460,   -999.0,9
     RF97-05-2,  NONE,RF-0451,  1,     11,02-12811,9,19970715,0025, 28.1768, 126.3777,  138,     10.9,  27.8441,  33.8111,2,   -999.0,9,-999.0000,9,   -999.0,9,  -999.00,9,  -999.00,9,  -999.00,9,  -999.00,9,  -999.00,9, -999.000,9, -999.000,9,  -999.00,9,   -999.0,9,   -999.0,9,-999.0000,9,   -999.0,  9,  -999.00,9,   -999.0,  -999.00,9,  -999.00,9,  -999.00,9,  -999.00,9,   -999.0,-999.0000, -999,9,   11,  27.8416,  21.5523,   -999.0,9
     RF97-05-2,  NONE,RF-0451,  1,      7,02-13589,2,19970715,0023, 28.1768, 126.3777,  138,     11.1,  27.8339,  33.8174,2,   -999.0,9,  33.9196,4,    202.2,2,     1.61,2,  -999.00,9,     0.07,2,     0.00,2,     0.03,2, -999.000,9, -999.000,9,  -999.00,9,   -999.0,9,   -999.0,9,-999.0000,9,   -999.0,  9,  -999.00,9,   -999.0,  -999.00,9,  -999.00,9,     0.13,2,     0.02,2,   -999.0,-999.0000, -999,9,   11,  27.8313,  21.5604,   -999.0,9
     RF97-05-2,  NONE,RF-0451,  1,      6,02-12818,2,19970715,0022, 28.1768, 126.3777,  138,     21.1,  27.5159,  34.0699,2,   -999.0,9,  34.1071,4,    204.5,2,     1.24,2,  -999.00,9,  -999.00,4,     0.01,2,     0.03,2, -999.000,9, -999.000,9,  -999.00,9,   -999.0,9,   -999.0,9,-999.0000,9,   -999.0,  9,  -999.00,9,   -999.0,  -999.00,9,  -999.00,9,     0.12,2,     0.03,2,   -999.0,-999.0000, -999,9,   21,  27.5110,  21.8537,   -999.0,9
     RF97-05-2,  NONE,RF-0451,  1,      5,02-12809,2,19970715,0021, 28.1768, 126.3777,  138,     30.3,  26.3874,  34.4111,2,   -999.0,9,  34.4436,4,    208.9,2,     1.46,2,  -999.00,9,  -999.00,4,     0.01,2,     0.04,2, -999.000,9, -999.000,9,  -999.00,9,   -999.0,9,   -999.0,9,-999.0000,9,   -999.0,  9,  -999.00,9,   -999.0,  -999.00,9,  -999.00,9,     0.17,2,     0.03,2,   -999.0,-999.0000, -999,9,   30,  26.3806,  22.4701,   -999.0,9
     RF97-05-2,  NONE,RF-0451,  1,      4,02-12817,2,19970715,0020, 28.1768, 126.3777,  138,     50.5,  24.6708,  34.6136,2,   -999.0,9,  34.6316,4,    209.1,2,     2.12,2,  -999.00,9,     0.15,2,     0.03,2,     0.06,2, -999.000,9, -999.000,9,  -999.00,9,   -999.0,9,   -999.0,9,-999.0000,9,   -999.0,  9,  -999.00,9,   -999.0,  -999.00,9,  -999.00,9,     0.36,2,     0.16,2,   -999.0,-999.0000, -999,9,   50,  24.6600,  23.1520,   -999.0,9
     RF97-05-2,  NONE,RF-0451,  1,      3,02-12808,3,19970715,0018, 28.1768, 126.3777,  138,     76.0,  22.5843,  34.6424,2,   -999.0,9,  34.5749,4,   -999.0,4,     3.86,4,  -999.00,9,     2.53,4,     0.25,4,     0.23,4, -999.000,9, -999.000,9,  -999.00,9,   -999.0,9,   -999.0,9,-999.0000,9,   -999.0,  9,  -999.00,9,   -999.0,  -999.00,9,  -999.00,9,     0.47,2,     0.39,2,   -999.0,-999.0000, -999,9,   75,  22.5690,  23.7857,   -999.0,9
     RF97-05-2,  NONE,RF-0451,  1,      2,02-13588,2,19970715,0015, 28.1768, 126.3777,  138,    101.4,  18.2279,  34.6560,2,   -999.0,9,  34.6694,4,    166.0,2,    12.52,2,  -999.00,9,     8.63,2,     0.06,2,     0.63,2, -999.000,9, -999.000,9,  -999.00,9,   -999.0,9,   -999.0,9,-999.0000,9,   -999.0,  9,  -999.00,9,   -999.0,  -999.00,9,  -999.00,9,     0.22,2,     0.23,2,   -999.0,-999.0000, -999,9,  101,  18.2104,  24.9566,   -999.0,9
     RF97-05-2,  NONE,RF-0451,  1,      1,02-12807,2,19970715,0013, 28.1768, 126.3777,  138,    126.8,  17.9953,  34.6822,2,   -999.0,9,  34.6723,4,    164.8,2,    12.78,2,  -999.00,9,     8.89,2,     0.04,2,     0.66,2, -999.000,9, -999.000,9,  -999.00,9,   -999.0,9,   -999.0,9,-999.0000,9,   -999.0,  9,  -999.00,9,   -999.0,  -999.00,9,  -999.00,9,     0.20,2,     0.19,2,   -999.0,-999.0000, -999,9,  126,  17.9736,  25.0351,   -999.0,9