BOTTLE,20130510GEMDJMAYT
EXPOCODE,SECT_ID,STNNBR,CASTNO,SAMPNO,BTLNBR,BTLNBR_FLAG_W,DATE,TIME,LATITUDE,LONGITUDE,DEPTH,CTDPRS,CTDTMP,CTDSAL,CTDSAL_FLAG_W,CTDOXY,CTDOXY_FLAG_W,SALNTY,SALNTY_FLAG_W,OXYGEN,OXYGEN_FLAG_W,SILCAT,SILCAT_FLAG_W,NITRAT,NITRAT_FLAG_W,NO2+NO3,NO2+NO3_FLAG_W,NITRIT,NITRIT_FLAG_W,PHSPHT,PHSPHT_FLAG_W,CFC-11,CFC-11_FLAG_W,CFC-12,CFC-12_FLAG_W,DELC13,DELC13_FLAG_W,TCARBN,TCARBN_FLAG_W,ALKALI,ALKALI_FLAG_W,PH,PH_FLAG_W,PH_TMP,PH_SCALE,PH_NBS,PH_NBS_FLAG_W,C13ERR,TOTALP,TOTALP_FLAG_W,AMMONI,AMMONI_FLAG_W,CHLORA,CHLORA_FLAG_W,PPHYTN,PPHYTN_FLAG_W,REVPRS,REVTMP,DEPTH_,DEPTH_FLAG,CTDDEP,THETA,SIGTHT,DOC,DOC_FLAG_W
,,,,,,,GMT,GMT,,,METER,DBAR,ITS-90,PSS-78,,UMOL/KG,,PSS-78,,UMOL/KG,,UMOL/KG,,UMOL/KG,,UMOL/KG,,UMOL/KG,,UMOL/KG,,PMOL/KG,,PMOL/KG,,/MILLE,,UMOL/KG,,UMOL/KG,,25_DEG_C,,DEG_C,,,,/MILLE,UMOL/KG,,UMOL/KG,,UG/L,,UG/L,,DBAR,ITS-90,METERS,,METERS,DEG_C,,UMOL/L,
     RF97-05-2,  137E,RF-0445,  1,     -9,      -9,5,19970702,2136, 25.0077, 136.9752, 5354,      0.0,  28.1935,  34.6060,2,   -999.0,9,-999.0000,9,    201.5,2,     1.21,2,  -999.00,9,     0.07,2,     0.00,2,     0.04,2, -999.000,9, -999.000,9,  -999.00,9,   -999.0,9,   -999.0,9,-999.0000,9,   -999.0,  9,  -999.00,9,   -999.0,  -999.00,9,  -999.00,9,     0.06,2,     0.00,2,   -999.0,-999.0000, -999,9,    0,  28.1935,  22.0351,   -999.0,9
     RF97-05-2,  137E,RF-0445,  1,     24,02-12830,2,19970702,2134, 25.0077, 136.9752, 5354,     10.1,  28.1861,  34.6489,2,   -999.0,9,  34.6603,4,    202.8,2,     1.12,2,  -999.00,9,     0.04,2,     0.00,2,     0.03,2, -999.000,9, -999.000,9,  -999.00,9,   -999.0,9,   -999.0,9,-999.0000,9,   -999.0,  9,  -999.00,9,   -999.0,  -999.00,9,  -999.00,9,     0.06,2,     0.01,2,   -999.0,-999.0000, -999,9,   10,  28.1837,  22.0705,   -999.0,9
     RF97-05-2,  137E,RF-0445,  1,     23,02-13591,2,19970702,2132, 25.0077, 136.9752, 5354,     22.9,  26.5447,  34.6365,2,   -999.0,9,-999.0000,9,    208.0,2,     1.03,2,  -999.00,9,     0.05,2,     0.00,2,     0.03,2, -999.000,9, -999.000,9,  -999.00,9,   -999.0,9,   -999.0,9,-999.0000,9,   -999.0,  9,  -999.00,9,   -999.0,  -999.00,9,  -999.00,9,     0.06,2,     0.01,2,   -999.0,-999.0000, -999,9,   23,  26.5395,  22.5900,   -999.0,9
     RF97-05-2,  137E,RF-0445,  1,     22,02-12828,2,19970702,2131, 25.0077, 136.9752, 5354,     50.4,  24.8446,  34.6938,2,   -999.0,9,  34.7073,4,    215.9,2,     1.21,2,  -999.00,9,     0.00,2,     0.00,2,     0.02,2, -999.000,9, -999.000,9,  -999.00,9,   -999.0,9,   -999.0,9,-999.0000,9,   -999.0,  9,  -999.00,9,   -999.0,  -999.00,9,  -999.00,9,     0.08,2,     0.02,2,   -999.0,-999.0000, -999,9,   50,  24.8337,  23.1602,   -999.0,9
     RF97-05-2,  137E,RF-0445,  1,     21,02-12827,2,19970702,2130, 25.0077, 136.9752, 5354,     75.0,  22.1094,  34.8965,2,   -999.0,9,-999.0000,9,    227.5,2,     1.41,2,  -999.00,9,  -999.00,4,     0.00,2,     0.03,2, -999.000,9, -999.000,9,  -999.00,9,   -999.0,9,   -999.0,9,-999.0000,9,   -999.0,  9,  -999.00,9,   -999.0,  -999.00,9,  -999.00,9,     0.11,2,     0.02,2,   -999.0,-999.0000, -999,9,   75,  22.0945,  24.1126,   -999.0,9
     RF97-05-2,  137E,RF-0445,  1,     20,02-12826,2,19970702,2128, 25.0077, 136.9752, 5354,    100.2,  20.4417,  34.8683,2,   -999.0,9,  34.8769,2,    225.9,2,     1.48,2,  -999.00,9,     0.03,2,     0.00,2,     0.03,2, -999.000,9, -999.000,9,  -999.00,9,   -999.0,9,   -999.0,9,-999.0000,9,   -999.0,  9,  -999.00,9,   -999.0,  -999.00,9,  -999.00,9,     0.21,2,     0.13,2,   -999.0,-999.0000, -999,9,   99,  20.4230,  24.5491,   -999.0,9
     RF97-05-2,  137E,RF-0445,  1,     19,02-12825,2,19970702,2127, 25.0077, 136.9752, 5354,    125.7,  19.5776,  34.8355,2,   -999.0,9,-999.0000,9,    220.2,2,     1.80,2,  -999.00,9,     0.48,2,     0.05,2,     0.07,2, -999.000,9, -999.000,9,  -999.00,9,   -999.0,9,   -999.0,9,-999.0000,9,   -999.0,  9,  -999.00,9,   -999.0,  -999.00,9,  -999.00,9,     0.28,2,     0.39,2,   -999.0,-999.0000, -999,9,  125,  19.5547,  24.7527,   -999.0,9
     RF97-05-2,  137E,RF-0445,  1,     18,02-12824,2,19970702,2126, 25.0077, 136.9752, 5354,    151.2,  19.0071,  34.8426,2,   -999.0,9,-999.0000,9,    215.9,2,     2.33,2,  -999.00,9,     1.48,2,     0.02,2,     0.12,2, -999.000,9, -999.000,9,  -999.00,9,   -999.0,9,   -999.0,9,-999.0000,9,   -999.0,  9,  -999.00,9,   -999.0,  -999.00,9,  -999.00,9,     0.09,2,     0.12,2,   -999.0,-999.0000, -999,9,  150,  18.9802,  24.9059,   -999.0,9
     RF97-05-2,  137E,RF-0445,  1,     17,02-12814,2,19970702,2124, 25.0077, 136.9752, 5354,    201.8,  18.3963,  34.8425,2,   -999.0,9,  34.8440,2,    212.9,2,     2.62,2,  -999.00,9,     2.41,2,     0.01,2,     0.19,2, -999.000,9, -999.000,9,  -999.00,9,   -999.0,9,   -999.0,9,-999.0000,9,   -999.0,  9,  -999.00,9,   -999.0,  -999.00,9,  -999.00,9,     0.01,2,     0.02,2,   -999.0,-999.0000, -999,9,  200,  18.3611,  25.0619,   -999.0,9
     RF97-05-2,  137E,RF-0445,  1,     16,02-12832,2,19970702,2121, 25.0077, 136.9752, 5354,    302.1,  17.2001,  34.8227,2,   -999.0,9,-999.0000,9,    203.4,2,     4.34,2,  -999.00,9,     5.03,2,     0.00,2,     0.33,2, -999.000,9, -999.000,9,  -999.00,9,   -999.0,9,   -999.0,9,-999.0000,9,   -999.0,  9,  -999.00,9,   -999.0,  -999.00,9,  -999.00,9,  -999.00,9,  -999.00,9,   -999.0,-999.0000, -999,9,  300,  17.1497,  25.3425,   -999.0,9
     RF97-05-2,  137E,RF-0445,  1,     15,02-12833,2,19970702,2119, 25.0077, 136.9752, 5354,    403.3,  15.2795,  34.6539,2,   -999.0,9,-999.0000,9,    190.5,2,     9.58,2,  -999.00,9,     9.22,2,     0.00,2,     0.61,2, -999.000,9, -999.000,9,  -999.00,9,   -999.0,9,   -999.0,9,-999.0000,9,   -999.0,  9,  -999.00,9,   -999.0,  -999.00,9,  -999.00,9,  -999.00,9,  -999.00,9,   -999.0,-999.0000, -999,9,  400,  15.2174,  25.6572,   -999.0,9
     RF97-05-2,  137E,RF-0445,  1,     14,02-13578,2,19970702,2116, 25.0077, 136.9752, 5354,    503.4,  12.7944,  34.4613,2,   -999.0,9,  34.4636,2,    180.5,2,    18.55,2,  -999.00,9,    14.23,2,     0.00,2,     0.97,2, -999.000,9, -999.000,9,  -999.00,9,   -999.0,9,   -999.0,9,-999.0000,9,   -999.0,  9,  -999.00,9,   -999.0,  -999.00,9,  -999.00,9,  -999.00,9,  -999.00,9,   -999.0,-999.0000, -999,9,  500,  12.7254,  26.0301,   -999.0,9
     RF97-05-2,  137E,RF-0445,  1,     13,02-13590,2,19970702,2114, 25.0077, 136.9752, 5354,    604.2,   9.6700,  34.2614,2,   -999.0,9,-999.0000,9,    159.6,2,    35.60,2,  -999.00,9,    21.35,2,     0.00,2,     1.51,2, -999.000,9, -999.000,9,  -999.00,9,   -999.0,9,   -999.0,9,-999.0000,9,   -999.0,  9,  -999.00,9,   -999.0,  -999.00,9,  -999.00,9,  -999.00,9,  -999.00,9,   -999.0,-999.0000, -999,9,  599,   9.6005,  26.4422,   -999.0,9
     RF97-05-2,  137E,RF-0445,  1,     12,02-12821,2,19970702,2109, 25.0077, 136.9752, 5354,    806.9,   5.7175,  34.1617,2,   -999.0,9,  34.1617,2,     99.7,2,    76.78,2,  -999.00,9,    33.42,2,     0.00,2,     2.44,2, -999.000,9, -999.000,9,  -999.00,9,   -999.0,9,   -999.0,9,-999.0000,9,   -999.0,  9,  -999.00,9,   -999.0,  -999.00,9,  -999.00,9,  -999.00,9,  -999.00,9,   -999.0,-999.0000, -999,9,  800,   5.6474,  26.9340,   -999.0,9
     RF97-05-2,  137E,RF-0445,  1,     11,02-12811,2,19970702,2106, 25.0077, 136.9752, 5354,    908.1,   4.6606,  34.2208,2,   -999.0,9,-999.0000,9,     73.5,2,    96.35,2,  -999.00,9,    37.45,2,     0.00,2,     2.75,2, -999.000,9, -999.000,9,  -999.00,9,   -999.0,9,   -999.0,9,-999.0000,9,   -999.0,  9,  -999.00,9,   -999.0,  -999.00,9,  -999.00,9,  -999.00,9,  -999.00,9,   -999.0,-999.0000, -999,9,  900,   4.5883,  27.1037,   -999.0,9
     RF97-05-2,  137E,RF-0445,  1,     10,02-10155,2,19970702,2102, 25.0077, 136.9752, 5354,   1008.1,   4.0108,  34.3137,2,   -999.0,9,  34.3119,2,     59.4,2,   110.65,2,  -999.00,9,    39.51,2,     0.00,2,     2.90,2, -999.000,9, -999.000,9,  -999.00,9,   -999.0,9,   -999.0,9,-999.0000,9,   -999.0,  9,  -999.00,9,   -999.0,  -999.00,9,  -999.00,9,  -999.00,9,  -999.00,9,   -999.0,-999.0000, -999,9,  999,   3.9347,  27.2469,   -999.0,9
     RF97-05-2,  137E,RF-0445,  1,      9,02-12810,2,19970702,2057, 25.0077, 136.9752, 5354,   1260.9,   3.2131,  34.4417,2,   -999.0,9,  34.4408,2,     59.3,2,   127.71,2,  -999.00,9,    40.50,2,     0.00,2,     2.97,2, -999.000,9, -999.000,9,  -999.00,9,   -999.0,9,   -999.0,9,-999.0000,9,   -999.0,  9,  -999.00,9,   -999.0,  -999.00,9,  -999.00,9,  -999.00,9,  -999.00,9,   1255.0,-999.0000, -999,9, 1249,   3.1230,  27.4281,   -999.0,9
     RF97-05-2,  137E,RF-0445,  1,      8,02-12829,2,19970702,2052, 25.0077, 136.9752, 5354,   1514.2,   2.5535,  34.5199,2,   -999.0,9,  34.5199,2,     72.3,2,   139.87,2,  -999.00,9,    40.22,2,     0.00,2,     2.94,2, -999.000,9, -999.000,9,  -999.00,9,   -999.0,9,   -999.0,9,-999.0000,9,   -999.0,  9,  -999.00,9,   -999.0,  -999.00,9,  -999.00,9,  -999.00,9,  -999.00,9,   -999.0,-999.0000, -999,9, 1499,   2.4499,  27.5502,   -999.0,9
     RF97-05-2,  137E,RF-0445,  1,      7,02-13589,2,19970702,2043, 25.0077, 136.9752, 5354,   2022.0,   2.0001,  34.6121,2,   -999.0,9,  34.6113,2,    113.8,2,   140.27,2,  -999.00,9,    37.98,2,     0.00,2,     2.74,2, -999.000,9, -999.000,9,  -999.00,9,   -999.0,9,   -999.0,9,-999.0000,9,   -999.0,  9,  -999.00,9,   -999.0,  -999.00,9,  -999.00,9,  -999.00,9,  -999.00,9,   -999.0,-999.0000, -999,9, 1999,   1.8619,  27.6717,   -999.0,9
     RF97-05-2,  137E,RF-0445,  1,      6,02-12818,4,19970702,2034, 25.0077, 136.9752, 5354,   2530.3,   1.7414,  34.6473,2,   -999.0,9,  34.2818,4,   -999.0,4,  -999.00,4,  -999.00,9,  -999.00,4,  -999.00,4,  -999.00,4, -999.000,9, -999.000,9,  -999.00,9,   -999.0,9,   -999.0,9,-999.0000,9,   -999.0,  9,  -999.00,9,   -999.0,  -999.00,9,  -999.00,9,  -999.00,9,  -999.00,9,   -999.0,-999.0000, -999,9, 2499,   1.5632,  27.7225,   -999.0,9
     RF97-05-2,  137E,RF-0445,  1,      5,02-12809,2,19970702,2026, 25.0077, 136.9752, 5354,   3039.7,   1.6152,  34.6632,2,   -999.0,9,  34.6631,2,    142.4,2,   139.83,2,  -999.00,9,    36.31,2,     0.00,2,     2.61,2, -999.000,9, -999.000,9,  -999.00,9,   -999.0,9,   -999.0,9,-999.0000,9,   -999.0,  9,  -999.00,9,   -999.0,  -999.00,9,  -999.00,9,  -999.00,9,  -999.00,9,   -999.0,-999.0000, -999,9, 2999,   1.3921,  27.7477,   -999.0,9
     RF97-05-2,  137E,RF-0445,  1,      4,02-12817,2,19970702,2018, 25.0077, 136.9752, 5354,   3552.3,   1.5380,  34.6771,2,   -999.0,9,  34.6758,2,    150.9,2,   138.94,2,  -999.00,9,    35.79,2,     0.00,2,     2.55,2, -999.000,9, -999.000,9,  -999.00,9,   -999.0,9,   -999.0,9,-999.0000,9,   -999.0,  9,  -999.00,9,   -999.0,  -999.00,9,  -999.00,9,  -999.00,9,  -999.00,9,   -999.0,-999.0000, -999,9, 3500,   1.2655,  27.7678,   -999.0,9
     RF97-05-2,  137E,RF-0445,  1,      3,02-12808,2,19970702,2009, 25.0077, 136.9752, 5354,   4064.3,   1.5385,  34.6807,2,   -999.0,9,  34.6810,2,    155.7,2,   137.95,2,  -999.00,9,    35.52,2,     0.00,2,     2.53,2, -999.000,9, -999.000,9,  -999.00,9,   -999.0,9,   -999.0,9,-999.0000,9,   -999.0,  9,  -999.00,9,   -999.0,  -999.00,9,  -999.00,9,  -999.00,9,  -999.00,9,   -999.0,-999.0000, -999,9, 4000,   1.2115,  27.7744,   -999.0,9
     RF97-05-2,  137E,RF-0445,  1,      2,02-13588,2,19970702,2000, 25.0077, 136.9752, 5354,   4577.1,   1.5791,  34.6829,2,   -999.0,9,  34.6865,2,    158.2,2,   137.51,2,  -999.00,9,    35.42,2,     0.00,2,     2.52,2, -999.000,9, -999.000,9,  -999.00,9,   -999.0,9,   -999.0,9,-999.0000,9,   -999.0,  9,  -999.00,9,   -999.0,  -999.00,9,  -999.00,9,  -999.00,9,  -999.00,9,   -999.0,-999.0000, -999,9, 4499,   1.1927,  27.7775,   -999.0,9
     RF97-05-2,  137E,RF-0445,  1,      1,02-12807,2,19970702,1951, 25.0077, 136.9752, 5354,   5099.8,   1.6409,  34.6786,2,   -999.0,9,  34.6829,2,    157.4,2,   136.95,2,  -999.00,9,    35.46,2,     0.00,2,     2.51,2, -999.000,9, -999.000,9,  -999.00,9,   -999.0,9,   -999.0,9,-999.0000,9,   -999.0,  9,  -999.00,9,   -999.0,  -999.00,9,  -999.00,9,  -999.00,9,  -999.00,9,   5096.0,-999.0000, -999,9, 5007,   1.1898,  27.7743,   -999.0,9