BOTTLE,20130510GEMDJMAYT
EXPOCODE,SECT_ID,STNNBR,CASTNO,SAMPNO,BTLNBR,BTLNBR_FLAG_W,DATE,TIME,LATITUDE,LONGITUDE,DEPTH,CTDPRS,CTDTMP,CTDSAL,CTDSAL_FLAG_W,CTDOXY,CTDOXY_FLAG_W,SALNTY,SALNTY_FLAG_W,OXYGEN,OXYGEN_FLAG_W,SILCAT,SILCAT_FLAG_W,NITRAT,NITRAT_FLAG_W,NO2+NO3,NO2+NO3_FLAG_W,NITRIT,NITRIT_FLAG_W,PHSPHT,PHSPHT_FLAG_W,CFC-11,CFC-11_FLAG_W,CFC-12,CFC-12_FLAG_W,DELC13,DELC13_FLAG_W,TCARBN,TCARBN_FLAG_W,ALKALI,ALKALI_FLAG_W,PH,PH_FLAG_W,PH_TMP,PH_SCALE,PH_NBS,PH_NBS_FLAG_W,C13ERR,TOTALP,TOTALP_FLAG_W,AMMONI,AMMONI_FLAG_W,CHLORA,CHLORA_FLAG_W,PPHYTN,PPHYTN_FLAG_W,REVPRS,REVTMP,DEPTH_,DEPTH_FLAG,CTDDEP,THETA,SIGTHT,DOC,DOC_FLAG_W
,,,,,,,GMT,GMT,,,METER,DBAR,ITS-90,PSS-78,,UMOL/KG,,PSS-78,,UMOL/KG,,UMOL/KG,,UMOL/KG,,UMOL/KG,,UMOL/KG,,UMOL/KG,,PMOL/KG,,PMOL/KG,,/MILLE,,UMOL/KG,,UMOL/KG,,25_DEG_C,,DEG_C,,,,/MILLE,UMOL/KG,,UMOL/KG,,UG/L,,UG/L,,DBAR,ITS-90,METERS,,METERS,DEG_C,,UMOL/L,
     RF97-05-2,  137E,RF-0452,  1,     -9,      -9,5,19970719,0741, 31.0063, 136.9997, 4160,      0.0,  27.8000,  34.5428,2,   -999.0,9,-999.0000,9,    208.4,2,     1.47,2,  -999.00,9,     0.06,2,     0.00,2,     0.05,2, -999.000,9, -999.000,9,  -999.00,9,   -999.0,9,   -999.0,9,-999.0000,9,   -999.0,  9,  -999.00,9,   -999.0,  -999.00,9,  -999.00,9,     0.08,2,     0.04,2,   -999.0,-999.0000, -999,9,    0,  27.8000,  22.1160,   -999.0,9
     RF97-05-2,  137E,RF-0452,  1,     23,02-13591,2,19970719,0739, 31.0063, 136.9997, 4160,     10.4,  27.1952,  34.5894,2,   -999.0,9,  34.5549,4,    207.8,2,     1.49,2,  -999.00,9,     0.02,2,     0.00,2,     0.04,2, -999.000,9, -999.000,9,  -999.00,9,   -999.0,9,   -999.0,9,-999.0000,9,   -999.0,  9,  -999.00,9,   -999.0,  -999.00,9,  -999.00,9,     0.11,2,     0.02,2,   -999.0,-999.0000, -999,9,   10,  27.1928,  22.3469,   -999.0,9
     RF97-05-2,  137E,RF-0452,  1,     22,02-12828,2,19970719,0738, 31.0063, 136.9997, 4160,     25.5,  25.0871,  34.6125,2,   -999.0,9,-999.0000,9,    214.7,2,     1.43,2,  -999.00,9,     0.02,2,     0.00,2,     0.03,2, -999.000,9, -999.000,9,  -999.00,9,   -999.0,9,   -999.0,9,-999.0000,9,   -999.0,  9,  -999.00,9,   -999.0,  -999.00,9,  -999.00,9,     0.13,2,     0.03,2,   -999.0,-999.0000, -999,9,   25,  25.0816,  23.0236,   -999.0,9
     RF97-05-2,  137E,RF-0452,  1,     21,02-12827,2,19970719,0736, 31.0063, 136.9997, 4160,     50.4,  23.9268,  34.6164,2,   -999.0,9,  34.6412,4,    217.7,2,     1.52,2,  -999.00,9,     0.02,2,     0.00,2,     0.03,2, -999.000,9, -999.000,9,  -999.00,9,   -999.0,9,   -999.0,9,-999.0000,9,   -999.0,  9,  -999.00,9,   -999.0,  -999.00,9,  -999.00,9,     0.21,2,     0.07,2,   -999.0,-999.0000, -999,9,   50,  23.9162,  23.3757,   -999.0,9
     RF97-05-2,  137E,RF-0452,  1,     20,02-12826,2,19970719,0735, 31.0063, 136.9997, 4160,     76.0,  22.2898,  34.7257,2,   -999.0,9,-999.0000,9,    212.9,2,     1.61,2,  -999.00,9,     0.16,2,     0.04,2,     0.06,2, -999.000,9, -999.000,9,  -999.00,9,   -999.0,9,   -999.0,9,-999.0000,9,   -999.0,  9,  -999.00,9,   -999.0,  -999.00,9,  -999.00,9,     0.37,2,     0.28,2,   -999.0,-999.0000, -999,9,   75,  22.2747,  23.9322,   -999.0,9
     RF97-05-2,  137E,RF-0452,  1,     19,02-12825,2,19970719,0734, 31.0063, 136.9997, 4160,    100.4,  21.3908,  34.7618,2,   -999.0,9,  34.7652,2,    206.2,2,     2.03,2,  -999.00,9,     1.22,2,     0.10,2,     0.11,2, -999.000,9, -999.000,9,  -999.00,9,   -999.0,9,   -999.0,9,-999.0000,9,   -999.0,  9,  -999.00,9,   -999.0,  -999.00,9,  -999.00,9,     0.24,2,     0.33,2,   -999.0,-999.0000, -999,9,  100,  21.3714,  24.2111,   -999.0,9
     RF97-05-2,  137E,RF-0452,  1,     18,02-12824,2,19970719,0732, 31.0063, 136.9997, 4160,    125.7,  20.9270,  34.7898,2,   -999.0,9,-999.0000,9,    204.5,2,     2.20,2,  -999.00,9,     1.71,2,     0.05,2,     0.14,2, -999.000,9, -999.000,9,  -999.00,9,   -999.0,9,   -999.0,9,-999.0000,9,   -999.0,  9,  -999.00,9,   -999.0,  -999.00,9,  -999.00,9,     0.10,2,     0.12,2,   -999.0,-999.0000, -999,9,  125,  20.9031,  24.3602,   -999.0,9
     RF97-05-2,  137E,RF-0452,  1,     17,02-12814,2,19970719,0731, 31.0063, 136.9997, 4160,    150.7,  20.3608,  34.8136,2,   -999.0,9,-999.0000,9,    202.8,2,     2.42,2,  -999.00,9,     2.20,2,     0.03,2,     0.18,2, -999.000,9, -999.000,9,  -999.00,9,   -999.0,9,   -999.0,9,-999.0000,9,   -999.0,  9,  -999.00,9,   -999.0,  -999.00,9,  -999.00,9,     0.03,2,     0.07,2,   -999.0,-999.0000, -999,9,  150,  20.3326,  24.5315,   -999.0,9
     RF97-05-2,  137E,RF-0452,  1,     15,02-12833,9,19970719,0729, 31.0063, 136.9997, 4160,    201.2,  19.5690,  34.8403,2,   -999.0,9,-999.0000,9,   -999.0,9,  -999.00,9,  -999.00,9,  -999.00,9,  -999.00,9,  -999.00,9, -999.000,9, -999.000,9,  -999.00,9,   -999.0,9,   -999.0,9,-999.0000,9,   -999.0,  9,  -999.00,9,   -999.0,  -999.00,9,  -999.00,9,  -999.00,9,  -999.00,9,   -999.0,-999.0000, -999,9,  200,  19.5324,  24.7622,   -999.0,9
     RF97-05-2,  137E,RF-0452,  1,     16,02-12832,2,19970719,0729, 31.0063, 136.9997, 4160,    201.4,  19.5723,  34.8405,2,   -999.0,9,  34.8414,2,    202.7,2,     2.86,2,  -999.00,9,     2.61,2,     0.03,2,     0.20,2, -999.000,9, -999.000,9,  -999.00,9,   -999.0,9,   -999.0,9,-999.0000,9,   -999.0,  9,  -999.00,9,   -999.0,  -999.00,9,  -999.00,9,     0.01,2,     0.03,2,   -999.0,-999.0000, -999,9,  200,  19.5356,  24.7615,   -999.0,9
     RF97-05-2,  137E,RF-0452,  1,     14,02-13578,2,19970719,0727, 31.0063, 136.9997, 4160,    251.6,  18.9788,  34.8425,2,   -999.0,9,-999.0000,9,    209.3,2,     2.73,2,  -999.00,9,     2.37,2,     0.03,2,     0.19,2, -999.000,9, -999.000,9,  -999.00,9,   -999.0,9,   -999.0,9,-999.0000,9,   -999.0,  9,  -999.00,9,   -999.0,  -999.00,9,  -999.00,9,  -999.00,9,  -999.00,9,   -999.0,-999.0000, -999,9,  250,  18.9339,  24.9176,   -999.0,9
     RF97-05-2,  137E,RF-0452,  1,     12,02-12821,9,19970719,0725, 31.0063, 136.9997, 4160,    302.3,  18.4202,  34.8376,2,   -999.0,9,-999.0000,9,   -999.0,9,  -999.00,9,  -999.00,9,  -999.00,9,  -999.00,9,  -999.00,9, -999.000,9, -999.000,9,  -999.00,9,   -999.0,9,   -999.0,9,-999.0000,9,   -999.0,  9,  -999.00,9,   -999.0,  -999.00,9,  -999.00,9,  -999.00,9,  -999.00,9,   -999.0,-999.0000, -999,9,  300,  18.3674,  25.0566,   -999.0,9
     RF97-05-2,  137E,RF-0452,  1,     13,02-13590,2,19970719,0725, 31.0063, 136.9997, 4160,    302.5,  18.4199,  34.8386,2,   -999.0,9,-999.0000,9,    213.3,2,     3.11,2,  -999.00,9,     2.60,2,     0.02,2,     0.20,2, -999.000,9, -999.000,9,  -999.00,9,   -999.0,9,   -999.0,9,-999.0000,9,   -999.0,  9,  -999.00,9,   -999.0,  -999.00,9,  -999.00,9,  -999.00,9,  -999.00,9,   -999.0,-999.0000, -999,9,  300,  18.3671,  25.0574,   -999.0,9
     RF97-05-2,  137E,RF-0452,  1,     11,02-12811,2,19970719,0722, 31.0063, 136.9997, 4160,    402.6,  17.6965,  34.8221,2,   -999.0,9,  34.8221,2,    199.9,2,     4.73,2,  -999.00,9,     4.96,2,     0.01,2,     0.33,2, -999.000,9, -999.000,9,  -999.00,9,   -999.0,9,   -999.0,9,-999.0000,9,   -999.0,  9,  -999.00,9,   -999.0,  -999.00,9,  -999.00,9,  -999.00,9,  -999.00,9,   -999.0,-999.0000, -999,9,  399,  17.6279,  25.2269,   -999.0,9
     RF97-05-2,  137E,RF-0452,  1,     10,02-10155,2,19970719,0720, 31.0063, 136.9997, 4160,    502.7,  16.1437,  34.7152,2,   -999.0,9,-999.0000,9,    193.2,2,     8.51,2,  -999.00,9,     8.33,2,     0.01,2,     0.56,2, -999.000,9, -999.000,9,  -999.00,9,   -999.0,9,   -999.0,9,-999.0000,9,   -999.0,  9,  -999.00,9,   -999.0,  -999.00,9,  -999.00,9,  -999.00,9,  -999.00,9,   -999.0,-999.0000, -999,9,  499,  16.0632,  25.5141,   -999.0,9
     RF97-05-2,  137E,RF-0452,  1,      9,02-12810,2,19970719,0718, 31.0063, 136.9997, 4160,    602.9,  13.5702,  34.5187,2,   -999.0,9,  34.5037,4,    176.5,2,    17.25,2,  -999.00,9,    13.85,2,     0.01,2,     0.95,2, -999.000,9, -999.000,9,  -999.00,9,   -999.0,9,   -999.0,9,-999.0000,9,   -999.0,  9,  -999.00,9,   -999.0,  -999.00,9,  -999.00,9,  -999.00,9,  -999.00,9,   -999.0,-999.0000, -999,9,  598,  13.4841,  25.9220,   -999.0,9
     RF97-05-2,  137E,RF-0452,  1,      8,02-12829,2,19970719,0715, 31.0063, 136.9997, 4160,    704.5,  10.4780,  34.3196,2,   -999.0,9,-999.0000,9,    160.5,2,    31.64,2,  -999.00,9,    20.21,2,     0.00,2,     1.41,2, -999.000,9, -999.000,9,  -999.00,9,   -999.0,9,   -999.0,9,-999.0000,9,   -999.0,  9,  -999.00,9,   -999.0,  -999.00,9,  -999.00,9,  -999.00,9,  -999.00,9,   -999.0,-999.0000, -999,9,  698,  10.3925,  26.3532,   -999.0,9
     RF97-05-2,  137E,RF-0452,  1,      7,02-13589,2,19970719,0708, 31.0063, 136.9997, 4160,    805.6,   8.3640,  34.2291,2,   -999.0,9,  34.2233,2,    135.2,2,    49.05,2,  -999.00,9,    26.47,2,     0.00,2,     1.89,2, -999.000,9, -999.000,9,  -999.00,9,   -999.0,9,   -999.0,9,-999.0000,9,   -999.0,  9,  -999.00,9,   -999.0,  -999.00,9,  -999.00,9,  -999.00,9,  -999.00,9,   -999.0,-999.0000, -999,9,  798,   8.2781,  26.6266,   -999.0,9
     RF97-05-2,  137E,RF-0452,  1,      6,02-12818,2,19970719,0706, 31.0063, 136.9997, 4160,    904.1,   6.5484,  34.2258,2,   -999.0,9,-999.0000,9,    106.8,2,    70.87,2,  -999.00,9,    31.95,2,     0.00,2,     2.31,2, -999.000,9, -999.000,9,  -999.00,9,   -999.0,9,   -999.0,9,-999.0000,9,   -999.0,  9,  -999.00,9,   -999.0,  -999.00,9,  -999.00,9,  -999.00,9,  -999.00,9,   -999.0,-999.0000, -999,9,  896,   6.4636,  26.8811,   -999.0,9
     RF97-05-2,  137E,RF-0452,  1,      5,02-12809,2,19970719,0703, 31.0063, 136.9997, 4160,   1007.3,   5.1465,  34.2318,2,   -999.0,9,  34.2276,2,     84.2,2,    88.87,2,  -999.00,9,    35.99,2,     0.00,2,     2.60,2, -999.000,9, -999.000,9,  -999.00,9,   -999.0,9,   -999.0,9,-999.0000,9,   -999.0,  9,  -999.00,9,   -999.0,  -999.00,9,  -999.00,9,  -999.00,9,  -999.00,9,   1002.0,-999.0000, -999,9,  998,   5.0619,  27.0591,   -999.0,9
     RF97-05-2,  137E,RF-0452,  1,      4,02-12817,2,19970719,0659, 31.0063, 136.9997, 4160,   1260.0,   3.7140,  34.3928,2,   -999.0,9,  34.3887,2,     64.7,2,   118.92,2,  -999.00,9,    39.70,2,     0.01,2,     2.86,2, -999.000,9, -999.000,9,  -999.00,9,   -999.0,9,   -999.0,9,-999.0000,9,   -999.0,  9,  -999.00,9,   -999.0,  -999.00,9,  -999.00,9,  -999.00,9,  -999.00,9,   -999.0,-999.0000, -999,9, 1248,   3.6192,  27.3416,   -999.0,9
     RF97-05-2,  137E,RF-0452,  1,      3,02-12808,2,19970719,0654, 31.0063, 136.9997, 4160,   1514.4,   2.7686,  34.4987,2,   -999.0,9,  34.4955,2,     74.5,2,   135.86,2,  -999.00,9,    40.15,2,     0.00,2,     2.89,2, -999.000,9, -999.000,9,  -999.00,9,   -999.0,9,   -999.0,9,-999.0000,9,   -999.0,  9,  -999.00,9,   -999.0,  -999.00,9,  -999.00,9,  -999.00,9,  -999.00,9,   -999.0,-999.0000, -999,9, 1499,   2.6625,  27.5150,   -999.0,9
     RF97-05-2,  137E,RF-0452,  1,      2,02-13588,4,19970719,0650, 31.0063, 136.9997, 4160,   1767.5,   2.3567,  34.5564,2,   -999.0,9,  34.8182,4,   -999.0,4,     2.77,4,  -999.00,9,     2.25,4,     0.03,4,     0.19,4, -999.000,9, -999.000,9,  -999.00,9,   -999.0,9,   -999.0,9,-999.0000,9,   -999.0,  9,  -999.00,9,   -999.0,  -999.00,9,  -999.00,9,  -999.00,9,  -999.00,9,   -999.0,-999.0000, -999,9, 1748,   2.2347,  27.5974,   -999.0,9
     RF97-05-2,  137E,RF-0452,  1,      1,02-12807,2,19970719,0645, 31.0063, 136.9997, 4160,   2028.9,   2.1106,  34.5939,2,   -999.0,9,  34.5897,2,    102.4,2,   141.10,2,  -999.00,9,    38.59,2,     0.01,2,     2.75,2, -999.000,9, -999.000,9,  -999.00,9,   -999.0,9,   -999.0,9,-999.0000,9,   -999.0,  9,  -999.00,9,   -999.0,  -999.00,9,  -999.00,9,  -999.00,9,  -999.00,9,   2023.0,-999.0000, -999,9, 2005,   1.9701,  27.6487,   -999.0,9