BOTTLE,20130510GEMDJMAYT
EXPOCODE,SECT_ID,STNNBR,CASTNO,SAMPNO,BTLNBR,BTLNBR_FLAG_W,DATE,TIME,LATITUDE,LONGITUDE,DEPTH,CTDPRS,CTDTMP,CTDSAL,CTDSAL_FLAG_W,CTDOXY,CTDOXY_FLAG_W,SALNTY,SALNTY_FLAG_W,OXYGEN,OXYGEN_FLAG_W,SILCAT,SILCAT_FLAG_W,NITRAT,NITRAT_FLAG_W,NO2+NO3,NO2+NO3_FLAG_W,NITRIT,NITRIT_FLAG_W,PHSPHT,PHSPHT_FLAG_W,CFC-11,CFC-11_FLAG_W,CFC-12,CFC-12_FLAG_W,DELC13,DELC13_FLAG_W,TCARBN,TCARBN_FLAG_W,ALKALI,ALKALI_FLAG_W,PH,PH_FLAG_W,PH_TMP,PH_SCALE,PH_NBS,PH_NBS_FLAG_W,C13ERR,TOTALP,TOTALP_FLAG_W,AMMONI,AMMONI_FLAG_W,CHLORA,CHLORA_FLAG_W,PPHYTN,PPHYTN_FLAG_W,REVPRS,REVTMP,DEPTH_,DEPTH_FLAG,CTDDEP,THETA,SIGTHT,DOC,DOC_FLAG_W
,,,,,,,GMT,GMT,,,METER,DBAR,ITS-90,PSS-78,,UMOL/KG,,PSS-78,,UMOL/KG,,UMOL/KG,,UMOL/KG,,UMOL/KG,,UMOL/KG,,UMOL/KG,,PMOL/KG,,PMOL/KG,,/MILLE,,UMOL/KG,,UMOL/KG,,25_DEG_C,,DEG_C,,,,/MILLE,UMOL/KG,,UMOL/KG,,UG/L,,UG/L,,DBAR,ITS-90,METERS,,METERS,DEG_C,,UMOL/L,
     RF97-05-2,  137E,RF-0425,  1,     -9,      -9,5,19970626,1038,  5.0165, 137.0235, 5040,      0.0,  29.6162,  33.9368,2,   -999.0,9,-999.0000,9,    195.3,2,     1.50,2,  -999.00,9,     0.11,2,     0.01,2,     0.11,2, -999.000,9, -999.000,9,  -999.00,9,   -999.0,9,   -999.0,9,-999.0000,9,   -999.0,  9,  -999.00,9,   -999.0,  -999.00,9,  -999.00,9,     0.07,2,     0.01,2,   -999.0,-999.0000, -999,9,    0,  29.6162,  21.0594,   -999.0,9
     RF97-05-2,  137E,RF-0425,  1,     23,02-13591,2,19970626,1035,  5.0165, 137.0235, 5040,     10.2,  29.2457,  34.0925,2,   -999.0,9,  34.0571,4,    196.9,2,     1.32,2,  -999.00,9,     0.04,2,     0.01,2,     0.06,2, -999.000,9, -999.000,9,  -999.00,9,   -999.0,9,   -999.0,9,-999.0000,9,   -999.0,  9,  -999.00,9,   -999.0,  -999.00,9,  -999.00,9,     0.07,2,     0.02,2,   -999.0,-999.0000, -999,9,   10,  29.2432,  21.3016,   -999.0,9
     RF97-05-2,  137E,RF-0425,  1,     22,02-12828,2,19970626,1034,  5.0165, 137.0235, 5040,     25.6,  29.1585,  34.0948,2,   -999.0,9,-999.0000,9,    196.4,2,     1.29,2,  -999.00,9,     0.05,2,     0.01,2,     0.05,2, -999.000,9, -999.000,9,  -999.00,9,   -999.0,9,   -999.0,9,-999.0000,9,   -999.0,  9,  -999.00,9,   -999.0,  -999.00,9,  -999.00,9,     0.07,2,     0.01,2,   -999.0,-999.0000, -999,9,   25,  29.1523,  21.3338,   -999.0,9
     RF97-05-2,  137E,RF-0425,  1,     21,02-12827,2,19970626,1033,  5.0165, 137.0235, 5040,     49.5,  29.0127,  34.0852,2,   -999.0,9,  34.1206,4,    197.2,2,     1.24,2,  -999.00,9,     0.05,2,     0.01,2,     0.05,2, -999.000,9, -999.000,9,  -999.00,9,   -999.0,9,   -999.0,9,-999.0000,9,   -999.0,  9,  -999.00,9,   -999.0,  -999.00,9,  -999.00,9,     0.11,2,     0.04,2,   -999.0,-999.0000, -999,9,   49,  29.0008,  21.3772,   -999.0,9
     RF97-05-2,  137E,RF-0425,  1,     20,02-12826,2,19970626,1031,  5.0165, 137.0235, 5040,     75.0,  25.5911,  34.5374,2,   -999.0,9,-999.0000,9,    201.8,2,     1.82,2,  -999.00,9,     0.01,2,     0.01,2,     0.12,2, -999.000,9, -999.000,9,  -999.00,9,   -999.0,9,   -999.0,9,-999.0000,9,   -999.0,  9,  -999.00,9,   -999.0,  -999.00,9,  -999.00,9,     0.30,2,     0.16,2,   -999.0,-999.0000, -999,9,   75,  25.5746,  22.8160,   -999.0,9
     RF97-05-2,  137E,RF-0425,  1,     19,02-12825,2,19970626,1030,  5.0165, 137.0235, 5040,    100.5,  20.5501,  34.8054,2,   -999.0,9,  34.8117,2,    188.8,2,     2.75,2,  -999.00,9,     2.19,2,     0.16,2,     0.33,2, -999.000,9, -999.000,9,  -999.00,9,   -999.0,9,   -999.0,9,-999.0000,9,   -999.0,  9,  -999.00,9,   -999.0,  -999.00,9,  -999.00,9,     0.28,2,     0.24,2,   -999.0,-999.0000, -999,9,  100,  20.5312,  24.4722,   -999.0,9
     RF97-05-2,  137E,RF-0425,  1,     18,02-12824,2,19970626,1029,  5.0165, 137.0235, 5040,    125.9,  17.2148,  34.7268,2,   -999.0,9,-999.0000,9,    172.6,2,     6.76,2,  -999.00,9,     7.32,2,     0.09,2,     0.59,2, -999.000,9, -999.000,9,  -999.00,9,   -999.0,9,   -999.0,9,-999.0000,9,   -999.0,  9,  -999.00,9,   -999.0,  -999.00,9,  -999.00,9,     0.09,2,     0.13,2,   -999.0,-999.0000, -999,9,  125,  17.1939,  25.2584,   -999.0,9
     RF97-05-2,  137E,RF-0425,  1,     17,02-12814,2,19970626,1027,  5.0165, 137.0235, 5040,    150.5,  14.5288,  34.5215,2,   -999.0,9,-999.0000,9,    151.8,2,    15.26,2,  -999.00,9,    14.28,2,     0.02,2,     1.07,2, -999.000,9, -999.000,9,  -999.00,9,   -999.0,9,   -999.0,9,-999.0000,9,   -999.0,  9,  -999.00,9,   -999.0,  -999.00,9,  -999.00,9,     0.02,2,     0.06,2,   -999.0,-999.0000, -999,9,  150,  14.5066,  25.7099,   -999.0,9
     RF97-05-2,  137E,RF-0425,  1,     16,02-12832,2,19970626,1026,  5.0165, 137.0235, 5040,    201.0,  11.1744,  34.4863,2,   -999.0,9,  34.4849,2,    115.2,2,    29.34,2,  -999.00,9,    23.46,2,     0.01,2,     1.74,2, -999.000,9, -999.000,9,  -999.00,9,   -999.0,9,   -999.0,9,-999.0000,9,   -999.0,  9,  -999.00,9,   -999.0,  -999.00,9,  -999.00,9,     0.00,2,     0.05,2,   -999.0,-999.0000, -999,9,  200,  11.1495,  26.3484,   -999.0,9
     RF97-05-2,  137E,RF-0425,  1,     15,02-12833,2,19970626,1021,  5.0165, 137.0235, 5040,    301.7,   9.0086,  34.5520,2,   -999.0,9,-999.0000,9,     69.2,2,    39.27,2,  -999.00,9,    32.41,2,     0.00,2,     2.35,2, -999.000,9, -999.000,9,  -999.00,9,   -999.0,9,   -999.0,9,-999.0000,9,   -999.0,  9,  -999.00,9,   -999.0,  -999.00,9,  -999.00,9,  -999.00,9,  -999.00,9,   -999.0,-999.0000, -999,9,  300,   8.9758,  26.7712,   -999.0,9
     RF97-05-2,  137E,RF-0425,  1,     14,02-13578,2,19970626,1019,  5.0165, 137.0235, 5040,    402.2,   7.7743,  34.5697,2,   -999.0,9,-999.0000,9,     78.7,2,    43.19,2,  -999.00,9,    34.36,2,     0.00,2,     2.47,2, -999.000,9, -999.000,9,  -999.00,9,   -999.0,9,   -999.0,9,-999.0000,9,   -999.0,  9,  -999.00,9,   -999.0,  -999.00,9,  -999.00,9,  -999.00,9,  -999.00,9,   -999.0,-999.0000, -999,9,  400,   7.7340,  26.9753,   -999.0,9
     RF97-05-2,  137E,RF-0425,  1,     13,02-13590,2,19970626,1017,  5.0165, 137.0235, 5040,    503.2,   7.1436,  34.5575,2,   -999.0,9,-999.0000,9,     81.5,2,    47.59,2,  -999.00,9,    35.55,2,     0.00,2,     2.57,2, -999.000,9, -999.000,9,  -999.00,9,   -999.0,9,   -999.0,9,-999.0000,9,   -999.0,  9,  -999.00,9,   -999.0,  -999.00,9,  -999.00,9,  -999.00,9,  -999.00,9,   -999.0,-999.0000, -999,9,  500,   7.0952,  27.0570,   -999.0,9
     RF97-05-2,  137E,RF-0425,  1,     12,02-12821,2,19970626,1014,  5.0165, 137.0235, 5040,    604.0,   6.4371,  34.5432,2,   -999.0,9,  34.5464,2,     79.5,2,    56.18,2,  -999.00,9,    37.04,2,     0.00,2,     2.68,2, -999.000,9, -999.000,9,  -999.00,9,   -999.0,9,   -999.0,9,-999.0000,9,   -999.0,  9,  -999.00,9,   -999.0,  -999.00,9,  -999.00,9,  -999.00,9,  -999.00,9,   -999.0,-999.0000, -999,9,  600,   6.3819,  27.1423,   -999.0,9
     RF97-05-2,  137E,RF-0425,  1,     11,02-12811,2,19970626,1012,  5.0165, 137.0235, 5040,    705.4,   5.6933,  34.5258,2,   -999.0,9,-999.0000,9,     82.8,2,    69.50,2,  -999.00,9,    37.73,2,     0.00,2,     2.73,2, -999.000,9, -999.000,9,  -999.00,9,   -999.0,9,   -999.0,9,-999.0000,9,   -999.0,  9,  -999.00,9,   -999.0,  -999.00,9,  -999.00,9,  -999.00,9,  -999.00,9,   -999.0,-999.0000, -999,9,  700,   5.6323,  27.2239,   -999.0,9
     RF97-05-2,  137E,RF-0425,  1,     10,02-10155,2,19970626,1009,  5.0165, 137.0235, 5040,    805.2,   4.9756,  34.5379,2,   -999.0,9,  34.5470,2,     94.1,2,    79.40,2,  -999.00,9,    37.89,2,     0.00,2,     2.75,2, -999.000,9, -999.000,9,  -999.00,9,   -999.0,9,   -999.0,9,-999.0000,9,   -999.0,  9,  -999.00,9,   -999.0,  -999.00,9,  -999.00,9,  -999.00,9,  -999.00,9,   -999.0,-999.0000, -999,9,  799,   4.9097,  27.3193,   -999.0,9
     RF97-05-2,  137E,RF-0425,  1,      9,02-12810,2,19970626,1005,  5.0165, 137.0235, 5040,   1007.9,   4.1829,  34.5617,2,   -999.0,9,  34.5627,2,     94.5,2,    94.53,2,  -999.00,9,    38.61,2,     0.00,2,     2.78,2, -999.000,9, -999.000,9,  -999.00,9,   -999.0,9,   -999.0,9,-999.0000,9,   -999.0,  9,  -999.00,9,   -999.0,  -999.00,9,  -999.00,9,  -999.00,9,  -999.00,9,   1004.0,-999.0000, -999,9, 1000,   4.1051,  27.4266,   -999.0,9
     RF97-05-2,  137E,RF-0425,  1,      8,02-12829,2,19970626,1000,  5.0165, 137.0235, 5040,   1261.6,   3.5345,  34.5788,2,   -999.0,9,  34.5800,2,     98.4,2,   108.34,2,  -999.00,9,    38.92,2,     0.00,2,     2.81,2, -999.000,9, -999.000,9,  -999.00,9,   -999.0,9,   -999.0,9,-999.0000,9,   -999.0,  9,  -999.00,9,   -999.0,  -999.00,9,  -999.00,9,  -999.00,9,  -999.00,9,   -999.0,-999.0000, -999,9, 1251,   3.4410,  27.5073,   -999.0,9
     RF97-05-2,  137E,RF-0425,  1,      7,02-13589,2,19970626,0956,  5.0165, 137.0235, 5040,   1515.1,   2.9556,  34.5989,2,   -999.0,9,  34.5527,4,    101.4,2,   120.96,2,  -999.00,9,    39.17,2,     0.00,2,     2.82,2, -999.000,9, -999.000,9,  -999.00,9,   -999.0,9,   -999.0,9,-999.0000,9,   -999.0,  9,  -999.00,9,   -999.0,  -999.00,9,  -999.00,9,  -999.00,9,  -999.00,9,   -999.0,-999.0000, -999,9, 1501,   2.8469,  27.5788,   -999.0,9
     RF97-05-2,  137E,RF-0425,  1,      6,02-12818,2,19970626,0947,  5.0165, 137.0235, 5040,   2021.7,   2.1726,  34.6371,2,   -999.0,9,  34.6371,2,    116.5,2,   134.96,2,  -999.00,9,    38.59,2,     0.00,2,     2.75,2, -999.000,9, -999.000,9,  -999.00,9,   -999.0,9,   -999.0,9,-999.0000,9,   -999.0,  9,  -999.00,9,   -999.0,  -999.00,9,  -999.00,9,  -999.00,9,  -999.00,9,   -999.0,-999.0000, -999,9, 2001,   2.0317,  27.6784,   -999.0,9
     RF97-05-2,  137E,RF-0425,  1,      5,02-12809,2,19970626,0939,  5.0165, 137.0235, 5040,   2530.4,   1.7676,  34.6605,2,   -999.0,9,  34.6607,2,    133.3,2,   140.09,2,  -999.00,9,    37.66,2,     0.00,2,     2.68,2, -999.000,9, -999.000,9,  -999.00,9,   -999.0,9,   -999.0,9,-999.0000,9,   -999.0,  9,  -999.00,9,   -999.0,  -999.00,9,  -999.00,9,  -999.00,9,  -999.00,9,   -999.0,-999.0000, -999,9, 2501,   1.5889,  27.7312,   -999.0,9
     RF97-05-2,  137E,RF-0425,  1,      4,02-12817,2,19970626,0931,  5.0165, 137.0235, 5040,   3040.8,   1.5870,  34.6720,2,   -999.0,9,  34.6723,2,    145.6,2,   140.32,2,  -999.00,9,    36.84,2,     0.00,2,     2.61,2, -999.000,9, -999.000,9,  -999.00,9,   -999.0,9,   -999.0,9,-999.0000,9,   -999.0,  9,  -999.00,9,   -999.0,  -999.00,9,  -999.00,9,  -999.00,9,  -999.00,9,   -999.0,-999.0000, -999,9, 3002,   1.3644,  27.7568,   -999.0,9
     RF97-05-2,  137E,RF-0425,  1,      3,02-12808,2,19970626,0923,  5.0165, 137.0235, 5040,   3552.1,   1.5309,  34.6791,2,   -999.0,9,  34.6894,4,    150.9,2,   139.44,2,  -999.00,9,    36.38,2,     0.00,2,     2.56,2, -999.000,9, -999.000,9,  -999.00,9,   -999.0,9,   -999.0,9,-999.0000,9,   -999.0,  9,  -999.00,9,   -999.0,  -999.00,9,  -999.00,9,  -999.00,9,  -999.00,9,   -999.0,-999.0000, -999,9, 3503,   1.2587,  27.7699,   -999.0,9
     RF97-05-2,  137E,RF-0425,  1,      2,02-13588,2,19970626,0915,  5.0165, 137.0235, 5040,   4063.7,   1.5063,  34.6847,2,   -999.0,9,  34.6853,2,    157.3,2,   138.79,2,  -999.00,9,    36.04,2,     0.00,2,     2.53,2, -999.000,9, -999.000,9,  -999.00,9,   -999.0,9,   -999.0,9,-999.0000,9,   -999.0,  9,  -999.00,9,   -999.0,  -999.00,9,  -999.00,9,  -999.00,9,  -999.00,9,   -999.0,-999.0000, -999,9, 4003,   1.1803,  27.7798,   -999.0,9
     RF97-05-2,  137E,RF-0425,  1,      1,02-12807,2,19970626,0900,  5.0165, 137.0235, 5040,   4994.6,   1.5683,  34.6869,2,   -999.0,9,  34.6880,2,    161.6,2,   136.97,2,  -999.00,9,    35.61,2,     0.00,2,     2.50,2, -999.000,9, -999.000,9,  -999.00,9,   -999.0,9,   -999.0,9,-999.0000,9,   -999.0,  9,  -999.00,9,   -999.0,  -999.00,9,  -999.00,9,  -999.00,9,  -999.00,9,   4992.0,-999.0000, -999,9, 4910,   1.1324,  27.7848,   -999.0,9