BOTTLE,20130510GEMDJMAYT
EXPOCODE,SECT_ID,STNNBR,CASTNO,SAMPNO,BTLNBR,BTLNBR_FLAG_W,DATE,TIME,LATITUDE,LONGITUDE,DEPTH,CTDPRS,CTDTMP,CTDSAL,CTDSAL_FLAG_W,CTDOXY,CTDOXY_FLAG_W,SALNTY,SALNTY_FLAG_W,OXYGEN,OXYGEN_FLAG_W,SILCAT,SILCAT_FLAG_W,NITRAT,NITRAT_FLAG_W,NO2+NO3,NO2+NO3_FLAG_W,NITRIT,NITRIT_FLAG_W,PHSPHT,PHSPHT_FLAG_W,CFC-11,CFC-11_FLAG_W,CFC-12,CFC-12_FLAG_W,DELC13,DELC13_FLAG_W,TCARBN,TCARBN_FLAG_W,ALKALI,ALKALI_FLAG_W,PH,PH_FLAG_W,PH_TMP,PH_SCALE,PH_NBS,PH_NBS_FLAG_W,C13ERR,TOTALP,TOTALP_FLAG_W,AMMONI,AMMONI_FLAG_W,CHLORA,CHLORA_FLAG_W,PPHYTN,PPHYTN_FLAG_W,REVPRS,REVTMP,DEPTH_,DEPTH_FLAG,CTDDEP,THETA,SIGTHT,DOC,DOC_FLAG_W
,,,,,,,GMT,GMT,,,METER,DBAR,ITS-90,PSS-78,,UMOL/KG,,PSS-78,,UMOL/KG,,UMOL/KG,,UMOL/KG,,UMOL/KG,,UMOL/KG,,UMOL/KG,,PMOL/KG,,PMOL/KG,,/MILLE,,UMOL/KG,,UMOL/KG,,25_DEG_C,,DEG_C,,,,/MILLE,UMOL/KG,,UMOL/KG,,UG/L,,UG/L,,DBAR,ITS-90,METERS,,METERS,DEG_C,,UMOL/L,
     RF03-06-1,  165E,RF-1934,  1,     -9,      -9,5,20030629,2112, 40.0103, 165.0098, 5467,      0.0,  15.5868,  34.1287,2,   -999.0,9,-999.0000,9,    288.1,2,     0.13,2,  -999.00,9,     0.00,2,     0.00,2,     0.09,2, -999.000,9, -999.000,9,  -999.00,9,   1978.3,2,   -999.0,9,-999.0000,9,   -999.0,  9,  -999.00,9,   -999.0,  -999.00,9,  -999.00,9,     3.55,2,     0.00,2,   -999.0,-999.0000, -999,9,    0,  15.5865,  25.1707,   -999.0,9
     RF03-06-1,  165E,RF-1934,  1,     21,02-18575,2,20030629,2110, 40.0103, 165.0098, 5467,     10.6,  14.5809,  34.1120,2,   -999.0,9,-999.0000,9,    271.3,2,     1.03,2,  -999.00,9,     0.73,2,     0.03,2,     0.17,2, -999.000,9, -999.000,9,  -999.00,9,   1991.1,2,   -999.0,9,-999.0000,9,   -999.0,  9,  -999.00,9,   -999.0,  -999.00,9,  -999.00,9,     5.67,2,     0.00,2,   -999.0,-999.0000, -999,9,   11,  14.5793,  25.3783,   -999.0,9
     RF03-06-1,  165E,RF-1934,  1,     20,02-18574,2,20030629,2109, 40.0103, 165.0098, 5467,     25.1,  13.1171,  34.1458,2,   -999.0,9,-999.0000,9,    271.4,2,     9.26,2,  -999.00,9,     5.04,2,     0.19,2,     0.49,2, -999.000,9, -999.000,9,  -999.00,9,   2034.2,2,   -999.0,9,-999.0000,9,   -999.0,  9,  -999.00,9,   -999.0,  -999.00,9,  -999.00,9,     2.48,2,     0.44,2,   -999.0,-999.0000, -999,9,   25,  13.1137,  25.7084,   -999.0,9
     RF03-06-1,  165E,RF-1934,  1,     19,02-18573,2,20030629,2108, 40.0103, 165.0098, 5467,     51.6,  10.8245,  34.1560,2,   -999.0,9,-999.0000,9,    270.5,2,    15.93,2,  -999.00,9,     9.76,2,     0.39,2,     0.74,2, -999.000,9, -999.000,9,  -999.00,9,   2066.3,2,   -999.0,9,-999.0000,9,   -999.0,  9,  -999.00,9,   -999.0,  -999.00,9,  -999.00,9,     0.16,2,     0.24,2,   -999.0,-999.0000, -999,9,   51,  10.8183,  26.1508,   -999.0,9
     RF03-06-1,  165E,RF-1934,  1,     18,02-18572,2,20030629,2107, 40.0103, 165.0098, 5467,     75.3,  10.6480,  34.1447,2,   -999.0,9,-999.0000,9,    267.6,2,    16.60,2,  -999.00,9,    10.70,2,     0.30,2,     0.77,2, -999.000,9, -999.000,9,  -999.00,9,   2067.6,2,   -999.0,9,-999.0000,9,   -999.0,  9,  -999.00,9,   -999.0,  -999.00,9,  -999.00,9,     0.08,2,     0.17,2,   -999.0,-999.0000, -999,9,   75,  10.6391,  26.1736,   -999.0,9
     RF03-06-1,  165E,RF-1934,  1,     17,02-18571,2,20030629,2105, 40.0103, 165.0098, 5467,    101.7,  10.1683,  34.1177,2,   -999.0,9,  34.0992,4,    267.4,2,    18.53,2,  -999.00,9,    12.02,2,     0.01,2,     0.87,2, -999.000,9, -999.000,9,  -999.00,9,   2076.4,2,   -999.0,9,-999.0000,9,   -999.0,  9,  -999.00,9,   -999.0,  -999.00,9,  -999.00,9,     0.05,2,     0.12,2,   -999.0,-999.0000, -999,9,  101,  10.1566,  26.2363,   -999.0,9
     RF03-06-1,  165E,RF-1934,  1,     16,02-18570,2,20030629,2104, 40.0103, 165.0098, 5467,    125.6,   9.2097,  34.0357,2,   -999.0,9,-999.0000,9,    264.4,2,    20.23,2,  -999.00,9,    13.32,2,     0.00,2,     0.96,2, -999.000,9, -999.000,9,  -999.00,9,   2089.1,2,   -999.0,9,-999.0000,9,   -999.0,  9,  -999.00,9,   -999.0,  -999.00,9,  -999.00,9,     0.05,2,     0.10,2,   -999.0,-999.0000, -999,9,  125,   9.1961,  26.3317,   -999.0,9
     RF03-06-1,  165E,RF-1934,  1,     15,02-18569,2,20030629,2103, 40.0103, 165.0098, 5467,    151.1,   8.6056,  34.0059,2,   -999.0,9,-999.0000,9,    269.8,2,    21.51,2,  -999.00,9,    14.06,2,     0.00,2,     1.02,2, -999.000,9, -999.000,9,  -999.00,9,   2093.4,2,   -999.0,9,-999.0000,9,   -999.0,  9,  -999.00,9,   -999.0,  -999.00,9,  -999.00,9,     0.03,2,     0.08,2,   -999.0,-999.0000, -999,9,  150,   8.5899,  26.4039,   -999.0,9
     RF03-06-1,  165E,RF-1934,  1,     14,02-18568,2,20030629,2102, 40.0103, 165.0098, 5467,    201.9,   7.6433,  33.9851,2,   -999.0,9,  33.9858,2,    213.0,2,    33.18,2,  -999.00,9,    20.31,2,     0.00,2,     1.45,2, -999.000,9, -999.000,9,  -999.00,9,   2134.9,2,   -999.0,9,-999.0000,9,   -999.0,  9,  -999.00,9,   -999.0,  -999.00,9,  -999.00,9,     0.01,2,     0.04,2,   -999.0,-999.0000, -999,9,  200,   7.6237,  26.5317,   -999.0,9
     RF03-06-1,  165E,RF-1934,  1,     13,02-18567,2,20030629,2100, 40.0103, 165.0098, 5467,    252.5,   6.9585,  34.0036,2,   -999.0,9,-999.0000,9,    173.0,2,    46.45,2,  -999.00,9,    25.29,2,     0.00,2,     1.82,2, -999.000,9, -999.000,9,  -999.00,9,   2176.1,2,   -999.0,9,-999.0000,9,   -999.0,  9,  -999.00,9,   -999.0,  -999.00,9,  -999.00,9,  -999.00,9,  -999.00,9,   -999.0,-999.0000, -999,9,  250,   6.9352,  26.6427,   -999.0,9
     RF03-06-1,  165E,RF-1934,  1,     12,02-18566,2,20030629,2058, 40.0103, 165.0098, 5467,    302.7,   5.7363,  33.8969,2,   -999.0,9,  33.8956,2,    175.5,2,    51.31,2,  -999.00,9,    27.08,2,     0.00,2,     1.97,2, -999.000,9, -999.000,9,  -999.00,9,   2187.6,2,   -999.0,9,-999.0000,9,   -999.0,  9,  -999.00,9,   -999.0,  -999.00,9,  -999.00,9,  -999.00,9,  -999.00,9,   -999.0,-999.0000, -999,9,  300,   5.7112,  26.7168,   -999.0,9
     RF03-06-1,  165E,RF-1934,  1,     11,02-18565,2,20030629,2056, 40.0103, 165.0098, 5467,    403.8,   4.7949,  33.9687,2,   -999.0,9,  33.9700,2,    112.6,2,    74.09,2,  -999.00,9,    34.08,2,     0.00,2,     2.47,2, -999.000,9, -999.000,9,  -999.00,9,   2253.1,2,   -999.0,9,-999.0000,9,   -999.0,  9,  -999.00,9,   -999.0,  -999.00,9,  -999.00,9,  -999.00,9,  -999.00,9,   -999.0,-999.0000, -999,9,  400,   4.7640,  26.8842,   -999.0,9
     RF03-06-1,  165E,RF-1934,  1,     10,02-18564,2,20030629,2052, 40.0103, 165.0098, 5467,    504.8,   4.6919,  34.1131,2,   -999.0,9,  34.1148,2,     81.2,2,    87.79,2,  -999.00,9,    36.82,2,     0.00,2,     2.66,2, -999.000,9, -999.000,9,  -999.00,9,   -999.0,9,   -999.0,9,-999.0000,9,   -999.0,  9,  -999.00,9,   -999.0,  -999.00,9,  -999.00,9,  -999.00,9,  -999.00,9,   -999.0,-999.0000, -999,9,  500,   4.6532,  27.0111,   -999.0,9
     RF03-06-1,  165E,RF-1934,  1,      9,02-18563,2,20030629,2049, 40.0103, 165.0098, 5467,    605.1,   4.2403,  34.2075,2,   -999.0,9,  34.2068,2,     59.3,2,   102.00,2,  -999.00,9,    39.04,2,     0.00,2,     2.81,2, -999.000,9, -999.000,9,  -999.00,9,   -999.0,9,   -999.0,9,-999.0000,9,   -999.0,  9,  -999.00,9,   -999.0,  -999.00,9,  -999.00,9,  -999.00,9,  -999.00,9,   -999.0,-999.0000, -999,9,  600,   4.1955,  27.1354,   -999.0,9
     RF03-06-1,  165E,RF-1934,  1,      8,02-18562,2,20030629,2047, 40.0103, 165.0098, 5467,    706.7,   3.8575,  34.2644,2,   -999.0,9,  34.2642,2,     47.8,2,   112.33,2,  -999.00,9,    40.37,2,     0.00,2,     2.91,2, -999.000,9, -999.000,9,  -999.00,9,   -999.0,9,   -999.0,9,-999.0000,9,   -999.0,  9,  -999.00,9,   -999.0,  -999.00,9,  -999.00,9,  -999.00,9,  -999.00,9,   -999.0,-999.0000, -999,9,  700,   3.8067,  27.2207,   -999.0,9
     RF03-06-1,  165E,RF-1934,  1,      7,02-18561,3,20030629,2044, 40.0103, 165.0098, 5467,    807.8,   3.4915,  34.3054,2,   -999.0,9,  34.3025,2,     54.4,2,   121.30,2,  -999.00,9,    41.13,2,     0.00,2,     2.97,2, -999.000,9, -999.000,9,  -999.00,9,   2339.9,3,   -999.0,9,-999.0000,9,   -999.0,  9,  -999.00,9,   -999.0,  -999.00,9,  -999.00,9,  -999.00,9,  -999.00,9,   -999.0,-999.0000, -999,9,  800,   3.4350,  27.2899,   -999.0,9
     RF03-06-1,  165E,RF-1934,  1,      6,02-18560,2,20030629,2042, 40.0103, 165.0098, 5467,    909.1,   3.2795,  34.3439,2,   -999.0,9,-999.0000,9,     36.9,2,   128.16,2,  -999.00,9,    41.74,2,     0.00,2,     3.02,2, -999.000,9, -999.000,9,  -999.00,9,   -999.0,9,   -999.0,9,-999.0000,9,   -999.0,  9,  -999.00,9,   -999.0,  -999.00,9,  -999.00,9,  -999.00,9,  -999.00,9,   -999.0,-999.0000, -999,9,  900,   3.2167,  27.3414,   -999.0,9
     RF03-06-1,  165E,RF-1934,  1,      5,02-18559,2,20030629,2039, 40.0103, 165.0098, 5467,   1009.9,   3.0459,  34.3866,2,   -999.0,9,  34.3870,2,     37.4,2,   134.50,2,  -999.00,9,    42.14,2,     0.00,2,     3.05,2, -999.000,9, -999.000,9,  -999.00,9,   2358.4,2,   -999.0,9,-999.0000,9,   -999.0,  9,  -999.00,9,   -999.0,  -999.00,9,  -999.00,9,  -999.00,9,  -999.00,9,   -999.0,-999.0000, -999,9, 1000,   2.9771,  27.3975,   -999.0,9
     RF03-06-1,  165E,RF-1934,  1,      4,02-18558,2,20030629,2033, 40.0103, 165.0098, 5467,   1264.2,   2.5831,  34.4561,2,   -999.0,9,  34.4552,2,     33.3,2,   148.12,2,  -999.00,9,    42.64,2,     0.00,2,     3.06,2, -999.000,9, -999.000,9,  -999.00,9,   2374.9,2,   -999.0,9,-999.0000,9,   -999.0,  9,  -999.00,9,   -999.0,  -999.00,9,  -999.00,9,  -999.00,9,  -999.00,9,   -999.0,-999.0000, -999,9, 1251,   2.4989,  27.4950,   -999.0,9
     RF03-06-1,  165E,RF-1934,  1,      3,02-18557,2,20030629,2028, 40.0103, 165.0098, 5467,   1516.5,   2.3314,  34.5079,2,   -999.0,9,  34.5075,2,     39.9,2,   154.70,2,  -999.00,9,    42.36,2,     0.00,2,     3.04,2, -999.000,9, -999.000,9,  -999.00,9,   2378.9,2,   -999.0,9,-999.0000,9,   -999.0,  9,  -999.00,9,   -999.0,  -999.00,9,  -999.00,9,  -999.00,9,  -999.00,9,   -999.0,-999.0000, -999,9, 1499,   2.2302,  27.5589,   -999.0,9
     RF03-06-1,  165E,RF-1934,  1,      2,02-18556,2,20030629,2023, 40.0103, 165.0098, 5467,   1771.4,   2.1043,  34.5552,2,   -999.0,9,  34.5564,2,     54.7,2,   158.66,2,  -999.00,9,    41.74,2,     0.00,2,     2.97,2, -999.000,9, -999.000,9,  -999.00,9,   -999.0,9,   -999.0,9,-999.0000,9,   -999.0,  9,  -999.00,9,   -999.0,  -999.00,9,  -999.00,9,  -999.00,9,  -999.00,9,   -999.0,-999.0000, -999,9, 1750,   1.9854,  27.6165,   -999.0,9
     RF03-06-1,  165E,RF-1934,  1,      1,02-18555,2,20030629,2017, 40.0103, 165.0098, 5467,   2047.8,   1.9334,  34.5908,2,   -999.0,9,  34.5907,2,     68.5,2,   160.29,2,  -999.00,9,    40.93,2,     0.00,2,     2.91,2, -999.000,9, -999.000,9,  -999.00,9,   2370.8,2,   -999.0,9,-999.0000,9,   -999.0,  9,  -999.00,9,   -999.0,  -999.00,9,  -999.00,9,  -999.00,9,  -999.00,9,   -999.0,-999.0000, -999,9, 2022,   1.7941,  27.6598,   -999.0,9