BOTTLE,20130510GEMDJMAYT
EXPOCODE,SECT_ID,STNNBR,CASTNO,SAMPNO,BTLNBR,BTLNBR_FLAG_W,DATE,TIME,LATITUDE,LONGITUDE,DEPTH,CTDPRS,CTDTMP,CTDSAL,CTDSAL_FLAG_W,CTDOXY,CTDOXY_FLAG_W,SALNTY,SALNTY_FLAG_W,OXYGEN,OXYGEN_FLAG_W,SILCAT,SILCAT_FLAG_W,NITRAT,NITRAT_FLAG_W,NO2+NO3,NO2+NO3_FLAG_W,NITRIT,NITRIT_FLAG_W,PHSPHT,PHSPHT_FLAG_W,CFC-11,CFC-11_FLAG_W,CFC-12,CFC-12_FLAG_W,DELC13,DELC13_FLAG_W,TCARBN,TCARBN_FLAG_W,ALKALI,ALKALI_FLAG_W,PH,PH_FLAG_W,PH_TMP,PH_SCALE,PH_NBS,PH_NBS_FLAG_W,C13ERR,TOTALP,TOTALP_FLAG_W,AMMONI,AMMONI_FLAG_W,CHLORA,CHLORA_FLAG_W,PPHYTN,PPHYTN_FLAG_W,REVPRS,REVTMP,DEPTH_,DEPTH_FLAG,CTDDEP,THETA,SIGTHT,DOC,DOC_FLAG_W
,,,,,,,GMT,GMT,,,METER,DBAR,ITS-90,PSS-78,,UMOL/KG,,PSS-78,,UMOL/KG,,UMOL/KG,,UMOL/KG,,UMOL/KG,,UMOL/KG,,UMOL/KG,,PMOL/KG,,PMOL/KG,,/MILLE,,UMOL/KG,,UMOL/KG,,25_DEG_C,,DEG_C,,,,/MILLE,UMOL/KG,,UMOL/KG,,UG/L,,UG/L,,DBAR,ITS-90,METERS,,METERS,DEG_C,,UMOL/L,
     RF03-06-1,  165E,RF-1948,  1,     -9,      -9,5,20030703,2128, 26.0025, 164.9960, 5711,      0.0,  28.6076,  35.2452,2,   -999.0,9,-999.0000,9,    204.3,2,     1.44,2,  -999.00,9,     0.02,2,     0.00,2,     0.01,2, -999.000,9, -999.000,9,  -999.00,9,   1972.7,2,   -999.0,9,-999.0000,9,   -999.0,  9,  -999.00,9,   -999.0,  -999.00,9,  -999.00,9,     0.05,2,     0.01,2,   -999.0,-999.0000, -999,9,    0,  28.6072,  22.3791,   -999.0,9
     RF03-06-1,  165E,RF-1948,  1,     21,02-18575,2,20030703,2126, 26.0025, 164.9960, 5711,     10.5,  28.1251,  35.2582,2,   -999.0,9,-999.0000,9,    206.1,2,     1.38,2,  -999.00,9,     0.02,2,     0.00,2,     0.02,2, -999.000,9, -999.000,9,  -999.00,9,   1974.7,2,   -999.0,9,-999.0000,9,   -999.0,  9,  -999.00,9,   -999.0,  -999.00,9,  -999.00,9,     0.05,2,     0.01,2,   -999.0,-999.0000, -999,9,   10,  28.1226,  22.5487,   -999.0,9
     RF03-06-1,  165E,RF-1948,  1,     20,02-18574,2,20030703,2124, 26.0025, 164.9960, 5711,     25.2,  25.2817,  35.0897,2,   -999.0,9,-999.0000,9,    218.7,2,     1.44,2,  -999.00,9,     0.00,2,     0.00,2,     0.00,2, -999.000,9, -999.000,9,  -999.00,9,   1973.5,2,   -999.0,9,-999.0000,9,   -999.0,  9,  -999.00,9,   -999.0,  -999.00,9,  -999.00,9,     0.08,2,     0.00,2,   -999.0,-999.0000, -999,9,   25,  25.2762,  23.3247,   -999.0,9
     RF03-06-1,  165E,RF-1948,  1,     19,02-18573,2,20030703,2123, 26.0025, 164.9960, 5711,     50.4,  21.6723,  34.9492,2,   -999.0,9,-999.0000,9,    234.8,2,     1.85,2,  -999.00,9,     0.00,2,     0.00,2,     0.00,2, -999.000,9, -999.000,9,  -999.00,9,   1978.0,2,   -999.0,9,-999.0000,9,   -999.0,  9,  -999.00,9,   -999.0,  -999.00,9,  -999.00,9,     0.10,2,     0.02,2,   -999.0,-999.0000, -999,9,   50,  21.6624,  24.2733,   -999.0,9
     RF03-06-1,  165E,RF-1948,  1,     18,02-18572,2,20030703,2122, 26.0025, 164.9960, 5711,     75.0,  20.6098,  34.9923,2,   -999.0,9,-999.0000,9,    225.8,2,     1.92,2,  -999.00,9,     0.00,2,     0.00,2,     0.01,2, -999.000,9, -999.000,9,  -999.00,9,   1714.6,4,   -999.0,9,-999.0000,9,   -999.0,  9,  -999.00,9,   -999.0,  -999.00,9,  -999.00,9,     0.15,2,     0.05,2,   -999.0,-999.0000, -999,9,   75,  20.5957,  24.5973,   -999.0,9
     RF03-06-1,  165E,RF-1948,  1,     17,02-18571,2,20030703,2121, 26.0025, 164.9960, 5711,    101.4,  19.4332,  34.8832,2,   -999.0,9,  34.8812,2,    225.8,2,     2.11,2,  -999.00,9,     0.04,2,     0.00,2,     0.04,2, -999.000,9, -999.000,9,  -999.00,9,   1995.2,2,   -999.0,9,-999.0000,9,   -999.0,  9,  -999.00,9,   -999.0,  -999.00,9,  -999.00,9,     0.23,2,     0.31,2,   -999.0,-999.0000, -999,9,  101,  19.4149,  24.8254,   -999.0,9
     RF03-06-1,  165E,RF-1948,  1,     16,02-18570,2,20030703,2120, 26.0025, 164.9960, 5711,    125.2,  18.5185,  34.8370,2,   -999.0,9,-999.0000,9,    220.3,2,     2.42,2,  -999.00,9,     1.40,2,     0.04,2,     0.09,2, -999.000,9, -999.000,9,  -999.00,9,   2004.2,2,   -999.0,9,-999.0000,9,   -999.0,  9,  -999.00,9,   -999.0,  -999.00,9,  -999.00,9,     0.20,2,     0.36,2,   -999.0,-999.0000, -999,9,  124,  18.4966,  25.0239,   -999.0,9
     RF03-06-1,  165E,RF-1948,  1,     15,02-18569,2,20030703,2119, 26.0025, 164.9960, 5711,    152.5,  17.9990,  34.7913,2,   -999.0,9,-999.0000,9,    222.4,2,     2.81,2,  -999.00,9,     2.43,2,     0.00,2,     0.15,2, -999.000,9, -999.000,9,  -999.00,9,   2005.1,2,   -999.0,9,-999.0000,9,   -999.0,  9,  -999.00,9,   -999.0,  -999.00,9,  -999.00,9,     0.08,2,     0.08,2,   -999.0,-999.0000, -999,9,  151,  17.9729,  25.1189,   -999.0,9
     RF03-06-1,  165E,RF-1948,  1,     14,02-18568,2,20030703,2117, 26.0025, 164.9960, 5711,    202.6,  17.3444,  34.7461,2,   -999.0,9,  34.7520,4,    221.2,2,     3.25,2,  -999.00,9,     3.05,2,     0.00,2,     0.19,2, -999.000,9, -999.000,9,  -999.00,9,   1726.5,4,   -999.0,9,-999.0000,9,   -999.0,  9,  -999.00,9,   -999.0,  -999.00,9,  -999.00,9,     0.01,2,     0.01,2,   -999.0,-999.0000, -999,9,  201,  17.3106,  25.2452,   -999.0,9
     RF03-06-1,  165E,RF-1948,  1,     13,02-18567,2,20030703,2115, 26.0025, 164.9960, 5711,    253.0,  16.7136,  34.7040,2,   -999.0,9,-999.0000,9,    215.6,2,     4.59,2,  -999.00,9,     4.81,2,     0.00,2,     0.29,2, -999.000,9, -999.000,9,  -999.00,9,   2023.8,2,   -999.0,9,-999.0000,9,   -999.0,  9,  -999.00,9,   -999.0,  -999.00,9,  -999.00,9,  -999.00,9,  -999.00,9,   -999.0,-999.0000, -999,9,  251,  16.6724,  25.3643,   -999.0,9
     RF03-06-1,  165E,RF-1948,  1,     12,02-18566,2,20030703,2114, 26.0025, 164.9960, 5711,    303.1,  15.8453,  34.6309,2,   -999.0,9,  34.6282,2,    203.9,2,     7.05,2,  -999.00,9,     7.53,2,     0.00,2,     0.49,2, -999.000,9, -999.000,9,  -999.00,9,   2043.4,2,   -999.0,9,-999.0000,9,   -999.0,  9,  -999.00,9,   -999.0,  -999.00,9,  -999.00,9,  -999.00,9,  -999.00,9,   -999.0,-999.0000, -999,9,  301,  15.7976,  25.5096,   -999.0,9
     RF03-06-1,  165E,RF-1948,  1,     11,02-18565,2,20030703,2111, 26.0025, 164.9960, 5711,    403.3,  12.9055,  34.4218,2,   -999.0,9,  34.4174,2,    206.1,2,    13.28,2,  -999.00,9,    11.99,2,     0.00,2,     0.79,2, -999.000,9, -999.000,9,  -999.00,9,   2054.4,2,   -999.0,9,-999.0000,9,   -999.0,  9,  -999.00,9,   -999.0,  -999.00,9,  -999.00,9,  -999.00,9,  -999.00,9,   -999.0,-999.0000, -999,9,  400,  12.8502,  25.9748,   -999.0,9
     RF03-06-1,  165E,RF-1948,  1,     10,02-18564,2,20030703,2109, 26.0025, 164.9960, 5711,    503.6,  10.1546,  34.2269,2,   -999.0,9,  34.2290,2,    194.5,2,    24.72,2,  -999.00,9,    17.86,2,     0.00,2,     1.22,2, -999.000,9, -999.000,9,  -999.00,9,   -999.0,9,   -999.0,9,-999.0000,9,   -999.0,  9,  -999.00,9,   -999.0,  -999.00,9,  -999.00,9,  -999.00,9,  -999.00,9,   -999.0,-999.0000, -999,9,  500,  10.0953,  26.3320,   -999.0,9
     RF03-06-1,  165E,RF-1948,  1,      9,02-18563,2,20030703,2106, 26.0025, 164.9960, 5711,    604.7,   7.2535,  34.0496,2,   -999.0,9,  34.0529,2,    153.1,2,    46.89,2,  -999.00,9,    26.67,2,     0.00,2,     1.89,2, -999.000,9, -999.000,9,  -999.00,9,   2185.2,2,   -999.0,9,-999.0000,9,   -999.0,  9,  -999.00,9,   -999.0,  -999.00,9,  -999.00,9,  -999.00,9,  -999.00,9,   -999.0,-999.0000, -999,9,  600,   7.1949,  26.6432,   -999.0,9
     RF03-06-1,  165E,RF-1948,  1,      8,02-18562,2,20030703,2104, 26.0025, 164.9960, 5711,    706.2,   5.7269,  34.0631,2,   -999.0,9,  34.0657,2,    108.9,2,    68.25,2,  -999.00,9,    33.23,2,     0.00,2,     2.38,2, -999.000,9, -999.000,9,  -999.00,9,   -999.0,9,   -999.0,9,-999.0000,9,   -999.0,  9,  -999.00,9,   -999.0,  -999.00,9,  -999.00,9,  -999.00,9,  -999.00,9,   -999.0,-999.0000, -999,9,  700,   5.6661,  26.8537,   -999.0,9
     RF03-06-1,  165E,RF-1948,  1,      7,02-18561,2,20030703,2101, 26.0025, 164.9960, 5711,    806.4,   4.8168,  34.1327,2,   -999.0,9,  34.1369,2,     72.5,2,    87.41,2,  -999.00,9,    37.62,2,     0.00,2,     2.71,2, -999.000,9, -999.000,9,  -999.00,9,   2228.7,2,   -999.0,9,-999.0000,9,   -999.0,  9,  -999.00,9,   -999.0,  -999.00,9,  -999.00,9,  -999.00,9,  -999.00,9,   -999.0,-999.0000, -999,9,  800,   4.7524,  27.0156,   -999.0,9
     RF03-06-1,  165E,RF-1948,  1,      6,02-18560,2,20030703,2059, 26.0025, 164.9960, 5711,    908.9,   4.1457,  34.2313,2,   -999.0,9,-999.0000,9,     47.6,2,   104.69,2,  -999.00,9,    40.39,2,     0.00,2,     2.92,2, -999.000,9, -999.000,9,  -999.00,9,   -999.0,9,   -999.0,9,-999.0000,9,   -999.0,  9,  -999.00,9,   -999.0,  -999.00,9,  -999.00,9,  -999.00,9,  -999.00,9,   -999.0,-999.0000, -999,9,  901,   4.0769,  27.1667,   -999.0,9
     RF03-06-1,  165E,RF-1948,  1,      5,02-18559,2,20030703,2057, 26.0025, 164.9960, 5711,   1009.2,   3.7239,  34.3080,2,   -999.0,9,  34.3105,2,     37.1,2,   116.24,2,  -999.00,9,    41.70,2,     0.00,2,     3.01,2, -999.000,9, -999.000,9,  -999.00,9,   2341.2,2,   -999.0,9,-999.0000,9,   -999.0,  9,  -999.00,9,   -999.0,  -999.00,9,  -999.00,9,  -999.00,9,  -999.00,9,   -999.0,-999.0000, -999,9, 1000,   3.6500,  27.2711,   -999.0,9
     RF03-06-1,  165E,RF-1948,  1,      4,02-18558,2,20030703,2051, 26.0025, 164.9960, 5711,   1262.0,   2.9676,  34.4649,2,   -999.0,9,  34.4658,2,     42.6,2,   135.05,2,  -999.00,9,    42.03,2,     0.00,2,     3.01,2, -999.000,9, -999.000,9,  -999.00,9,   2368.1,2,   -999.0,9,-999.0000,9,   -999.0,  9,  -999.00,9,   -999.0,  -999.00,9,  -999.00,9,  -999.00,9,  -999.00,9,   -999.0,-999.0000, -999,9, 1250,   2.8797,  27.4688,   -999.0,9
     RF03-06-1,  165E,RF-1948,  1,      3,02-18557,2,20030703,2047, 26.0025, 164.9960, 5711,   1517.3,   2.5523,  34.5445,2,   -999.0,9,  34.5450,2,     68.4,3,   139.94,2,  -999.00,9,    40.61,2,     0.00,2,     2.88,2, -999.000,9, -999.000,9,  -999.00,9,   2298.5,4,   -999.0,9,-999.0000,9,   -999.0,  9,  -999.00,9,   -999.0,  -999.00,9,  -999.00,9,  -999.00,9,  -999.00,9,   -999.0,-999.0000, -999,9, 1502,   2.4483,  27.5701,   -999.0,9
     RF03-06-1,  165E,RF-1948,  1,      2,02-18556,2,20030703,2041, 26.0025, 164.9960, 5711,   1769.0,   2.2321,  34.5845,2,   -999.0,9,  34.5853,2,     83.7,2,   144.52,2,  -999.00,9,    39.94,2,     0.00,2,     2.82,2, -999.000,9, -999.000,9,  -999.00,9,   -999.0,9,   -999.0,9,-999.0000,9,   -999.0,  9,  -999.00,9,   -999.0,  -999.00,9,  -999.00,9,  -999.00,9,  -999.00,9,   -999.0,-999.0000, -999,9, 1750,   2.1116,  27.6299,   -999.0,9
     RF03-06-1,  165E,RF-1948,  1,      1,02-18555,2,20030703,2036, 26.0025, 164.9960, 5711,   2045.3,   1.9617,  34.6142,2,   -999.0,9,  34.6145,2,     96.8,2,   147.75,2,  -999.00,9,    39.24,2,     0.00,2,     2.74,2, -999.000,9, -999.000,9,  -999.00,9,   2357.3,2,   -999.0,9,-999.0000,9,   -999.0,  9,  -999.00,9,   -999.0,  -999.00,9,  -999.00,9,  -999.00,9,  -999.00,9,   -999.0,-999.0000, -999,9, 2022,   1.8221,  27.6765,   -999.0,9