BOTTLE,20130510GEMDJMAYT
EXPOCODE,SECT_ID,STNNBR,CASTNO,SAMPNO,BTLNBR,BTLNBR_FLAG_W,DATE,TIME,LATITUDE,LONGITUDE,DEPTH,CTDPRS,CTDTMP,CTDSAL,CTDSAL_FLAG_W,CTDOXY,CTDOXY_FLAG_W,SALNTY,SALNTY_FLAG_W,OXYGEN,OXYGEN_FLAG_W,SILCAT,SILCAT_FLAG_W,NITRAT,NITRAT_FLAG_W,NO2+NO3,NO2+NO3_FLAG_W,NITRIT,NITRIT_FLAG_W,PHSPHT,PHSPHT_FLAG_W,CFC-11,CFC-11_FLAG_W,CFC-12,CFC-12_FLAG_W,DELC13,DELC13_FLAG_W,TCARBN,TCARBN_FLAG_W,ALKALI,ALKALI_FLAG_W,PH,PH_FLAG_W,PH_TMP,PH_SCALE,PH_NBS,PH_NBS_FLAG_W,C13ERR,TOTALP,TOTALP_FLAG_W,AMMONI,AMMONI_FLAG_W,CHLORA,CHLORA_FLAG_W,PPHYTN,PPHYTN_FLAG_W,REVPRS,REVTMP,DEPTH_,DEPTH_FLAG,CTDDEP,THETA,SIGTHT,DOC,DOC_FLAG_W
,,,,,,,GMT,GMT,,,METER,DBAR,ITS-90,PSS-78,,UMOL/KG,,PSS-78,,UMOL/KG,,UMOL/KG,,UMOL/KG,,UMOL/KG,,UMOL/KG,,UMOL/KG,,PMOL/KG,,PMOL/KG,,/MILLE,,UMOL/KG,,UMOL/KG,,25_DEG_C,,DEG_C,,,,/MILLE,UMOL/KG,,UMOL/KG,,UG/L,,UG/L,,DBAR,ITS-90,METERS,,METERS,DEG_C,,UMOL/L,
     RF03-06-1,  165E,RF-1944,  1,     -9,      -9,5,20030702,1524, 30.0045, 165.0053, 5854,      0.0,  26.0937,  34.9825,2,   -999.0,9,-999.0000,9,    210.0,2,     1.27,2,  -999.00,9,     0.00,2,     0.00,2,     0.00,2, -999.000,9, -999.000,9,  -999.00,9,   1973.3,2,   -999.0,9,-999.0000,9,   -999.0,  9,  -999.00,9,   -999.0,  -999.00,9,  -999.00,9,     0.05,2,     0.01,2,   -999.0,-999.0000, -999,9,    0,  26.0933,  22.9910,   -999.0,9
     RF03-06-1,  165E,RF-1944,  1,     21,02-18575,2,20030702,1521, 30.0045, 165.0053, 5854,      9.7,  26.0915,  34.9811,2,   -999.0,9,-999.0000,9,    213.5,2,     1.16,2,  -999.00,9,     0.00,2,     0.00,2,     0.00,2, -999.000,9, -999.000,9,  -999.00,9,   1974.7,2,   -999.0,9,-999.0000,9,   -999.0,  9,  -999.00,9,   -999.0,  -999.00,9,  -999.00,9,     0.06,2,     0.01,2,   -999.0,-999.0000, -999,9,   10,  26.0893,  22.9912,   -999.0,9
     RF03-06-1,  165E,RF-1944,  1,     20,02-18574,2,20030702,1520, 30.0045, 165.0053, 5854,     25.3,  25.1218,  35.0498,2,   -999.0,9,-999.0000,9,    221.6,2,     1.11,2,  -999.00,9,     0.00,2,     0.00,2,     0.00,2, -999.000,9, -999.000,9,  -999.00,9,   1975.7,2,   -999.0,9,-999.0000,9,   -999.0,  9,  -999.00,9,   -999.0,  -999.00,9,  -999.00,9,     0.08,2,     0.01,2,   -999.0,-999.0000, -999,9,   25,  25.1163,  23.3435,   -999.0,9
     RF03-06-1,  165E,RF-1944,  1,     19,02-18573,2,20030702,1519, 30.0045, 165.0053, 5854,     50.3,  21.1316,  35.0168,2,   -999.0,9,-999.0000,9,    226.6,2,     1.39,2,  -999.00,9,     0.00,2,     0.00,2,     0.00,2, -999.000,9, -999.000,9,  -999.00,9,   1988.5,2,   -999.0,9,-999.0000,9,   -999.0,  9,  -999.00,9,   -999.0,  -999.00,9,  -999.00,9,     0.11,2,     0.04,2,   -999.0,-999.0000, -999,9,   50,  21.1219,  24.4735,   -999.0,9
     RF03-06-1,  165E,RF-1944,  1,     18,02-18572,2,20030702,1517, 30.0045, 165.0053, 5854,     75.4,  19.4297,  34.8842,2,   -999.0,9,-999.0000,9,    234.6,2,     1.60,2,  -999.00,9,     0.00,2,     0.00,2,     0.00,2, -999.000,9, -999.000,9,  -999.00,9,   1990.5,2,   -999.0,9,-999.0000,9,   -999.0,  9,  -999.00,9,   -999.0,  -999.00,9,  -999.00,9,     0.16,2,     0.11,2,   -999.0,-999.0000, -999,9,   75,  19.4161,  24.8258,   -999.0,9
     RF03-06-1,  165E,RF-1944,  1,     17,02-18571,2,20030702,1516, 30.0045, 165.0053, 5854,    100.8,  17.8102,  34.7650,2,   -999.0,9,  34.7670,2,    226.3,2,     2.21,2,  -999.00,9,     1.57,2,     0.16,2,     0.08,2, -999.000,9, -999.000,9,  -999.00,9,   2011.0,2,   -999.0,9,-999.0000,9,   -999.0,  9,  -999.00,9,   -999.0,  -999.00,9,  -999.00,9,     0.33,2,     0.41,2,   -999.0,-999.0000, -999,9,  100,  17.7931,  25.1428,   -999.0,9
     RF03-06-1,  165E,RF-1944,  1,     16,02-18570,2,20030702,1514, 30.0045, 165.0053, 5854,    125.3,  17.4627,  34.7492,2,   -999.0,9,-999.0000,9,    220.2,2,     2.78,2,  -999.00,9,     3.24,2,     0.00,2,     0.17,2, -999.000,9, -999.000,9,  -999.00,9,   2007.4,2,   -999.0,9,-999.0000,9,   -999.0,  9,  -999.00,9,   -999.0,  -999.00,9,  -999.00,9,     0.14,2,     0.20,2,   -999.0,-999.0000, -999,9,  124,  17.4417,  25.2160,   -999.0,9
     RF03-06-1,  165E,RF-1944,  1,     15,02-18569,2,20030702,1513, 30.0045, 165.0053, 5854,    150.7,  17.0743,  34.7340,2,   -999.0,9,-999.0000,9,    224.0,2,     3.08,2,  -999.00,9,     3.53,2,     0.00,2,     0.19,2, -999.000,9, -999.000,9,  -999.00,9,   2013.5,2,   -999.0,9,-999.0000,9,   -999.0,  9,  -999.00,9,   -999.0,  -999.00,9,  -999.00,9,     0.05,2,     0.04,2,   -999.0,-999.0000, -999,9,  150,  17.0494,  25.2983,   -999.0,9
     RF03-06-1,  165E,RF-1944,  1,     14,02-18568,2,20030702,1511, 30.0045, 165.0053, 5854,    200.9,  16.6061,  34.7154,2,   -999.0,9,  34.7119,2,    226.2,2,     3.70,2,  -999.00,9,     4.05,2,     0.00,2,     0.22,2, -999.000,9, -999.000,9,  -999.00,9,   2014.7,2,   -999.0,9,-999.0000,9,   -999.0,  9,  -999.00,9,   -999.0,  -999.00,9,  -999.00,9,     0.01,2,     0.02,2,   -999.0,-999.0000, -999,9,  199,  16.5735,  25.3962,   -999.0,9
     RF03-06-1,  165E,RF-1944,  1,     13,02-18567,2,20030702,1509, 30.0045, 165.0053, 5854,    252.3,  16.1188,  34.6847,2,   -999.0,9,-999.0000,9,    218.6,2,     5.17,2,  -999.00,9,     5.58,2,     0.00,2,     0.32,2, -999.000,9, -999.000,9,  -999.00,9,   2025.8,2,   -999.0,9,-999.0000,9,   -999.0,  9,  -999.00,9,   -999.0,  -999.00,9,  -999.00,9,  -999.00,9,  -999.00,9,   -999.0,-999.0000, -999,9,  250,  16.0787,  25.4870,   -999.0,9
     RF03-06-1,  165E,RF-1944,  1,     12,02-18566,2,20030702,1507, 30.0045, 165.0053, 5854,    301.7,  15.2094,  34.6261,2,   -999.0,9,  34.6278,2,    215.3,2,     7.71,2,  -999.00,9,     7.71,2,     0.00,2,     0.47,2, -999.000,9, -999.000,9,  -999.00,9,   2041.3,2,   -999.0,9,-999.0000,9,   -999.0,  9,  -999.00,9,   -999.0,  -999.00,9,  -999.00,9,  -999.00,9,  -999.00,9,   -999.0,-999.0000, -999,9,  299,  15.1633,  25.6478,   -999.0,9
     RF03-06-1,  165E,RF-1944,  1,     11,02-18565,2,20030702,1505, 30.0045, 165.0053, 5854,    402.5,  12.6930,  34.4258,2,   -999.0,9,  34.4312,4,    202.8,2,    14.55,2,  -999.00,9,    12.35,2,     0.00,2,     0.79,2, -999.000,9, -999.000,9,  -999.00,9,   2077.0,2,   -999.0,9,-999.0000,9,   -999.0,  9,  -999.00,9,   -999.0,  -999.00,9,  -999.00,9,  -999.00,9,  -999.00,9,   -999.0,-999.0000, -999,9,  399,  12.6384,  26.0197,   -999.0,9
     RF03-06-1,  165E,RF-1944,  1,     10,02-18564,2,20030702,1502, 30.0045, 165.0053, 5854,    504.9,  10.0821,  34.2277,2,   -999.0,9,  34.2255,2,    191.4,2,    26.16,2,  -999.00,9,    18.16,2,     0.00,2,     1.23,2, -999.000,9, -999.000,9,  -999.00,9,   -999.0,9,   -999.0,9,-999.0000,9,   -999.0,  9,  -999.00,9,   -999.0,  -999.00,9,  -999.00,9,  -999.00,9,  -999.00,9,   -999.0,-999.0000, -999,9,  501,  10.0229,  26.3450,   -999.0,9
     RF03-06-1,  165E,RF-1944,  1,      9,02-18563,2,20030702,1459, 30.0045, 165.0053, 5854,    606.1,   7.7875,  34.0694,2,   -999.0,9,  34.0694,2,    167.9,2,    40.49,2,  -999.00,9,    24.32,2,     0.00,2,     1.69,2, -999.000,9, -999.000,9,  -999.00,9,   2164.7,2,   -999.0,9,-999.0000,9,   -999.0,  9,  -999.00,9,   -999.0,  -999.00,9,  -999.00,9,  -999.00,9,  -999.00,9,   -999.0,-999.0000, -999,9,  601,   7.7264,  26.5831,   -999.0,9
     RF03-06-1,  165E,RF-1944,  1,      8,02-18562,3,20030702,1457, 30.0045, 165.0053, 5854,    704.7,   5.8547,  34.0270,2,   -999.0,9,  34.0388,4,    132.8,2,    62.95,2,  -999.00,9,    31.09,2,     0.00,2,     2.21,2, -999.000,9, -999.000,9,  -999.00,9,   -999.0,9,   -999.0,9,-999.0000,9,   -999.0,  9,  -999.00,9,   -999.0,  -999.00,9,  -999.00,9,  -999.00,9,  -999.00,9,   -999.0,-999.0000, -999,9,  699,   5.7934,  26.8095,   -999.0,9
     RF03-06-1,  165E,RF-1944,  1,      7,02-18561,2,20030702,1454, 30.0045, 165.0053, 5854,    808.0,   4.8891,  34.0975,2,   -999.0,9,  34.1006,2,     83.9,2,    84.12,2,  -999.00,9,    36.41,2,     0.00,2,     2.61,2, -999.000,9, -999.000,9,  -999.00,9,   2275.0,2,   -999.0,9,-999.0000,9,   -999.0,  9,  -999.00,9,   -999.0,  -999.00,9,  -999.00,9,  -999.00,9,  -999.00,9,   -999.0,-999.0000, -999,9,  801,   4.8241,  26.9796,   -999.0,9
     RF03-06-1,  165E,RF-1944,  1,      6,02-18560,3,20030702,1452, 30.0045, 165.0053, 5854,    907.9,   4.1929,  34.2004,2,   -999.0,9,-999.0000,9,     61.5,2,   101.38,2,  -999.00,9,    39.19,2,     0.00,2,     2.82,2, -999.000,9, -999.000,9,  -999.00,9,   -999.0,9,   -999.0,9,-999.0000,9,   -999.0,  9,  -999.00,9,   -999.0,  -999.00,9,  -999.00,9,  -999.00,9,  -999.00,9,   -999.0,-999.0000, -999,9,  900,   4.1239,  27.1372,   -999.0,9
     RF03-06-1,  165E,RF-1944,  1,      5,02-18559,2,20030702,1449, 30.0045, 165.0053, 5854,   1009.9,   3.7151,  34.2785,2,   -999.0,9,  34.2793,2,     39.8,2,   116.44,2,  -999.00,9,    41.25,2,     0.00,2,     2.96,2, -999.000,9, -999.000,9,  -999.00,9,   2336.8,2,   -999.0,9,-999.0000,9,   -999.0,  9,  -999.00,9,   -999.0,  -999.00,9,  -999.00,9,  -999.00,9,  -999.00,9,   -999.0,-999.0000, -999,9, 1001,   3.6412,  27.2484,   -999.0,9
     RF03-06-1,  165E,RF-1944,  1,      4,02-18558,2,20030702,1443, 30.0045, 165.0053, 5854,   1263.2,   2.9787,  34.4178,2,   -999.0,9,  34.4176,2,     34.7,2,   136.86,2,  -999.00,9,    42.47,2,     0.00,2,     3.04,2, -999.000,9, -999.000,9,  -999.00,9,   2371.4,3,   -999.0,9,-999.0000,9,   -999.0,  9,  -999.00,9,   -999.0,  -999.00,9,  -999.00,9,  -999.00,9,  -999.00,9,   -999.0,-999.0000, -999,9, 1251,   2.8907,  27.4302,   -999.0,9
     RF03-06-1,  165E,RF-1944,  1,      3,02-18557,3,20030702,1437, 30.0045, 165.0053, 5854,   1517.0,   2.5093,  34.5029,2,   -999.0,9,  34.5024,2,     40.5,2,   148.53,2,  -999.00,9,    42.26,2,     0.00,2,     3.01,2, -999.000,9, -999.000,9,  -999.00,9,   2372.9,2,   -999.0,9,-999.0000,9,   -999.0,  9,  -999.00,9,   -999.0,  -999.00,9,  -999.00,9,  -999.00,9,  -999.00,9,   -999.0,-999.0000, -999,9, 1501,   2.4059,  27.5404,   -999.0,9
     RF03-06-1,  165E,RF-1944,  1,      2,02-18556,2,20030702,1432, 30.0045, 165.0053, 5854,   1769.3,   2.1658,  34.5639,2,   -999.0,9,  34.5641,2,     58.9,2,   154.43,2,  -999.00,9,    41.43,2,     0.00,2,     2.92,2, -999.000,9, -999.000,9,  -999.00,9,   -999.0,9,   -999.0,9,-999.0000,9,   -999.0,  9,  -999.00,9,   -999.0,  -999.00,9,  -999.00,9,  -999.00,9,  -999.00,9,   -999.0,-999.0000, -999,9, 1750,   2.0463,  27.6186,   -999.0,9
     RF03-06-1,  165E,RF-1944,  1,      1,02-18555,2,20030702,1426, 30.0045, 165.0053, 5854,   2046.4,   1.9209,  34.6047,2,   -999.0,9,  34.6036,2,     79.8,2,   156.00,2,  -999.00,9,    40.27,2,     0.00,2,     2.81,2, -999.000,9, -999.000,9,  -999.00,9,   2360.8,2,   -999.0,9,-999.0000,9,   -999.0,  9,  -999.00,9,   -999.0,  -999.00,9,  -999.00,9,  -999.00,9,  -999.00,9,   -999.0,-999.0000, -999,9, 2023,   1.7819,  27.6719,   -999.0,9