BOTTLE,20130510GEMDJMAYT
EXPOCODE,SECT_ID,STNNBR,CASTNO,SAMPNO,BTLNBR,BTLNBR_FLAG_W,DATE,TIME,LATITUDE,LONGITUDE,DEPTH,CTDPRS,CTDTMP,CTDSAL,CTDSAL_FLAG_W,CTDOXY,CTDOXY_FLAG_W,SALNTY,SALNTY_FLAG_W,OXYGEN,OXYGEN_FLAG_W,SILCAT,SILCAT_FLAG_W,NITRAT,NITRAT_FLAG_W,NO2+NO3,NO2+NO3_FLAG_W,NITRIT,NITRIT_FLAG_W,PHSPHT,PHSPHT_FLAG_W,CFC-11,CFC-11_FLAG_W,CFC-12,CFC-12_FLAG_W,DELC13,DELC13_FLAG_W,TCARBN,TCARBN_FLAG_W,ALKALI,ALKALI_FLAG_W,PH,PH_FLAG_W,PH_TMP,PH_SCALE,PH_NBS,PH_NBS_FLAG_W,C13ERR,TOTALP,TOTALP_FLAG_W,AMMONI,AMMONI_FLAG_W,CHLORA,CHLORA_FLAG_W,PPHYTN,PPHYTN_FLAG_W,REVPRS,REVTMP,DEPTH_,DEPTH_FLAG,CTDDEP,THETA,SIGTHT,DOC,DOC_FLAG_W
,,,,,,,GMT,GMT,,,METER,DBAR,ITS-90,PSS-78,,UMOL/KG,,PSS-78,,UMOL/KG,,UMOL/KG,,UMOL/KG,,UMOL/KG,,UMOL/KG,,UMOL/KG,,PMOL/KG,,PMOL/KG,,/MILLE,,UMOL/KG,,UMOL/KG,,25_DEG_C,,DEG_C,,,,/MILLE,UMOL/KG,,UMOL/KG,,UG/L,,UG/L,,DBAR,ITS-90,METERS,,METERS,DEG_C,,UMOL/L,
     RF03-06-1,  165E,RF-1929,  1,     -9,      -9,5,20030628,1200, 44.9935, 164.9948, 5903,      0.0,   8.0782,  33.2596,2,   -999.0,9,-999.0000,9,    305.4,2,    24.78,2,  -999.00,9,    13.71,2,     0.21,2,     1.36,2, -999.000,9, -999.000,9,  -999.00,9,   2067.6,2,   -999.0,9,-999.0000,9,   -999.0,  9,  -999.00,9,   -999.0,  -999.00,9,  -999.00,9,     0.27,2,     0.03,2,   -999.0,-999.0000, -999,9,    0,   8.0780,  25.8957,   -999.0,9
     RF03-06-1,  165E,RF-1929,  1,     21,02-18575,2,20030628,1157, 44.9935, 164.9948, 5903,     10.3,   7.7944,  33.2588,2,   -999.0,9,-999.0000,9,    312.5,2,    25.01,2,  -999.00,9,    13.59,2,     0.20,2,     1.27,2, -999.000,9, -999.000,9,  -999.00,9,   2074.4,2,   -999.0,9,-999.0000,9,   -999.0,  9,  -999.00,9,   -999.0,  -999.00,9,  -999.00,9,     0.25,2,     0.01,2,   -999.0,-999.0000, -999,9,   10,   7.7934,  25.9365,   -999.0,9
     RF03-06-1,  165E,RF-1929,  1,     20,02-18574,2,20030628,1156, 44.9935, 164.9948, 5903,     25.4,   7.1979,  33.2737,2,   -999.0,9,-999.0000,9,    315.3,2,    25.05,2,  -999.00,9,    13.66,2,     0.21,2,     1.27,2, -999.000,9, -999.000,9,  -999.00,9,   2069.6,2,   -999.0,9,-999.0000,9,   -999.0,  9,  -999.00,9,   -999.0,  -999.00,9,  -999.00,9,     0.29,2,     0.03,2,   -999.0,-999.0000, -999,9,   25,   7.1956,  26.0324,   -999.0,9
     RF03-06-1,  165E,RF-1929,  1,     19,02-18573,2,20030628,1155, 44.9935, 164.9948, 5903,     49.9,   5.1262,  33.3167,2,   -999.0,9,-999.0000,9,    326.1,2,    24.86,2,  -999.00,9,    15.14,2,     0.38,2,     1.31,2, -999.000,9, -999.000,9,  -999.00,9,   2082.9,2,   -999.0,9,-999.0000,9,   -999.0,  9,  -999.00,9,   -999.0,  -999.00,9,  -999.00,9,     0.61,2,     0.17,2,   -999.0,-999.0000, -999,9,   50,   5.1224,  26.3269,   -999.0,9
     RF03-06-1,  165E,RF-1929,  1,     18,02-18572,2,20030628,1154, 44.9935, 164.9948, 5903,     75.9,   4.6990,  33.3152,2,   -999.0,9,-999.0000,9,    320.0,2,    26.09,2,  -999.00,9,    16.29,2,     0.46,2,     1.37,2, -999.000,9, -999.000,9,  -999.00,9,   2092.5,2,   -999.0,9,-999.0000,9,   -999.0,  9,  -999.00,9,   -999.0,  -999.00,9,  -999.00,9,     0.49,2,     0.22,2,   -999.0,-999.0000, -999,9,   75,   4.6935,  26.3735,   -999.0,9
     RF03-06-1,  165E,RF-1929,  1,     17,02-18571,2,20030628,1152, 44.9935, 164.9948, 5903,    101.4,   4.2761,  33.2977,2,   -999.0,9,  33.2973,2,    318.8,2,    27.21,2,  -999.00,9,    17.51,2,     0.24,2,     1.44,2, -999.000,9, -999.000,9,  -999.00,9,   2096.0,2,   -999.0,9,-999.0000,9,   -999.0,  9,  -999.00,9,   -999.0,  -999.00,9,  -999.00,9,     0.18,2,     0.08,2,   -999.0,-999.0000, -999,9,  101,   4.2691,  26.4046,   -999.0,9
     RF03-06-1,  165E,RF-1929,  1,     16,02-18570,2,20030628,1151, 44.9935, 164.9948, 5903,    125.9,   4.5453,  33.4071,2,   -999.0,9,-999.0000,9,    311.9,2,    27.10,2,  -999.00,9,    17.46,2,     0.00,2,     1.40,2, -999.000,9, -999.000,9,  -999.00,9,   2102.7,2,   -999.0,9,-999.0000,9,   -999.0,  9,  -999.00,9,   -999.0,  -999.00,9,  -999.00,9,     0.04,2,     0.06,2,   -999.0,-999.0000, -999,9,  125,   4.5363,  26.4634,   -999.0,9
     RF03-06-1,  165E,RF-1929,  1,     15,02-18569,2,20030628,1150, 44.9935, 164.9948, 5903,    151.2,   4.8867,  33.4902,2,   -999.0,9,-999.0000,9,    308.4,2,    29.24,2,  -999.00,9,    17.80,2,     0.17,2,     1.42,2, -999.000,9, -999.000,9,  -999.00,9,   2104.1,2,   -999.0,9,-999.0000,9,   -999.0,  9,  -999.00,9,   -999.0,  -999.00,9,  -999.00,9,     0.03,2,     0.05,2,   -999.0,-999.0000, -999,9,  150,   4.8754,  26.4923,   -999.0,9
     RF03-06-1,  165E,RF-1929,  1,     14,02-18568,2,20030628,1148, 44.9935, 164.9948, 5903,    201.0,   5.5356,  33.7148,2,   -999.0,9,  33.7153,2,    297.7,2,    28.42,2,  -999.00,9,    17.18,2,     0.00,2,     1.33,2, -999.000,9, -999.000,9,  -999.00,9,   2110.0,2,   -999.0,9,-999.0000,9,   -999.0,  9,  -999.00,9,   -999.0,  -999.00,9,  -999.00,9,     0.01,2,     0.05,2,   -999.0,-999.0000, -999,9,  199,   5.5194,  26.5958,   -999.0,9
     RF03-06-1,  165E,RF-1929,  1,     13,02-18567,2,20030628,1146, 44.9935, 164.9948, 5903,    253.0,   4.9045,  33.6805,2,   -999.0,9,-999.0000,9,    262.4,2,    38.97,2,  -999.00,9,    21.66,2,     0.00,2,     1.67,2, -999.000,9, -999.000,9,  -999.00,9,   2140.3,2,   -999.0,9,-999.0000,9,   -999.0,  9,  -999.00,9,   -999.0,  -999.00,9,  -999.00,9,  -999.00,9,  -999.00,9,   -999.0,-999.0000, -999,9,  251,   4.8853,  26.6421,   -999.0,9
     RF03-06-1,  165E,RF-1929,  1,     12,02-18566,2,20030628,1145, 44.9935, 164.9948, 5903,    302.7,   4.2388,  33.7367,2,   -999.0,9,  33.7347,2,    171.6,2,    60.92,2,  -999.00,9,    30.29,2,     0.00,2,     2.26,2, -999.000,9, -999.000,9,  -999.00,9,   2211.2,2,   -999.0,9,-999.0000,9,   -999.0,  9,  -999.00,9,   -999.0,  -999.00,9,  -999.00,9,  -999.00,9,  -999.00,9,   -999.0,-999.0000, -999,9,  300,   4.2173,  26.7589,   -999.0,9
     RF03-06-1,  165E,RF-1929,  1,     11,02-18565,2,20030628,1142, 44.9935, 164.9948, 5903,    402.8,   4.0863,  33.8870,2,   -999.0,9,  33.8848,2,    112.3,2,    77.57,2,  -999.00,9,    35.46,2,     0.00,2,     2.60,2, -999.000,9, -999.000,9,  -999.00,9,   2259.7,2,   -999.0,9,-999.0000,9,   -999.0,  9,  -999.00,9,   -999.0,  -999.00,9,  -999.00,9,  -999.00,9,  -999.00,9,   -999.0,-999.0000, -999,9,  399,   4.0578,  26.8949,   -999.0,9
     RF03-06-1,  165E,RF-1929,  1,     10,02-18564,2,20030628,1140, 44.9935, 164.9948, 5903,    504.5,   4.0668,  34.0497,2,   -999.0,9,  34.0516,2,     67.3,2,    94.31,2,  -999.00,9,    39.04,2,     0.00,2,     2.82,2, -999.000,9, -999.000,9,  -999.00,9,   -999.0,9,   -999.0,9,-999.0000,9,   -999.0,  9,  -999.00,9,   -999.0,  -999.00,9,  -999.00,9,  -999.00,9,  -999.00,9,   -999.0,-999.0000, -999,9,  500,   4.0306,  27.0270,   -999.0,9
     RF03-06-1,  165E,RF-1929,  1,      9,02-18563,2,20030628,1137, 44.9935, 164.9948, 5903,    606.6,   3.8433,  34.1475,2,   -999.0,9,  34.1483,2,     49.4,2,   106.14,2,  -999.00,9,    40.69,2,     0.00,2,     2.94,2, -999.000,9, -999.000,9,  -999.00,9,   2320.6,2,   -999.0,9,-999.0000,9,   -999.0,  9,  -999.00,9,   -999.0,  -999.00,9,  -999.00,9,  -999.00,9,  -999.00,9,   -999.0,-999.0000, -999,9,  601,   3.8003,  27.1282,   -999.0,9
     RF03-06-1,  165E,RF-1929,  1,      8,02-18562,2,20030628,1135, 44.9935, 164.9948, 5903,    705.8,   3.5714,  34.2274,2,   -999.0,9,  34.2259,2,     40.9,2,   116.43,2,  -999.00,9,    41.48,2,     0.00,2,     3.00,2, -999.000,9, -999.000,9,  -999.00,9,   -999.0,9,   -999.0,9,-999.0000,9,   -999.0,  9,  -999.00,9,   -999.0,  -999.00,9,  -999.00,9,  -999.00,9,  -999.00,9,   -999.0,-999.0000, -999,9,  699,   3.5223,  27.2193,   -999.0,9
     RF03-06-1,  165E,RF-1929,  1,      7,02-18561,2,20030628,1132, 44.9935, 164.9948, 5903,    809.8,   3.3656,  34.2824,2,   -999.0,9,  34.2836,2,     36.1,2,   124.09,2,  -999.00,9,    41.96,2,     0.00,2,     3.03,2, -999.000,9, -999.000,9,  -999.00,9,   2351.0,2,   -999.0,9,-999.0000,9,   -999.0,  9,  -999.00,9,   -999.0,  -999.00,9,  -999.00,9,  -999.00,9,  -999.00,9,   -999.0,-999.0000, -999,9,  802,   3.3098,  27.2835,   -999.0,9
     RF03-06-1,  165E,RF-1929,  1,      6,02-18560,2,20030628,1130, 44.9935, 164.9948, 5903,    909.6,   3.1367,  34.3316,2,   -999.0,9,-999.0000,9,     34.0,2,   130.78,2,  -999.00,9,    42.09,2,     0.00,2,     3.05,2, -999.000,9, -999.000,9,  -999.00,9,   -999.0,9,   -999.0,9,-999.0000,9,   -999.0,  9,  -999.00,9,   -999.0,  -999.00,9,  -999.00,9,  -999.00,9,  -999.00,9,   -999.0,-999.0000, -999,9,  900,   3.0749,  27.3447,   -999.0,9
     RF03-06-1,  165E,RF-1929,  1,      5,02-18559,2,20030628,1127, 44.9935, 164.9948, 5903,   1012.1,   2.9356,  34.3700,2,   -999.0,9,  34.3781,4,     34.7,2,   137.11,2,  -999.00,9,    42.46,2,     0.00,2,     3.06,2, -999.000,9, -999.000,9,  -999.00,9,   2363.6,2,   -999.0,9,-999.0000,9,   -999.0,  9,  -999.00,9,   -999.0,  -999.00,9,  -999.00,9,  -999.00,9,  -999.00,9,   -999.0,-999.0000, -999,9, 1001,   2.8675,  27.3941,   -999.0,9
     RF03-06-1,  165E,RF-1929,  1,      4,02-18558,2,20030628,1111, 44.9935, 164.9948, 5903,   1264.7,   2.5609,  34.4473,2,   -999.0,9,  34.4481,2,     33.0,2,   148.91,2,  -999.00,9,    42.74,2,     0.00,2,     3.07,2, -999.000,9, -999.000,9,  -999.00,9,   2379.4,2,   -999.0,9,-999.0000,9,   -999.0,  9,  -999.00,9,   -999.0,  -999.00,9,  -999.00,9,  -999.00,9,  -999.00,9,   -999.0,-999.0000, -999,9, 1251,   2.4769,  27.4899,   -999.0,9
     RF03-06-1,  165E,RF-1929,  1,      3,02-18557,2,20030628,1105, 44.9935, 164.9948, 5903,   1518.6,   2.3047,  34.5079,2,   -999.0,9,  34.5079,2,     41.8,2,   154.84,2,  -999.00,9,    42.41,2,     0.00,2,     3.04,2, -999.000,9, -999.000,9,  -999.00,9,   2380.5,2,   -999.0,9,-999.0000,9,   -999.0,  9,  -999.00,9,   -999.0,  -999.00,9,  -999.00,9,  -999.00,9,  -999.00,9,   -999.0,-999.0000, -999,9, 1501,   2.2036,  27.5611,   -999.0,9
     RF03-06-1,  165E,RF-1929,  1,      2,02-18556,2,20030628,1059, 44.9935, 164.9948, 5903,   1771.8,   2.1212,  34.5491,2,   -999.0,9,  34.5486,2,     51.4,2,   159.09,2,  -999.00,9,    41.93,2,     0.00,2,     2.99,2, -999.000,9, -999.000,9,  -999.00,9,   -999.0,9,   -999.0,9,-999.0000,9,   -999.0,  9,  -999.00,9,   -999.0,  -999.00,9,  -999.00,9,  -999.00,9,  -999.00,9,   -999.0,-999.0000, -999,9, 1750,   2.0021,  27.6103,   -999.0,9
     RF03-06-1,  165E,RF-1929,  1,      1,02-18555,2,20030628,1054, 44.9935, 164.9948, 5903,   2049.4,   1.9476,  34.5881,2,   -999.0,9,  34.5881,2,     66.9,2,   160.63,2,  -999.00,9,    41.00,2,     0.00,2,     2.92,2, -999.000,9, -999.000,9,  -999.00,9,   2373.3,2,   -999.0,9,-999.0000,9,   -999.0,  9,  -999.00,9,   -999.0,  -999.00,9,  -999.00,9,  -999.00,9,  -999.00,9,   -999.0,-999.0000, -999,9, 2023,   1.8080,  27.6566,   -999.0,9