BOTTLE,20130510GEMDJMAYT
EXPOCODE,SECT_ID,STNNBR,CASTNO,SAMPNO,BTLNBR,BTLNBR_FLAG_W,DATE,TIME,LATITUDE,LONGITUDE,DEPTH,CTDPRS,CTDTMP,CTDSAL,CTDSAL_FLAG_W,CTDOXY,CTDOXY_FLAG_W,SALNTY,SALNTY_FLAG_W,OXYGEN,OXYGEN_FLAG_W,SILCAT,SILCAT_FLAG_W,NITRAT,NITRAT_FLAG_W,NO2+NO3,NO2+NO3_FLAG_W,NITRIT,NITRIT_FLAG_W,PHSPHT,PHSPHT_FLAG_W,CFC-11,CFC-11_FLAG_W,CFC-12,CFC-12_FLAG_W,DELC13,DELC13_FLAG_W,TCARBN,TCARBN_FLAG_W,ALKALI,ALKALI_FLAG_W,PH,PH_FLAG_W,PH_TMP,PH_SCALE,PH_NBS,PH_NBS_FLAG_W,C13ERR,TOTALP,TOTALP_FLAG_W,AMMONI,AMMONI_FLAG_W,CHLORA,CHLORA_FLAG_W,PPHYTN,PPHYTN_FLAG_W,REVPRS,REVTMP,DEPTH_,DEPTH_FLAG,CTDDEP,THETA,SIGTHT,DOC,DOC_FLAG_W
,,,,,,,GMT,GMT,,,METER,DBAR,ITS-90,PSS-78,,UMOL/KG,,PSS-78,,UMOL/KG,,UMOL/KG,,UMOL/KG,,UMOL/KG,,UMOL/KG,,UMOL/KG,,PMOL/KG,,PMOL/KG,,/MILLE,,UMOL/KG,,UMOL/KG,,25_DEG_C,,DEG_C,,,,/MILLE,UMOL/KG,,UMOL/KG,,UG/L,,UG/L,,DBAR,ITS-90,METERS,,METERS,DEG_C,,UMOL/L,
     RF03-06-1,  165E,RF-1939,  1,     -9,      -9,5,20030701,0739, 34.9705, 165.0143, 5844,      0.0,  20.5803,  34.5805,2,   -999.0,9,-999.0000,9,    231.9,2,     1.36,2,  -999.00,9,     0.00,2,     0.00,2,     0.01,2, -999.000,9, -999.000,9,  -999.00,9,   1968.7,2,   -999.0,9,-999.0000,9,   -999.0,  9,  -999.00,9,   -999.0,  -999.00,9,  -999.00,9,     0.17,2,     0.03,2,   -999.0,-999.0000, -999,9,    0,  20.5801,  24.2878,   -999.0,9
     RF03-06-1,  165E,RF-1939,  1,     21,02-18575,2,20030701,0737, 34.9705, 165.0143, 5844,     11.0,  20.5823,  34.5827,2,   -999.0,9,-999.0000,9,    230.3,2,     1.46,2,  -999.00,9,     0.01,2,     0.00,2,     0.00,2, -999.000,9, -999.000,9,  -999.00,9,   1968.4,2,   -999.0,9,-999.0000,9,   -999.0,  9,  -999.00,9,   -999.0,  -999.00,9,  -999.00,9,     0.16,2,     0.03,2,   -999.0,-999.0000, -999,9,   11,  20.5802,  24.2894,   -999.0,9
     RF03-06-1,  165E,RF-1939,  1,     20,02-18574,3,20030701,0736, 34.9705, 165.0143, 5844,     26.4,  20.4982,  34.6221,2,   -999.0,9,-999.0000,9,    231.6,2,     1.55,2,  -999.00,9,     0.00,2,     0.00,2,     0.00,2, -999.000,9, -999.000,9,  -999.00,9,   1975.2,3,   -999.0,9,-999.0000,9,   -999.0,  9,  -999.00,9,   -999.0,  -999.00,9,  -999.00,9,     0.15,2,     0.04,2,   -999.0,-999.0000, -999,9,   26,  20.4932,  24.3427,   -999.0,9
     RF03-06-1,  165E,RF-1939,  1,     19,02-18573,2,20030701,0735, 34.9705, 165.0143, 5844,     50.7,  19.7449,  34.7406,2,   -999.0,9,-999.0000,9,    238.2,2,     1.71,2,  -999.00,9,     0.27,2,     0.03,2,     0.03,2, -999.000,9, -999.000,9,  -999.00,9,   1983.2,2,   -999.0,9,-999.0000,9,   -999.0,  9,  -999.00,9,   -999.0,  -999.00,9,  -999.00,9,     0.39,2,     0.14,2,   -999.0,-999.0000, -999,9,   50,  19.7356,  24.6332,   -999.0,9
     RF03-06-1,  165E,RF-1939,  1,     18,02-18572,2,20030701,0734, 34.9705, 165.0143, 5844,     76.2,  17.3849,  34.7634,2,   -999.0,9,-999.0000,9,    229.6,2,     2.97,2,  -999.00,9,     2.48,2,     0.19,2,     0.17,2, -999.000,9, -999.000,9,  -999.00,9,   1998.8,2,   -999.0,9,-999.0000,9,   -999.0,  9,  -999.00,9,   -999.0,  -999.00,9,  -999.00,9,     0.44,2,     0.35,2,   -999.0,-999.0000, -999,9,   76,  17.3722,  25.2437,   -999.0,9
     RF03-06-1,  165E,RF-1939,  1,     17,02-18571,2,20030701,0732, 34.9705, 165.0143, 5844,    101.0,  16.9148,  34.7473,2,   -999.0,9,  34.7471,2,    226.0,2,     4.07,2,  -999.00,9,     3.75,2,     0.05,2,     0.23,2, -999.000,9, -999.000,9,  -999.00,9,   2007.4,2,   -999.0,9,-999.0000,9,   -999.0,  9,  -999.00,9,   -999.0,  -999.00,9,  -999.00,9,     0.16,2,     0.13,2,   -999.0,-999.0000, -999,9,  100,  16.8983,  25.3444,   -999.0,9
     RF03-06-1,  165E,RF-1939,  1,     16,02-18570,2,20030701,0731, 34.9705, 165.0143, 5844,    125.6,  16.7444,  34.7630,2,   -999.0,9,-999.0000,9,    226.3,2,     4.05,2,  -999.00,9,     3.83,2,     0.00,2,     0.23,2, -999.000,9, -999.000,9,  -999.00,9,   2011.1,2,   -999.0,9,-999.0000,9,   -999.0,  9,  -999.00,9,   -999.0,  -999.00,9,  -999.00,9,     0.02,2,     0.04,2,   -999.0,-999.0000, -999,9,  125,  16.7240,  25.3975,   -999.0,9
     RF03-06-1,  165E,RF-1939,  1,     15,02-18569,2,20030701,0730, 34.9705, 165.0143, 5844,    151.6,  16.6211,  34.7498,2,   -999.0,9,-999.0000,9,    224.9,2,     4.39,2,  -999.00,9,     4.18,2,     0.00,2,     0.26,2, -999.000,9, -999.000,9,  -999.00,9,   2010.4,2,   -999.0,9,-999.0000,9,   -999.0,  9,  -999.00,9,   -999.0,  -999.00,9,  -999.00,9,     0.01,2,     0.03,2,   -999.0,-999.0000, -999,9,  150,  16.5965,  25.4173,   -999.0,9
     RF03-06-1,  165E,RF-1939,  1,     14,02-18568,2,20030701,0729, 34.9705, 165.0143, 5844,    202.2,  16.0255,  34.6840,2,   -999.0,9,  34.6768,4,    212.4,2,     6.81,2,  -999.00,9,     6.33,2,     0.00,2,     0.40,2, -999.000,9, -999.000,9,  -999.00,9,   2032.8,2,   -999.0,9,-999.0000,9,   -999.0,  9,  -999.00,9,   -999.0,  -999.00,9,  -999.00,9,     0.02,2,     0.04,2,   -999.0,-999.0000, -999,9,  201,  15.9935,  25.5060,   -999.0,9
     RF03-06-1,  165E,RF-1939,  1,     13,02-18567,2,20030701,0727, 34.9705, 165.0143, 5844,    250.8,  15.2113,  34.6344,2,   -999.0,9,-999.0000,9,    223.0,2,     7.69,2,  -999.00,9,     6.68,2,     0.00,2,     0.42,2, -999.000,9, -999.000,9,  -999.00,9,   2038.2,2,   -999.0,9,-999.0000,9,   -999.0,  9,  -999.00,9,   -999.0,  -999.00,9,  -999.00,9,  -999.00,9,  -999.00,9,   -999.0,-999.0000, -999,9,  249,  15.1730,  25.6520,   -999.0,9
     RF03-06-1,  165E,RF-1939,  1,     12,02-18566,2,20030701,0726, 34.9705, 165.0143, 5844,    304.2,  14.2953,  34.5710,2,   -999.0,9,  34.5726,2,    229.9,2,     9.23,2,  -999.00,9,     7.64,2,     0.00,2,     0.50,2, -999.000,9, -999.000,9,  -999.00,9,   2041.7,2,   -999.0,9,-999.0000,9,   -999.0,  9,  -999.00,9,   -999.0,  -999.00,9,  -999.00,9,  -999.00,9,  -999.00,9,   -999.0,-999.0000, -999,9,  302,  14.2507,  25.8027,   -999.0,9
     RF03-06-1,  165E,RF-1939,  1,     11,02-18565,2,20030701,0723, 34.9705, 165.0143, 5844,    403.9,  12.4898,  34.4400,2,   -999.0,9,  34.4359,2,    195.1,2,    18.96,2,  -999.00,9,    13.76,2,     0.00,2,     0.93,2, -999.000,9, -999.000,9,  -999.00,9,   2089.1,2,   -999.0,9,-999.0000,9,   -999.0,  9,  -999.00,9,   -999.0,  -999.00,9,  -999.00,9,  -999.00,9,  -999.00,9,   -999.0,-999.0000, -999,9,  401,  12.4356,  26.0703,   -999.0,9
     RF03-06-1,  165E,RF-1939,  1,     10,02-18564,2,20030701,0721, 34.9705, 165.0143, 5844,    504.4,   9.5772,  34.1793,2,   -999.0,9,  34.1799,2,    213.1,2,    27.07,2,  -999.00,9,    16.76,2,     0.00,2,     1.17,2, -999.000,9, -999.000,9,  -999.00,9,   -999.0,9,   -999.0,9,-999.0000,9,   -999.0,  9,  -999.00,9,   -999.0,  -999.00,9,  -999.00,9,  -999.00,9,  -999.00,9,   -999.0,-999.0000, -999,9,  500,   9.5199,  26.3913,   -999.0,9
     RF03-06-1,  165E,RF-1939,  1,      9,02-18563,2,20030701,0718, 34.9705, 165.0143, 5844,    606.1,   7.2048,  34.0315,2,   -999.0,9,  34.0312,2,    167.1,2,    45.85,2,  -999.00,9,    25.33,2,     0.00,2,     1.80,2, -999.000,9, -999.000,9,  -999.00,9,   2172.3,2,   -999.0,9,-999.0000,9,   -999.0,  9,  -999.00,9,   -999.0,  -999.00,9,  -999.00,9,  -999.00,9,  -999.00,9,   -999.0,-999.0000, -999,9,  601,   7.1463,  26.6356,   -999.0,9
     RF03-06-1,  165E,RF-1939,  1,      8,02-18562,2,20030701,0716, 34.9705, 165.0143, 5844,    707.6,   5.4910,  34.0375,2,   -999.0,9,  34.0388,2,    115.3,2,    69.96,2,  -999.00,9,    32.61,2,     0.00,2,     2.35,2, -999.000,9, -999.000,9,  -999.00,9,   -999.0,9,   -999.0,9,-999.0000,9,   -999.0,  9,  -999.00,9,   -999.0,  -999.00,9,  -999.00,9,  -999.00,9,  -999.00,9,   -999.0,-999.0000, -999,9,  701,   5.4314,  26.8618,   -999.0,9
     RF03-06-1,  165E,RF-1939,  1,      7,02-18561,2,20030701,0714, 34.9705, 165.0143, 5844,    808.0,   4.7619,  34.1483,2,   -999.0,9,  34.1481,2,     79.3,2,    89.84,2,  -999.00,9,    36.67,2,     0.00,2,     2.66,2, -999.000,9, -999.000,9,  -999.00,9,   2286.2,2,   -999.0,9,-999.0000,9,   -999.0,  9,  -999.00,9,   -999.0,  -999.00,9,  -999.00,9,  -999.00,9,  -999.00,9,   -999.0,-999.0000, -999,9,  801,   4.6977,  27.0341,   -999.0,9
     RF03-06-1,  165E,RF-1939,  1,      6,02-18560,2,20030701,0711, 34.9705, 165.0143, 5844,    909.7,   4.1501,  34.2258,2,   -999.0,9,-999.0000,9,     55.7,2,   105.31,2,  -999.00,9,    39.27,2,     0.00,2,     2.84,2, -999.000,9, -999.000,9,  -999.00,9,   -999.0,9,   -999.0,9,-999.0000,9,   -999.0,  9,  -999.00,9,   -999.0,  -999.00,9,  -999.00,9,  -999.00,9,  -999.00,9,   -999.0,-999.0000, -999,9,  901,   4.0813,  27.1619,   -999.0,9
     RF03-06-1,  165E,RF-1939,  1,      5,02-18559,2,20030701,0709, 34.9705, 165.0143, 5844,   1011.2,   3.7680,  34.2945,2,   -999.0,9,  34.2944,2,     47.7,2,   116.26,2,  -999.00,9,    40.37,2,     0.00,2,     2.93,2, -999.000,9, -999.000,9,  -999.00,9,   2328.5,2,   -999.0,9,-999.0000,9,   -999.0,  9,  -999.00,9,   -999.0,  -999.00,9,  -999.00,9,  -999.00,9,  -999.00,9,   -999.0,-999.0000, -999,9, 1001,   3.6936,  27.2560,   -999.0,9
     RF03-06-1,  165E,RF-1939,  1,      4,02-18558,2,20030701,0703, 34.9705, 165.0143, 5844,   1263.3,   3.0119,  34.4113,2,   -999.0,9,  34.4111,2,     41.8,2,   135.78,2,  -999.00,9,    41.57,2,     0.00,2,     3.01,2, -999.000,9, -999.000,9,  -999.00,9,   2359.5,2,   -999.0,9,-999.0000,9,   -999.0,  9,  -999.00,9,   -999.0,  -999.00,9,  -999.00,9,  -999.00,9,  -999.00,9,   -999.0,-999.0000, -999,9, 1250,   2.9236,  27.4221,   -999.0,9
     RF03-06-1,  165E,RF-1939,  1,      3,02-18557,2,20030701,0658, 34.9705, 165.0143, 5844,   1517.5,   2.5257,  34.4860,2,   -999.0,9,  34.4856,2,     39.9,2,   149.13,2,  -999.00,9,    42.12,2,     0.00,2,     3.03,2, -999.000,9, -999.000,9,  -999.00,9,   2374.3,2,   -999.0,9,-999.0000,9,   -999.0,  9,  -999.00,9,   -999.0,  -999.00,9,  -999.00,9,  -999.00,9,  -999.00,9,   -999.0,-999.0000, -999,9, 1501,   2.4222,  27.5255,   -999.0,9
     RF03-06-1,  165E,RF-1939,  1,      2,02-18556,2,20030701,0651, 34.9705, 165.0143, 5844,   1770.1,   2.2259,  34.5484,2,   -999.0,9,  34.5472,2,     52.8,2,   154.99,2,  -999.00,9,    41.60,2,     0.00,2,     2.96,2, -999.000,9, -999.000,9,  -999.00,9,   -999.0,9,   -999.0,9,-999.0000,9,   -999.0,  9,  -999.00,9,   -999.0,  -999.00,9,  -999.00,9,  -999.00,9,  -999.00,9,   -999.0,-999.0000, -999,9, 1750,   2.1055,  27.6015,   -999.0,9
     RF03-06-1,  165E,RF-1939,  1,      1,02-18555,2,20030701,0645, 34.9705, 165.0143, 5844,   2044.0,   1.9796,  34.5898,2,   -999.0,9,  34.5897,2,     70.2,2,   158.22,2,  -999.00,9,    40.66,2,     0.00,2,     2.89,2, -999.000,9, -999.000,9,  -999.00,9,   2367.1,2,   -999.0,9,-999.0000,9,   -999.0,  9,  -999.00,9,   -999.0,  -999.00,9,  -999.00,9,  -999.00,9,  -999.00,9,   -999.0,-999.0000, -999,9, 2019,   1.8399,  27.6555,   -999.0,9