BOTTLE,20131214MIRCJHATS
EXPOCODE,SECT_ID,STNNBR,CASTNO,SAMPNO,BTLNBR,BTLNBR_FLAG_W,DATE,TIME,LATITUDE,LONGITUDE,DEPTH,CTDPRS,CTDTMP,CTDSAL,CTDSAL_FLAG_W,CTDOXY,CTDOXY_FLAG_W,SALNTY,SALNTY_FLAG_W,OXYGEN,OXYGEN_FLAG_W,SILCAT,SILCAT_FLAG_W,NITRAT,NITRAT_FLAG_W,NO2+NO3,NO2+NO3_FLAG_W,NITRIT,NITRIT_FLAG_W,PHSPHT,PHSPHT_FLAG_W,CFC-11,CFC-11_FLAG_W,CFC-12,CFC-12_FLAG_W,DELC13,DELC13_FLAG_W,TCARBN,TCARBN_FLAG_W,ALKALI,ALKALI_FLAG_W,PH,PH_FLAG_W,PH_TMP,PH_SCALE,PH_NBS,PH_NBS_FLAG_W,C13ERR,TOTALP,TOTALP_FLAG_W,AMMONI,AMMONI_FLAG_W,CHLORA,CHLORA_FLAG_W,PPHYTN,PPHYTN_FLAG_W,REVPRS,REVTMP,DEPTH_,DEPTH_FLAG,CTDDEP,THETA,SIGTHT,DOC,DOC_FLAG_W
,,,,,,,GMT,GMT,,,METER,DBAR,ITS-90,PSS-78,,UMOL/KG,,PSS-78,,UMOL/KG,,UMOL/KG,,UMOL/KG,,UMOL/KG,,UMOL/KG,,UMOL/KG,,PMOL/KG,,PMOL/KG,,/MILLE,,UMOL/KG,,UMOL/KG,,25_DEG_C,,DEG_C,,,,/MILLE,UMOL/KG,,UMOL/KG,,UG/L,,UG/L,,DBAR,ITS-90,METERS,,METERS,DEG_C,,UMOL/L,
     RF03-06-2,  137E,RF-1983,  1,     -9,      -9,5,20030727,0859, 28.0122, 137.0323, 4399,      0.0,  28.7880,  34.8058,2,   -999.0,9,-999.0000,9,    202.2,2,     1.33,2,  -999.00,9,     0.00,2,     0.00,2,     0.00,2, -999.000,9, -999.000,9,  -999.00,9,   1942.1,2,   -999.0,9,-999.0000,9,   -999.0,  9,  -999.00,9,   -999.0,  -999.00,9,  -999.00,9,     0.06,2,     0.01,2,   -999.0,-999.0000, -999,9,    0,  28.7876,  21.9890,   -999.0,9
     RF03-06-2,  137E,RF-1983,  1,     21,02-18575,2,20030727,0857, 28.0122, 137.0323, 4399,     10.1,  28.7837,  34.8053,2,   -999.0,9,-999.0000,9,    199.1,2,     1.32,2,  -999.00,9,     0.00,2,     0.00,2,     0.00,2, -999.000,9, -999.000,9,  -999.00,9,   1940.3,2,   -999.0,9,-999.0000,9,   -999.0,  9,  -999.00,9,   -999.0,  -999.00,9,  -999.00,9,     0.06,2,     0.02,2,   -999.0,-999.0000, -999,9,   10,  28.7813,  21.9908,   -999.0,9
     RF03-06-2,  137E,RF-1983,  1,     20,02-18574,2,20030727,0856, 28.0122, 137.0323, 4399,     25.6,  28.4681,  34.7926,2,   -999.0,9,-999.0000,9,    206.2,2,     1.34,2,  -999.00,9,     0.00,2,     0.00,2,     0.00,2, -999.000,9, -999.000,9,  -999.00,9,   1938.9,2,   -999.0,9,-999.0000,9,   -999.0,  9,  -999.00,9,   -999.0,  -999.00,9,  -999.00,9,     0.06,2,     0.02,2,   -999.0,-999.0000, -999,9,   25,  28.4620,  22.0870,   -999.0,9
     RF03-06-2,  137E,RF-1983,  1,     19,02-18573,2,20030727,0854, 28.0122, 137.0323, 4399,     50.7,  24.1470,  34.9181,2,   -999.0,9,-999.0000,9,    227.3,2,     1.44,2,  -999.00,9,     0.00,2,     0.00,2,     0.00,2, -999.000,9, -999.000,9,  -999.00,9,   1959.3,2,   -999.0,9,-999.0000,9,   -999.0,  9,  -999.00,9,   -999.0,  -999.00,9,  -999.00,9,     0.10,2,     0.03,2,   -999.0,-999.0000, -999,9,   50,  24.1363,  23.5390,   -999.0,9
     RF03-06-2,  137E,RF-1983,  1,     18,02-18572,2,20030727,0853, 28.0122, 137.0323, 4399,     75.6,  22.0888,  34.9160,2,   -999.0,9,-999.0000,9,    224.0,2,     1.54,2,  -999.00,9,     0.00,2,     0.00,2,     0.00,2, -999.000,9, -999.000,9,  -999.00,9,   1968.0,2,   -999.0,9,-999.0000,9,   -999.0,  9,  -999.00,9,   -999.0,  -999.00,9,  -999.00,9,     0.20,2,     0.11,2,   -999.0,-999.0000, -999,9,   75,  22.0738,  24.1333,   -999.0,9
     RF03-06-2,  137E,RF-1983,  1,     17,02-18571,2,20030727,0852, 28.0122, 137.0323, 4399,    101.6,  20.9442,  34.9211,2,   -999.0,9,  34.9170,2,    211.4,2,     1.84,2,  -999.00,9,     0.52,2,     0.06,2,     0.04,2, -999.000,9, -999.000,9,  -999.00,9,   1984.6,2,   -999.0,9,-999.0000,9,   -999.0,  9,  -999.00,9,   -999.0,  -999.00,9,  -999.00,9,     0.32,2,     0.48,2,   -999.0,-999.0000, -999,9,  101,  20.9248,  24.4543,   -999.0,9
     RF03-06-2,  137E,RF-1983,  1,     16,02-18570,3,20030727,0851, 28.0122, 137.0323, 4399,    127.0,  19.7953,  34.8909,2,   -999.0,9,-999.0000,9,    222.6,2,     2.01,2,  -999.00,9,     0.76,2,     0.12,2,     0.06,2, -999.000,9, -999.000,9,  -999.00,9,   1991.2,3,   -999.0,9,-999.0000,9,   -999.0,  9,  -999.00,9,   -999.0,  -999.00,9,  -999.00,9,     0.11,2,     0.24,2,   -999.0,-999.0000, -999,9,  126,  19.7720,  24.7384,   -999.0,9
     RF03-06-2,  137E,RF-1983,  1,     15,02-18569,3,20030727,0849, 28.0122, 137.0323, 4399,    151.7,  19.0907,  34.8555,2,   -999.0,9,-999.0000,9,    210.4,2,     2.41,2,  -999.00,9,     2.10,2,     0.00,2,     0.13,2, -999.000,9, -999.000,9,  -999.00,9,   1997.0,3,   -999.0,9,-999.0000,9,   -999.0,  9,  -999.00,9,   -999.0,  -999.00,9,  -999.00,9,     0.05,2,     0.12,2,   -999.0,-999.0000, -999,9,  151,  19.0636,  24.8945,   -999.0,9
     RF03-06-2,  137E,RF-1983,  1,     14,02-18568,2,20030727,0847, 28.0122, 137.0323, 4399,    203.2,  18.4542,  34.8320,2,   -999.0,9,  34.8314,2,    215.5,2,     2.80,2,  -999.00,9,     2.62,2,     0.00,2,     0.18,2, -999.000,9, -999.000,9,  -999.00,9,   2005.4,2,   -999.0,9,-999.0000,9,   -999.0,  9,  -999.00,9,   -999.0,  -999.00,9,  -999.00,9,     0.01,2,     0.02,2,   -999.0,-999.0000, -999,9,  202,  18.4187,  25.0395,   -999.0,9
     RF03-06-2,  137E,RF-1983,  1,     13,02-18567,2,20030727,0846, 28.0122, 137.0323, 4399,    254.3,  17.9726,  34.7819,2,   -999.0,9,-999.0000,9,    204.2,2,     3.79,2,  -999.00,9,     4.31,2,     0.00,2,     0.27,2, -999.000,9, -999.000,9,  -999.00,9,   2014.6,2,   -999.0,9,-999.0000,9,   -999.0,  9,  -999.00,9,   -999.0,  -999.00,9,  -999.00,9,  -999.00,9,  -999.00,9,   -999.0,-999.0000, -999,9,  252,  17.9290,  25.1225,   -999.0,9
     RF03-06-2,  137E,RF-1983,  1,     12,02-18566,2,20030727,0844, 28.0122, 137.0323, 4399,    305.3,  17.4312,  34.7585,2,   -999.0,9,  34.7579,2,    209.0,2,     4.23,2,  -999.00,9,     4.62,2,     0.00,2,     0.28,2, -999.000,9, -999.000,9,  -999.00,9,   2012.9,2,   -999.0,9,-999.0000,9,   -999.0,  9,  -999.00,9,   -999.0,  -999.00,9,  -999.00,9,  -999.00,9,  -999.00,9,   -999.0,-999.0000, -999,9,  303,  17.3799,  25.2381,   -999.0,9
     RF03-06-2,  137E,RF-1983,  1,     11,02-18565,2,20030727,0840, 28.0122, 137.0323, 4399,    405.4,  15.7091,  34.6448,2,   -999.0,9,  34.6453,2,    193.8,2,     8.38,2,  -999.00,9,     8.61,2,     0.00,2,     0.55,2, -999.000,9, -999.000,9,  -999.00,9,   2049.0,2,   -999.0,9,-999.0000,9,   -999.0,  9,  -999.00,9,   -999.0,  -999.00,9,  -999.00,9,  -999.00,9,  -999.00,9,   -999.0,-999.0000, -999,9,  402,  15.6455,  25.5547,   -999.0,9
     RF03-06-2,  137E,RF-1983,  1,     10,02-18564,2,20030727,0837, 28.0122, 137.0323, 4399,    507.3,  13.2207,  34.4742,2,   -999.0,9,  34.4774,2,    190.2,3,    15.22,2,  -999.00,9,    13.13,2,     0.00,2,     0.87,2, -999.000,9, -999.000,9,  -999.00,9,   -999.0,9,   -999.0,9,-999.0000,9,   -999.0,  9,  -999.00,9,   -999.0,  -999.00,9,  -999.00,9,  -999.00,9,  -999.00,9,   -999.0,-999.0000, -999,9,  503,  13.1497,  25.9555,   -999.0,9
     RF03-06-2,  137E,RF-1983,  1,      9,02-18563,2,20030727,0832, 28.0122, 137.0323, 4399,    607.2,  10.7915,  34.3035,2,   -999.0,9,  34.3044,2,   -999.0,4,    25.73,2,  -999.00,9,    18.26,2,     0.00,2,     1.25,2, -999.000,9, -999.000,9,  -999.00,9,   2119.1,2,   -999.0,9,-999.0000,9,   -999.0,  9,  -999.00,9,   -999.0,  -999.00,9,  -999.00,9,  -999.00,9,  -999.00,9,   -999.0,-999.0000, -999,9,  602,  10.7167,  26.2837,   -999.0,9
     RF03-06-2,  137E,RF-1983,  1,      8,02-18562,2,20030727,0828, 28.0122, 137.0323, 4399,    708.2,   8.3544,  34.1769,2,   -999.0,9,  34.1774,2,    148.0,2,    43.91,2,  -999.00,9,    25.17,2,     0.00,2,     1.78,2, -999.000,9, -999.000,9,  -999.00,9,   -999.0,9,   -999.0,9,-999.0000,9,   -999.0,  9,  -999.00,9,   -999.0,  -999.00,9,  -999.00,9,  -999.00,9,  -999.00,9,   -999.0,-999.0000, -999,9,  702,   8.2794,  26.5855,   -999.0,9
     RF03-06-2,  137E,RF-1983,  1,      7,02-18561,2,20030727,0824, 28.0122, 137.0323, 4399,    809.4,   6.2799,  34.1302,2,   -999.0,9,  34.1299,2,    114.0,2,    66.36,2,  -999.00,9,    31.66,2,     0.00,2,     2.27,2, -999.000,9, -999.000,9,  -999.00,9,   2231.9,2,   -999.0,9,-999.0000,9,   -999.0,  9,  -999.00,9,   -999.0,  -999.00,9,  -999.00,9,  -999.00,9,  -999.00,9,   -999.0,-999.0000, -999,9,  802,   6.2062,  26.8391,   -999.0,9
     RF03-06-2,  137E,RF-1983,  1,      6,02-18560,2,20030727,0820, 28.0122, 137.0323, 4399,    910.5,   5.0891,  34.1915,2,   -999.0,9,-999.0000,9,     79.8,2,    87.10,2,  -999.00,9,    36.27,2,     0.00,2,     2.63,2, -999.000,9, -999.000,9,  -999.00,9,   -999.0,9,   -999.0,9,-999.0000,9,   -999.0,  9,  -999.00,9,   -999.0,  -999.00,9,  -999.00,9,  -999.00,9,  -999.00,9,   -999.0,-999.0000, -999,9,  903,   5.0137,  27.0327,   -999.0,9
     RF03-06-2,  137E,RF-1983,  1,      5,02-18559,2,20030727,0816, 28.0122, 137.0323, 4399,   1010.8,   4.4298,  34.2597,2,   -999.0,9,  34.2589,2,     64.9,2,   100.91,2,  -999.00,9,    38.43,2,     0.00,2,     2.78,2, -999.000,9, -999.000,9,  -999.00,9,   2309.4,2,   -999.0,9,-999.0000,9,   -999.0,  9,  -999.00,9,   -999.0,  -999.00,9,  -999.00,9,  -999.00,9,  -999.00,9,   -999.0,-999.0000, -999,9, 1002,   4.3503,  27.1605,   -999.0,9
     RF03-06-2,  137E,RF-1983,  1,      4,02-18558,2,20030727,0809, 28.0122, 137.0323, 4399,   1263.6,   3.3236,  34.4104,2,   -999.0,9,  34.4094,2,     56.7,2,   124.97,2,  -999.00,9,    40.33,2,     0.00,2,     2.92,2, -999.000,9, -999.000,9,  -999.00,9,   2333.5,2,   -999.0,9,-999.0000,9,   -999.0,  9,  -999.00,9,   -999.0,  -999.00,9,  -999.00,9,  -999.00,9,  -999.00,9,   -999.0,-999.0000, -999,9, 1251,   3.2323,  27.3929,   -999.0,9
     RF03-06-2,  137E,RF-1983,  1,      3,02-18557,2,20030727,0803, 28.0122, 137.0323, 4399,   1516.4,   2.7153,  34.5001,2,   -999.0,9,  34.4996,2,     70.9,2,   135.58,2,  -999.00,9,    40.00,2,     0.00,2,     2.88,2, -999.000,9, -999.000,9,  -999.00,9,   2344.6,2,   -999.0,9,-999.0000,9,   -999.0,  9,  -999.00,9,   -999.0,  -999.00,9,  -999.00,9,  -999.00,9,  -999.00,9,   -999.0,-999.0000, -999,9, 1501,   2.6096,  27.5208,   -999.0,9
     RF03-06-2,  137E,RF-1983,  1,      2,02-18556,2,20030727,0758, 28.0122, 137.0323, 4399,   1767.4,   2.3378,  34.5577,2,   -999.0,9,  34.5570,2,     88.8,2,   138.92,2,  -999.00,9,    39.25,2,     0.00,2,     2.79,2, -999.000,9, -999.000,9,  -999.00,9,   -999.0,9,   -999.0,9,-999.0000,9,   -999.0,  9,  -999.00,9,   -999.0,  -999.00,9,  -999.00,9,  -999.00,9,  -999.00,9,   -999.0,-999.0000, -999,9, 1748,   2.2161,  27.6000,   -999.0,9
     RF03-06-2,  137E,RF-1983,  1,      1,02-18555,2,20030727,0753, 28.0122, 137.0323, 4399,   2030.1,   2.0867,  34.5958,2,   -999.0,9,  34.5950,2,    105.0,2,   139.19,2,  -999.00,9,    38.51,2,     0.00,2,     2.72,2, -999.000,9, -999.000,9,  -999.00,9,   2334.3,2,   -999.0,9,-999.0000,9,   -999.0,  9,  -999.00,9,   -999.0,  -999.00,9,  -999.00,9,  -999.00,9,  -999.00,9,   -999.0,-999.0000, -999,9, 2007,   1.9465,  27.6520,   -999.0,9