BOTTLE,20131214MIRCJHATS
EXPOCODE,SECT_ID,STNNBR,CASTNO,SAMPNO,BTLNBR,BTLNBR_FLAG_W,DATE,TIME,LATITUDE,LONGITUDE,DEPTH,CTDPRS,CTDTMP,CTDSAL,CTDSAL_FLAG_W,CTDOXY,CTDOXY_FLAG_W,SALNTY,SALNTY_FLAG_W,OXYGEN,OXYGEN_FLAG_W,SILCAT,SILCAT_FLAG_W,NITRAT,NITRAT_FLAG_W,NO2+NO3,NO2+NO3_FLAG_W,NITRIT,NITRIT_FLAG_W,PHSPHT,PHSPHT_FLAG_W,CFC-11,CFC-11_FLAG_W,CFC-12,CFC-12_FLAG_W,DELC13,DELC13_FLAG_W,TCARBN,TCARBN_FLAG_W,ALKALI,ALKALI_FLAG_W,PH,PH_FLAG_W,PH_TMP,PH_SCALE,PH_NBS,PH_NBS_FLAG_W,C13ERR,TOTALP,TOTALP_FLAG_W,AMMONI,AMMONI_FLAG_W,CHLORA,CHLORA_FLAG_W,PPHYTN,PPHYTN_FLAG_W,REVPRS,REVTMP,DEPTH_,DEPTH_FLAG,CTDDEP,THETA,SIGTHT,DOC,DOC_FLAG_W
,,,,,,,GMT,GMT,,,METER,DBAR,ITS-90,PSS-78,,UMOL/KG,,PSS-78,,UMOL/KG,,UMOL/KG,,UMOL/KG,,UMOL/KG,,UMOL/KG,,UMOL/KG,,PMOL/KG,,PMOL/KG,,/MILLE,,UMOL/KG,,UMOL/KG,,25_DEG_C,,DEG_C,,,,/MILLE,UMOL/KG,,UMOL/KG,,UG/L,,UG/L,,DBAR,ITS-90,METERS,,METERS,DEG_C,,UMOL/L,
     RF03-06-2,  137E,RF-1973,  1,     -9,      -9,5,20030724,1752, 18.0062, 136.9848, 5061,      0.0,  30.2634,  34.4193,2,   -999.0,9,-999.0000,9,    194.8,2,     0.99,2,  -999.00,9,     0.00,2,     0.00,2,     0.03,2, -999.000,9, -999.000,9,  -999.00,9,   1918.6,3,   -999.0,9,-999.0000,9,   -999.0,  9,  -999.00,9,   -999.0,  -999.00,9,  -999.00,9,     0.08,2,     0.01,2,   -999.0,-999.0000, -999,9,    0,  30.2629,  21.2010,   -999.0,9
     RF03-06-2,  137E,RF-1973,  1,     21,02-18575,2,20030724,1749, 18.0062, 136.9848, 5061,     11.7,  30.2780,  34.4198,2,   -999.0,9,-999.0000,9,    196.5,2,     0.96,2,  -999.00,9,     0.00,2,     0.00,2,     0.02,2, -999.000,9, -999.000,9,  -999.00,9,   1912.6,3,   -999.0,9,-999.0000,9,   -999.0,  9,  -999.00,9,   -999.0,  -999.00,9,  -999.00,9,     0.07,2,     0.02,2,   -999.0,-999.0000, -999,9,   12,  30.2751,  21.1972,   -999.0,9
     RF03-06-2,  137E,RF-1973,  1,     20,02-18574,2,20030724,1748, 18.0062, 136.9848, 5061,     26.0,  30.0859,  34.4200,2,   -999.0,9,-999.0000,9,    196.3,2,     0.98,2,  -999.00,9,     0.00,2,     0.00,2,     0.02,2, -999.000,9, -999.000,9,  -999.00,9,   1908.2,3,   -999.0,9,-999.0000,9,   -999.0,  9,  -999.00,9,   -999.0,  -999.00,9,  -999.00,9,     0.07,2,     0.02,2,   -999.0,-999.0000, -999,9,   26,  30.0794,  21.2643,   -999.0,9
     RF03-06-2,  137E,RF-1973,  1,     19,02-18573,2,20030724,1747, 18.0062, 136.9848, 5061,     51.1,  29.2354,  34.4355,2,   -999.0,9,-999.0000,9,    209.1,2,     1.01,2,  -999.00,9,     0.00,2,     0.00,2,     0.02,2, -999.000,9, -999.000,9,  -999.00,9,   1909.5,3,   -999.0,9,-999.0000,9,   -999.0,  9,  -999.00,9,   -999.0,  -999.00,9,  -999.00,9,     0.11,2,     0.05,2,   -999.0,-999.0000, -999,9,   51,  29.2230,  21.5657,   -999.0,9
     RF03-06-2,  137E,RF-1973,  1,     18,02-18572,2,20030724,1746, 18.0062, 136.9848, 5061,     76.2,  28.2958,  34.6543,2,   -999.0,9,-999.0000,9,    209.4,2,     0.96,2,  -999.00,9,     0.00,2,     0.00,2,     0.02,2, -999.000,9, -999.000,9,  -999.00,9,   1930.9,3,   -999.0,9,-999.0000,9,   -999.0,  9,  -999.00,9,   -999.0,  -999.00,9,  -999.00,9,     0.20,2,     0.11,2,   -999.0,-999.0000, -999,9,   76,  28.2777,  22.0437,   -999.0,9
     RF03-06-2,  137E,RF-1973,  1,     17,02-18571,2,20030724,1745, 18.0062, 136.9848, 5061,    101.9,  26.4185,  34.8098,2,   -999.0,9,  34.8314,4,    202.5,2,     1.16,2,  -999.00,9,     0.00,2,     0.00,2,     0.05,2, -999.000,9, -999.000,9,  -999.00,9,   1953.8,3,   -999.0,9,-999.0000,9,   -999.0,  9,  -999.00,9,   -999.0,  -999.00,9,  -999.00,9,     0.28,2,     0.36,2,   -999.0,-999.0000, -999,9,  101,  26.3955,  22.7660,   -999.0,9
     RF03-06-2,  137E,RF-1973,  1,     16,02-18570,2,20030724,1744, 18.0062, 136.9848, 5061,    125.5,  24.3608,  34.9012,2,   -999.0,9,-999.0000,9,    191.2,2,     1.63,2,  -999.00,9,     0.78,2,     0.10,2,     0.13,2, -999.000,9, -999.000,9,  -999.00,9,   1989.3,3,   -999.0,9,-999.0000,9,   -999.0,  9,  -999.00,9,   -999.0,  -999.00,9,  -999.00,9,     0.12,2,     0.26,2,   -999.0,-999.0000, -999,9,  125,  24.3341,  23.4672,   -999.0,9
     RF03-06-2,  137E,RF-1973,  1,     15,02-18569,2,20030724,1743, 18.0062, 136.9848, 5061,    150.8,  22.1956,  34.9619,2,   -999.0,9,-999.0000,9,    183.2,2,     2.28,2,  -999.00,9,     2.11,2,     0.00,2,     0.23,2, -999.000,9, -999.000,9,  -999.00,9,   2019.1,3,   -999.0,9,-999.0000,9,   -999.0,  9,  -999.00,9,   -999.0,  -999.00,9,  -999.00,9,     0.03,2,     0.06,2,   -999.0,-999.0000, -999,9,  150,  22.1656,  24.1423,   -999.0,9
     RF03-06-2,  137E,RF-1973,  1,     14,02-18568,2,20030724,1741, 18.0062, 136.9848, 5061,    202.3,  19.3526,  34.8590,2,   -999.0,9,  34.8432,4,    193.3,2,     2.71,2,  -999.00,9,     3.38,2,     0.00,2,     0.23,2, -999.000,9, -999.000,9,  -999.00,9,   2021.8,3,   -999.0,9,-999.0000,9,   -999.0,  9,  -999.00,9,   -999.0,  -999.00,9,  -999.00,9,     0.01,2,     0.01,2,   -999.0,-999.0000, -999,9,  201,  19.3161,  24.8324,   -999.0,9
     RF03-06-2,  137E,RF-1973,  1,     13,02-18567,2,20030724,1739, 18.0062, 136.9848, 5061,    252.9,  17.2193,  34.7329,2,   -999.0,9,-999.0000,9,    193.5,2,     4.76,2,  -999.00,9,     6.27,2,     0.00,2,     0.42,2, -999.000,9, -999.000,9,  -999.00,9,   2040.6,3,   -999.0,9,-999.0000,9,   -999.0,  9,  -999.00,9,   -999.0,  -999.00,9,  -999.00,9,  -999.00,9,  -999.00,9,   -999.0,-999.0000, -999,9,  251,  17.1772,  25.2670,   -999.0,9
     RF03-06-2,  137E,RF-1973,  1,     12,02-18566,2,20030724,1737, 18.0062, 136.9848, 5061,    303.0,  15.1421,  34.5943,2,   -999.0,9,  34.5932,2,    194.7,2,     7.94,2,  -999.00,9,     9.10,2,     0.00,2,     0.59,2, -999.000,9, -999.000,9,  -999.00,9,   2051.7,3,   -999.0,9,-999.0000,9,   -999.0,  9,  -999.00,9,   -999.0,  -999.00,9,  -999.00,9,  -999.00,9,  -999.00,9,   -999.0,-999.0000, -999,9,  301,  15.0959,  25.6381,   -999.0,9
     RF03-06-2,  137E,RF-1973,  1,     11,02-18565,2,20030724,1733, 18.0062, 136.9848, 5061,    404.1,  11.0434,  34.3045,2,   -999.0,9,  34.3070,2,    158.5,2,    21.72,2,  -999.00,9,    19.10,2,     0.00,2,     1.33,2, -999.000,9, -999.000,9,  -999.00,9,   2127.3,3,   -999.0,9,-999.0000,9,   -999.0,  9,  -999.00,9,   -999.0,  -999.00,9,  -999.00,9,  -999.00,9,  -999.00,9,   -999.0,-999.0000, -999,9,  401,  10.9934,  26.2351,   -999.0,9
     RF03-06-2,  137E,RF-1973,  1,     10,02-18564,2,20030724,1731, 18.0062, 136.9848, 5061,    504.6,   8.1337,  34.2395,2,   -999.0,9,  34.2404,2,    101.2,2,    44.50,2,  -999.00,9,    29.53,2,     0.00,2,     2.11,2, -999.000,9, -999.000,9,  -999.00,9,   -999.0,9,   -999.0,9,-999.0000,9,   -999.0,  9,  -999.00,9,   -999.0,  -999.00,9,  -999.00,9,  -999.00,9,  -999.00,9,   -999.0,-999.0000, -999,9,  501,   8.0817,  26.6644,   -999.0,9
     RF03-06-2,  137E,RF-1973,  1,      9,02-18563,2,20030724,1728, 18.0062, 136.9848, 5061,    606.1,   6.9666,  34.2988,2,   -999.0,9,  34.3005,2,     73.9,2,    59.08,2,  -999.00,9,    34.42,2,     0.00,2,     2.49,2, -999.000,9, -999.000,9,  -999.00,9,   2252.4,3,   -999.0,9,-999.0000,9,   -999.0,  9,  -999.00,9,   -999.0,  -999.00,9,  -999.00,9,  -999.00,9,  -999.00,9,   -999.0,-999.0000, -999,9,  602,   6.9090,  26.8789,   -999.0,9
     RF03-06-2,  137E,RF-1973,  1,      8,02-18562,2,20030724,1725, 18.0062, 136.9848, 5061,    707.4,   5.9961,  34.4106,2,   -999.0,9,  34.4115,2,     67.1,2,    71.75,2,  -999.00,9,    36.97,2,     0.00,2,     2.67,2, -999.000,9, -999.000,9,  -999.00,9,   -999.0,9,   -999.0,9,-999.0000,9,   -999.0,  9,  -999.00,9,   -999.0,  -999.00,9,  -999.00,9,  -999.00,9,  -999.00,9,   -999.0,-999.0000, -999,9,  702,   5.9334,  27.0953,   -999.0,9
     RF03-06-2,  137E,RF-1973,  1,      7,02-18561,2,20030724,1722, 18.0062, 136.9848, 5061,    808.9,   5.3192,  34.4523,2,   -999.0,9,  34.4528,2,     70.6,2,    81.65,2,  -999.00,9,    37.91,2,     0.00,2,     2.73,2, -999.000,9, -999.000,9,  -999.00,9,   2283.8,3,   -999.0,9,-999.0000,9,   -999.0,  9,  -999.00,9,   -999.0,  -999.00,9,  -999.00,9,  -999.00,9,  -999.00,9,   -999.0,-999.0000, -999,9,  802,   5.2510,  27.2117,   -999.0,9
     RF03-06-2,  137E,RF-1973,  1,      6,02-18560,2,20030724,1719, 18.0062, 136.9848, 5061,    909.7,   4.6691,  34.4858,2,   -999.0,9,-999.0000,9,     79.5,2,    93.36,2,  -999.00,9,    38.21,2,     0.00,2,     2.74,2, -999.000,9, -999.000,9,  -999.00,9,   -999.0,9,   -999.0,9,-999.0000,9,   -999.0,  9,  -999.00,9,   -999.0,  -999.00,9,  -999.00,9,  -999.00,9,  -999.00,9,   -999.0,-999.0000, -999,9,  902,   4.5962,  27.3132,   -999.0,9
     RF03-06-2,  137E,RF-1973,  1,      5,02-18559,2,20030724,1717, 18.0062, 136.9848, 5061,   1010.9,   4.3129,  34.5108,2,   -999.0,9,  34.5116,2,     82.2,2,    99.26,2,  -999.00,9,    38.40,2,     0.00,2,     2.74,2, -999.000,9, -999.000,9,  -999.00,9,   2303.4,3,   -999.0,9,-999.0000,9,   -999.0,  9,  -999.00,9,   -999.0,  -999.00,9,  -999.00,9,  -999.00,9,  -999.00,9,   -999.0,-999.0000, -999,9, 1002,   4.2339,  27.3724,   -999.0,9
     RF03-06-2,  137E,RF-1973,  1,      4,02-18558,2,20030724,1711, 18.0062, 136.9848, 5061,   1262.7,   3.4190,  34.5515,2,   -999.0,9,  34.5511,2,     89.6,2,   116.37,2,  -999.00,9,    38.65,2,     0.00,2,     2.75,2, -999.000,9, -999.000,9,  -999.00,9,   2320.7,3,   -999.0,9,-999.0000,9,   -999.0,  9,  -999.00,9,   -999.0,  -999.00,9,  -999.00,9,  -999.00,9,  -999.00,9,   -999.0,-999.0000, -999,9, 1251,   3.3265,  27.4965,   -999.0,9
     RF03-06-2,  137E,RF-1973,  1,      3,02-18557,2,20030724,1705, 18.0062, 136.9848, 5061,   1515.2,   2.7922,  34.5782,2,   -999.0,9,  34.5777,2,     98.8,2,   127.80,2,  -999.00,9,    38.57,2,     0.00,2,     2.73,2, -999.000,9, -999.000,9,  -999.00,9,   2327.1,3,   -999.0,9,-999.0000,9,   -999.0,  9,  -999.00,9,   -999.0,  -999.00,9,  -999.00,9,  -999.00,9,  -999.00,9,   -999.0,-999.0000, -999,9, 1501,   2.6855,  27.5765,   -999.0,9
     RF03-06-2,  137E,RF-1973,  1,      2,02-18556,2,20030724,1659, 18.0062, 136.9848, 5061,   1768.0,   2.4371,  34.6021,2,   -999.0,9,  34.6027,2,    105.3,2,   133.05,2,  -999.00,9,    38.55,2,     0.00,2,     2.71,2, -999.000,9, -999.000,9,  -999.00,9,   -999.0,9,   -999.0,9,-999.0000,9,   -999.0,  9,  -999.00,9,   -999.0,  -999.00,9,  -999.00,9,  -999.00,9,  -999.00,9,   -999.0,-999.0000, -999,9, 1750,   2.3139,  27.6274,   -999.0,9
     RF03-06-2,  137E,RF-1973,  1,      1,02-18555,2,20030724,1654, 18.0062, 136.9848, 5061,   2038.6,   2.1234,  34.6231,2,   -999.0,9,  34.6233,2,    113.3,2,   137.24,2,  -999.00,9,    38.24,2,     0.00,2,     2.69,2, -999.000,9, -999.000,9,  -999.00,9,   2328.5,3,   -999.0,9,-999.0000,9,   -999.0,  9,  -999.00,9,   -999.0,  -999.00,9,  -999.00,9,  -999.00,9,  -999.00,9,   -999.0,-999.0000, -999,9, 2017,   1.9818,  27.6711,   -999.0,9