BOTTLE,20131214MIRCJHATS
EXPOCODE,SECT_ID,STNNBR,CASTNO,SAMPNO,BTLNBR,BTLNBR_FLAG_W,DATE,TIME,LATITUDE,LONGITUDE,DEPTH,CTDPRS,CTDTMP,CTDSAL,CTDSAL_FLAG_W,CTDOXY,CTDOXY_FLAG_W,SALNTY,SALNTY_FLAG_W,OXYGEN,OXYGEN_FLAG_W,SILCAT,SILCAT_FLAG_W,NITRAT,NITRAT_FLAG_W,NO2+NO3,NO2+NO3_FLAG_W,NITRIT,NITRIT_FLAG_W,PHSPHT,PHSPHT_FLAG_W,CFC-11,CFC-11_FLAG_W,CFC-12,CFC-12_FLAG_W,DELC13,DELC13_FLAG_W,TCARBN,TCARBN_FLAG_W,ALKALI,ALKALI_FLAG_W,PH,PH_FLAG_W,PH_TMP,PH_SCALE,PH_NBS,PH_NBS_FLAG_W,C13ERR,TOTALP,TOTALP_FLAG_W,AMMONI,AMMONI_FLAG_W,CHLORA,CHLORA_FLAG_W,PPHYTN,PPHYTN_FLAG_W,REVPRS,REVTMP,DEPTH_,DEPTH_FLAG,CTDDEP,THETA,SIGTHT,DOC,DOC_FLAG_W
,,,,,,,GMT,GMT,,,METER,DBAR,ITS-90,PSS-78,,UMOL/KG,,PSS-78,,UMOL/KG,,UMOL/KG,,UMOL/KG,,UMOL/KG,,UMOL/KG,,UMOL/KG,,PMOL/KG,,PMOL/KG,,/MILLE,,UMOL/KG,,UMOL/KG,,25_DEG_C,,DEG_C,,,,/MILLE,UMOL/KG,,UMOL/KG,,UG/L,,UG/L,,DBAR,ITS-90,METERS,,METERS,DEG_C,,UMOL/L,
     RF03-06-2,  142E,RF-1953,  1,     -9,      -9,5,20030718,2104,  1.9692, 142.0302, 2606,      0.0,  29.4554,  33.9230,2,   -999.0,9,-999.0000,9,    196.7,2,     1.24,2,  -999.00,9,     0.00,2,     0.00,2,     0.09,2, -999.000,9, -999.000,9,  -999.00,9,   1875.6,2,   -999.0,9,-999.0000,9,   -999.0,  9,  -999.00,9,   -999.0,  -999.00,9,  -999.00,9,     0.10,2,     0.05,2,   -999.0,-999.0000, -999,9,    0,  29.4550,  21.1034,   -999.0,9
     RF03-06-2,  142E,RF-1953,  1,     21,02-18575,2,20030718,2102,  1.9692, 142.0302, 2606,      9.9,  29.5328,  34.0416,2,   -999.0,9,-999.0000,9,    197.4,2,     1.34,2,  -999.00,9,     0.06,2,     0.00,2,     0.05,2, -999.000,9, -999.000,9,  -999.00,9,   1885.2,2,   -999.0,9,-999.0000,9,   -999.0,  9,  -999.00,9,   -999.0,  -999.00,9,  -999.00,9,     0.11,2,     0.06,2,   -999.0,-999.0000, -999,9,   10,  29.5304,  21.1669,   -999.0,9
     RF03-06-2,  142E,RF-1953,  1,     20,02-18574,2,20030718,2100,  1.9692, 142.0302, 2606,     25.5,  29.5670,  34.1425,2,   -999.0,9,-999.0000,9,    197.9,2,     1.26,2,  -999.00,9,     0.00,2,     0.00,2,     0.06,2, -999.000,9, -999.000,9,  -999.00,9,   1892.7,2,   -999.0,9,-999.0000,9,   -999.0,  9,  -999.00,9,   -999.0,  -999.00,9,  -999.00,9,     0.12,2,     0.05,2,   -999.0,-999.0000, -999,9,   25,  29.5608,  21.2323,   -999.0,9
     RF03-06-2,  142E,RF-1953,  1,     19,02-18573,2,20030718,2059,  1.9692, 142.0302, 2606,     51.5,  29.5508,  34.1739,2,   -999.0,9,-999.0000,9,    198.0,2,     1.67,2,  -999.00,9,     0.00,2,     0.00,2,     0.06,2, -999.000,9, -999.000,9,  -999.00,9,   1896.5,2,   -999.0,9,-999.0000,9,   -999.0,  9,  -999.00,9,   -999.0,  -999.00,9,  -999.00,9,     0.13,2,     0.06,2,   -999.0,-999.0000, -999,9,   51,  29.5382,  21.2635,   -999.0,9
     RF03-06-2,  142E,RF-1953,  1,     18,02-18572,2,20030718,2058,  1.9692, 142.0302, 2606,     75.7,  28.2247,  34.2395,2,   -999.0,9,-999.0000,9,    198.2,2,     2.09,2,  -999.00,9,     0.00,2,     0.00,2,     0.05,2, -999.000,9, -999.000,9,  -999.00,9,   1924.2,2,   -999.0,9,-999.0000,9,   -999.0,  9,  -999.00,9,   -999.0,  -999.00,9,  -999.00,9,     0.27,2,     0.31,2,   -999.0,-999.0000, -999,9,   75,  28.2068,  21.7553,   -999.0,9
     RF03-06-2,  142E,RF-1953,  1,     17,02-18571,2,20030718,2056,  1.9692, 142.0302, 2606,    103.1,  27.2881,  34.7813,2,   -999.0,9,  34.7863,2,    166.5,2,     2.72,2,  -999.00,9,     3.12,2,     0.12,2,     0.31,2, -999.000,9, -999.000,9,  -999.00,9,   1977.5,2,   -999.0,9,-999.0000,9,   -999.0,  9,  -999.00,9,   -999.0,  -999.00,9,  -999.00,9,     0.15,2,     0.34,2,   -999.0,-999.0000, -999,9,  103,  27.2643,  22.4684,   -999.0,9
     RF03-06-2,  142E,RF-1953,  1,     16,02-18570,2,20030718,2054,  1.9692, 142.0302, 2606,    123.9,  25.7330,  34.9451,2,   -999.0,9,-999.0000,9,    146.6,2,     3.71,2,  -999.00,9,     6.30,2,     0.03,2,     0.49,2, -999.000,9, -999.000,9,  -999.00,9,   2018.6,2,   -999.0,9,-999.0000,9,   -999.0,  9,  -999.00,9,   -999.0,  -999.00,9,  -999.00,9,     0.09,2,     0.31,2,   -999.0,-999.0000, -999,9,  123,  25.7056,  23.0834,   -999.0,9
     RF03-06-2,  142E,RF-1953,  1,     15,02-18569,2,20030718,2053,  1.9692, 142.0302, 2606,    152.7,  23.4329,  35.1351,2,   -999.0,9,-999.0000,9,    134.4,2,     5.20,2,  -999.00,9,     9.05,2,     0.00,2,     0.67,2, -999.000,9, -999.000,9,  -999.00,9,   2050.4,2,   -999.0,9,-999.0000,9,   -999.0,  9,  -999.00,9,   -999.0,  -999.00,9,  -999.00,9,     0.03,2,     0.10,2,   -999.0,-999.0000, -999,9,  152,  23.4013,  23.9197,   -999.0,9
     RF03-06-2,  142E,RF-1953,  1,     14,02-18568,2,20030718,2051,  1.9692, 142.0302, 2606,    203.3,  16.1455,  34.7958,2,   -999.0,9,  34.7951,2,    147.2,2,    12.00,2,  -999.00,9,    13.33,2,     0.00,2,     0.95,2, -999.000,9, -999.000,9,  -999.00,9,   2090.9,2,   -999.0,9,-999.0000,9,   -999.0,  9,  -999.00,9,   -999.0,  -999.00,9,  -999.00,9,     0.00,2,     0.03,2,   -999.0,-999.0000, -999,9,  202,  16.1132,  25.5646,   -999.0,9
     RF03-06-2,  142E,RF-1953,  1,     13,02-18567,2,20030718,2049,  1.9692, 142.0302, 2606,    254.1,  11.0495,  34.6567,2,   -999.0,9,-999.0000,9,    124.9,2,    26.11,2,  -999.00,9,    23.50,2,     0.00,2,     1.67,2, -999.000,9, -999.000,9,  -999.00,9,   2169.3,2,   -999.0,9,-999.0000,9,   -999.0,  9,  -999.00,9,   -999.0,  -999.00,9,  -999.00,9,  -999.00,9,  -999.00,9,   -999.0,-999.0000, -999,9,  253,  11.0181,  26.5049,   -999.0,9
     RF03-06-2,  142E,RF-1953,  1,     12,02-18566,2,20030718,2045,  1.9692, 142.0302, 2606,    305.0,  10.2821,  34.7064,2,   -999.0,9,  34.7111,2,    123.8,2,    27.17,2,  -999.00,9,    25.40,2,     0.00,2,     1.77,2, -999.000,9, -999.000,9,  -999.00,9,   2178.0,2,   -999.0,9,-999.0000,9,   -999.0,  9,  -999.00,9,   -999.0,  -999.00,9,  -999.00,9,  -999.00,9,  -999.00,9,   -999.0,-999.0000, -999,9,  303,  10.2460,  26.6804,   -999.0,9
     RF03-06-2,  142E,RF-1953,  1,     11,02-18565,2,20030718,2041,  1.9692, 142.0302, 2606,    405.4,   9.1847,  34.6695,2,   -999.0,9,  34.6694,2,    103.7,2,    29.46,2,  -999.00,9,    29.62,2,     0.00,2,     2.04,2, -999.000,9, -999.000,9,  -999.00,9,   2208.3,2,   -999.0,9,-999.0000,9,   -999.0,  9,  -999.00,9,   -999.0,  -999.00,9,  -999.00,9,  -999.00,9,  -999.00,9,   -999.0,-999.0000, -999,9,  403,   9.1398,  26.8368,   -999.0,9
     RF03-06-2,  142E,RF-1953,  1,     10,02-18564,2,20030718,2035,  1.9692, 142.0302, 2606,    505.7,   8.3508,  34.6169,2,   -999.0,9,  34.6182,2,    109.0,2,    33.25,2,  -999.00,9,    30.74,2,     0.00,2,     2.13,2, -999.000,9, -999.000,9,  -999.00,9,   -999.0,9,   -999.0,9,-999.0000,9,   -999.0,  9,  -999.00,9,   -999.0,  -999.00,9,  -999.00,9,  -999.00,9,  -999.00,9,   -999.0,-999.0000, -999,9,  502,   8.2976,  26.9280,   -999.0,9
     RF03-06-2,  142E,RF-1953,  1,      9,02-18563,2,20030718,2030,  1.9692, 142.0302, 2606,    605.9,   7.0513,  34.5594,2,   -999.0,9,  34.5608,2,    103.5,2,    43.51,2,  -999.00,9,    33.65,2,     0.00,2,     2.37,2, -999.000,9, -999.000,9,  -999.00,9,   2230.1,2,   -999.0,9,-999.0000,9,   -999.0,  9,  -999.00,9,   -999.0,  -999.00,9,  -999.00,9,  -999.00,9,  -999.00,9,   -999.0,-999.0000, -999,9,  602,   6.9930,  27.0726,   -999.0,9
     RF03-06-2,  142E,RF-1953,  1,      8,02-18562,2,20030718,2026,  1.9692, 142.0302, 2606,    707.0,   6.0410,  34.5354,2,   -999.0,9,  34.5352,2,    107.2,2,    54.41,2,  -999.00,9,    34.96,2,     0.00,2,     2.47,2, -999.000,9, -999.000,9,  -999.00,9,   -999.0,9,   -999.0,9,-999.0000,9,   -999.0,  9,  -999.00,9,   -999.0,  -999.00,9,  -999.00,9,  -999.00,9,  -999.00,9,   -999.0,-999.0000, -999,9,  702,   5.9779,  27.1883,   -999.0,9
     RF03-06-2,  142E,RF-1953,  1,      7,02-18561,2,20030718,2021,  1.9692, 142.0302, 2606,    808.8,   5.4624,  34.5366,2,   -999.0,9,  34.5364,2,     97.8,2,    67.83,2,  -999.00,9,    36.48,2,     0.00,2,     2.60,2, -999.000,9, -999.000,9,  -999.00,9,   2268.1,2,   -999.0,9,-999.0000,9,   -999.0,  9,  -999.00,9,   -999.0,  -999.00,9,  -999.00,9,  -999.00,9,  -999.00,9,   -999.0,-999.0000, -999,9,  803,   5.3932,  27.2615,   -999.0,9
     RF03-06-2,  142E,RF-1953,  1,      6,02-18560,2,20030718,2018,  1.9692, 142.0302, 2606,    908.8,   4.8235,  34.5480,2,   -999.0,9,-999.0000,9,     96.7,2,    80.29,2,  -999.00,9,    37.23,2,     0.00,2,     2.65,2, -999.000,9, -999.000,9,  -999.00,9,   -999.0,9,   -999.0,9,-999.0000,9,   -999.0,  9,  -999.00,9,   -999.0,  -999.00,9,  -999.00,9,  -999.00,9,  -999.00,9,   -999.0,-999.0000, -999,9,  902,   4.7495,  27.3455,   -999.0,9
     RF03-06-2,  142E,RF-1953,  1,      5,02-18559,2,20030718,2013,  1.9692, 142.0302, 2606,   1010.1,   4.4871,  34.5535,2,   -999.0,9,  34.5533,2,    100.4,2,    84.41,2,  -999.00,9,    37.60,2,     0.00,2,     2.67,2, -999.000,9, -999.000,9,  -999.00,9,   2286.2,2,   -999.0,9,-999.0000,9,   -999.0,  9,  -999.00,9,   -999.0,  -999.00,9,  -999.00,9,  -999.00,9,  -999.00,9,   -999.0,-999.0000, -999,9, 1002,   4.4067,  27.3878,   -999.0,9
     RF03-06-2,  142E,RF-1953,  1,      4,02-18558,2,20030718,2004,  1.9692, 142.0302, 2606,   1262.5,   3.8631,  34.5732,2,   -999.0,9,  34.5737,2,     97.0,2,   100.38,2,  -999.00,9,    38.18,2,     0.00,2,     2.73,2, -999.000,9, -999.000,9,  -999.00,9,   2302.2,2,   -999.0,9,-999.0000,9,   -999.0,  9,  -999.00,9,   -999.0,  -999.00,9,  -999.00,9,  -999.00,9,  -999.00,9,   -999.0,-999.0000, -999,9, 1252,   3.7663,  27.4706,   -999.0,9
     RF03-06-2,  142E,RF-1953,  1,      3,02-18557,2,20030718,1954,  1.9692, 142.0302, 2606,   1513.9,   2.8561,  34.6075,2,   -999.0,9,  34.6072,2,    107.6,2,   119.26,2,  -999.00,9,    38.26,2,     0.00,2,     2.72,2, -999.000,9, -999.000,9,  -999.00,9,   2321.1,2,   -999.0,9,-999.0000,9,   -999.0,  9,  -999.00,9,   -999.0,  -999.00,9,  -999.00,9,  -999.00,9,  -999.00,9,   -999.0,-999.0000, -999,9, 1500,   2.7487,  27.5944,   -999.0,9
     RF03-06-2,  142E,RF-1953,  1,      2,02-18556,2,20030718,1949,  1.9692, 142.0302, 2606,   1764.4,   2.4894,  34.6238,2,   -999.0,9,  34.6237,2,    110.1,2,   128.98,2,  -999.00,9,    38.45,2,     0.00,2,     2.71,2, -999.000,9, -999.000,9,  -999.00,9,   -999.0,9,   -999.0,9,-999.0000,9,   -999.0,  9,  -999.00,9,   -999.0,  -999.00,9,  -999.00,9,  -999.00,9,  -999.00,9,   -999.0,-999.0000, -999,9, 1747,   2.3657,  27.6405,   -999.0,9
     RF03-06-2,  142E,RF-1953,  1,      1,02-18555,2,20030718,1945,  1.9692, 142.0302, 2606,   2019.9,   2.2064,  34.6376,2,   -999.0,9,  34.6385,2,    121.3,2,   132.82,2,  -999.00,9,    37.99,2,     0.00,2,     2.67,2, -999.000,9, -999.000,9,  -999.00,9,   2328.1,2,   -999.0,9,-999.0000,9,   -999.0,  9,  -999.00,9,   -999.0,  -999.00,9,  -999.00,9,  -999.00,9,  -999.00,9,   -999.0,-999.0000, -999,9, 1999,   2.0651,  27.6762,   -999.0,9