BOTTLE,20131214MIRCJHATS
EXPOCODE,SECT_ID,STNNBR,CASTNO,SAMPNO,BTLNBR,BTLNBR_FLAG_W,DATE,TIME,LATITUDE,LONGITUDE,DEPTH,CTDPRS,CTDTMP,CTDSAL,CTDSAL_FLAG_W,CTDOXY,CTDOXY_FLAG_W,SALNTY,SALNTY_FLAG_W,OXYGEN,OXYGEN_FLAG_W,SILCAT,SILCAT_FLAG_W,NITRAT,NITRAT_FLAG_W,NO2+NO3,NO2+NO3_FLAG_W,NITRIT,NITRIT_FLAG_W,PHSPHT,PHSPHT_FLAG_W,CFC-11,CFC-11_FLAG_W,CFC-12,CFC-12_FLAG_W,DELC13,DELC13_FLAG_W,TCARBN,TCARBN_FLAG_W,ALKALI,ALKALI_FLAG_W,PH,PH_FLAG_W,PH_TMP,PH_SCALE,PH_NBS,PH_NBS_FLAG_W,C13ERR,TOTALP,TOTALP_FLAG_W,AMMONI,AMMONI_FLAG_W,CHLORA,CHLORA_FLAG_W,PPHYTN,PPHYTN_FLAG_W,REVPRS,REVTMP,DEPTH_,DEPTH_FLAG,CTDDEP,THETA,SIGTHT,DOC,DOC_FLAG_W
,,,,,,,GMT,GMT,,,METER,DBAR,ITS-90,PSS-78,,UMOL/KG,,PSS-78,,UMOL/KG,,UMOL/KG,,UMOL/KG,,UMOL/KG,,UMOL/KG,,UMOL/KG,,PMOL/KG,,PMOL/KG,,/MILLE,,UMOL/KG,,UMOL/KG,,25_DEG_C,,DEG_C,,,,/MILLE,UMOL/KG,,UMOL/KG,,UG/L,,UG/L,,DBAR,ITS-90,METERS,,METERS,DEG_C,,UMOL/L,
     RF03-06-2,  137E,RF-1958,  1,     -9,      -9,5,20030720,0934,  3.0342, 137.0157, 4549,      0.0,  29.0522,  34.1228,2,   -999.0,9,-999.0000,9,    199.5,2,     1.45,2,  -999.00,9,     0.01,2,     0.00,2,     0.04,2, -999.000,9, -999.000,9,  -999.00,9,   1893.7,2,   -999.0,9,-999.0000,9,   -999.0,  9,  -999.00,9,   -999.0,  -999.00,9,  -999.00,9,     0.20,2,     0.09,2,   -999.0,-999.0000, -999,9,    0,  29.0516,  21.3884,   -999.0,9
     RF03-06-2,  137E,RF-1958,  1,     21,02-18575,2,20030720,0932,  3.0342, 137.0157, 4549,     10.4,  29.0565,  34.1220,2,   -999.0,9,-999.0000,9,    200.9,2,     1.44,2,  -999.00,9,     0.00,2,     0.00,2,     0.04,2, -999.000,9, -999.000,9,  -999.00,9,   1894.0,2,   -999.0,9,-999.0000,9,   -999.0,  9,  -999.00,9,   -999.0,  -999.00,9,  -999.00,9,     0.19,2,     0.07,2,   -999.0,-999.0000, -999,9,   10,  29.0540,  21.3870,   -999.0,9
     RF03-06-2,  137E,RF-1958,  1,     20,02-18574,2,20030720,0931,  3.0342, 137.0157, 4549,     24.9,  29.0182,  34.1228,2,   -999.0,9,-999.0000,9,    201.2,2,     1.40,2,  -999.00,9,     0.00,2,     0.00,2,     0.05,2, -999.000,9, -999.000,9,  -999.00,9,   1898.6,2,   -999.0,9,-999.0000,9,   -999.0,  9,  -999.00,9,   -999.0,  -999.00,9,  -999.00,9,     0.25,2,     0.11,2,   -999.0,-999.0000, -999,9,   25,  29.0122,  21.4016,   -999.0,9
     RF03-06-2,  137E,RF-1958,  1,     19,02-18573,2,20030720,0930,  3.0342, 137.0157, 4549,     50.3,  28.9666,  34.2507,2,   -999.0,9,-999.0000,9,    192.2,2,     1.49,2,  -999.00,9,     0.22,2,     0.08,2,     0.09,2, -999.000,9, -999.000,9,  -999.00,9,   1914.6,2,   -999.0,9,-999.0000,9,   -999.0,  9,  -999.00,9,   -999.0,  -999.00,9,  -999.00,9,     0.29,2,     0.20,2,   -999.0,-999.0000, -999,9,   50,  28.9545,  21.5167,   -999.0,9
     RF03-06-2,  137E,RF-1958,  1,     18,02-18572,2,20030720,0929,  3.0342, 137.0157, 4549,     75.4,  25.9220,  35.0587,2,   -999.0,9,-999.0000,9,    141.6,2,     3.27,2,  -999.00,9,     6.86,2,     0.03,2,     0.54,2, -999.000,9, -999.000,9,  -999.00,9,   2023.8,2,   -999.0,9,-999.0000,9,   -999.0,  9,  -999.00,9,   -999.0,  -999.00,9,  -999.00,9,     0.09,2,     0.24,2,   -999.0,-999.0000, -999,9,   75,  25.9052,  23.1072,   -999.0,9
     RF03-06-2,  137E,RF-1958,  1,     17,02-18571,2,20030720,0928,  3.0342, 137.0157, 4549,    101.0,  24.6112,  35.0392,2,   -999.0,9,  35.0682,4,    138.3,2,     4.29,2,  -999.00,9,     8.04,2,     0.01,2,     0.61,2, -999.000,9, -999.000,9,  -999.00,9,   2032.0,2,   -999.0,9,-999.0000,9,   -999.0,  9,  -999.00,9,   -999.0,  -999.00,9,  -999.00,9,     0.07,2,     0.16,2,   -999.0,-999.0000, -999,9,  100,  24.5895,  23.4950,   -999.0,9
     RF03-06-2,  137E,RF-1958,  1,     16,02-18570,2,20030720,0927,  3.0342, 137.0157, 4549,    126.2,  22.4734,  35.4455,2,   -999.0,9,-999.0000,9,    137.2,2,     3.62,2,  -999.00,9,     8.91,2,     0.00,2,     0.70,2, -999.000,9, -999.000,9,  -999.00,9,   2067.4,2,   -999.0,9,-999.0000,9,   -999.0,  9,  -999.00,9,   -999.0,  -999.00,9,  -999.00,9,     0.01,2,     0.04,2,   -999.0,-999.0000, -999,9,  125,  22.4480,  24.4297,   -999.0,9
     RF03-06-2,  137E,RF-1958,  1,     15,02-18569,2,20030720,0926,  3.0342, 137.0157, 4549,    154.3,  21.4181,  35.4393,2,   -999.0,9,-999.0000,9,    137.2,2,     4.30,2,  -999.00,9,     9.63,2,     0.00,2,     0.74,2, -999.000,9, -999.000,9,  -999.00,9,   2075.7,2,   -999.0,9,-999.0000,9,   -999.0,  9,  -999.00,9,   -999.0,  -999.00,9,  -999.00,9,     0.01,2,     0.03,2,   -999.0,-999.0000, -999,9,  153,  21.3881,  24.7220,   -999.0,9
     RF03-06-2,  137E,RF-1958,  1,     14,02-18568,2,20030720,0924,  3.0342, 137.0157, 4549,    204.8,  18.0277,  35.3883,2,   -999.0,9,  35.3890,2,    141.8,2,     5.65,2,  -999.00,9,    12.20,2,     0.00,2,     0.93,2, -999.000,9, -999.000,9,  -999.00,9,   2105.8,2,   -999.0,9,-999.0000,9,   -999.0,  9,  -999.00,9,   -999.0,  -999.00,9,  -999.00,9,     0.01,2,     0.02,2,   -999.0,-999.0000, -999,9,  204,  17.9924,  25.5714,   -999.0,9
     RF03-06-2,  137E,RF-1958,  1,     13,02-18567,2,20030720,0922,  3.0342, 137.0157, 4549,    254.2,  13.8417,  34.8589,2,   -999.0,9,-999.0000,9,    141.9,2,    16.52,2,  -999.00,9,    17.95,2,     0.00,2,     1.29,2, -999.000,9, -999.000,9,  -999.00,9,   2128.9,2,   -999.0,9,-999.0000,9,   -999.0,  9,  -999.00,9,   -999.0,  -999.00,9,  -999.00,9,  -999.00,9,  -999.00,9,   -999.0,-999.0000, -999,9,  253,  13.8052,  26.1188,   -999.0,9
     RF03-06-2,  137E,RF-1958,  1,     12,02-18566,2,20030720,0919,  3.0342, 137.0157, 4549,    304.1,  11.9550,  34.7187,2,   -999.0,9,  34.7164,2,    132.6,2,    22.17,2,  -999.00,9,    21.34,2,     0.00,2,     1.51,2, -999.000,9, -999.000,9,  -999.00,9,   2143.6,2,   -999.0,9,-999.0000,9,   -999.0,  9,  -999.00,9,   -999.0,  -999.00,9,  -999.00,9,  -999.00,9,  -999.00,9,   -999.0,-999.0000, -999,9,  302,  11.9154,  26.3867,   -999.0,9
     RF03-06-2,  137E,RF-1958,  1,     11,02-18565,2,20030720,0916,  3.0342, 137.0157, 4549,    405.3,   8.6962,  34.5827,2,   -999.0,9,  34.5802,2,    102.6,2,    36.59,2,  -999.00,9,    29.91,2,     0.00,2,     2.11,2, -999.000,9, -999.000,9,  -999.00,9,   2214.6,2,   -999.0,9,-999.0000,9,   -999.0,  9,  -999.00,9,   -999.0,  -999.00,9,  -999.00,9,  -999.00,9,  -999.00,9,   -999.0,-999.0000, -999,9,  403,   8.6528,  26.8463,   -999.0,9
     RF03-06-2,  137E,RF-1958,  1,     10,02-18564,2,20030720,0913,  3.0342, 137.0157, 4549,    506.5,   7.6648,  34.5597,2,   -999.0,9,  34.5580,2,    102.8,2,    41.18,2,  -999.00,9,    32.02,2,     0.00,2,     2.26,2, -999.000,9, -999.000,9,  -999.00,9,   -999.0,9,   -999.0,9,-999.0000,9,   -999.0,  9,  -999.00,9,   -999.0,  -999.00,9,  -999.00,9,  -999.00,9,  -999.00,9,   -999.0,-999.0000, -999,9,  503,   7.6141,  26.9848,   -999.0,9
     RF03-06-2,  137E,RF-1958,  1,      9,02-18563,2,20030720,0910,  3.0342, 137.0157, 4549,    606.0,   6.9138,  34.5411,2,   -999.0,9,  34.5407,2,    106.5,2,    46.19,2,  -999.00,9,    33.05,2,     0.00,2,     2.35,2, -999.000,9, -999.000,9,  -999.00,9,   2226.8,2,   -999.0,9,-999.0000,9,   -999.0,  9,  -999.00,9,   -999.0,  -999.00,9,  -999.00,9,  -999.00,9,  -999.00,9,   -999.0,-999.0000, -999,9,  602,   6.8562,  27.0770,   -999.0,9
     RF03-06-2,  137E,RF-1958,  1,      8,02-18562,2,20030720,0906,  3.0342, 137.0157, 4549,    707.3,   6.1398,  34.5342,2,   -999.0,9,  34.5344,2,     93.9,2,    57.96,2,  -999.00,9,    35.63,2,     0.00,2,     2.54,2, -999.000,9, -999.000,9,  -999.00,9,   -999.0,9,   -999.0,9,-999.0000,9,   -999.0,  9,  -999.00,9,   -999.0,  -999.00,9,  -999.00,9,  -999.00,9,  -999.00,9,   -999.0,-999.0000, -999,9,  702,   6.0762,  27.1749,   -999.0,9
     RF03-06-2,  137E,RF-1958,  1,      7,02-18561,2,20030720,0903,  3.0342, 137.0157, 4549,    808.1,   5.2871,  34.5370,2,   -999.0,9,  34.5370,2,    101.4,2,    70.02,2,  -999.00,9,    36.31,2,     0.00,2,     2.59,2, -999.000,9, -999.000,9,  -999.00,9,   2267.5,2,   -999.0,9,-999.0000,9,   -999.0,  9,  -999.00,9,   -999.0,  -999.00,9,  -999.00,9,  -999.00,9,  -999.00,9,   -999.0,-999.0000, -999,9,  802,   5.2191,  27.2826,   -999.0,9
     RF03-06-2,  137E,RF-1958,  1,      6,02-18560,2,20030720,0900,  3.0342, 137.0157, 4549,    908.1,   4.8505,  34.5464,2,   -999.0,9,-999.0000,9,     97.1,2,    78.70,2,  -999.00,9,    37.22,2,     0.00,2,     2.67,2, -999.000,9, -999.000,9,  -999.00,9,   -999.0,9,   -999.0,9,-999.0000,9,   -999.0,  9,  -999.00,9,   -999.0,  -999.00,9,  -999.00,9,  -999.00,9,  -999.00,9,   -999.0,-999.0000, -999,9,  901,   4.7764,  27.3412,   -999.0,9
     RF03-06-2,  137E,RF-1958,  1,      5,02-18559,2,20030720,0857,  3.0342, 137.0157, 4549,   1010.5,   4.4097,  34.5579,2,   -999.0,9,  34.5570,2,     92.1,2,    88.89,2,  -999.00,9,    38.13,2,     0.00,2,     2.73,2, -999.000,9, -999.000,9,  -999.00,9,   2300.4,2,   -999.0,9,-999.0000,9,   -999.0,  9,  -999.00,9,   -999.0,  -999.00,9,  -999.00,9,  -999.00,9,  -999.00,9,   -999.0,-999.0000, -999,9, 1003,   4.3299,  27.3996,   -999.0,9
     RF03-06-2,  137E,RF-1958,  1,      4,02-18558,2,20030720,0851,  3.0342, 137.0157, 4549,   1261.7,   3.4462,  34.5856,2,   -999.0,9,  34.5861,2,     97.0,2,   107.96,2,  -999.00,9,    38.53,2,     0.00,2,     2.75,2, -999.000,9, -999.000,9,  -999.00,9,   2304.4,2,   -999.0,9,-999.0000,9,   -999.0,  9,  -999.00,9,   -999.0,  -999.00,9,  -999.00,9,  -999.00,9,  -999.00,9,   -999.0,-999.0000, -999,9, 1251,   3.3535,  27.5211,   -999.0,9
     RF03-06-2,  137E,RF-1958,  1,      3,02-18557,2,20030720,0846,  3.0342, 137.0157, 4549,   1514.9,   2.8211,  34.6085,2,   -999.0,9,  34.6089,2,    107.8,2,   120.15,2,  -999.00,9,    38.14,2,     0.00,2,     2.72,2, -999.000,9, -999.000,9,  -999.00,9,   2322.0,2,   -999.0,9,-999.0000,9,   -999.0,  9,  -999.00,9,   -999.0,  -999.00,9,  -999.00,9,  -999.00,9,  -999.00,9,   -999.0,-999.0000, -999,9, 1501,   2.7140,  27.5983,   -999.0,9
     RF03-06-2,  137E,RF-1958,  1,      2,02-18556,2,20030720,0841,  3.0342, 137.0157, 4549,   1766.4,   2.4272,  34.6265,2,   -999.0,9,  34.6259,2,    111.2,2,   128.51,2,  -999.00,9,    38.12,2,     0.00,2,     2.70,2, -999.000,9, -999.000,9,  -999.00,9,   -999.0,9,   -999.0,9,-999.0000,9,   -999.0,  9,  -999.00,9,   -999.0,  -999.00,9,  -999.00,9,  -999.00,9,  -999.00,9,   -999.0,-999.0000, -999,9, 1749,   2.3042,  27.6478,   -999.0,9
     RF03-06-2,  137E,RF-1958,  1,      1,02-18555,2,20030720,0837,  3.0342, 137.0157, 4549,   2030.8,   2.1008,  34.6433,2,   -999.0,9,  34.6436,2,    120.0,2,   134.74,2,  -999.00,9,    37.82,2,     0.00,2,     2.66,2, -999.000,9, -999.000,9,  -999.00,9,   2335.0,2,   -999.0,9,-999.0000,9,   -999.0,  9,  -999.00,9,   -999.0,  -999.00,9,  -999.00,9,  -999.00,9,  -999.00,9,   -999.0,-999.0000, -999,9, 2010,   1.9602,  27.6890,   -999.0,9