BOTTLE,20131214MIRCJHATS
EXPOCODE,SECT_ID,STNNBR,CASTNO,SAMPNO,BTLNBR,BTLNBR_FLAG_W,DATE,TIME,LATITUDE,LONGITUDE,DEPTH,CTDPRS,CTDTMP,CTDSAL,CTDSAL_FLAG_W,CTDOXY,CTDOXY_FLAG_W,SALNTY,SALNTY_FLAG_W,OXYGEN,OXYGEN_FLAG_W,SILCAT,SILCAT_FLAG_W,NITRAT,NITRAT_FLAG_W,NO2+NO3,NO2+NO3_FLAG_W,NITRIT,NITRIT_FLAG_W,PHSPHT,PHSPHT_FLAG_W,CFC-11,CFC-11_FLAG_W,CFC-12,CFC-12_FLAG_W,DELC13,DELC13_FLAG_W,TCARBN,TCARBN_FLAG_W,ALKALI,ALKALI_FLAG_W,PH,PH_FLAG_W,PH_TMP,PH_SCALE,PH_NBS,PH_NBS_FLAG_W,C13ERR,TOTALP,TOTALP_FLAG_W,AMMONI,AMMONI_FLAG_W,CHLORA,CHLORA_FLAG_W,PPHYTN,PPHYTN_FLAG_W,REVPRS,REVTMP,DEPTH_,DEPTH_FLAG,CTDDEP,THETA,SIGTHT,DOC,DOC_FLAG_W
,,,,,,,GMT,GMT,,,METER,DBAR,ITS-90,PSS-78,,UMOL/KG,,PSS-78,,UMOL/KG,,UMOL/KG,,UMOL/KG,,UMOL/KG,,UMOL/KG,,UMOL/KG,,PMOL/KG,,PMOL/KG,,/MILLE,,UMOL/KG,,UMOL/KG,,25_DEG_C,,DEG_C,,,,/MILLE,UMOL/KG,,UMOL/KG,,UG/L,,UG/L,,DBAR,ITS-90,METERS,,METERS,DEG_C,,UMOL/L,
     RF03-06-2,  137E,RF-1968,  1,     -9,      -9,5,20030723,1148, 13.0017, 136.9843, 4755,      0.0,  29.2067,  34.3736,2,   -999.0,9,-999.0000,9,    198.6,2,     1.06,2,  -999.00,9,     0.00,2,     0.00,2,     0.04,2, -999.000,9, -999.000,9,  -999.00,9,   1910.7,2,   -999.0,9,-999.0000,9,   -999.0,  9,  -999.00,9,   -999.0,  -999.00,9,  -999.00,9,     0.06,2,     0.02,2,   -999.0,-999.0000, -999,9,    0,  29.2063,  21.5249,   -999.0,9
     RF03-06-2,  137E,RF-1968,  1,     21,02-18575,2,20030723,1146, 13.0017, 136.9843, 4755,      9.8,  29.2148,  34.3721,2,   -999.0,9,-999.0000,9,    197.6,2,     1.11,2,  -999.00,9,     0.00,2,     0.00,2,     0.03,2, -999.000,9, -999.000,9,  -999.00,9,   1913.2,2,   -999.0,9,-999.0000,9,   -999.0,  9,  -999.00,9,   -999.0,  -999.00,9,  -999.00,9,     0.06,2,     0.02,2,   -999.0,-999.0000, -999,9,   10,  29.2124,  21.5217,   -999.0,9
     RF03-06-2,  137E,RF-1968,  1,     20,02-18574,2,20030723,1145, 13.0017, 136.9843, 4755,     24.8,  29.2222,  34.3761,2,   -999.0,9,-999.0000,9,    196.5,2,     1.12,2,  -999.00,9,     0.00,2,     0.00,2,     0.03,2, -999.000,9, -999.000,9,  -999.00,9,   1908.9,2,   -999.0,9,-999.0000,9,   -999.0,  9,  -999.00,9,   -999.0,  -999.00,9,  -999.00,9,     0.06,2,     0.03,2,   -999.0,-999.0000, -999,9,   25,  29.2162,  21.5235,   -999.0,9
     RF03-06-2,  137E,RF-1968,  1,     19,02-18573,2,20030723,1143, 13.0017, 136.9843, 4755,     50.8,  29.0728,  34.3908,2,   -999.0,9,-999.0000,9,    200.7,2,     1.12,2,  -999.00,9,     0.00,2,     0.00,2,     0.03,2, -999.000,9, -999.000,9,  -999.00,9,   1908.0,2,   -999.0,9,-999.0000,9,   -999.0,  9,  -999.00,9,   -999.0,  -999.00,9,  -999.00,9,     0.07,2,     0.03,2,   -999.0,-999.0000, -999,9,   51,  29.0605,  21.5865,   -999.0,9
     RF03-06-2,  137E,RF-1968,  1,     18,02-18572,2,20030723,1142, 13.0017, 136.9843, 4755,     76.3,  29.0427,  34.3906,2,   -999.0,9,-999.0000,9,    200.2,2,     1.10,2,  -999.00,9,     0.00,2,     0.00,2,     0.03,2, -999.000,9, -999.000,9,  -999.00,9,   1909.3,2,   -999.0,9,-999.0000,9,   -999.0,  9,  -999.00,9,   -999.0,  -999.00,9,  -999.00,9,     0.08,2,     0.04,2,   -999.0,-999.0000, -999,9,   76,  29.0243,  21.5985,   -999.0,9
     RF03-06-2,  137E,RF-1968,  1,     17,02-18571,2,20030723,1141, 13.0017, 136.9843, 4755,     99.7,  28.2351,  34.4696,2,   -999.0,9,  34.4896,4,    207.3,2,     1.14,2,  -999.00,9,     0.00,2,     0.00,2,     0.04,2, -999.000,9, -999.000,9,  -999.00,9,   1918.0,2,   -999.0,9,-999.0000,9,   -999.0,  9,  -999.00,9,   -999.0,  -999.00,9,  -999.00,9,     0.14,2,     0.06,2,   -999.0,-999.0000, -999,9,   99,  28.2115,  21.9267,   -999.0,9
     RF03-06-2,  137E,RF-1968,  1,     16,02-18570,2,20030723,1140, 13.0017, 136.9843, 4755,    125.9,  27.1241,  34.7924,2,   -999.0,9,-999.0000,9,    204.9,2,     1.10,2,  -999.00,9,     0.00,2,     0.00,2,     0.05,2, -999.000,9, -999.000,9,  -999.00,9,   1943.6,2,   -999.0,9,-999.0000,9,   -999.0,  9,  -999.00,9,   -999.0,  -999.00,9,  -999.00,9,     0.26,2,     0.19,2,   -999.0,-999.0000, -999,9,  125,  27.0951,  22.5310,   -999.0,9
     RF03-06-2,  137E,RF-1968,  1,     15,02-18569,2,20030723,1139, 13.0017, 136.9843, 4755,    150.3,  25.3590,  35.1147,2,   -999.0,9,-999.0000,9,    195.5,2,     1.23,2,  -999.00,9,     0.08,2,     0.02,2,     0.08,2, -999.000,9, -999.000,9,  -999.00,9,   1987.0,2,   -999.0,9,-999.0000,9,   -999.0,  9,  -999.00,9,   -999.0,  -999.00,9,  -999.00,9,     0.15,2,     0.26,2,   -999.0,-999.0000, -999,9,  149,  25.3260,  23.3283,   -999.0,9
     RF03-06-2,  137E,RF-1968,  1,     14,02-18568,2,20030723,1137, 13.0017, 136.9843, 4755,    202.0,  17.2740,  34.7284,2,   -999.0,9,  34.7321,2,    154.2,2,     7.18,2,  -999.00,9,     9.19,2,     0.00,2,     0.68,2, -999.000,9, -999.000,9,  -999.00,9,   2078.3,2,   -999.0,9,-999.0000,9,   -999.0,  9,  -999.00,9,   -999.0,  -999.00,9,  -999.00,9,     0.03,2,     0.10,2,   -999.0,-999.0000, -999,9,  201,  17.2403,  25.2484,   -999.0,9
     RF03-06-2,  137E,RF-1968,  1,     13,02-18567,2,20030723,1135, 13.0017, 136.9843, 4755,    252.7,  13.7102,  34.5010,2,   -999.0,9,-999.0000,9,    137.5,2,    15.13,2,  -999.00,9,    16.82,2,     0.00,2,     1.20,2, -999.000,9, -999.000,9,  -999.00,9,   2115.4,2,   -999.0,9,-999.0000,9,   -999.0,  9,  -999.00,9,   -999.0,  -999.00,9,  -999.00,9,  -999.00,9,  -999.00,9,   -999.0,-999.0000, -999,9,  251,  13.6743,  25.8692,   -999.0,9
     RF03-06-2,  137E,RF-1968,  1,     12,02-18566,2,20030723,1134, 13.0017, 136.9843, 4755,    304.7,  10.5754,  34.3229,2,   -999.0,9,  34.3227,2,    137.3,2,    25.88,2,  -999.00,9,    22.06,2,     0.00,2,     1.55,2, -999.000,9, -999.000,9,  -999.00,9,   2154.3,2,   -999.0,9,-999.0000,9,   -999.0,  9,  -999.00,9,   -999.0,  -999.00,9,  -999.00,9,  -999.00,9,  -999.00,9,   -999.0,-999.0000, -999,9,  303,  10.5389,  26.3302,   -999.0,9
     RF03-06-2,  137E,RF-1968,  1,     11,02-18565,2,20030723,1131, 13.0017, 136.9843, 4755,    406.3,   8.7528,  34.4816,2,   -999.0,9,  34.4823,2,     69.9,2,    41.35,2,  -999.00,9,    32.48,2,     0.00,2,     2.32,2, -999.000,9, -999.000,9,  -999.00,9,   2224.3,3,   -999.0,9,-999.0000,9,   -999.0,  9,  -999.00,9,   -999.0,  -999.00,9,  -999.00,9,  -999.00,9,  -999.00,9,   -999.0,-999.0000, -999,9,  404,   8.7092,  26.7582,   -999.0,9
     RF03-06-2,  137E,RF-1968,  1,     10,02-18564,2,20030723,1128, 13.0017, 136.9843, 4755,    505.5,   7.3484,  34.4886,2,   -999.0,9,  34.4882,2,     68.9,2,    52.03,2,  -999.00,9,    35.24,2,     0.00,2,     2.51,2, -999.000,9, -999.000,9,  -999.00,9,   -999.0,9,   -999.0,9,-999.0000,9,   -999.0,  9,  -999.00,9,   -999.0,  -999.00,9,  -999.00,9,  -999.00,9,  -999.00,9,   -999.0,-999.0000, -999,9,  502,   7.2991,  26.9741,   -999.0,9
     RF03-06-2,  137E,RF-1968,  1,      9,02-18563,2,20030723,1125, 13.0017, 136.9843, 4755,    607.3,   6.5282,  34.5039,2,   -999.0,9,  34.5047,2,     71.8,2,    59.92,2,  -999.00,9,    36.55,2,     0.00,2,     2.62,2, -999.000,9, -999.000,9,  -999.00,9,   2265.1,2,   -999.0,9,-999.0000,9,   -999.0,  9,  -999.00,9,   -999.0,  -999.00,9,  -999.00,9,  -999.00,9,  -999.00,9,   -999.0,-999.0000, -999,9,  603,   6.4722,  27.0994,   -999.0,9
     RF03-06-2,  137E,RF-1968,  1,      8,02-18562,2,20030723,1123, 13.0017, 136.9843, 4755,    707.0,   6.0366,  34.5126,2,   -999.0,9,  34.5136,2,     72.5,2,    65.80,2,  -999.00,9,    37.36,2,     0.00,2,     2.68,2, -999.000,9, -999.000,9,  -999.00,9,   -999.0,9,   -999.0,9,-999.0000,9,   -999.0,  9,  -999.00,9,   -999.0,  -999.00,9,  -999.00,9,  -999.00,9,  -999.00,9,   -999.0,-999.0000, -999,9,  702,   5.9736,  27.1708,   -999.0,9
     RF03-06-2,  137E,RF-1968,  1,      7,02-18561,2,20030723,1119, 13.0017, 136.9843, 4755,    807.8,   5.5867,  34.5192,2,   -999.0,9,  34.5200,2,     73.7,2,    72.78,2,  -999.00,9,    37.97,2,     0.00,2,     2.74,2, -999.000,9, -999.000,9,  -999.00,9,   2284.3,2,   -999.0,9,-999.0000,9,   -999.0,  9,  -999.00,9,   -999.0,  -999.00,9,  -999.00,9,  -999.00,9,  -999.00,9,   -999.0,-999.0000, -999,9,  802,   5.5169,  27.2328,   -999.0,9
     RF03-06-2,  137E,RF-1968,  1,      6,02-18560,2,20030723,1117, 13.0017, 136.9843, 4755,    907.6,   5.1771,  34.5288,2,   -999.0,9,-999.0000,9,     80.6,2,    78.49,2,  -999.00,9,    37.93,2,     0.00,2,     2.72,2, -999.000,9, -999.000,9,  -999.00,9,   -999.0,9,   -999.0,9,-999.0000,9,   -999.0,  9,  -999.00,9,   -999.0,  -999.00,9,  -999.00,9,  -999.00,9,  -999.00,9,   -999.0,-999.0000, -999,9,  900,   5.1008,  27.2899,   -999.0,9
     RF03-06-2,  137E,RF-1968,  1,      5,02-18559,2,20030723,1114, 13.0017, 136.9843, 4755,   1009.2,   4.7727,  34.5394,2,   -999.0,9,  34.5405,2,     82.7,2,    85.81,2,  -999.00,9,    38.28,2,     0.00,2,     2.74,2, -999.000,9, -999.000,9,  -999.00,9,   2291.6,2,   -999.0,9,-999.0000,9,   -999.0,  9,  -999.00,9,   -999.0,  -999.00,9,  -999.00,9,  -999.00,9,  -999.00,9,   -999.0,-999.0000, -999,9, 1001,   4.6902,  27.3453,   -999.0,9
     RF03-06-2,  137E,RF-1968,  1,      4,02-18558,2,20030723,1109, 13.0017, 136.9843, 4755,   1262.7,   3.9108,  34.5589,2,   -999.0,9,  34.5584,2,     81.0,2,   103.88,2,  -999.00,9,    39.23,2,     0.00,2,     2.81,2, -999.000,9, -999.000,9,  -999.00,9,   2313.5,2,   -999.0,9,-999.0000,9,   -999.0,  9,  -999.00,9,   -999.0,  -999.00,9,  -999.00,9,  -999.00,9,  -999.00,9,   -999.0,-999.0000, -999,9, 1252,   3.8135,  27.4544,   -999.0,9
     RF03-06-2,  137E,RF-1968,  1,      3,02-18557,2,20030723,1103, 13.0017, 136.9843, 4755,   1513.7,   3.1562,  34.5838,2,   -999.0,9,  34.5830,2,     92.5,2,   117.94,2,  -999.00,9,    38.85,2,     0.00,2,     2.76,2, -999.000,9, -999.000,9,  -999.00,9,   2321.4,2,   -999.0,9,-999.0000,9,   -999.0,  9,  -999.00,9,   -999.0,  -999.00,9,  -999.00,9,  -999.00,9,  -999.00,9,   -999.0,-999.0000, -999,9, 1500,   3.0454,  27.5487,   -999.0,9
     RF03-06-2,  137E,RF-1968,  1,      2,02-18556,2,20030723,1058, 13.0017, 136.9843, 4755,   1768.5,   2.6980,  34.6006,2,   -999.0,9,  34.6009,2,    102.1,2,   126.55,2,  -999.00,9,    38.45,2,     0.00,2,     2.72,2, -999.000,9, -999.000,9,  -999.00,9,   -999.0,9,   -999.0,9,-999.0000,9,   -999.0,  9,  -999.00,9,   -999.0,  -999.00,9,  -999.00,9,  -999.00,9,  -999.00,9,   -999.0,-999.0000, -999,9, 1751,   2.5712,  27.6045,   -999.0,9
     RF03-06-2,  137E,RF-1968,  1,      1,02-18555,2,20030723,1052, 13.0017, 136.9843, 4755,   2036.2,   2.3426,  34.6234,2,   -999.0,9,  34.6225,2,    109.3,2,   132.69,2,  -999.00,9,    38.45,2,     0.00,2,     2.70,2, -999.000,9, -999.000,9,  -999.00,9,   2331.6,2,   -999.0,9,-999.0000,9,   -999.0,  9,  -999.00,9,   -999.0,  -999.00,9,  -999.00,9,  -999.00,9,  -999.00,9,   -999.0,-999.0000, -999,9, 2015,   2.1979,  27.6541,   -999.0,9