BOTTLE,20131214MIRCJHATS
EXPOCODE,SECT_ID,STNNBR,CASTNO,SAMPNO,BTLNBR,BTLNBR_FLAG_W,DATE,TIME,LATITUDE,LONGITUDE,DEPTH,CTDPRS,CTDTMP,CTDSAL,CTDSAL_FLAG_W,CTDOXY,CTDOXY_FLAG_W,SALNTY,SALNTY_FLAG_W,OXYGEN,OXYGEN_FLAG_W,SILCAT,SILCAT_FLAG_W,NITRAT,NITRAT_FLAG_W,NO2+NO3,NO2+NO3_FLAG_W,NITRIT,NITRIT_FLAG_W,PHSPHT,PHSPHT_FLAG_W,CFC-11,CFC-11_FLAG_W,CFC-12,CFC-12_FLAG_W,DELC13,DELC13_FLAG_W,TCARBN,TCARBN_FLAG_W,ALKALI,ALKALI_FLAG_W,PH,PH_FLAG_W,PH_TMP,PH_SCALE,PH_NBS,PH_NBS_FLAG_W,C13ERR,TOTALP,TOTALP_FLAG_W,AMMONI,AMMONI_FLAG_W,CHLORA,CHLORA_FLAG_W,PPHYTN,PPHYTN_FLAG_W,REVPRS,REVTMP,DEPTH_,DEPTH_FLAG,CTDDEP,THETA,SIGTHT,DOC,DOC_FLAG_W
,,,,,,,GMT,GMT,,,METER,DBAR,ITS-90,PSS-78,,UMOL/KG,,PSS-78,,UMOL/KG,,UMOL/KG,,UMOL/KG,,UMOL/KG,,UMOL/KG,,UMOL/KG,,PMOL/KG,,PMOL/KG,,/MILLE,,UMOL/KG,,UMOL/KG,,25_DEG_C,,DEG_C,,,,/MILLE,UMOL/KG,,UMOL/KG,,UG/L,,UG/L,,DBAR,ITS-90,METERS,,METERS,DEG_C,,UMOL/L,
     RF03-06-2,  137E,RF-1978,  1,     -9,      -9,5,20030726,0048, 22.9935, 137.0032, 2711,      0.0,  30.4957,  34.9097,2,   -999.0,9,-999.0000,9,    196.7,2,     1.16,2,  -999.00,9,     0.00,2,     0.00,2,     0.00,2, -999.000,9, -999.000,9,  -999.00,9,   1932.5,2,   -999.0,9,-999.0000,9,   -999.0,  9,  -999.00,9,   -999.0,  -999.00,9,  -999.00,9,     0.06,2,     0.00,2,   -999.0,-999.0000, -999,9,    0,  30.4953,  21.4885,   -999.0,9
     RF03-06-2,  137E,RF-1978,  1,     21,02-18575,2,20030726,0045, 22.9935, 137.0032, 2711,     11.2,  30.3818,  34.9059,2,   -999.0,9,-999.0000,9,    198.7,2,     1.16,2,  -999.00,9,     0.00,2,     0.00,2,     0.00,2, -999.000,9, -999.000,9,  -999.00,9,   1932.5,2,   -999.0,9,-999.0000,9,   -999.0,  9,  -999.00,9,   -999.0,  -999.00,9,  -999.00,9,     0.06,2,     0.01,2,   -999.0,-999.0000, -999,9,   11,  30.3790,  21.5257,   -999.0,9
     RF03-06-2,  137E,RF-1978,  1,     20,02-18574,2,20030726,0044, 22.9935, 137.0032, 2711,     25.8,  28.2009,  34.8716,2,   -999.0,9,-999.0000,9,    214.6,2,     1.17,2,  -999.00,9,     0.00,2,     0.00,2,     0.00,2, -999.000,9, -999.000,9,  -999.00,9,   1933.2,2,   -999.0,9,-999.0000,9,   -999.0,  9,  -999.00,9,   -999.0,  -999.00,9,  -999.00,9,     0.07,2,     0.02,2,   -999.0,-999.0000, -999,9,   26,  28.1948,  22.2343,   -999.0,9
     RF03-06-2,  137E,RF-1978,  1,     19,02-18573,2,20030726,0043, 22.9935, 137.0032, 2711,     51.1,  26.0106,  34.9780,2,   -999.0,9,-999.0000,9,    218.7,2,     1.18,2,  -999.00,9,     0.00,2,     0.00,2,     0.00,2, -999.000,9, -999.000,9,  -999.00,9,   1951.5,2,   -999.0,9,-999.0000,9,   -999.0,  9,  -999.00,9,   -999.0,  -999.00,9,  -999.00,9,     0.10,2,     0.04,2,   -999.0,-999.0000, -999,9,   51,  25.9992,  23.0170,   -999.0,9
     RF03-06-2,  137E,RF-1978,  1,     18,02-18572,2,20030726,0042, 22.9935, 137.0032, 2711,     75.4,  24.5748,  35.0236,2,   -999.0,9,-999.0000,9,    210.8,2,     1.27,2,  -999.00,9,     0.00,2,     0.00,2,     0.00,2, -999.000,9, -999.000,9,  -999.00,9,   1963.9,2,   -999.0,9,-999.0000,9,   -999.0,  9,  -999.00,9,   -999.0,  -999.00,9,  -999.00,9,     0.15,2,     0.09,2,   -999.0,-999.0000, -999,9,   75,  24.5587,  23.4925,   -999.0,9
     RF03-06-2,  137E,RF-1978,  1,     17,02-18571,2,20030726,0041, 22.9935, 137.0032, 2711,     99.9,  23.1819,  35.0090,2,   -999.0,9,  35.0063,2,    204.4,2,     1.41,2,  -999.00,9,     0.00,2,     0.00,2,     0.00,2, -999.000,9, -999.000,9,  -999.00,9,   1973.3,2,   -999.0,9,-999.0000,9,   -999.0,  9,  -999.00,9,   -999.0,  -999.00,9,  -999.00,9,     0.32,2,     0.45,2,   -999.0,-999.0000, -999,9,   99,  23.1614,  23.8938,   -999.0,9
     RF03-06-2,  137E,RF-1978,  1,     16,02-18570,2,20030726,0040, 22.9935, 137.0032, 2711,    125.6,  21.8788,  34.9379,2,   -999.0,9,-999.0000,9,    205.0,2,     1.63,2,  -999.00,9,     0.56,2,     0.00,2,     0.03,2, -999.000,9, -999.000,9,  -999.00,9,   1978.8,2,   -999.0,9,-999.0000,9,   -999.0,  9,  -999.00,9,   -999.0,  -999.00,9,  -999.00,9,     0.17,2,     0.30,2,   -999.0,-999.0000, -999,9,  125,  21.8541,  24.2114,   -999.0,9
     RF03-06-2,  137E,RF-1978,  1,     15,02-18569,2,20030726,0039, 22.9935, 137.0032, 2711,    152.4,  20.6051,  34.9097,2,   -999.0,9,-999.0000,9,    198.6,2,     2.03,2,  -999.00,9,     1.66,2,     0.00,2,     0.10,2, -999.000,9, -999.000,9,  -999.00,9,   2002.3,2,   -999.0,9,-999.0000,9,   -999.0,  9,  -999.00,9,   -999.0,  -999.00,9,  -999.00,9,     0.07,2,     0.14,2,   -999.0,-999.0000, -999,9,  151,  20.5764,  24.5396,   -999.0,9
     RF03-06-2,  137E,RF-1978,  1,     14,02-18568,2,20030726,0037, 22.9935, 137.0032, 2711,    201.3,  19.1819,  34.8624,2,   -999.0,9,  34.8629,2,    211.1,2,     2.40,2,  -999.00,9,     2.09,2,     0.00,2,     0.12,2, -999.000,9, -999.000,9,  -999.00,9,   1997.2,2,   -999.0,9,-999.0000,9,   -999.0,  9,  -999.00,9,   -999.0,  -999.00,9,  -999.00,9,     0.01,2,     0.02,2,   -999.0,-999.0000, -999,9,  200,  19.1458,  24.8787,   -999.0,9
     RF03-06-2,  137E,RF-1978,  1,     13,02-18567,2,20030726,0034, 22.9935, 137.0032, 2711,    252.2,  17.9612,  34.8007,2,   -999.0,9,-999.0000,9,    213.3,2,     3.30,2,  -999.00,9,     3.30,2,     0.00,2,     0.20,2, -999.000,9, -999.000,9,  -999.00,9,   2006.0,2,   -999.0,9,-999.0000,9,   -999.0,  9,  -999.00,9,   -999.0,  -999.00,9,  -999.00,9,  -999.00,9,  -999.00,9,   -999.0,-999.0000, -999,9,  250,  17.9180,  25.1396,   -999.0,9
     RF03-06-2,  137E,RF-1978,  1,     12,02-18566,2,20030726,0032, 22.9935, 137.0032, 2711,    302.0,  17.1779,  34.7434,2,   -999.0,9,  34.7404,2,    206.3,2,     4.88,2,  -999.00,9,     5.23,2,     0.00,2,     0.31,2, -999.000,9, -999.000,9,  -999.00,9,   2019.2,2,   -999.0,9,-999.0000,9,   -999.0,  9,  -999.00,9,   -999.0,  -999.00,9,  -999.00,9,  -999.00,9,  -999.00,9,   -999.0,-999.0000, -999,9,  300,  17.1277,  25.2869,   -999.0,9
     RF03-06-2,  137E,RF-1978,  1,     11,02-18565,2,20030726,0030, 22.9935, 137.0032, 2711,    403.2,  14.1390,  34.5353,2,   -999.0,9,  34.5381,2,    192.4,2,    11.96,2,  -999.00,9,    11.37,2,     0.00,2,     0.72,2, -999.000,9, -999.000,9,  -999.00,9,   2066.2,2,   -999.0,9,-999.0000,9,   -999.0,  9,  -999.00,9,   -999.0,  -999.00,9,  -999.00,9,  -999.00,9,  -999.00,9,   -999.0,-999.0000, -999,9,  400,  14.0802,  25.8111,   -999.0,9
     RF03-06-2,  137E,RF-1978,  1,     10,02-18564,2,20030726,0028, 22.9935, 137.0032, 2711,    504.7,  11.0528,  34.3241,2,   -999.0,9,  34.3211,2,    173.2,2,    24.67,2,  -999.00,9,    18.30,2,     0.00,2,     1.23,2, -999.000,9, -999.000,9,  -999.00,9,   -999.0,9,   -999.0,9,-999.0000,9,   -999.0,  9,  -999.00,9,   -999.0,  -999.00,9,  -999.00,9,  -999.00,9,  -999.00,9,   -999.0,-999.0000, -999,9,  501,  10.9900,  26.2510,   -999.0,9
     RF03-06-2,  137E,RF-1978,  1,      9,02-18563,2,20030726,0025, 22.9935, 137.0032, 2711,    605.0,   8.4622,  34.1807,2,   -999.0,9,  34.1784,2,    145.1,2,    42.61,2,  -999.00,9,    25.40,2,     0.00,2,     1.76,2, -999.000,9, -999.000,9,  -999.00,9,   2168.4,2,   -999.0,9,-999.0000,9,   -999.0,  9,  -999.00,9,   -999.0,  -999.00,9,  -999.00,9,  -999.00,9,  -999.00,9,   -999.0,-999.0000, -999,9,  600,   8.3980,  26.5704,   -999.0,9
     RF03-06-2,  137E,RF-1978,  1,      8,02-18562,2,20030726,0023, 22.9935, 137.0032, 2711,    705.8,   5.9729,  34.1446,2,   -999.0,9,  34.1467,2,    101.5,2,    70.40,2,  -999.00,9,    33.31,2,     0.00,2,     2.37,2, -999.000,9, -999.000,9,  -999.00,9,   -999.0,9,   -999.0,9,-999.0000,9,   -999.0,  9,  -999.00,9,   -999.0,  -999.00,9,  -999.00,9,  -999.00,9,  -999.00,9,   -999.0,-999.0000, -999,9,  700,   5.9108,  26.8879,   -999.0,9
     RF03-06-2,  137E,RF-1978,  1,      7,02-18561,2,20030726,0021, 22.9935, 137.0032, 2711,    806.4,   4.8962,  34.2171,2,   -999.0,9,  34.2164,2,     71.8,2,    90.73,2,  -999.00,9,    37.36,2,     0.00,2,     2.69,2, -999.000,9, -999.000,9,  -999.00,9,   2288.7,2,   -999.0,9,-999.0000,9,   -999.0,  9,  -999.00,9,   -999.0,  -999.00,9,  -999.00,9,  -999.00,9,  -999.00,9,   -999.0,-999.0000, -999,9,  800,   4.8312,  27.0737,   -999.0,9
     RF03-06-2,  137E,RF-1978,  1,      6,02-18560,2,20030726,0018, 22.9935, 137.0032, 2711,    909.1,   4.3058,  34.2933,2,   -999.0,9,-999.0000,9,     59.4,2,   103.54,2,  -999.00,9,    39.24,2,     0.00,2,     2.81,2, -999.000,9, -999.000,9,  -999.00,9,   -999.0,9,   -999.0,9,-999.0000,9,   -999.0,  9,  -999.00,9,   -999.0,  -999.00,9,  -999.00,9,  -999.00,9,  -999.00,9,   -999.0,-999.0000, -999,9,  901,   4.2358,  27.1994,   -999.0,9
     RF03-06-2,  137E,RF-1978,  1,      5,02-18559,2,20030726,0015, 22.9935, 137.0032, 2711,   1009.8,   3.8147,  34.3609,2,   -999.0,9,  34.3624,2,     56.8,2,   114.13,2,  -999.00,9,    40.10,2,     0.00,2,     2.88,2, -999.000,9, -999.000,9,  -999.00,9,   2319.9,3,   -999.0,9,-999.0000,9,   -999.0,  9,  -999.00,9,   -999.0,  -999.00,9,  -999.00,9,  -999.00,9,  -999.00,9,   -999.0,-999.0000, -999,9, 1001,   3.7399,  27.3042,   -999.0,9
     RF03-06-2,  137E,RF-1978,  1,      4,02-18558,2,20030726,0010, 22.9935, 137.0032, 2711,   1262.0,   2.9202,  34.4877,2,   -999.0,9,  34.4886,2,     70.0,2,   130.77,2,  -999.00,9,    40.26,2,     0.00,2,     2.86,2, -999.000,9, -999.000,9,  -999.00,9,   2340.4,2,   -999.0,9,-999.0000,9,   -999.0,  9,  -999.00,9,   -999.0,  -999.00,9,  -999.00,9,  -999.00,9,  -999.00,9,   -999.0,-999.0000, -999,9, 1250,   2.8328,  27.4912,   -999.0,9
     RF03-06-2,  137E,RF-1978,  1,      3,02-18557,2,20030726,0004, 22.9935, 137.0032, 2711,   1515.6,   2.5277,  34.5499,2,   -999.0,9,  34.5492,2,     88.1,2,   135.08,2,  -999.00,9,    39.32,2,     0.00,2,     2.77,2, -999.000,9, -999.000,9,  -999.00,9,   2334.1,3,   -999.0,9,-999.0000,9,   -999.0,  9,  -999.00,9,   -999.0,  -999.00,9,  -999.00,9,  -999.00,9,  -999.00,9,   -999.0,-999.0000, -999,9, 1501,   2.4241,  27.5764,   -999.0,9
     RF03-06-2,  137E,RF-1978,  1,      2,02-18556,2,20030725,2359, 22.9935, 137.0032, 2711,   1768.9,   2.2054,  34.5943,2,   -999.0,9,  34.5910,2,    106.3,2,   136.58,2,  -999.00,9,    38.57,2,     0.00,2,     2.71,2, -999.000,9, -999.000,9,  -999.00,9,   -999.0,9,   -999.0,9,-999.0000,9,   -999.0,  9,  -999.00,9,   -999.0,  -999.00,9,  -999.00,9,  -999.00,9,  -999.00,9,   -999.0,-999.0000, -999,9, 1750,   2.0853,  27.6398,   -999.0,9
     RF03-06-2,  137E,RF-1978,  1,      1,02-18555,2,20030725,2353, 22.9935, 137.0032, 2711,   2045.1,   1.9847,  34.6233,2,   -999.0,9,  34.6229,2,    119.2,2,   138.04,2,  -999.00,9,    37.87,2,     0.00,2,     2.65,2, -999.000,9, -999.000,9,  -999.00,9,   2325.3,3,   -999.0,9,-999.0000,9,   -999.0,  9,  -999.00,9,   -999.0,  -999.00,9,  -999.00,9,  -999.00,9,  -999.00,9,   -999.0,-999.0000, -999,9, 2022,   1.8447,  27.6821,   -999.0,9