BOTTLE,20131214MIRCJHATS
EXPOCODE,SECT_ID,STNNBR,CASTNO,SAMPNO,BTLNBR,BTLNBR_FLAG_W,DATE,TIME,LATITUDE,LONGITUDE,DEPTH,CTDPRS,CTDTMP,CTDSAL,CTDSAL_FLAG_W,CTDOXY,CTDOXY_FLAG_W,SALNTY,SALNTY_FLAG_W,OXYGEN,OXYGEN_FLAG_W,SILCAT,SILCAT_FLAG_W,NITRAT,NITRAT_FLAG_W,NO2+NO3,NO2+NO3_FLAG_W,NITRIT,NITRIT_FLAG_W,PHSPHT,PHSPHT_FLAG_W,CFC-11,CFC-11_FLAG_W,CFC-12,CFC-12_FLAG_W,DELC13,DELC13_FLAG_W,TCARBN,TCARBN_FLAG_W,ALKALI,ALKALI_FLAG_W,PH,PH_FLAG_W,PH_TMP,PH_SCALE,PH_NBS,PH_NBS_FLAG_W,C13ERR,TOTALP,TOTALP_FLAG_W,AMMONI,AMMONI_FLAG_W,CHLORA,CHLORA_FLAG_W,PPHYTN,PPHYTN_FLAG_W,REVPRS,REVTMP,DEPTH_,DEPTH_FLAG,CTDDEP,THETA,SIGTHT,DOC,DOC_FLAG_W
,,,,,,,GMT,GMT,,,METER,DBAR,ITS-90,PSS-78,,UMOL/KG,,PSS-78,,UMOL/KG,,UMOL/KG,,UMOL/KG,,UMOL/KG,,UMOL/KG,,UMOL/KG,,PMOL/KG,,PMOL/KG,,/MILLE,,UMOL/KG,,UMOL/KG,,25_DEG_C,,DEG_C,,,,/MILLE,UMOL/KG,,UMOL/KG,,UG/L,,UG/L,,DBAR,ITS-90,METERS,,METERS,DEG_C,,UMOL/L,
     RF03-06-2,  137E,RF-1963,  1,     -9,      -9,5,20030722,0431,  7.9973, 137.0010, 2883,      0.0,  29.3197,  34.2854,2,   -999.0,9,-999.0000,9,    199.3,2,     1.42,2,  -999.00,9,     0.04,2,     0.00,2,     0.05,2, -999.000,9, -999.000,9,  -999.00,9,   1905.3,2,   -999.0,9,-999.0000,9,   -999.0,  9,  -999.00,9,   -999.0,  -999.00,9,  -999.00,9,     0.07,2,     0.03,2,   -999.0,-999.0000, -999,9,    0,  29.3193,  21.4208,   -999.0,9
     RF03-06-2,  137E,RF-1963,  1,     21,02-18575,2,20030722,0429,  7.9973, 137.0010, 2883,     10.8,  29.3149,  34.2845,2,   -999.0,9,-999.0000,9,    196.5,2,     1.43,2,  -999.00,9,     0.00,2,     0.00,2,     0.02,2, -999.000,9, -999.000,9,  -999.00,9,   1906.0,2,   -999.0,9,-999.0000,9,   -999.0,  9,  -999.00,9,   -999.0,  -999.00,9,  -999.00,9,     0.08,2,     0.03,2,   -999.0,-999.0000, -999,9,   11,  29.3123,  21.4225,   -999.0,9
     RF03-06-2,  137E,RF-1963,  1,     20,02-18574,2,20030722,0428,  7.9973, 137.0010, 2883,     26.0,  29.1276,  34.2852,2,   -999.0,9,-999.0000,9,    199.2,2,     1.40,2,  -999.00,9,     0.00,2,     0.00,2,     0.03,2, -999.000,9, -999.000,9,  -999.00,9,   1901.6,2,   -999.0,9,-999.0000,9,   -999.0,  9,  -999.00,9,   -999.0,  -999.00,9,  -999.00,9,     0.10,2,     0.04,2,   -999.0,-999.0000, -999,9,   26,  29.1213,  21.4870,   -999.0,9
     RF03-06-2,  137E,RF-1963,  1,     19,02-18573,2,20030722,0427,  7.9973, 137.0010, 2883,     51.2,  28.6999,  34.3527,2,   -999.0,9,-999.0000,9,    203.1,2,     1.49,2,  -999.00,9,     0.00,2,     0.00,2,     0.03,2, -999.000,9, -999.000,9,  -999.00,9,   1913.2,2,   -999.0,9,-999.0000,9,   -999.0,  9,  -999.00,9,   -999.0,  -999.00,9,  -999.00,9,     0.17,2,     0.10,2,   -999.0,-999.0000, -999,9,   51,  28.6876,  21.6819,   -999.0,9
     RF03-06-2,  137E,RF-1963,  1,     18,02-18572,2,20030722,0426,  7.9973, 137.0010, 2883,     76.3,  26.0470,  34.7461,2,   -999.0,9,-999.0000,9,    179.7,2,     2.39,2,  -999.00,9,     1.44,2,     0.15,2,     0.22,2, -999.000,9, -999.000,9,  -999.00,9,   1983.1,2,   -999.0,9,-999.0000,9,   -999.0,  9,  -999.00,9,   -999.0,  -999.00,9,  -999.00,9,     0.35,2,     0.46,2,   -999.0,-999.0000, -999,9,   76,  26.0300,  22.8325,   -999.0,9
     RF03-06-2,  137E,RF-1963,  1,     17,02-18571,2,20030722,0425,  7.9973, 137.0010, 2883,    100.7,  21.4588,  34.8333,2,   -999.0,9,  34.8416,4,    159.1,2,     5.87,2,  -999.00,9,     6.40,2,     0.04,2,     0.53,2, -999.000,9, -999.000,9,  -999.00,9,   2044.5,2,   -999.0,9,-999.0000,9,   -999.0,  9,  -999.00,9,   -999.0,  -999.00,9,  -999.00,9,     0.15,2,     0.24,2,   -999.0,-999.0000, -999,9,  100,  21.4393,  24.2469,   -999.0,9
     RF03-06-2,  137E,RF-1963,  1,     16,02-18570,2,20030722,0424,  7.9973, 137.0010, 2883,    125.6,  18.3023,  34.7602,2,   -999.0,9,-999.0000,9,    151.9,2,     8.35,2,  -999.00,9,     9.90,2,     0.02,2,     0.72,2, -999.000,9, -999.000,9,  -999.00,9,   2071.2,2,   -999.0,9,-999.0000,9,   -999.0,  9,  -999.00,9,   -999.0,  -999.00,9,  -999.00,9,     0.06,2,     0.18,2,   -999.0,-999.0000, -999,9,  125,  18.2805,  25.0190,   -999.0,9
     RF03-06-2,  137E,RF-1963,  1,     15,02-18569,2,20030722,0423,  7.9973, 137.0010, 2883,    151.5,  14.6025,  34.6013,2,   -999.0,9,-999.0000,9,    172.6,2,    13.24,2,  -999.00,9,    14.17,2,     0.00,2,     0.99,2, -999.000,9, -999.000,9,  -999.00,9,   2093.6,2,   -999.0,9,-999.0000,9,   -999.0,  9,  -999.00,9,   -999.0,  -999.00,9,  -999.00,9,     0.03,2,     0.06,2,   -999.0,-999.0000, -999,9,  151,  14.5801,  25.7557,   -999.0,9
     RF03-06-2,  137E,RF-1963,  1,     14,02-18568,2,20030722,0421,  7.9973, 137.0010, 2883,    200.5,  11.6767,  34.4943,2,   -999.0,9,  34.4921,2,    110.5,2,    24.70,2,  -999.00,9,    23.04,2,     0.00,2,     1.65,2, -999.000,9, -999.000,9,  -999.00,9,   2162.7,2,   -999.0,9,-999.0000,9,   -999.0,  9,  -999.00,9,   -999.0,  -999.00,9,  -999.00,9,     0.00,2,     0.04,2,   -999.0,-999.0000, -999,9,  199,  11.6511,  26.2621,   -999.0,9
     RF03-06-2,  137E,RF-1963,  1,     13,02-18567,2,20030722,0419,  7.9973, 137.0010, 2883,    251.5,  10.6202,  34.5151,2,   -999.0,9,-999.0000,9,     83.6,2,    31.54,2,  -999.00,9,    28.03,2,     0.00,2,     2.01,2, -999.000,9, -999.000,9,  -999.00,9,   2194.4,2,   -999.0,9,-999.0000,9,   -999.0,  9,  -999.00,9,   -999.0,  -999.00,9,  -999.00,9,  -999.00,9,  -999.00,9,   -999.0,-999.0000, -999,9,  250,  10.5900,  26.4710,   -999.0,9
     RF03-06-2,  137E,RF-1963,  1,     12,02-18566,2,20030722,0417,  7.9973, 137.0010, 2883,    301.9,   9.3995,  34.5301,2,   -999.0,9,  34.5234,2,     74.8,2,    37.07,2,  -999.00,9,    30.80,2,     0.00,2,     2.20,2, -999.000,9, -999.000,9,  -999.00,9,   2212.9,2,   -999.0,9,-999.0000,9,   -999.0,  9,  -999.00,9,   -999.0,  -999.00,9,  -999.00,9,  -999.00,9,  -999.00,9,   -999.0,-999.0000, -999,9,  300,   9.3658,  26.6909,   -999.0,9
     RF03-06-2,  137E,RF-1963,  1,     11,02-18565,2,20030722,0415,  7.9973, 137.0010, 2883,    403.2,   8.2531,  34.5525,2,   -999.0,9,  34.5519,2,     75.5,2,    42.39,2,  -999.00,9,    33.27,2,     0.00,2,     2.38,2, -999.000,9, -999.000,9,  -999.00,9,   2228.3,2,   -999.0,9,-999.0000,9,   -999.0,  9,  -999.00,9,   -999.0,  -999.00,9,  -999.00,9,  -999.00,9,  -999.00,9,   -999.0,-999.0000, -999,9,  401,   8.2113,  26.8906,   -999.0,9
     RF03-06-2,  137E,RF-1963,  1,     10,02-18564,2,20030722,0413,  7.9973, 137.0010, 2883,    503.3,   7.6057,  34.5359,2,   -999.0,9,  34.5346,2,     86.5,2,    46.36,2,  -999.00,9,    33.60,2,     0.00,2,     2.40,2, -999.000,9, -999.000,9,  -999.00,9,   -999.0,9,   -999.0,9,-999.0000,9,   -999.0,  9,  -999.00,9,   -999.0,  -999.00,9,  -999.00,9,  -999.00,9,  -999.00,9,   -999.0,-999.0000, -999,9,  500,   7.5556,  26.9746,   -999.0,9
     RF03-06-2,  137E,RF-1963,  1,      9,02-18563,2,20030722,0410,  7.9973, 137.0010, 2883,    603.9,   6.8880,  34.5139,2,   -999.0,9,  34.5140,2,     95.3,2,    51.98,2,  -999.00,9,    34.11,2,     0.00,2,     2.43,2, -999.000,9, -999.000,9,  -999.00,9,   2237.2,2,   -999.0,9,-999.0000,9,   -999.0,  9,  -999.00,9,   -999.0,  -999.00,9,  -999.00,9,  -999.00,9,  -999.00,9,   -999.0,-999.0000, -999,9,  600,   6.8307,  27.0591,   -999.0,9
     RF03-06-2,  137E,RF-1963,  1,      8,02-18562,2,20030722,0407,  7.9973, 137.0010, 2883,    705.6,   6.4755,  34.5160,2,   -999.0,9,  34.5161,2,     90.7,2,    57.41,2,  -999.00,9,    35.02,2,     0.00,2,     2.51,2, -999.000,9, -999.000,9,  -999.00,9,   -999.0,9,   -999.0,9,-999.0000,9,   -999.0,  9,  -999.00,9,   -999.0,  -999.00,9,  -999.00,9,  -999.00,9,  -999.00,9,   -999.0,-999.0000, -999,9,  700,   6.4103,  27.1171,   -999.0,9
     RF03-06-2,  137E,RF-1963,  1,      7,02-18561,2,20030722,0405,  7.9973, 137.0010, 2883,    803.9,   5.8121,  34.5275,2,   -999.0,9,  34.5275,2,     85.5,2,    67.51,2,  -999.00,9,    36.71,2,     0.00,2,     2.64,2, -999.000,9, -999.000,9,  -999.00,9,   2262.4,2,   -999.0,9,-999.0000,9,   -999.0,  9,  -999.00,9,   -999.0,  -999.00,9,  -999.00,9,  -999.00,9,  -999.00,9,   -999.0,-999.0000, -999,9,  798,   5.7413,  27.2118,   -999.0,9
     RF03-06-2,  137E,RF-1963,  1,      6,02-18560,2,20030722,0402,  7.9973, 137.0010, 2883,    907.4,   5.1971,  34.5368,2,   -999.0,9,-999.0000,9,     85.7,2,    77.42,2,  -999.00,9,    37.45,2,     0.00,2,     2.70,2, -999.000,9, -999.000,9,  -999.00,9,   -999.0,9,   -999.0,9,-999.0000,9,   -999.0,  9,  -999.00,9,   -999.0,  -999.00,9,  -999.00,9,  -999.00,9,  -999.00,9,   -999.0,-999.0000, -999,9,  900,   5.1207,  27.2940,   -999.0,9
     RF03-06-2,  137E,RF-1963,  1,      5,02-18559,2,20030722,0400,  7.9973, 137.0010, 2883,   1007.8,   4.5689,  34.5495,2,   -999.0,9,  34.5492,2,     86.5,2,    89.16,2,  -999.00,9,    38.02,2,     0.00,2,     2.74,2, -999.000,9, -999.000,9,  -999.00,9,   2296.6,2,   -999.0,9,-999.0000,9,   -999.0,  9,  -999.00,9,   -999.0,  -999.00,9,  -999.00,9,  -999.00,9,  -999.00,9,   -999.0,-999.0000, -999,9, 1000,   4.4881,  27.3757,   -999.0,9
     RF03-06-2,  137E,RF-1963,  1,      4,02-18558,2,20030722,0354,  7.9973, 137.0010, 2883,   1262.1,   3.6255,  34.5752,2,   -999.0,9,  34.5730,2,     93.1,2,   107.48,2,  -999.00,9,    38.44,2,     0.00,2,     2.76,2, -999.000,9, -999.000,9,  -999.00,9,   2309.5,2,   -999.0,9,-999.0000,9,   -999.0,  9,  -999.00,9,   -999.0,  -999.00,9,  -999.00,9,  -999.00,9,  -999.00,9,   -999.0,-999.0000, -999,9, 1251,   3.5310,  27.4956,   -999.0,9
     RF03-06-2,  137E,RF-1963,  1,      3,02-18557,2,20030722,0348,  7.9973, 137.0010, 2883,   1515.2,   2.9611,  34.5984,2,   -999.0,9,  34.5930,2,    100.7,2,   120.20,2,  -999.00,9,    38.40,2,     0.00,2,     2.73,2, -999.000,9, -999.000,9,  -999.00,9,   2320.4,2,   -999.0,9,-999.0000,9,   -999.0,  9,  -999.00,9,   -999.0,  -999.00,9,  -999.00,9,  -999.00,9,  -999.00,9,   -999.0,-999.0000, -999,9, 1501,   2.8524,  27.5779,   -999.0,9
     RF03-06-2,  137E,RF-1963,  1,      2,02-18556,2,20030722,0343,  7.9973, 137.0010, 2883,   1768.9,   2.5998,  34.6154,2,   -999.0,9,  34.6152,2,    107.6,2,   126.65,2,  -999.00,9,    38.21,2,     0.00,2,     2.71,2, -999.000,9, -999.000,9,  -999.00,9,   -999.0,9,   -999.0,9,-999.0000,9,   -999.0,  9,  -999.00,9,   -999.0,  -999.00,9,  -999.00,9,  -999.00,9,  -999.00,9,   -999.0,-999.0000, -999,9, 1752,   2.4743,  27.6246,   -999.0,9
     RF03-06-2,  137E,RF-1963,  1,      1,02-18555,2,20030722,0337,  7.9973, 137.0010, 2883,   2044.1,   2.2393,  34.6338,2,   -999.0,9,  34.6326,2,    115.2,2,   133.03,2,  -999.00,9,    37.92,2,     0.00,2,     2.67,2, -999.000,9, -999.000,9,  -999.00,9,   2325.7,2,   -999.0,9,-999.0000,9,   -999.0,  9,  -999.00,9,   -999.0,  -999.00,9,  -999.00,9,  -999.00,9,  -999.00,9,   -999.0,-999.0000, -999,9, 2023,   2.0954,  27.6707,   -999.0,9