BOTTLE,20131214MIRCJHATS
EXPOCODE,SECT_ID,STNNBR,CASTNO,SAMPNO,BTLNBR,BTLNBR_FLAG_W,DATE,TIME,LATITUDE,LONGITUDE,DEPTH,CTDPRS,CTDTMP,CTDSAL,CTDSAL_FLAG_W,CTDOXY,CTDOXY_FLAG_W,SALNTY,SALNTY_FLAG_W,OXYGEN,OXYGEN_FLAG_W,SILCAT,SILCAT_FLAG_W,NITRAT,NITRAT_FLAG_W,NO2+NO3,NO2+NO3_FLAG_W,NITRIT,NITRIT_FLAG_W,PHSPHT,PHSPHT_FLAG_W,CFC-11,CFC-11_FLAG_W,CFC-12,CFC-12_FLAG_W,DELC13,DELC13_FLAG_W,TCARBN,TCARBN_FLAG_W,ALKALI,ALKALI_FLAG_W,PH,PH_FLAG_W,PH_TMP,PH_SCALE,PH_NBS,PH_NBS_FLAG_W,C13ERR,TOTALP,TOTALP_FLAG_W,AMMONI,AMMONI_FLAG_W,CHLORA,CHLORA_FLAG_W,PPHYTN,PPHYTN_FLAG_W,REVPRS,REVTMP,DEPTH_,DEPTH_FLAG,CTDDEP,THETA,SIGTHT,DOC,DOC_FLAG_W
,,,,,,,GMT,GMT,,,METER,DBAR,ITS-90,PSS-78,,UMOL/KG,,PSS-78,,UMOL/KG,,UMOL/KG,,UMOL/KG,,UMOL/KG,,UMOL/KG,,UMOL/KG,,PMOL/KG,,PMOL/KG,,/MILLE,,UMOL/KG,,UMOL/KG,,25_DEG_C,,DEG_C,,,,/MILLE,UMOL/KG,,UMOL/KG,,UG/L,,UG/L,,DBAR,ITS-90,METERS,,METERS,DEG_C,,UMOL/L,
     RF03-06-2,  137E,RF-1990,  1,     -9,      -9,5,20030728,1438, 31.9973, 136.9965, 4237,      0.0,  27.2669,  34.5211,3,   -999.0,9,-999.0000,9,    211.4,2,     1.26,2,  -999.00,9,     0.00,2,     0.00,2,     0.00,2, -999.000,9, -999.000,9,  -999.00,9,   1937.5,2,   -999.0,9,-999.0000,9,   -999.0,  9,  -999.00,9,   -999.0,  -999.00,9,  -999.00,9,     0.08,2,     0.01,2,   -999.0,-999.0000, -999,9,    0,-999.0000,-999.0000,   -999.0,9
     RF03-06-2,  137E,RF-1990,  1,     21,02-18575,2,20030728,1435, 31.9973, 136.9965, 4237,     10.7,  27.0936,  34.5051,3,   -999.0,9,-999.0000,9,    212.3,2,     1.22,2,  -999.00,9,     0.00,2,     0.00,2,     0.00,2, -999.000,9, -999.000,9,  -999.00,9,   1931.7,2,   -999.0,9,-999.0000,9,   -999.0,  9,  -999.00,9,   -999.0,  -999.00,9,  -999.00,9,     0.07,2,     0.02,2,   -999.0,-999.0000, -999,9,   11,-999.0000,-999.0000,   -999.0,9
     RF03-06-2,  137E,RF-1990,  1,     20,02-18574,2,20030728,1434, 31.9973, 136.9965, 4237,     25.6,  26.6421,  34.5646,3,   -999.0,9,-999.0000,9,    216.3,2,     1.24,2,  -999.00,9,     0.02,2,     0.00,2,     0.00,2, -999.000,9, -999.000,9,  -999.00,9,   1933.8,2,   -999.0,9,-999.0000,9,   -999.0,  9,  -999.00,9,   -999.0,  -999.00,9,  -999.00,9,     0.08,2,     0.02,2,   -999.0,-999.0000, -999,9,   25,-999.0000,-999.0000,   -999.0,9
     RF03-06-2,  137E,RF-1990,  1,     19,02-18573,2,20030728,1433, 31.9973, 136.9965, 4237,     51.3,  23.8237,  34.6764,3,   -999.0,9,-999.0000,9,    233.1,2,     1.36,2,  -999.00,9,     0.00,2,     0.00,2,     0.00,2, -999.000,9, -999.000,9,  -999.00,9,   1953.2,2,   -999.0,9,-999.0000,9,   -999.0,  9,  -999.00,9,   -999.0,  -999.00,9,  -999.00,9,     0.15,2,     0.06,2,   -999.0,-999.0000, -999,9,   51,-999.0000,-999.0000,   -999.0,9
     RF03-06-2,  137E,RF-1990,  1,     18,02-18572,2,20030728,1432, 31.9973, 136.9965, 4237,     76.9,  21.7106,  34.8276,3,   -999.0,9,-999.0000,9,    236.5,2,     1.44,2,  -999.00,9,     0.00,2,     0.00,2,     0.00,2, -999.000,9, -999.000,9,  -999.00,9,   1965.3,2,   -999.0,9,-999.0000,9,   -999.0,  9,  -999.00,9,   -999.0,  -999.00,9,  -999.00,9,     0.28,2,     0.19,2,   -999.0,-999.0000, -999,9,   76,-999.0000,-999.0000,   -999.0,9
     RF03-06-2,  137E,RF-1990,  1,     17,02-18571,2,20030728,1431, 31.9973, 136.9965, 4237,    101.6,  20.5101,  34.8760,3,   -999.0,9,  34.9015,2,    226.7,2,     1.59,2,  -999.00,9,     0.34,2,     0.08,2,  -999.00,4, -999.000,9, -999.000,9,  -999.00,9,   1980.9,2,   -999.0,9,-999.0000,9,   -999.0,  9,  -999.00,9,   -999.0,  -999.00,9,  -999.00,9,     0.31,2,     0.31,2,   -999.0,-999.0000, -999,9,  101,  20.4910,  24.5562,   -999.0,9
     RF03-06-2,  137E,RF-1990,  1,     16,02-18570,2,20030728,1429, 31.9973, 136.9965, 4237,    126.0,  19.9312,  34.8805,3,   -999.0,9,-999.0000,9,    223.6,2,     1.76,2,  -999.00,9,     1.22,2,     0.05,2,  -999.00,4, -999.000,9, -999.000,9,  -999.00,9,   1984.0,2,   -999.0,9,-999.0000,9,   -999.0,  9,  -999.00,9,   -999.0,  -999.00,9,  -999.00,9,     0.16,2,     0.30,2,   -999.0,-999.0000, -999,9,  125,-999.0000,-999.0000,   -999.0,9
     RF03-06-2,  137E,RF-1990,  1,     15,02-18569,3,20030728,1428, 31.9973, 136.9965, 4237,    152.3,  19.6984,  34.8717,3,   -999.0,9,-999.0000,9,    221.1,2,     1.90,2,  -999.00,9,     1.73,2,     0.00,2,     0.06,2, -999.000,9, -999.000,9,  -999.00,9,   1986.3,3,   -999.0,9,-999.0000,9,   -999.0,  9,  -999.00,9,   -999.0,  -999.00,9,  -999.00,9,     0.08,2,     0.12,2,   -999.0,-999.0000, -999,9,  151,-999.0000,-999.0000,   -999.0,9
     RF03-06-2,  137E,RF-1990,  1,     14,02-18568,2,20030728,1426, 31.9973, 136.9965, 4237,    202.3,  19.1867,  34.8574,3,   -999.0,9,  34.8757,2,    224.0,2,     2.03,2,  -999.00,9,     2.03,2,     0.00,2,     0.11,2, -999.000,9, -999.000,9,  -999.00,9,   1994.6,2,   -999.0,9,-999.0000,9,   -999.0,  9,  -999.00,9,   -999.0,  -999.00,9,  -999.00,9,     0.02,2,     0.02,2,   -999.0,-999.0000, -999,9,  201,  19.1504,  24.8877,   -999.0,9
     RF03-06-2,  137E,RF-1990,  1,     13,02-18567,2,20030728,1425, 31.9973, 136.9965, 4237,    252.2,  18.8451,  34.8501,3,   -999.0,9,-999.0000,9,    229.1,2,     2.21,2,  -999.00,9,     2.27,2,     0.00,2,     0.12,2, -999.000,9, -999.000,9,  -999.00,9,   2000.4,2,   -999.0,9,-999.0000,9,   -999.0,  9,  -999.00,9,   -999.0,  -999.00,9,  -999.00,9,  -999.00,9,  -999.00,9,   -999.0,-999.0000, -999,9,  250,-999.0000,-999.0000,   -999.0,9
     RF03-06-2,  137E,RF-1990,  1,     12,02-18566,2,20030728,1423, 31.9973, 136.9965, 4237,    303.5,  18.4327,  34.8140,3,   -999.0,9,  34.8327,2,    224.0,2,     2.66,2,  -999.00,9,     3.03,2,     0.00,2,     0.16,2, -999.000,9, -999.000,9,  -999.00,9,   2001.1,2,   -999.0,9,-999.0000,9,   -999.0,  9,  -999.00,9,   -999.0,  -999.00,9,  -999.00,9,  -999.00,9,  -999.00,9,   -999.0,-999.0000, -999,9,  301,  18.3796,  25.0498,   -999.0,9
     RF03-06-2,  137E,RF-1990,  1,     11,02-18565,2,20030728,1420, 31.9973, 136.9965, 4237,    404.4,  16.9587,  34.6987,3,   -999.0,9,  34.7170,2,    202.3,2,     5.75,2,  -999.00,9,     6.97,2,     0.00,2,     0.40,2, -999.000,9, -999.000,9,  -999.00,9,   2030.0,2,   -999.0,9,-999.0000,9,   -999.0,  9,  -999.00,9,   -999.0,  -999.00,9,  -999.00,9,  -999.00,9,  -999.00,9,   -999.0,-999.0000, -999,9,  401,  16.8919,  25.3226,   -999.0,9
     RF03-06-2,  137E,RF-1990,  1,     10,02-18564,2,20030728,1418, 31.9973, 136.9965, 4237,    504.4,  15.2221,-999.0000,9,   -999.0,9,  34.6164,2,    192.8,2,    10.53,2,  -999.00,9,    10.60,2,     0.00,2,     0.64,2, -999.000,9, -999.000,9,  -999.00,9,   -999.0,9,   -999.0,9,-999.0000,9,   -999.0,  9,  -999.00,9,   -999.0,  -999.00,9,  -999.00,9,  -999.00,9,  -999.00,9,   -999.0,-999.0000, -999,9,  500,  15.1445,  25.6444,   -999.0,9
     RF03-06-2,  137E,RF-1990,  1,      9,02-18563,2,20030728,1415, 31.9973, 136.9965, 4237,    605.6,  12.3866,  34.4081,3,   -999.0,9,  34.4284,2,    180.7,2,    21.63,2,  -999.00,9,    16.74,2,     0.00,2,     1.07,2, -999.000,9, -999.000,9,  -999.00,9,   2099.2,2,   -999.0,9,-999.0000,9,   -999.0,  9,  -999.00,9,   -999.0,  -999.00,9,  -999.00,9,  -999.00,9,  -999.00,9,   -999.0,-999.0000, -999,9,  601,  12.3051,  26.0866,   -999.0,9
     RF03-06-2,  137E,RF-1990,  1,      8,02-18562,2,20030728,1413, 31.9973, 136.9965, 4237,    706.6,   9.6916,-999.0000,9,   -999.0,9,  34.2783,2,    159.0,2,    38.16,2,  -999.00,9,    23.54,2,     0.00,2,     1.57,2, -999.000,9, -999.000,9,  -999.00,9,   -999.0,9,   -999.0,9,-999.0000,9,   -999.0,  9,  -999.00,9,   -999.0,  -999.00,9,  -999.00,9,  -999.00,9,  -999.00,9,   -999.0,-999.0000, -999,9,  700,   9.6098,  26.4538,   -999.0,9
     RF03-06-2,  137E,RF-1990,  1,      7,02-18561,2,20030728,1410, 31.9973, 136.9965, 4237,    808.8,   7.5174,  34.1765,3,   -999.0,9,  34.1976,2,    129.5,2,    57.64,2,  -999.00,9,    29.87,2,     0.00,2,     2.05,2, -999.000,9, -999.000,9,  -999.00,9,   2200.3,2,   -999.0,9,-999.0000,9,   -999.0,  9,  -999.00,9,   -999.0,  -999.00,9,  -999.00,9,  -999.00,9,  -999.00,9,   -999.0,-999.0000, -999,9,  802,   7.4362,  26.7256,   -999.0,9
     RF03-06-2,  137E,RF-1990,  1,      6,02-18560,2,20030728,1407, 31.9973, 136.9965, 4237,    909.0,   6.0011,-999.0000,9,   -999.0,9,-999.0000,9,    102.1,2,    76.51,2,  -999.00,9,    34.84,2,     0.00,2,     2.42,2, -999.000,9, -999.000,9,  -999.00,9,   -999.0,9,   -999.0,9,-999.0000,9,   -999.0,  9,  -999.00,9,   -999.0,  -999.00,9,  -999.00,9,  -999.00,9,  -999.00,9,   -999.0,-999.0000, -999,9,  901,-999.0000,-999.0000,   -999.0,9
     RF03-06-2,  137E,RF-1990,  1,      5,02-18559,2,20030728,1405, 31.9973, 136.9965, 4237,   1010.2,   5.0848,  34.2688,3,   -999.0,9,  34.2868,2,     79.8,2,    95.33,2,  -999.00,9,    37.92,2,     0.00,2,     2.66,2, -999.000,9, -999.000,9,  -999.00,9,   2282.0,2,   -999.0,9,-999.0000,9,   -999.0,  9,  -999.00,9,   -999.0,  -999.00,9,  -999.00,9,  -999.00,9,  -999.00,9,   -999.0,-999.0000, -999,9, 1001,   5.0003,  27.1098,   -999.0,9
     RF03-06-2,  137E,RF-1990,  1,      4,02-18558,2,20030728,1359, 31.9973, 136.9965, 4237,   1263.8,   3.6400,  34.3965,3,   -999.0,9,  34.4113,2,     68.1,2,   122.23,2,  -999.00,9,    40.97,2,     0.00,2,     2.89,2, -999.000,9, -999.000,9,  -999.00,9,   2324.3,2,   -999.0,9,-999.0000,9,   -999.0,  9,  -999.00,9,   -999.0,  -999.00,9,  -999.00,9,  -999.00,9,  -999.00,9,   -999.0,-999.0000, -999,9, 1251,   3.5456,  27.3636,   -999.0,9
     RF03-06-2,  137E,RF-1990,  1,      3,02-18557,2,20030728,1354, 31.9973, 136.9965, 4237,   1516.6,   2.9900,  34.4670,3,   -999.0,9,  34.4821,2,     74.3,2,   133.95,2,  -999.00,9,    41.20,2,     0.00,2,     2.91,2, -999.000,9, -999.000,9,  -999.00,9,   2336.4,2,   -999.0,9,-999.0000,9,   -999.0,  9,  -999.00,9,   -999.0,  -999.00,9,  -999.00,9,  -999.00,9,  -999.00,9,   -999.0,-999.0000, -999,9, 1501,   2.8811,  27.4824,   -999.0,9
     RF03-06-2,  137E,RF-1990,  1,      2,02-18556,2,20030728,1348, 31.9973, 136.9965, 4237,   1770.6,   2.5111,-999.0000,9,   -999.0,9,  34.5358,2,     85.9,2,   141.34,2,  -999.00,9,    41.01,2,     0.00,2,     2.89,2, -999.000,9, -999.000,9,  -999.00,9,   -999.0,9,   -999.0,9,-999.0000,9,   -999.0,  9,  -999.00,9,   -999.0,  -999.00,9,  -999.00,9,  -999.00,9,  -999.00,9,   -999.0,-999.0000, -999,9, 1751,   2.3869,  27.5683,   -999.0,9
     RF03-06-2,  137E,RF-1990,  1,      1,02-18555,2,20030728,1343, 31.9973, 136.9965, 4237,   2045.9,   2.2090,  34.5783,3,   -999.0,9,  34.5779,2,    102.2,2,   143.81,2,  -999.00,9,    40.37,2,     0.00,2,     2.83,2, -999.000,9, -999.000,9,  -999.00,9,   2338.7,2,   -999.0,9,-999.0000,9,   -999.0,  9,  -999.00,9,   -999.0,  -999.00,9,  -999.00,9,  -999.00,9,  -999.00,9,   -999.0,-999.0000, -999,9, 2022,   2.0656,  27.6283,   -999.0,9
     RF03-06-2,  137E,RF-1996,  1,     -9,      -9,5,20030729,1035, 34.0030, 136.9885, 1026,      0.0,  23.3000,  33.9858,2,   -999.0,9,-999.0000,9,    235.5,2,     1.17,2,  -999.00,9,     0.00,2,     0.00,2,     0.02,2, -999.000,9, -999.000,9,  -999.00,9,   1915.5,2,   -999.0,9,-999.0000,9,   -999.0,  9,  -999.00,9,   -999.0,  -999.00,9,  -999.00,9,     0.79,2,     0.12,2,   -999.0,-999.0000, -999,9,    0,  23.2996,  23.0783,   -999.0,9
     RF03-06-2,  137E,RF-1996,  1,     17,02-18571,2,20030729,1032, 34.0030, 136.9885, 1026,     10.3,  22.5961,  34.0986,2,   -999.0,9,-999.0000,9,    244.3,2,     1.36,2,  -999.00,9,     0.00,2,     0.00,2,     0.04,2, -999.000,9, -999.000,9,  -999.00,9,   1921.7,2,   -999.0,9,-999.0000,9,   -999.0,  9,  -999.00,9,   -999.0,  -999.00,9,  -999.00,9,     1.79,2,     0.34,2,   -999.0,-999.0000, -999,9,   10,  22.5940,  23.3660,   -999.0,9
     RF03-06-2,  137E,RF-1996,  1,     16,02-18570,2,20030729,1031, 34.0030, 136.9885, 1026,     25.6,  17.4856,  34.6171,2,   -999.0,9,-999.0000,9,    183.4,2,    11.02,2,  -999.00,9,     8.30,2,     0.04,2,     0.57,2, -999.000,9, -999.000,9,  -999.00,9,   2035.4,2,   -999.0,9,-999.0000,9,   -999.0,  9,  -999.00,9,   -999.0,  -999.00,9,  -999.00,9,     0.84,2,     0.28,2,   -999.0,-999.0000, -999,9,   25,  17.4813,  25.1052,   -999.0,9
     RF03-06-2,  137E,RF-1996,  1,     15,02-18569,2,20030729,1030, 34.0030, 136.9885, 1026,     50.8,  15.4529,  34.5842,2,   -999.0,9,-999.0000,9,    175.5,2,    16.23,2,  -999.00,9,    11.69,2,     0.04,2,     0.78,2, -999.000,9, -999.000,9,  -999.00,9,   2061.3,2,   -999.0,9,-999.0000,9,   -999.0,  9,  -999.00,9,   -999.0,  -999.00,9,  -999.00,9,     0.21,2,     0.11,2,   -999.0,-999.0000, -999,9,   50,  15.4451,  25.5529,   -999.0,9
     RF03-06-2,  137E,RF-1996,  1,     14,02-18568,2,20030729,1029, 34.0030, 136.9885, 1026,     76.3,  14.3296,  34.5420,2,   -999.0,9,-999.0000,9,    168.9,2,    20.85,2,  -999.00,9,    14.06,2,     0.01,2,     0.95,2, -999.000,9, -999.000,9,  -999.00,9,   2084.3,2,   -999.0,9,-999.0000,9,   -999.0,  9,  -999.00,9,   -999.0,  -999.00,9,  -999.00,9,     0.09,2,     0.09,2,   -999.0,-999.0000, -999,9,   76,  14.3185,  25.7659,   -999.0,9
     RF03-06-2,  137E,RF-1996,  1,     13,02-18567,2,20030729,1028, 34.0030, 136.9885, 1026,    100.4,  12.4398,  34.4686,2,   -999.0,9,  34.4664,2,    177.4,2,    28.52,2,  -999.00,9,    17.63,2,     0.00,2,     1.21,2, -999.000,9, -999.000,9,  -999.00,9,   2111.1,2,   -999.0,9,-999.0000,9,   -999.0,  9,  -999.00,9,   -999.0,  -999.00,9,  -999.00,9,     0.03,2,     0.06,2,   -999.0,-999.0000, -999,9,  100,  12.4265,  26.0943,   -999.0,9
     RF03-06-2,  137E,RF-1996,  1,     12,02-18566,2,20030729,1026, 34.0030, 136.9885, 1026,    126.7,  11.8640,  34.4403,2,   -999.0,9,-999.0000,9,    154.2,2,    31.53,2,  -999.00,9,    18.87,2,     0.00,2,     1.31,2, -999.000,9, -999.000,9,  -999.00,9,   2123.5,2,   -999.0,9,-999.0000,9,   -999.0,  9,  -999.00,9,   -999.0,  -999.00,9,  -999.00,9,     0.03,2,     0.07,2,   -999.0,-999.0000, -999,9,  126,  11.8477,  26.1832,   -999.0,9
     RF03-06-2,  137E,RF-1996,  1,     11,02-18565,2,20030729,1025, 34.0030, 136.9885, 1026,    152.2,  11.0064,  34.4007,2,   -999.0,9,-999.0000,9,    148.2,2,    36.11,2,  -999.00,9,    20.78,2,     0.00,2,     1.44,2, -999.000,9, -999.000,9,  -999.00,9,   2142.4,2,   -999.0,9,-999.0000,9,   -999.0,  9,  -999.00,9,   -999.0,  -999.00,9,  -999.00,9,     0.01,2,     0.06,2,   -999.0,-999.0000, -999,9,  151,  10.9878,  26.3110,   -999.0,9
     RF03-06-2,  137E,RF-1996,  1,     10,02-18564,2,20030729,1024, 34.0030, 136.9885, 1026,    201.5,  10.1259,  34.3671,2,   -999.0,9,  34.3691,2,    141.2,2,    41.83,2,  -999.00,9,    22.95,2,     0.00,2,     1.61,2, -999.000,9, -999.000,9,  -999.00,9,   2158.7,2,   -999.0,9,-999.0000,9,   -999.0,  9,  -999.00,9,   -999.0,  -999.00,9,  -999.00,9,     0.02,2,     0.06,2,   -999.0,-999.0000, -999,9,  200,  10.1025,  26.4402,   -999.0,9
     RF03-06-2,  137E,RF-1996,  1,      9,02-18563,2,20030729,1023, 34.0030, 136.9885, 1026,    252.8,   9.2788,  34.3326,2,   -999.0,9,-999.0000,9,    132.0,2,    48.11,2,  -999.00,9,    25.21,2,     0.00,2,     1.76,2, -999.000,9, -999.000,9,  -999.00,9,   2178.1,2,   -999.0,9,-999.0000,9,   -999.0,  9,  -999.00,9,   -999.0,  -999.00,9,  -999.00,9,  -999.00,9,  -999.00,9,   -999.0,-999.0000, -999,9,  251,   9.2510,  26.5551,   -999.0,9
     RF03-06-2,  137E,RF-1996,  1,      8,02-18562,2,20030729,1021, 34.0030, 136.9885, 1026,    304.2,   8.5718,  34.3065,2,   -999.0,9,  34.3066,2,    125.2,2,    53.58,2,  -999.00,9,    26.88,2,     0.00,2,     1.90,2, -999.000,9, -999.000,9,  -999.00,9,   2190.5,2,   -999.0,9,-999.0000,9,   -999.0,  9,  -999.00,9,   -999.0,  -999.00,9,  -999.00,9,  -999.00,9,  -999.00,9,   -999.0,-999.0000, -999,9,  302,   8.5398,  26.6473,   -999.0,9
     RF03-06-2,  137E,RF-1996,  1,      7,02-18561,2,20030729,1019, 34.0030, 136.9885, 1026,    404.7,   7.0025,  34.2799,2,   -999.0,9,  34.2801,2,    105.2,2,    68.24,2,  -999.00,9,    31.05,2,     0.00,2,     2.22,2, -999.000,9, -999.000,9,  -999.00,9,   2221.8,2,   -999.0,9,-999.0000,9,   -999.0,  9,  -999.00,9,   -999.0,  -999.00,9,  -999.00,9,  -999.00,9,  -999.00,9,   -999.0,-999.0000, -999,9,  401,   6.9645,  26.8564,   -999.0,9
     RF03-06-2,  137E,RF-1996,  1,      6,02-18560,2,20030729,1016, 34.0030, 136.9885, 1026,    505.0,   5.9781,  34.2801,2,   -999.0,9,  34.2813,2,     91.1,2,    80.49,2,  -999.00,9,    34.01,2,     0.00,2,     2.43,2, -999.000,9, -999.000,9,  -999.00,9,   -999.0,9,   -999.0,9,-999.0000,9,   -999.0,  9,  -999.00,9,   -999.0,  -999.00,9,  -999.00,9,  -999.00,9,  -999.00,9,   -999.0,-999.0000, -999,9,  501,   5.9342,  26.9921,   -999.0,9
     RF03-06-2,  137E,RF-1996,  1,      5,02-18559,2,20030729,1014, 34.0030, 136.9885, 1026,    606.1,   4.9265,  34.3094,2,   -999.0,9,  34.3103,2,     77.0,3,    95.42,2,  -999.00,9,    36.86,2,     0.00,2,     2.65,2, -999.000,9, -999.000,9,  -999.00,9,   2282.6,2,   -999.0,9,-999.0000,9,   -999.0,  9,  -999.00,9,   -999.0,  -999.00,9,  -999.00,9,  -999.00,9,  -999.00,9,   -999.0,-999.0000, -999,9,  601,   4.8783,  27.1417,   -999.0,9
     RF03-06-2,  137E,RF-1996,  1,      4,02-18558,2,20030729,1012, 34.0030, 136.9885, 1026,    707.0,   4.5539,  34.3318,2,   -999.0,9,  34.3321,2,     72.5,2,  -999.00,4,  -999.00,9,  -999.00,4,  -999.00,4,  -999.00,4, -999.000,9, -999.000,9,  -999.00,9,   -999.0,9,   -999.0,9,-999.0000,9,   -999.0,  9,  -999.00,9,   -999.0,  -999.00,9,  -999.00,9,  -999.00,9,  -999.00,9,   -999.0,-999.0000, -999,9,  701,   4.4991,  27.2016,   -999.0,9
     RF03-06-2,  137E,RF-1996,  1,      3,02-18557,2,20030729,1009, 34.0030, 136.9885, 1026,    807.9,   3.9627,  34.3798,2,   -999.0,9,  34.3803,2,     67.8,2,   111.95,2,  -999.00,9,    38.83,2,     0.00,2,     2.78,2, -999.000,9, -999.000,9,  -999.00,9,   2310.1,2,   -999.0,9,-999.0000,9,   -999.0,  9,  -999.00,9,   -999.0,  -999.00,9,  -999.00,9,  -999.00,9,  -999.00,9,   -999.0,-999.0000, -999,9,  801,   3.9031,  27.3027,   -999.0,9
     RF03-06-2,  137E,RF-1996,  1,      2,02-18556,2,20030729,1006, 34.0030, 136.9885, 1026,    909.0,   3.6425,  34.4100,2,   -999.0,9,-999.0000,9,     67.2,2,   118.41,2,  -999.00,9,    39.39,2,     0.00,2,     2.82,2, -999.000,9, -999.000,9,  -999.00,9,   -999.0,9,   -999.0,9,-999.0000,9,   -999.0,  9,  -999.00,9,   -999.0,  -999.00,9,  -999.00,9,  -999.00,9,  -999.00,9,   -999.0,-999.0000, -999,9,  901,   3.5770,  27.3594,   -999.0,9
     RF03-06-2,  137E,RF-1996,  1,      1,02-18555,2,20030729,1001, 34.0030, 136.9885, 1026,    972.8,   3.3064,  34.4454,2,   -999.0,9,  34.4428,2,     68.5,2,   123.59,2,  -999.00,9,    39.64,2,     0.00,2,     2.83,2, -999.000,9, -999.000,9,  -999.00,9,   2325.7,2,   -999.0,9,-999.0000,9,   -999.0,  9,  -999.00,9,   -999.0,  -999.00,9,  -999.00,9,  -999.00,9,  -999.00,9,   -999.0,-999.0000, -999,9,  964,   3.2383,  27.4203,   -999.0,9