BOTTLE,20130510GEMDJMAYT
EXPOCODE,SECT_ID,STNNBR,CASTNO,SAMPNO,BTLNBR,BTLNBR_FLAG_W,DATE,TIME,LATITUDE,LONGITUDE,DEPTH,CTDPRS,CTDTMP,CTDSAL,CTDSAL_FLAG_W,CTDOXY,CTDOXY_FLAG_W,SALNTY,SALNTY_FLAG_W,OXYGEN,OXYGEN_FLAG_W,SILCAT,SILCAT_FLAG_W,NITRAT,NITRAT_FLAG_W,NO2+NO3,NO2+NO3_FLAG_W,NITRIT,NITRIT_FLAG_W,PHSPHT,PHSPHT_FLAG_W,CFC-11,CFC-11_FLAG_W,CFC-12,CFC-12_FLAG_W,DELC13,DELC13_FLAG_W,TCARBN,TCARBN_FLAG_W,ALKALI,ALKALI_FLAG_W,PH,PH_FLAG_W,PH_TMP,PH_SCALE,PH_NBS,PH_NBS_FLAG_W,C13ERR,TOTALP,TOTALP_FLAG_W,AMMONI,AMMONI_FLAG_W,CHLORA,CHLORA_FLAG_W,PPHYTN,PPHYTN_FLAG_W,REVPRS,REVTMP,DEPTH_,DEPTH_FLAG,CTDDEP,THETA,SIGTHT,DOC,DOC_FLAG_W
,,,,,,,GMT,GMT,,,METER,DBAR,ITS-90,PSS-78,,UMOL/KG,,PSS-78,,UMOL/KG,,UMOL/KG,,UMOL/KG,,UMOL/KG,,UMOL/KG,,UMOL/KG,,PMOL/KG,,PMOL/KG,,/MILLE,,UMOL/KG,,UMOL/KG,,25_DEG_C,,DEG_C,,,,/MILLE,UMOL/KG,,UMOL/KG,,UG/L,,UG/L,,DBAR,ITS-90,METERS,,METERS,DEG_C,,UMOL/L,
       RF04-10,  137E,RF-2273,  1,     -9,      -9,5,20041026,1530, 25.0105, 136.9952, 5023,      0.0,  27.4213,  34.7979,2,   -999.0,9,-999.0000,9,    200.8,2,     1.39,2,  -999.00,9,     0.00,2,     0.00,2,     0.00,2, -999.000,9, -999.000,9,  -999.00,9,   1946.6,3,   -999.0,9,   8.1029,2,     25.0, TS,  -999.00,9,   -999.0,  -999.00,9,  -999.00,9,     0.06,2,     0.00,2,   -999.0,-999.0000, -999,9,    0,  27.4211,  22.4305,     69.0,2
       RF04-10,  137E,RF-2273,  1,     24,02-18578,2,20041026,1542, 25.0105, 136.9952, 5023,      9.9,  27.4331,  34.7976,2,   -999.0,9,-999.0000,9,    201.9,2,     1.39,2,  -999.00,9,     0.00,2,     0.00,2,     0.00,2, -999.000,9, -999.000,9,  -999.00,9,   1949.0,3,   -999.0,9,   8.1028,2,     25.0, TS,  -999.00,9,   -999.0,  -999.00,9,  -999.00,9,     0.07,4,  -999.00,4,   -999.0,-999.0000, -999,9,   10,  27.4308,  22.4272,     70.8,2
       RF04-10,  137E,RF-2273,  1,     23,02-18577,2,20041026,1541, 25.0105, 136.9952, 5023,     26.5,  27.4351,  34.7968,2,   -999.0,9,-999.0000,9,    201.5,2,     1.37,2,  -999.00,9,     0.00,2,     0.00,2,     0.00,2, -999.000,9, -999.000,9,  -999.00,9,   1949.8,3,   -999.0,9,   8.1027,2,     25.0, TS,  -999.00,9,   -999.0,  -999.00,9,  -999.00,9,     0.06,2,     0.01,2,   -999.0,-999.0000, -999,9,   26,  27.4289,  22.4271,     69.6,2
       RF04-10,  137E,RF-2273,  1,     22,02-18576,2,20041026,1539, 25.0105, 136.9952, 5023,     52.1,  27.2315,  34.7926,2,   -999.0,9,  34.7991,2,    204.5,2,     1.39,2,  -999.00,9,     0.00,2,     0.00,2,     0.00,2, -999.000,9, -999.000,9,  -999.00,9,   1950.6,3,   -999.0,9,   8.0988,2,     25.0, TS,  -999.00,9,   -999.0,  -999.00,9,  -999.00,9,     0.10,2,     0.02,2,   -999.0,-999.0000, -999,9,   52,  27.2195,  22.4913,     71.4,2
       RF04-10,  137E,RF-2273,  1,     21,02-18575,2,20041026,1538, 25.0105, 136.9952, 5023,     75.9,  22.7555,  34.8763,2,   -999.0,9,-999.0000,9,    223.0,2,     1.66,2,  -999.00,9,     0.00,2,     0.00,2,     0.00,2, -999.000,9, -999.000,9,  -999.00,9,   1982.0,2,   -999.0,9,   8.0577,2,     25.0, TS,  -999.00,9,   -999.0,  -999.00,9,  -999.00,9,     0.19,2,     0.13,2,   -999.0,-999.0000, -999,9,   75,  22.7401,  23.9144,     57.0,2
       RF04-10,  137E,RF-2273,  1,     20,02-18574,2,20041026,1537, 25.0105, 136.9952, 5023,    100.6,  20.5546,  34.8671,2,   -999.0,9,  34.8684,2,    210.0,2,     2.15,2,  -999.00,9,     0.72,2,     0.10,2,     0.04,2, -999.000,9, -999.000,9,  -999.00,9,   2002.5,2,   -999.0,9,   8.0224,2,     25.0, TS,  -999.00,9,   -999.0,  -999.00,9,  -999.00,9,     0.22,2,     0.33,2,   -999.0,-999.0000, -999,9,  100,  20.5357,  24.5181,     51.0,2
       RF04-10,  137E,RF-2273,  1,     19,02-18573,2,20041026,1536, 25.0105, 136.9952, 5023,    125.6,  19.2146,  34.8501,2,   -999.0,9,-999.0000,9,    204.2,2,     2.78,2,  -999.00,9,     2.42,2,     0.01,2,     0.14,2, -999.000,9, -999.000,9,  -999.00,9,   2014.7,2,   -999.0,9,   7.9975,2,     25.0, TS,  -999.00,9,   -999.0,  -999.00,9,  -999.00,9,     0.07,2,     0.16,2,   -999.0,-999.0000, -999,9,  125,  19.1921,  24.8575,     48.4,2
       RF04-10,  137E,RF-2273,  1,     18,02-18572,2,20041026,1535, 25.0105, 136.9952, 5023,    150.2,  18.5656,  34.8314,2,   -999.0,9,-999.0000,9,    200.9,2,     3.27,2,  -999.00,9,     3.54,2,     0.00,2,     0.20,2, -999.000,9, -999.000,9,  -999.00,9,   2019.4,2,   -999.0,9,   7.9844,2,     25.0, TS,  -999.00,9,   -999.0,  -999.00,9,  -999.00,9,     0.03,2,     0.09,2,   -999.0,-999.0000, -999,9,  149,  18.5393,  25.0089,     46.7,2
       RF04-10,  137E,RF-2273,  1,     17,02-18571,2,20041026,1534, 25.0105, 136.9952, 5023,    201.5,  17.6844,  34.7812,2,   -999.0,9,  34.7794,2,    200.2,2,     4.03,2,  -999.00,9,     4.64,2,     0.00,2,     0.26,2, -999.000,9, -999.000,9,  -999.00,9,   2026.9,2,   -999.0,9,   7.9676,2,     25.0, TS,  -999.00,9,   -999.0,  -999.00,9,  -999.00,9,     0.01,2,     0.01,2,   -999.0,-999.0000, -999,9,  200,  17.6503,  25.1900,     44.8,2
       RF04-10,  137E,RF-2273,  1,     16,02-18570,2,20041026,1532, 25.0105, 136.9952, 5023,    253.6,  16.9878,  34.7441,2,   -999.0,9,-999.0000,9,    200.5,2,     5.00,2,  -999.00,9,     5.62,2,     0.00,2,     0.32,2, -999.000,9, -999.000,9,  -999.00,9,   2033.2,2,   -999.0,9,   7.9562,2,     25.0, TS,  -999.00,9,   -999.0,  -999.00,9,  -999.00,9,  -999.00,9,  -999.00,9,   -999.0,-999.0000, -999,9,  252,  16.9460,  25.3307,     44.2,2
       RF04-10,  137E,RF-2273,  1,     15,02-18569,2,20041026,1530, 25.0105, 136.9952, 5023,    301.1,  16.0332,  34.6730,2,   -999.0,9,  34.6667,4,    195.8,2,     7.44,2,  -999.00,9,     7.80,2,     0.00,2,     0.47,2, -999.000,9, -999.000,9,  -999.00,9,   2048.5,2,   -999.0,9,   7.9218,2,     25.0, TS,  -999.00,9,   -999.0,  -999.00,9,  -999.00,9,  -999.00,9,  -999.00,9,   -999.0,-999.0000, -999,9,  299,  15.9855,  25.4994,     42.3,2
       RF04-10,  137E,RF-2273,  1,     14,02-18568,2,20041026,1528, 25.0105, 136.9952, 5023,    401.5,  13.2383,  34.4732,2,   -999.0,9,  34.4659,4,    181.6,2,    16.76,2,  -999.00,9,    13.74,2,     0.00,2,     0.89,2, -999.000,9, -999.000,9,  -999.00,9,   2093.0,2,   -999.0,9,   7.8267,2,     25.0, TS,  -999.00,9,   -999.0,  -999.00,9,  -999.00,9,  -999.00,9,  -999.00,9,   -999.0,-999.0000, -999,9,  399,  13.1823,  25.9482,     38.3,2
       RF04-10,  137E,RF-2273,  1,     13,02-18567,2,20041026,1526, 25.0105, 136.9952, 5023,    503.0,  10.3477,  34.2968,2,   -999.0,9,  34.2970,2,    157.2,2,    31.50,2,  -999.00,9,    20.58,2,     0.00,2,     1.39,2, -999.000,9, -999.000,9,  -999.00,9,   2143.8,2,   -999.0,9,   7.7162,2,     25.0, TS,  -999.00,9,   -999.0,  -999.00,9,  -999.00,9,  -999.00,9,  -999.00,9,   -999.0,-999.0000, -999,9,  499,  10.2877,  26.3535,     36.1,2
       RF04-10,  137E,RF-2273,  1,     12,02-18566,2,20041026,1523, 25.0105, 136.9952, 5023,    604.4,   7.5117,  34.1711,2,   -999.0,9,  34.1714,2,    126.6,2,    53.94,2,  -999.00,9,    28.32,2,     0.00,2,     1.99,2, -999.000,9, -999.000,9,  -999.00,9,   2204.8,2,   -999.0,9,   7.5874,2,     25.0, TS,  -999.00,9,   -999.0,  -999.00,9,  -999.00,9,  -999.00,9,  -999.00,9,   -999.0,-999.0000, -999,9,  600,   7.4519,  26.7026,     33.5,2
       RF04-10,  137E,RF-2273,  1,     11,02-18565,2,20041026,1521, 25.0105, 136.9952, 5023,    705.7,   5.8782,  34.1767,2,   -999.0,9,  34.1781,2,     95.4,2,    75.28,2,  -999.00,9,    33.74,2,     0.00,2,     2.41,2, -999.000,9, -999.000,9,  -999.00,9,   2256.4,2,   -999.0,9,   7.4928,2,     25.0, TS,  -999.00,9,   -999.0,  -999.00,9,  -999.00,9,  -999.00,9,  -999.00,9,   -999.0,-999.0000, -999,9,  700,   5.8165,  26.9250,     39.4,2
       RF04-10,  137E,RF-2273,  1,     10,02-18564,2,20041026,1518, 25.0105, 136.9952, 5023,    807.8,   4.9243,  34.2215,2,   -999.0,9,  34.2220,2,     73.9,2,    91.30,2,  -999.00,9,    36.92,2,     0.00,2,     2.66,2, -999.000,9, -999.000,9,  -999.00,9,   2290.7,2,   -999.0,9,   7.4381,2,     25.0, TS,  -999.00,9,   -999.0,  -999.00,9,  -999.00,9,  -999.00,9,  -999.00,9,   -999.0,-999.0000, -999,9,  801,   4.8590,  27.0741,     40.9,2
       RF04-10,  137E,RF-2273,  1,      9,02-18563,2,20041026,1516, 25.0105, 136.9952, 5023,    905.6,   4.2387,  34.2904,2,   -999.0,9,-999.0000,9,     61.2,2,   105.65,2,  -999.00,9,    38.90,2,     0.00,2,     2.80,2, -999.000,9, -999.000,9,  -999.00,9,   2316.8,2,   -999.0,9,   7.4127,2,     25.0, TS,  -999.00,9,   -999.0,  -999.00,9,  -999.00,9,  -999.00,9,  -999.00,9,   -999.0,-999.0000, -999,9,  898,   4.1695,  27.2040,     35.0,2
       RF04-10,  137E,RF-2273,  1,      8,02-18562,2,20041026,1514, 25.0105, 136.9952, 5023,   1007.7,   3.7163,  34.3572,2,   -999.0,9,  34.3580,2,     56.7,2,   116.73,2,  -999.00,9,    39.91,2,     0.00,2,     2.87,2, -999.000,9, -999.000,9,  -999.00,9,   2331.5,2,   -999.0,9,   7.4022,2,     25.0, TS,  -999.00,9,   -999.0,  -999.00,9,  -999.00,9,  -999.00,9,  -999.00,9,   -999.0,-999.0000, -999,9,  999,   3.6425,  27.3110,     34.9,2
       RF04-10,  137E,RF-2273,  1,      7,02-18561,2,20041026,1509, 25.0105, 136.9952, 5023,   1260.5,   2.8919,  34.4761,2,   -999.0,9,  34.4768,2,     66.3,2,   132.81,2,  -999.00,9,    40.23,2,     0.00,2,     2.87,2, -999.000,9, -999.000,9,  -999.00,9,   2351.4,2,   -999.0,9,   7.4235,2,     25.0, TS,  -999.00,9,   -999.0,  -999.00,9,  -999.00,9,  -999.00,9,  -999.00,9,   -999.0,-999.0000, -999,9, 1249,   2.8049,  27.4844,   -999.0,9
       RF04-10,  137E,RF-2273,  1,      6,02-18560,2,20041026,1504, 25.0105, 136.9952, 5023,   1514.4,   2.4788,  34.5411,2,   -999.0,9,  34.5411,2,     83.9,2,   137.51,2,  -999.00,9,    39.47,2,     0.00,2,     2.79,2, -999.000,9, -999.000,9,  -999.00,9,   2347.9,2,   -999.0,9,   7.4602,2,     25.0, TS,  -999.00,9,   -999.0,  -999.00,9,  -999.00,9,  -999.00,9,  -999.00,9,   -999.0,-999.0000, -999,9, 1499,   2.3759,  27.5734,   -999.0,9
       RF04-10,  137E,RF-2273,  1,      5,02-18559,2,20041026,1459, 25.0105, 136.9952, 5023,   1768.8,   2.1393,  34.5864,2,   -999.0,9,  34.5871,2,     98.1,2,   141.19,2,  -999.00,9,    38.85,2,     0.00,2,     2.72,2, -999.000,9, -999.000,9,  -999.00,9,   2346.1,6,   -999.0,9,   7.4904,2,     25.0, TS,  -999.00,9,   -999.0,  -999.00,9,  -999.00,9,  -999.00,9,  -999.00,9,   -999.0,-999.0000, -999,9, 1750,   2.0201,  27.6387,   -999.0,9
       RF04-10,  137E,RF-2273,  1,      4,02-18558,2,20041026,1454, 25.0105, 136.9952, 5023,   2022.0,   1.9607,  34.6170,2,   -999.0,9,  34.6174,2,    113.8,2,   139.80,2,  -999.00,9,    37.94,2,     0.00,2,     2.65,2, -999.000,9, -999.000,9,  -999.00,9,   2339.8,2,   -999.0,9,   7.5189,6,     25.0, TS,  -999.00,9,   -999.0,  -999.00,9,  -999.00,9,  -999.00,9,  -999.00,9,   -999.0,-999.0000, -999,9, 1999,   1.8231,  27.6786,   -999.0,9
       RF04-10,  137E,RF-2273,  1,      3,02-18557,2,20041026,1435, 25.0105, 136.9952, 5023,   3042.7,   1.5975,  34.6657,2,   -999.0,9,  34.6661,2,    141.7,2,   139.31,2,  -999.00,9,    36.39,2,     0.00,2,     2.50,2, -999.000,9, -999.000,9,  -999.00,9,   -999.0,9,   -999.0,9,-999.0000,9,   -999.0,  9,  -999.00,9,   -999.0,  -999.00,9,  -999.00,9,  -999.00,9,  -999.00,9,   -999.0,-999.0000, -999,9, 3001,   1.3745,  27.7510,   -999.0,9
       RF04-10,  137E,RF-2273,  1,      2,02-18556,2,20041026,1410, 25.0105, 136.9952, 5023,   4066.1,   1.5271,  34.6820,2,   -999.0,9,  34.6809,2,    156.6,2,   137.62,2,  -999.00,9,    35.55,2,     0.00,2,     2.43,2, -999.000,9, -999.000,9,  -999.00,9,   -999.0,9,   -999.0,9,-999.0000,9,   -999.0,  9,  -999.00,9,   -999.0,  -999.00,9,  -999.00,9,  -999.00,9,  -999.00,9,   -999.0,-999.0000, -999,9, 4002,   1.2002,  27.7763,   -999.0,9
       RF04-10,  137E,RF-2273,  1,      1,02-18555,2,20041026,1345, 25.0105, 136.9952, 5023,   5011.7,   1.6258,  34.6827,2,   -999.0,9,  34.6837,2,    157.3,2,   137.25,2,  -999.00,9,    35.50,2,     0.00,2,     2.42,2, -999.000,9, -999.000,9,  -999.00,9,   -999.0,9,   -999.0,9,-999.0000,9,   -999.0,  9,  -999.00,9,   -999.0,  -999.00,9,  -999.00,9,  -999.00,9,  -999.00,9,   -999.0,-999.0000, -999,9, 4922,   1.1859,  27.7778,   -999.0,9
       RF04-10,  137E,RF-2274,  1,     -9,      -9,5,20041026,2111, 23.9972, 137.0087, 3889,      0.0,  27.5190,  34.5129,2,   -999.0,9,-999.0000,9,   -999.0,9,  -999.00,9,  -999.00,9,  -999.00,9,  -999.00,9,  -999.00,9, -999.000,9, -999.000,9,  -999.00,9,   1933.1,3,   -999.0,9,-999.0000,9,   -999.0,  9,  -999.00,9,   -999.0,  -999.00,9,  -999.00,9,  -999.00,9,  -999.00,9,   -999.0,-999.0000, -999,9,    0,  23.2038,  23.5054,   -999.0,9