BOTTLE,20130510GEMDJMAYT
EXPOCODE,SECT_ID,STNNBR,CASTNO,SAMPNO,BTLNBR,BTLNBR_FLAG_W,DATE,TIME,LATITUDE,LONGITUDE,DEPTH,CTDPRS,CTDTMP,CTDSAL,CTDSAL_FLAG_W,CTDOXY,CTDOXY_FLAG_W,SALNTY,SALNTY_FLAG_W,OXYGEN,OXYGEN_FLAG_W,SILCAT,SILCAT_FLAG_W,NITRAT,NITRAT_FLAG_W,NO2+NO3,NO2+NO3_FLAG_W,NITRIT,NITRIT_FLAG_W,PHSPHT,PHSPHT_FLAG_W,CFC-11,CFC-11_FLAG_W,CFC-12,CFC-12_FLAG_W,DELC13,DELC13_FLAG_W,TCARBN,TCARBN_FLAG_W,ALKALI,ALKALI_FLAG_W,PH,PH_FLAG_W,PH_TMP,PH_SCALE,PH_NBS,PH_NBS_FLAG_W,C13ERR,TOTALP,TOTALP_FLAG_W,AMMONI,AMMONI_FLAG_W,CHLORA,CHLORA_FLAG_W,PPHYTN,PPHYTN_FLAG_W,REVPRS,REVTMP,DEPTH_,DEPTH_FLAG,CTDDEP,THETA,SIGTHT,DOC,DOC_FLAG_W
,,,,,,,GMT,GMT,,,METER,DBAR,ITS-90,PSS-78,,UMOL/KG,,PSS-78,,UMOL/KG,,UMOL/KG,,UMOL/KG,,UMOL/KG,,UMOL/KG,,UMOL/KG,,PMOL/KG,,PMOL/KG,,/MILLE,,UMOL/KG,,UMOL/KG,,25_DEG_C,,DEG_C,,,,/MILLE,UMOL/KG,,UMOL/KG,,UG/L,,UG/L,,DBAR,ITS-90,METERS,,METERS,DEG_C,,UMOL/L,
       RF04-10,  137E,RF-2295,  1,     -9,      -9,5,20041102,0235,  2.9905, 137.0118, 4509,      0.0,  29.8609,  34.3111,2,   -999.0,9,-999.0000,9,    195.5,2,     1.07,2,  -999.00,9,     0.00,2,     0.00,2,     0.00,2, -999.000,9, -999.000,9,  -999.00,9,   1910.0,3,   -999.0,9,-999.0000,9,   -999.0,  9,  -999.00,9,   -999.0,  -999.00,9,  -999.00,9,     0.14,2,     0.02,2,   -999.0,-999.0000, -999,9,    0,  29.8607,  21.2572,   -999.0,9
       RF04-10,  137E,RF-2295,  1,     21,02-18575,2,20041102,0251,  2.9905, 137.0118, 4509,     11.5,  29.5450,  34.3085,2,   -999.0,9,-999.0000,9,    198.9,2,     1.09,2,  -999.00,9,     0.00,2,     0.00,2,     0.00,2, -999.000,9, -999.000,9,  -999.00,9,   -999.0,9,   -999.0,9,-999.0000,9,   -999.0,  9,  -999.00,9,   -999.0,  -999.00,9,  -999.00,9,     0.13,2,     0.02,2,   -999.0,-999.0000, -999,9,   11,  29.5422,  21.3631,   -999.0,9
       RF04-10,  137E,RF-2295,  1,     20,02-18574,2,20041102,0250,  2.9905, 137.0118, 4509,     26.5,  28.5972,  34.2868,2,   -999.0,9,-999.0000,9,    200.6,2,     1.31,2,  -999.00,9,     0.00,2,     0.00,2,     0.01,2, -999.000,9, -999.000,9,  -999.00,9,   -999.0,9,   -999.0,9,-999.0000,9,   -999.0,  9,  -999.00,9,   -999.0,  -999.00,9,  -999.00,9,     0.10,2,     0.04,2,   -999.0,-999.0000, -999,9,   26,  28.5909,  21.6645,   -999.0,9
       RF04-10,  137E,RF-2295,  1,     19,02-18573,2,20041102,0249,  2.9905, 137.0118, 4509,     52.6,  27.9263,  34.4300,2,   -999.0,9,-999.0000,9,    196.8,2,     1.16,2,  -999.00,9,     0.00,2,     0.00,2,     0.04,2, -999.000,9, -999.000,9,  -999.00,9,   -999.0,9,   -999.0,9,-999.0000,9,   -999.0,  9,  -999.00,9,   -999.0,  -999.00,9,  -999.00,9,     0.21,2,     0.09,2,   -999.0,-999.0000, -999,9,   52,  27.9140,  21.9941,   -999.0,9
       RF04-10,  137E,RF-2295,  1,     18,02-18572,2,20041102,0248,  2.9905, 137.0118, 4509,     78.1,  26.6827,  34.7893,2,   -999.0,9,-999.0000,9,    172.7,2,     1.40,2,  -999.00,9,     2.75,2,     0.26,2,     0.23,2, -999.000,9, -999.000,9,  -999.00,9,   -999.0,9,   -999.0,9,-999.0000,9,   -999.0,  9,  -999.00,9,   -999.0,  -999.00,9,  -999.00,9,     0.40,2,     0.44,2,   -999.0,-999.0000, -999,9,   78,  26.6650,  22.6656,   -999.0,9
       RF04-10,  137E,RF-2295,  1,     17,02-18571,2,20041102,0247,  2.9905, 137.0118, 4509,    102.8,  25.5660,  34.9433,2,   -999.0,9,-999.0000,9,    165.5,2,     1.95,2,  -999.00,9,     4.11,2,     0.09,2,     0.32,2, -999.000,9, -999.000,9,  -999.00,9,   -999.0,9,   -999.0,9,-999.0000,9,   -999.0,  9,  -999.00,9,   -999.0,  -999.00,9,  -999.00,9,     0.18,2,     0.35,2,   -999.0,-999.0000, -999,9,  102,  25.5433,  23.1321,   -999.0,9
       RF04-10,  137E,RF-2295,  1,     16,02-18570,2,20041102,0245,  2.9905, 137.0118, 4509,    127.1,  24.1957,  35.3119,2,   -999.0,9,-999.0000,9,    145.8,2,     2.43,2,  -999.00,9,     7.04,2,     0.06,2,     0.53,2, -999.000,9, -999.000,9,  -999.00,9,   -999.0,9,   -999.0,9,-999.0000,9,   -999.0,  9,  -999.00,9,   -999.0,  -999.00,9,  -999.00,9,     0.09,2,     0.22,2,   -999.0,-999.0000, -999,9,  126,  24.1687,  23.8273,   -999.0,9
       RF04-10,  137E,RF-2295,  1,     15,02-18569,2,20041102,0244,  2.9905, 137.0118, 4509,    151.0,  23.8177,  35.3324,2,   -999.0,9,-999.0000,9,    143.6,2,     2.63,2,  -999.00,9,     7.54,2,     0.05,2,     0.57,2, -999.000,9, -999.000,9,  -999.00,9,   -999.0,9,   -999.0,9,-999.0000,9,   -999.0,  9,  -999.00,9,   -999.0,  -999.00,9,  -999.00,9,     0.07,2,     0.21,2,   -999.0,-999.0000, -999,9,  150,  23.7860,  23.9563,   -999.0,9
       RF04-10,  137E,RF-2295,  1,     14,02-18568,2,20041102,0242,  2.9905, 137.0118, 4509,    201.4,  17.8232,  35.1657,2,   -999.0,9,-999.0000,9,    143.4,2,     7.29,2,  -999.00,9,    12.03,2,     0.00,2,     0.86,2, -999.000,9, -999.000,9,  -999.00,9,   -999.0,9,   -999.0,9,-999.0000,9,   -999.0,  9,  -999.00,9,   -999.0,  -999.00,9,  -999.00,9,     0.01,2,     0.02,2,   -999.0,-999.0000, -999,9,  200,  17.7888,  25.4509,   -999.0,9
       RF04-10,  137E,RF-2295,  1,     13,02-18567,2,20041102,0241,  2.9905, 137.0118, 4509,    254.9,  11.1367,  34.4805,2,   -999.0,9,-999.0000,9,    109.8,2,    27.65,2,  -999.00,9,    23.82,2,     0.00,2,     1.66,2, -999.000,9, -999.000,9,  -999.00,9,   -999.0,9,   -999.0,9,-999.0000,9,   -999.0,  9,  -999.00,9,   -999.0,  -999.00,9,  -999.00,9,  -999.00,9,  -999.00,9,   -999.0,-999.0000, -999,9,  253,  11.1051,  26.3519,   -999.0,9
       RF04-10,  137E,RF-2295,  1,     12,02-18566,2,20041102,0239,  2.9905, 137.0118, 4509,    303.6,  10.3976,  34.6152,2,   -999.0,9,-999.0000,9,     95.7,2,    31.75,2,  -999.00,9,    27.60,2,     0.00,2,     1.93,2, -999.000,9, -999.000,9,  -999.00,9,   -999.0,9,   -999.0,9,-999.0000,9,   -999.0,  9,  -999.00,9,   -999.0,  -999.00,9,  -999.00,9,  -999.00,9,  -999.00,9,   -999.0,-999.0000, -999,9,  302,  10.3615,  26.5892,   -999.0,9
       RF04-10,  137E,RF-2295,  1,     11,02-18565,2,20041102,0236,  2.9905, 137.0118, 4509,    403.0,   8.1721,  34.5660,2,   -999.0,9,-999.0000,9,     76.2,2,    41.63,2,  -999.00,9,    33.32,2,     0.00,2,     2.33,2, -999.000,9, -999.000,9,  -999.00,9,   -999.0,9,   -999.0,9,-999.0000,9,   -999.0,  9,  -999.00,9,   -999.0,  -999.00,9,  -999.00,9,  -999.00,9,  -999.00,9,   -999.0,-999.0000, -999,9,  400,   8.1305,  26.9134,   -999.0,9
       RF04-10,  137E,RF-2295,  1,     10,02-18564,2,20041102,0233,  2.9905, 137.0118, 4509,    504.7,   7.2847,  34.5534,2,   -999.0,9,-999.0000,9,     87.6,2,    46.00,2,  -999.00,9,    34.03,2,     0.00,2,     2.39,2, -999.000,9, -999.000,9,  -999.00,9,   -999.0,9,   -999.0,9,-999.0000,9,   -999.0,  9,  -999.00,9,   -999.0,  -999.00,9,  -999.00,9,  -999.00,9,  -999.00,9,   -999.0,-999.0000, -999,9,  501,   7.2356,  27.0340,   -999.0,9
       RF04-10,  137E,RF-2295,  1,      9,02-18563,2,20041102,0231,  2.9905, 137.0118, 4509,    605.4,   6.3850,  34.5361,2,   -999.0,9,-999.0000,9,    105.1,2,    54.02,2,  -999.00,9,    34.08,2,     0.00,2,     2.39,2, -999.000,9, -999.000,9,  -999.00,9,   -999.0,9,   -999.0,9,-999.0000,9,   -999.0,  9,  -999.00,9,   -999.0,  -999.00,9,  -999.00,9,  -999.00,9,  -999.00,9,   -999.0,-999.0000, -999,9,  601,   6.3299,  27.1435,   -999.0,9
       RF04-10,  137E,RF-2295,  1,      8,02-18562,2,20041102,0228,  2.9905, 137.0118, 4509,    706.4,   5.8828,  34.5360,2,   -999.0,9,-999.0000,9,     98.6,2,    63.69,2,  -999.00,9,    35.47,2,     0.00,2,     2.49,2, -999.000,9, -999.000,9,  -999.00,9,   -999.0,9,   -999.0,9,-999.0000,9,   -999.0,  9,  -999.00,9,   -999.0,  -999.00,9,  -999.00,9,  -999.00,9,  -999.00,9,   -999.0,-999.0000, -999,9,  701,   5.8207,  27.2086,   -999.0,9
       RF04-10,  137E,RF-2295,  1,      7,02-18561,2,20041102,0225,  2.9905, 137.0118, 4509,    807.5,   5.5034,  34.5382,2,   -999.0,9,-999.0000,9,    102.6,2,    67.34,2,  -999.00,9,    35.64,2,     0.00,2,     2.51,2, -999.000,9, -999.000,9,  -999.00,9,   -999.0,9,   -999.0,9,-999.0000,9,   -999.0,  9,  -999.00,9,   -999.0,  -999.00,9,  -999.00,9,  -999.00,9,  -999.00,9,   -999.0,-999.0000, -999,9,  802,   5.4341,  27.2579,   -999.0,9
       RF04-10,  137E,RF-2295,  1,      6,02-18560,2,20041102,0223,  2.9905, 137.0118, 4509,    906.9,   5.0420,  34.5469,2,   -999.0,9,-999.0000,9,     98.0,2,    77.49,2,  -999.00,9,    36.57,2,     0.00,2,     2.59,2, -999.000,9, -999.000,9,  -999.00,9,   -999.0,9,   -999.0,9,-999.0000,9,   -999.0,  9,  -999.00,9,   -999.0,  -999.00,9,  -999.00,9,  -999.00,9,  -999.00,9,   -999.0,-999.0000, -999,9,  900,   4.9667,  27.3199,   -999.0,9
       RF04-10,  137E,RF-2295,  1,      5,02-18559,2,20041102,0220,  2.9905, 137.0118, 4509,   1010.2,   4.7012,  34.5558,2,   -999.0,9,-999.0000,9,     95.7,2,    85.91,2,  -999.00,9,    37.07,2,     0.00,2,     2.63,2, -999.000,9, -999.000,9,  -999.00,9,   -999.0,9,   -999.0,9,-999.0000,9,   -999.0,  9,  -999.00,9,   -999.0,  -999.00,9,  -999.00,9,  -999.00,9,  -999.00,9,   -999.0,-999.0000, -999,9, 1002,   4.6192,  27.3662,   -999.0,9
       RF04-10,  137E,RF-2295,  1,      4,02-18558,2,20041102,0214,  2.9905, 137.0118, 4509,   1261.6,   3.8768,  34.5707,2,   -999.0,9,-999.0000,9,     94.8,2,   100.18,2,  -999.00,9,    38.04,2,     0.00,2,     2.70,2, -999.000,9, -999.000,9,  -999.00,9,   -999.0,9,   -999.0,9,-999.0000,9,   -999.0,  9,  -999.00,9,   -999.0,  -999.00,9,  -999.00,9,  -999.00,9,  -999.00,9,   -999.0,-999.0000, -999,9, 1251,   3.7799,  27.4672,   -999.0,9
       RF04-10,  137E,RF-2295,  1,      3,02-18557,2,20041102,0209,  2.9905, 137.0118, 4509,   1515.0,   3.0476,  34.5973,2,   -999.0,9,-999.0000,9,     96.8,2,   118.18,2,  -999.00,9,    38.62,2,     0.00,2,     2.73,2, -999.000,9, -999.000,9,  -999.00,9,   -999.0,9,   -999.0,9,-999.0000,9,   -999.0,  9,  -999.00,9,   -999.0,  -999.00,9,  -999.00,9,  -999.00,9,  -999.00,9,   -999.0,-999.0000, -999,9, 1501,   2.9379,  27.5693,   -999.0,9
       RF04-10,  137E,RF-2295,  1,      2,02-18556,2,20041102,0204,  2.9905, 137.0118, 4509,   1767.8,   2.5310,  34.6190,2,   -999.0,9,-999.0000,9,    108.1,2,   127.72,2,  -999.00,9,    38.12,2,     0.00,2,     2.69,2, -999.000,9, -999.000,9,  -999.00,9,   -999.0,9,   -999.0,9,-999.0000,9,   -999.0,  9,  -999.00,9,   -999.0,  -999.00,9,  -999.00,9,  -999.00,9,  -999.00,9,   -999.0,-999.0000, -999,9, 1751,   2.4065,  27.6332,   -999.0,9
       RF04-10,  137E,RF-2295,  1,      1,02-18555,2,20041102,0158,  2.9905, 137.0118, 4509,   2022.4,   2.2100,  34.6349,2,   -999.0,9,-999.0000,9,    115.1,2,   133.90,2,  -999.00,9,    37.76,2,     0.00,2,     2.66,2, -999.000,9, -999.000,9,  -999.00,9,   -999.0,9,   -999.0,9,-999.0000,9,   -999.0,  9,  -999.00,9,   -999.0,  -999.00,9,  -999.00,9,  -999.00,9,  -999.00,9,   -999.0,-999.0000, -999,9, 2002,   2.0684,  27.6737,   -999.0,9
       RF04-10,  NONE,RF-2298,  1,     -9,      -9,5,20041114,0248, 28.9645, 130.0335,  914,      0.0,  25.1913,  34.5910,2,   -999.0,9,-999.0000,9,   -999.0,9,  -999.00,9,  -999.00,9,  -999.00,9,  -999.00,9,  -999.00,9, -999.000,9, -999.000,9,  -999.00,9,   -999.0,9,   -999.0,9,-999.0000,9,   -999.0,  9,  -999.00,9,   -999.0,  -999.00,9,  -999.00,9,  -999.00,9,  -999.00,9,   -999.0,-999.0000, -999,9,    0,  25.1911,  22.9740,   -999.0,9
       RF04-10,  NONE,RF-2298,  1,     10,02-18564,2,20041114,0252, 28.9645, 130.0335,  914,     50.8,  25.0397,  34.5949,2,   -999.0,9,  34.5949,2,   -999.0,9,  -999.00,9,  -999.00,9,  -999.00,9,  -999.00,9,  -999.00,9, -999.000,9, -999.000,9,  -999.00,9,   -999.0,9,   -999.0,9,-999.0000,9,   -999.0,  9,  -999.00,9,   -999.0,  -999.00,9,  -999.00,9,  -999.00,9,  -999.00,9,   -999.0,-999.0000, -999,9,   50,  25.0287,  23.0264,   -999.0,9
       RF04-10,  NONE,RF-2298,  1,      9,02-18563,2,20041114,0250, 28.9645, 130.0335,  914,    100.8,  24.2224,  34.4714,2,   -999.0,9,  34.4970,4,   -999.0,9,  -999.00,9,  -999.00,9,  -999.00,9,  -999.00,9,  -999.00,9, -999.000,9, -999.000,9,  -999.00,9,   -999.0,9,   -999.0,9,-999.0000,9,   -999.0,  9,  -999.00,9,   -999.0,  -999.00,9,  -999.00,9,  -999.00,9,  -999.00,9,   -999.0,-999.0000, -999,9,  100,  24.2011,  23.1816,   -999.0,9
       RF04-10,  NONE,RF-2298,  1,      8,02-18562,2,20041114,0247, 28.9645, 130.0335,  914,    201.9,  19.0208,  34.8109,2,   -999.0,9,  34.8132,2,   -999.0,9,  -999.00,9,  -999.00,9,  -999.00,9,  -999.00,9,  -999.00,9, -999.000,9, -999.000,9,  -999.00,9,   -999.0,9,   -999.0,9,-999.0000,9,   -999.0,  9,  -999.00,9,   -999.0,  -999.00,9,  -999.00,9,  -999.00,9,  -999.00,9,   -999.0,-999.0000, -999,9,  200,  18.9848,  24.8805,   -999.0,9
       RF04-10,  NONE,RF-2298,  1,      7,02-18561,2,20041114,0243, 28.9645, 130.0335,  914,    303.8,  15.3880,  34.6093,2,   -999.0,9,  34.6103,2,   -999.0,9,  -999.00,9,  -999.00,9,  -999.00,9,  -999.00,9,  -999.00,9, -999.000,9, -999.000,9,  -999.00,9,   -999.0,9,   -999.0,9,-999.0000,9,   -999.0,  9,  -999.00,9,   -999.0,  -999.00,9,  -999.00,9,  -999.00,9,  -999.00,9,   -999.0,-999.0000, -999,9,  301,  15.3412,  25.5954,   -999.0,9
       RF04-10,  NONE,RF-2298,  1,      6,02-18560,2,20041114,0240, 28.9645, 130.0335,  914,    403.7,  12.0739,  34.4340,2,   -999.0,9,  34.4347,2,   -999.0,9,  -999.00,9,  -999.00,9,  -999.00,9,  -999.00,9,  -999.00,9, -999.000,9, -999.000,9,  -999.00,9,   -999.0,9,   -999.0,9,-999.0000,9,   -999.0,  9,  -999.00,9,   -999.0,  -999.00,9,  -999.00,9,  -999.00,9,  -999.00,9,   -999.0,-999.0000, -999,9,  401,  12.0209,  26.1455,   -999.0,9
       RF04-10,  NONE,RF-2298,  1,      5,02-18559,2,20041114,0238, 28.9645, 130.0335,  914,    506.3,  10.2522,  34.3687,2,   -999.0,9,  34.3707,2,   -999.0,9,  -999.00,9,  -999.00,9,  -999.00,9,  -999.00,9,  -999.00,9, -999.000,9, -999.000,9,  -999.00,9,   -999.0,9,   -999.0,9,-999.0000,9,   -999.0,  9,  -999.00,9,   -999.0,  -999.00,9,  -999.00,9,  -999.00,9,  -999.00,9,   -999.0,-999.0000, -999,9,  502,  10.1921,  26.4261,   -999.0,9
       RF04-10,  NONE,RF-2298,  1,      4,02-18558,2,20041114,0235, 28.9645, 130.0335,  914,    607.5,   7.7089,  34.3361,2,   -999.0,9,  34.3397,2,   -999.0,9,  -999.00,9,  -999.00,9,  -999.00,9,  -999.00,9,  -999.00,9, -999.000,9, -999.000,9,  -999.00,9,   -999.0,9,   -999.0,9,-999.0000,9,   -999.0,  9,  -999.00,9,   -999.0,  -999.00,9,  -999.00,9,  -999.00,9,  -999.00,9,   -999.0,-999.0000, -999,9,  602,   7.6477,  26.8042,   -999.0,9
       RF04-10,  NONE,RF-2298,  1,      3,02-18557,2,20041114,0233, 28.9645, 130.0335,  914,    707.5,   6.2600,  34.3447,2,   -999.0,9,  34.3476,2,   -999.0,9,  -999.00,9,  -999.00,9,  -999.00,9,  -999.00,9,  -999.00,9, -999.000,9, -999.000,9,  -999.00,9,   -999.0,9,   -999.0,9,-999.0000,9,   -999.0,  9,  -999.00,9,   -999.0,  -999.00,9,  -999.00,9,  -999.00,9,  -999.00,9,   -999.0,-999.0000, -999,9,  702,   6.1959,  27.0098,   -999.0,9
       RF04-10,  NONE,RF-2298,  1,      2,02-18556,2,20041114,0230, 28.9645, 130.0335,  914,    809.0,   4.4829,  34.3608,2,   -999.0,9,  34.3679,4,   -999.0,9,  -999.00,9,  -999.00,9,  -999.00,9,  -999.00,9,  -999.00,9, -999.000,9, -999.000,9,  -999.00,9,   -999.0,9,   -999.0,9,-999.0000,9,   -999.0,  9,  -999.00,9,   -999.0,  -999.00,9,  -999.00,9,  -999.00,9,  -999.00,9,   -999.0,-999.0000, -999,9,  802,   4.4200,  27.2333,   -999.0,9
       RF04-10,  NONE,RF-2298,  1,      1,02-18555,2,20041114,0229, 28.9645, 130.0335,  914,    871.2,   3.9727,  34.4055,2,   -999.0,9,  34.4065,2,   -999.0,9,  -999.00,9,  -999.00,9,  -999.00,9,  -999.00,9,  -999.00,9, -999.000,9, -999.000,9,  -999.00,9,   -999.0,9,   -999.0,9,-999.0000,9,   -999.0,  9,  -999.00,9,   -999.0,  -999.00,9,  -999.00,9,  -999.00,9,  -999.00,9,   -999.0,-999.0000, -999,9,  864,   3.9080,  27.3227,   -999.0,9
       RF04-10,  NONE,RF-2301,  1,      8,02-18562,2,20041114,0954, 29.3707, 130.2958,  706,     50.3,  23.7612,  34.4570,2,   -999.0,9,  34.4492,2,   -999.0,9,  -999.00,9,  -999.00,9,  -999.00,9,  -999.00,9,  -999.00,9, -999.000,9, -999.000,9,  -999.00,9,   -999.0,9,   -999.0,9,-999.0000,9,   -999.0,  9,  -999.00,9,   -999.0,  -999.00,9,  -999.00,9,  -999.00,9,  -999.00,9,   -999.0,-999.0000, -999,9,   50,  23.7507,  23.3037,   -999.0,9
       RF04-10,  NONE,RF-2301,  1,      7,02-18561,2,20041114,0952, 29.3707, 130.2958,  706,    100.3,  22.4757,  34.4608,2,   -999.0,9,  34.4630,2,   -999.0,9,  -999.00,9,  -999.00,9,  -999.00,9,  -999.00,9,  -999.00,9, -999.000,9, -999.000,9,  -999.00,9,   -999.0,9,   -999.0,9,-999.0000,9,   -999.0,  9,  -999.00,9,   -999.0,  -999.00,9,  -999.00,9,  -999.00,9,  -999.00,9,   -999.0,-999.0000, -999,9,  100,  22.4556,  23.6801,   -999.0,9
       RF04-10,  NONE,RF-2301,  1,      6,02-18560,2,20041114,0949, 29.3707, 130.2958,  706,    202.6,  17.4364,  34.6402,2,   -999.0,9,  34.6424,2,   -999.0,9,  -999.00,9,  -999.00,9,  -999.00,9,  -999.00,9,  -999.00,9, -999.000,9, -999.000,9,  -999.00,9,   -999.0,9,   -999.0,9,-999.0000,9,   -999.0,  9,  -999.00,9,   -999.0,  -999.00,9,  -999.00,9,  -999.00,9,  -999.00,9,   -999.0,-999.0000, -999,9,  201,  17.4024,  25.1419,   -999.0,9
       RF04-10,  NONE,RF-2301,  1,      5,02-18559,2,20041114,0947, 29.3707, 130.2958,  706,    303.4,  13.4248,  34.5007,2,   -999.0,9,  34.5026,2,   -999.0,9,  -999.00,9,  -999.00,9,  -999.00,9,  -999.00,9,  -999.00,9, -999.000,9, -999.000,9,  -999.00,9,   -999.0,9,   -999.0,9,-999.0000,9,   -999.0,  9,  -999.00,9,   -999.0,  -999.00,9,  -999.00,9,  -999.00,9,  -999.00,9,   -999.0,-999.0000, -999,9,  301,  13.3822,  25.9289,   -999.0,9
       RF04-10,  NONE,RF-2301,  1,      4,02-18558,2,20041114,0944, 29.3707, 130.2958,  706,    406.7,  11.3267,  34.4110,2,   -999.0,9,  34.4135,2,   -999.0,9,  -999.00,9,  -999.00,9,  -999.00,9,  -999.00,9,  -999.00,9, -999.000,9, -999.000,9,  -999.00,9,   -999.0,9,   -999.0,9,-999.0000,9,   -999.0,  9,  -999.00,9,   -999.0,  -999.00,9,  -999.00,9,  -999.00,9,  -999.00,9,   -999.0,-999.0000, -999,9,  404,  11.2755,  26.2668,   -999.0,9
       RF04-10,  NONE,RF-2301,  1,      3,02-18557,2,20041114,0941, 29.3707, 130.2958,  706,    506.7,   7.5316,  34.2770,2,   -999.0,9,  34.2789,2,   -999.0,9,  -999.00,9,  -999.00,9,  -999.00,9,  -999.00,9,  -999.00,9, -999.000,9, -999.000,9,  -999.00,9,   -999.0,9,   -999.0,9,-999.0000,9,   -999.0,  9,  -999.00,9,   -999.0,  -999.00,9,  -999.00,9,  -999.00,9,  -999.00,9,   -999.0,-999.0000, -999,9,  503,   7.4816,  26.7816,   -999.0,9
       RF04-10,  NONE,RF-2301,  1,      2,02-18556,2,20041114,0939, 29.3707, 130.2958,  706,    604.8,   6.4253,  34.2793,2,   -999.0,9,  34.2815,2,   -999.0,9,  -999.00,9,  -999.00,9,  -999.00,9,  -999.00,9,  -999.00,9, -999.000,9, -999.000,9,  -999.00,9,   -999.0,9,   -999.0,9,-999.0000,9,   -999.0,  9,  -999.00,9,   -999.0,  -999.00,9,  -999.00,9,  -999.00,9,  -999.00,9,   -999.0,-999.0000, -999,9,  600,   6.3703,  26.9356,   -999.0,9
       RF04-10,  NONE,RF-2301,  1,      1,02-18555,2,20041114,0936, 29.3707, 130.2958,  706,    691.7,   5.0605,  34.2845,2,   -999.0,9,  34.2864,2,   -999.0,9,  -999.00,9,  -999.00,9,  -999.00,9,  -999.00,9,  -999.00,9, -999.000,9, -999.000,9,  -999.00,9,   -999.0,9,   -999.0,9,-999.0000,9,   -999.0,  9,  -999.00,9,   -999.0,  -999.00,9,  -999.00,9,  -999.00,9,  -999.00,9,   -999.0,-999.0000, -999,9,  686,   5.0043,  27.1075,   -999.0,9