BOTTLE,20130510GEMDJMAYT
EXPOCODE,SECT_ID,STNNBR,CASTNO,SAMPNO,BTLNBR,BTLNBR_FLAG_W,DATE,TIME,LATITUDE,LONGITUDE,DEPTH,CTDPRS,CTDTMP,CTDSAL,CTDSAL_FLAG_W,CTDOXY,CTDOXY_FLAG_W,SALNTY,SALNTY_FLAG_W,OXYGEN,OXYGEN_FLAG_W,SILCAT,SILCAT_FLAG_W,NITRAT,NITRAT_FLAG_W,NO2+NO3,NO2+NO3_FLAG_W,NITRIT,NITRIT_FLAG_W,PHSPHT,PHSPHT_FLAG_W,CFC-11,CFC-11_FLAG_W,CFC-12,CFC-12_FLAG_W,DELC13,DELC13_FLAG_W,TCARBN,TCARBN_FLAG_W,ALKALI,ALKALI_FLAG_W,PH,PH_FLAG_W,PH_TMP,PH_SCALE,PH_NBS,PH_NBS_FLAG_W,C13ERR,TOTALP,TOTALP_FLAG_W,AMMONI,AMMONI_FLAG_W,CHLORA,CHLORA_FLAG_W,PPHYTN,PPHYTN_FLAG_W,REVPRS,REVTMP,DEPTH_,DEPTH_FLAG,CTDDEP,THETA,SIGTHT,DOC,DOC_FLAG_W
,,,,,,,GMT,GMT,,,METER,DBAR,ITS-90,PSS-78,,UMOL/KG,,PSS-78,,UMOL/KG,,UMOL/KG,,UMOL/KG,,UMOL/KG,,UMOL/KG,,UMOL/KG,,PMOL/KG,,PMOL/KG,,/MILLE,,UMOL/KG,,UMOL/KG,,25_DEG_C,,DEG_C,,,,/MILLE,UMOL/KG,,UMOL/KG,,UG/L,,UG/L,,DBAR,ITS-90,METERS,,METERS,DEG_C,,UMOL/L,
       RF04-10,  137E,RF-2263,  1,     -9,      -9,5,20041024,0614, 31.9792, 137.0055, 4251,      0.0,  25.3490,  34.4903,2,   -999.0,9,-999.0000,9,    209.5,2,     1.52,2,  -999.00,9,     0.00,2,     0.00,2,     0.02,2, -999.000,9, -999.000,9,  -999.00,9,   1940.4,2,   -999.0,9,-999.0000,9,   -999.0,  9,  -999.00,9,   -999.0,  -999.00,9,  -999.00,9,     0.52,2,     0.15,2,   -999.0,-999.0000, -999,9,    0,  25.3489,  22.8497,   -999.0,9
       RF04-10,  137E,RF-2263,  1,     21,02-18575,2,20041024,0636, 31.9792, 137.0055, 4251,     10.0,  25.3265,  34.4884,2,   -999.0,9,-999.0000,9,    208.3,2,     1.51,2,  -999.00,9,     0.00,2,     0.00,2,     0.03,2, -999.000,9, -999.000,9,  -999.00,9,   -999.0,9,   -999.0,9,-999.0000,9,   -999.0,  9,  -999.00,9,   -999.0,  -999.00,9,  -999.00,9,     0.50,2,     0.15,2,   -999.0,-999.0000, -999,9,   10,  25.3243,  22.8558,   -999.0,9
       RF04-10,  137E,RF-2263,  1,     20,02-18574,2,20041024,0635, 31.9792, 137.0055, 4251,     24.3,  25.2867,  34.4856,2,   -999.0,9,-999.0000,9,    209.4,2,     1.51,2,  -999.00,9,     0.00,2,     0.00,2,     0.01,2, -999.000,9, -999.000,9,  -999.00,9,   -999.0,9,   -999.0,9,-999.0000,9,   -999.0,  9,  -999.00,9,   -999.0,  -999.00,9,  -999.00,9,     0.58,2,     0.23,2,   -999.0,-999.0000, -999,9,   24,  25.2814,  22.8668,   -999.0,9
       RF04-10,  137E,RF-2263,  1,     19,02-18573,2,20041024,0634, 31.9792, 137.0055, 4251,     50.8,  25.2735,  34.4936,2,   -999.0,9,  34.4916,2,    209.9,2,     1.59,2,  -999.00,9,     0.00,2,     0.00,2,     0.01,2, -999.000,9, -999.000,9,  -999.00,9,   -999.0,9,   -999.0,9,-999.0000,9,   -999.0,  9,  -999.00,9,   -999.0,  -999.00,9,  -999.00,9,     0.68,2,     0.29,2,   -999.0,-999.0000, -999,9,   50,  25.2624,  22.8787,   -999.0,9
       RF04-10,  137E,RF-2263,  1,     18,02-18572,2,20041024,0632, 31.9792, 137.0055, 4251,     75.1,  24.7600,  34.5129,2,   -999.0,9,-999.0000,9,    195.5,2,     2.80,2,  -999.00,9,     1.75,2,     0.14,2,     0.13,2, -999.000,9, -999.000,9,  -999.00,9,   -999.0,9,   -999.0,9,-999.0000,9,   -999.0,  9,  -999.00,9,   -999.0,  -999.00,9,  -999.00,9,     0.15,2,     0.08,2,   -999.0,-999.0000, -999,9,   75,  24.7439,  23.0506,   -999.0,9
       RF04-10,  137E,RF-2263,  1,     17,02-18571,2,20041024,0631, 31.9792, 137.0055, 4251,    100.1,  21.5794,  34.6618,2,   -999.0,9,  34.6723,4,    182.4,2,     5.27,2,  -999.00,9,     4.54,2,     0.02,2,     0.32,2, -999.000,9, -999.000,9,  -999.00,9,   -999.0,9,   -999.0,9,-999.0000,9,   -999.0,  9,  -999.00,9,   -999.0,  -999.00,9,  -999.00,9,     0.07,2,     0.07,2,   -999.0,-999.0000, -999,9,   99,  21.5599,  24.0831,   -999.0,9
       RF04-10,  137E,RF-2263,  1,     16,02-18570,2,20041024,0630, 31.9792, 137.0055, 4251,    123.9,  19.3430,  34.6551,2,   -999.0,9,-999.0000,9,    173.7,2,     9.01,2,  -999.00,9,     7.29,2,     0.02,2,     0.52,2, -999.000,9, -999.000,9,  -999.00,9,   -999.0,9,   -999.0,9,-999.0000,9,   -999.0,  9,  -999.00,9,   -999.0,  -999.00,9,  -999.00,9,     0.06,2,     0.05,2,   -999.0,-999.0000, -999,9,  123,  19.3207,  24.6755,   -999.0,9
       RF04-10,  137E,RF-2263,  1,     15,02-18569,2,20041024,0629, 31.9792, 137.0055, 4251,    151.7,  17.1338,  34.6513,2,   -999.0,9,-999.0000,9,    173.0,2,    12.01,2,  -999.00,9,     9.51,2,     0.00,2,     0.66,2, -999.000,9, -999.000,9,  -999.00,9,   -999.0,9,   -999.0,9,-999.0000,9,   -999.0,  9,  -999.00,9,   -999.0,  -999.00,9,  -999.00,9,     0.03,2,     0.03,2,   -999.0,-999.0000, -999,9,  151,  17.1087,  25.2208,   -999.0,9
       RF04-10,  137E,RF-2263,  1,     14,02-18568,2,20041024,0627, 31.9792, 137.0055, 4251,    204.4,  14.2457,  34.5475,2,   -999.0,9,  34.5505,2,    169.7,2,    17.90,2,  -999.00,9,    13.36,2,     0.00,2,     0.93,2, -999.000,9, -999.000,9,  -999.00,9,   -999.0,9,   -999.0,9,-999.0000,9,   -999.0,  9,  -999.00,9,   -999.0,  -999.00,9,  -999.00,9,     0.01,2,     0.02,2,   -999.0,-999.0000, -999,9,  203,  14.2159,  25.7919,   -999.0,9
       RF04-10,  137E,RF-2263,  1,     13,02-18567,2,20041024,0624, 31.9792, 137.0055, 4251,    257.5,  12.2609,  34.4484,2,   -999.0,9,-999.0000,9,    156.4,2,    26.58,2,  -999.00,9,    17.67,2,     0.00,2,     1.24,2, -999.000,9, -999.000,9,  -999.00,9,   -999.0,9,   -999.0,9,-999.0000,9,   -999.0,  9,  -999.00,9,   -999.0,  -999.00,9,  -999.00,9,  -999.00,9,  -999.00,9,   -999.0,-999.0000, -999,9,  256,  12.2269,  26.1172,   -999.0,9
       RF04-10,  137E,RF-2263,  1,     12,02-18566,2,20041024,0622, 31.9792, 137.0055, 4251,    304.5,  10.5036,  34.3651,2,   -999.0,9,  34.3651,2,    144.0,2,    36.63,2,  -999.00,9,    21.78,2,     0.00,2,     1.53,2, -999.000,9, -999.000,9,  -999.00,9,   -999.0,9,   -999.0,9,-999.0000,9,   -999.0,  9,  -999.00,9,   -999.0,  -999.00,9,  -999.00,9,  -999.00,9,  -999.00,9,   -999.0,-999.0000, -999,9,  302,  10.4672,  26.3756,   -999.0,9
       RF04-10,  137E,RF-2263,  1,     11,02-18565,2,20041024,0619, 31.9792, 137.0055, 4251,    407.3,   7.5287,  34.2656,2,   -999.0,9,  34.2606,2,    113.6,2,    60.00,2,  -999.00,9,    29.32,2,     0.00,2,     2.10,2, -999.000,9, -999.000,9,  -999.00,9,   -999.0,9,   -999.0,9,-999.0000,9,   -999.0,  9,  -999.00,9,   -999.0,  -999.00,9,  -999.00,9,  -999.00,9,  -999.00,9,   -999.0,-999.0000, -999,9,  404,   7.4888,  26.7716,   -999.0,9
       RF04-10,  137E,RF-2263,  1,     10,02-18564,2,20041024,0614, 31.9792, 137.0055, 4251,    506.7,   5.6862,  34.2566,2,   -999.0,9,  34.2551,2,     88.1,2,    82.36,2,  -999.00,9,    34.68,2,     0.00,2,     2.50,2, -999.000,9, -999.000,9,  -999.00,9,   -999.0,9,   -999.0,9,-999.0000,9,   -999.0,  9,  -999.00,9,   -999.0,  -999.00,9,  -999.00,9,  -999.00,9,  -999.00,9,   -999.0,-999.0000, -999,9,  503,   5.6433,  27.0096,   -999.0,9
       RF04-10,  137E,RF-2263,  1,      9,02-18563,2,20041024,0610, 31.9792, 137.0055, 4251,    609.2,   4.7281,  34.3071,2,   -999.0,9,  34.3069,2,     72.5,2,    97.87,2,  -999.00,9,    37.32,2,     0.00,2,     2.70,2, -999.000,9, -999.000,9,  -999.00,9,   -999.0,9,   -999.0,9,-999.0000,9,   -999.0,  9,  -999.00,9,   -999.0,  -999.00,9,  -999.00,9,  -999.00,9,  -999.00,9,   -999.0,-999.0000, -999,9,  604,   4.6806,  27.1620,   -999.0,9
       RF04-10,  137E,RF-2263,  1,      8,02-18562,2,20041024,0606, 31.9792, 137.0055, 4251,    712.7,   4.0366,  34.3674,2,   -999.0,9,  34.3646,2,     65.9,2,   110.49,2,  -999.00,9,    38.74,2,     0.00,2,     2.81,2, -999.000,9, -999.000,9,  -999.00,9,   -999.0,9,   -999.0,9,-999.0000,9,   -999.0,  9,  -999.00,9,   -999.0,  -999.00,9,  -999.00,9,  -999.00,9,  -999.00,9,   -999.0,-999.0000, -999,9,  707,   3.9842,  27.2846,   -999.0,9
       RF04-10,  137E,RF-2263,  1,      7,02-18561,2,20041024,0601, 31.9792, 137.0055, 4251,    811.7,   3.6596,  34.4058,2,   -999.0,9,  34.4040,2,     66.5,2,   117.56,2,  -999.00,9,    39.28,2,     0.00,2,     2.83,2, -999.000,9, -999.000,9,  -999.00,9,   -999.0,9,   -999.0,9,-999.0000,9,   -999.0,  9,  -999.00,9,   -999.0,  -999.00,9,  -999.00,9,  -999.00,9,  -999.00,9,   -999.0,-999.0000, -999,9,  804,   3.6016,  27.3537,   -999.0,9
       RF04-10,  137E,RF-2263,  1,      6,02-18560,2,20041024,0558, 31.9792, 137.0055, 4251,    907.5,   3.3337,  34.4415,2,   -999.0,9,-999.0000,9,     66.4,2,   123.69,2,  -999.00,9,    39.62,2,     0.00,2,     2.85,2, -999.000,9, -999.000,9,  -999.00,9,   -999.0,9,   -999.0,9,-999.0000,9,   -999.0,  9,  -999.00,9,   -999.0,  -999.00,9,  -999.00,9,  -999.00,9,  -999.00,9,   -999.0,-999.0000, -999,9,  899,   3.2705,  27.4141,   -999.0,9
       RF04-10,  137E,RF-2263,  1,      5,02-18559,2,20041024,0554, 31.9792, 137.0055, 4251,   1014.4,   3.0142,  34.4741,2,   -999.0,9,  34.4721,2,     71.8,2,   129.28,2,  -999.00,9,    39.73,2,     0.00,2,     2.85,2, -999.000,9, -999.000,9,  -999.00,9,   -999.0,9,   -999.0,9,-999.0000,9,   -999.0,  9,  -999.00,9,   -999.0,  -999.00,9,  -999.00,9,  -999.00,9,  -999.00,9,   -999.0,-999.0000, -999,9, 1005,   2.9451,  27.4703,   -999.0,9
       RF04-10,  137E,RF-2263,  1,      4,02-18558,2,20041024,0548, 31.9792, 137.0055, 4251,   1263.8,   2.6263,  34.5199,2,   -999.0,9,  34.5188,2,     80.1,2,   135.25,2,  -999.00,9,    39.49,2,     0.00,2,     2.82,2, -999.000,9, -999.000,9,  -999.00,9,   -999.0,9,   -999.0,9,-999.0000,9,   -999.0,  9,  -999.00,9,   -999.0,  -999.00,9,  -999.00,9,  -999.00,9,  -999.00,9,   -999.0,-999.0000, -999,9, 1251,   2.5415,  27.5424,   -999.0,9
       RF04-10,  137E,RF-2263,  1,      3,02-18557,2,20041024,0543, 31.9792, 137.0055, 4251,   1517.9,   2.3011,  34.5597,2,   -999.0,9,  34.5575,2,     91.3,2,   139.13,2,  -999.00,9,    39.02,2,     0.00,2,     2.78,2, -999.000,9, -999.000,9,  -999.00,9,   -999.0,9,   -999.0,9,-999.0000,9,   -999.0,  9,  -999.00,9,   -999.0,  -999.00,9,  -999.00,9,  -999.00,9,  -999.00,9,   -999.0,-999.0000, -999,9, 1502,   2.2000,  27.6028,   -999.0,9
       RF04-10,  137E,RF-2263,  1,      2,02-18556,2,20041024,0538, 31.9792, 137.0055, 4251,   1767.9,   2.0731,  34.5913,2,   -999.0,9,  34.5907,2,    104.3,2,   140.52,2,  -999.00,9,    38.43,2,     0.00,2,     2.71,2, -999.000,9, -999.000,9,  -999.00,9,   -999.0,9,   -999.0,9,-999.0000,9,   -999.0,  9,  -999.00,9,   -999.0,  -999.00,9,  -999.00,9,  -999.00,9,  -999.00,9,   -999.0,-999.0000, -999,9, 1748,   1.9548,  27.6478,   -999.0,9
       RF04-10,  137E,RF-2263,  1,      1,02-18555,2,20041024,0532, 31.9792, 137.0055, 4251,   2036.0,   1.8847,  34.6175,2,   -999.0,9,  34.6163,2,    113.6,2,   141.19,2,  -999.00,9,    37.87,2,     0.00,2,     2.66,2, -999.000,9, -999.000,9,  -999.00,9,   -999.0,9,   -999.0,9,-999.0000,9,   -999.0,  9,  -999.00,9,   -999.0,  -999.00,9,  -999.00,9,  -999.00,9,  -999.00,9,   -999.0,-999.0000, -999,9, 2012,   1.7471,  27.6849,   -999.0,9
       RF04-10,  137E,RF-2264,  1,     -9,      -9,5,20041024,0915, 31.6248, 137.0212, 4206,      0.0,  25.3369,  34.4804,2,   -999.0,9,-999.0000,9,   -999.0,9,  -999.00,9,  -999.00,9,  -999.00,9,  -999.00,9,  -999.00,9, -999.000,9, -999.000,9,  -999.00,9,   1938.5,3,   -999.0,9,-999.0000,9,   -999.0,  9,  -999.00,9,   -999.0,  -999.00,9,  -999.00,9,  -999.00,9,  -999.00,9,   -999.0,-999.0000, -999,9,    0,  23.2038,  23.4808,   -999.0,9
       RF04-10,  137E,RF-2265,  1,     -9,      -9,5,20041024,1218, 31.2982, 137.0257, 4149,      0.0,  25.6036,  34.6013,2,   -999.0,9,-999.0000,9,   -999.0,9,  -999.00,9,  -999.00,9,  -999.00,9,  -999.00,9,  -999.00,9, -999.000,9, -999.000,9,  -999.00,9,   1943.2,3,   -999.0,9,-999.0000,9,   -999.0,  9,  -999.00,9,   -999.0,  -999.00,9,  -999.00,9,  -999.00,9,  -999.00,9,   -999.0,-999.0000, -999,9,    0,  23.2038,  23.5724,   -999.0,9