BOTTLE,20130510GEMDJMAYT
EXPOCODE,SECT_ID,STNNBR,CASTNO,SAMPNO,BTLNBR,BTLNBR_FLAG_W,DATE,TIME,LATITUDE,LONGITUDE,DEPTH,CTDPRS,CTDTMP,CTDSAL,CTDSAL_FLAG_W,CTDOXY,CTDOXY_FLAG_W,SALNTY,SALNTY_FLAG_W,OXYGEN,OXYGEN_FLAG_W,SILCAT,SILCAT_FLAG_W,NITRAT,NITRAT_FLAG_W,NO2+NO3,NO2+NO3_FLAG_W,NITRIT,NITRIT_FLAG_W,PHSPHT,PHSPHT_FLAG_W,CFC-11,CFC-11_FLAG_W,CFC-12,CFC-12_FLAG_W,DELC13,DELC13_FLAG_W,TCARBN,TCARBN_FLAG_W,ALKALI,ALKALI_FLAG_W,PH,PH_FLAG_W,PH_TMP,PH_SCALE,PH_NBS,PH_NBS_FLAG_W,C13ERR,TOTALP,TOTALP_FLAG_W,AMMONI,AMMONI_FLAG_W,CHLORA,CHLORA_FLAG_W,PPHYTN,PPHYTN_FLAG_W,REVPRS,REVTMP,DEPTH_,DEPTH_FLAG,CTDDEP,THETA,SIGTHT,DOC,DOC_FLAG_W
,,,,,,,GMT,GMT,,,METER,DBAR,ITS-90,PSS-78,,UMOL/KG,,PSS-78,,UMOL/KG,,UMOL/KG,,UMOL/KG,,UMOL/KG,,UMOL/KG,,UMOL/KG,,PMOL/KG,,PMOL/KG,,/MILLE,,UMOL/KG,,UMOL/KG,,25_DEG_C,,DEG_C,,,,/MILLE,UMOL/KG,,UMOL/KG,,UG/L,,UG/L,,DBAR,ITS-90,METERS,,METERS,DEG_C,,UMOL/L,
       RF04-10,  137E,RF-2283,  1,     -9,      -9,5,20041029,1026, 14.9913, 136.9640, 5484,      0.0,  27.9339,  34.4087,2,   -999.0,9,-999.0000,9,    198.0,2,     1.33,2,  -999.00,9,     0.00,2,     0.00,2,     0.00,2, -999.000,9, -999.000,9,  -999.00,9,   1935.1,2,   -999.0,9,   8.1128,2,     25.0, TS,  -999.00,9,   -999.0,  -999.00,9,  -999.00,9,     0.05,2,     0.00,2,   -999.0,-999.0000, -999,9,    0,  27.9337,  21.9716,     94.6,2
       RF04-10,  137E,RF-2283,  1,     24,02-18578,2,20041029,1036, 14.9913, 136.9640, 5484,     10.1,  27.9103,  34.6004,2,   -999.0,9,-999.0000,9,    197.6,2,     1.27,2,  -999.00,9,     0.00,2,     0.00,2,     0.00,2, -999.000,9, -999.000,9,  -999.00,9,   1935.8,2,   -999.0,9,   8.1114,2,     25.0, TS,  -999.00,9,   -999.0,  -999.00,9,  -999.00,9,     0.06,4,  -999.00,4,   -999.0,-999.0000, -999,9,   10,  27.9079,  22.1241,     91.0,2
       RF04-10,  137E,RF-2283,  1,     23,02-18577,2,20041029,1034, 14.9913, 136.9640, 5484,     24.7,  27.3248,  34.6399,2,   -999.0,9,-999.0000,9,    203.8,2,     1.27,2,  -999.00,9,     0.00,2,     0.00,2,     0.00,2, -999.000,9, -999.000,9,  -999.00,9,   1939.6,2,   -999.0,9,   8.1099,2,     25.0, TS,  -999.00,9,   -999.0,  -999.00,9,  -999.00,9,     0.06,2,     0.01,2,   -999.0,-999.0000, -999,9,   25,  27.3191,  22.3444,     85.3,2
       RF04-10,  137E,RF-2283,  1,     22,02-18576,2,20041029,1033, 14.9913, 136.9640, 5484,     50.1,  25.3480,  35.0169,2,   -999.0,9,  35.0447,4,    195.7,2,     1.43,2,  -999.00,9,     0.00,2,     0.00,2,     0.02,2, -999.000,9, -999.000,9,  -999.00,9,   1981.9,2,   -999.0,9,   8.0750,2,     25.0, TS,  -999.00,9,   -999.0,  -999.00,9,  -999.00,9,     0.12,2,     0.04,2,   -999.0,-999.0000, -999,9,   50,  25.3370,  23.2511,     72.8,2
       RF04-10,  137E,RF-2283,  1,     21,02-18575,2,20041029,1032, 14.9913, 136.9640, 5484,     76.5,  23.7035,  35.1604,2,   -999.0,9,-999.0000,9,    188.2,2,     1.67,2,  -999.00,9,     0.02,2,     0.00,2,     0.06,2, -999.000,9, -999.000,9,  -999.00,9,   2009.9,2,   -999.0,9,   8.0412,2,     25.0, TS,  -999.00,9,   -999.0,  -999.00,9,  -999.00,9,     0.28,2,     0.36,2,   -999.0,-999.0000, -999,9,   76,  23.6875,  23.8551,     65.2,2
       RF04-10,  137E,RF-2283,  1,     20,02-18574,2,20041029,1031, 14.9913, 136.9640, 5484,    100.3,  22.1404,  35.1303,2,   -999.0,9,  35.1263,4,    179.7,2,     2.13,2,  -999.00,9,     1.67,2,     0.03,2,     0.15,2, -999.000,9, -999.000,9,  -999.00,9,   2026.1,2,   -999.0,9,   8.0056,2,     25.0, TS,  -999.00,9,   -999.0,  -999.00,9,  -999.00,9,     0.16,2,     0.33,2,   -999.0,-999.0000, -999,9,  100,  22.1205,  24.2830,     65.6,2
       RF04-10,  137E,RF-2283,  1,     19,02-18573,2,20041029,1030, 14.9913, 136.9640, 5484,    125.3,  20.5129,  35.0141,2,   -999.0,9,-999.0000,9,    171.3,3,     3.47,2,  -999.00,9,     4.00,2,     0.01,2,     0.30,2, -999.000,9, -999.000,9,  -999.00,9,   2046.8,2,   -999.0,9,   7.9582,2,     25.0, TS,  -999.00,9,   -999.0,  -999.00,9,  -999.00,9,     0.05,2,     0.14,2,   -999.0,-999.0000, -999,9,  124,  20.4893,  24.6424,     57.1,2
       RF04-10,  137E,RF-2283,  1,     18,02-18572,2,20041029,1029, 14.9913, 136.9640, 5484,    151.1,  18.6708,  34.8721,2,   -999.0,9,-999.0000,9,    183.1,2,     3.82,2,  -999.00,9,     4.52,2,     0.00,2,     0.29,2, -999.000,9, -999.000,9,  -999.00,9,   2045.4,3,   -999.0,9,   7.9495,2,     25.0, TS,  -999.00,9,   -999.0,  -999.00,9,  -999.00,9,     0.03,2,     0.06,2,   -999.0,-999.0000, -999,9,  150,  18.6442,  25.0136,     55.8,2
       RF04-10,  137E,RF-2283,  1,     17,02-18571,2,20041029,1027, 14.9913, 136.9640, 5484,    201.4,  16.0406,  34.6450,2,   -999.0,9,  34.6431,2,    169.2,2,     8.14,2,  -999.00,9,     9.49,2,     0.00,2,     0.63,2, -999.000,9, -999.000,9,  -999.00,9,   2078.5,2,   -999.0,9,   7.8672,2,     25.0, TS,  -999.00,9,   -999.0,  -999.00,9,  -999.00,9,     0.00,2,     0.01,2,   -999.0,-999.0000, -999,9,  200,  16.0087,  25.4725,     58.0,2
       RF04-10,  137E,RF-2283,  1,     16,02-18570,2,20041029,1025, 14.9913, 136.9640, 5484,    254.6,  12.6509,  34.4224,2,   -999.0,9,-999.0000,9,    145.0,2,    18.32,2,  -999.00,9,    17.36,2,     0.00,2,     1.19,2, -999.000,9, -999.000,9,  -999.00,9,   2125.2,2,   -999.0,9,   7.7446,2,     25.0, TS,  -999.00,9,   -999.0,  -999.00,9,  -999.00,9,  -999.00,9,  -999.00,9,   -999.0,-999.0000, -999,9,  253,  12.6166,  26.0213,     56.3,2
       RF04-10,  137E,RF-2283,  1,     15,02-18569,2,20041029,1024, 14.9913, 136.9640, 5484,    303.2,  11.1147,  34.3449,2,   -999.0,9,  34.3449,2,    137.0,2,    24.47,2,  -999.00,9,    20.90,2,     0.00,2,     1.44,2, -999.000,9, -999.000,9,  -999.00,9,   2147.6,2,   -999.0,9,   7.6919,2,     25.0, TS,  -999.00,9,   -999.0,  -999.00,9,  -999.00,9,  -999.00,9,  -999.00,9,   -999.0,-999.0000, -999,9,  301,  11.0772,  26.2514,     54.0,2
       RF04-10,  137E,RF-2283,  1,     14,02-18568,2,20041029,1021, 14.9913, 136.9640, 5484,    407.1,   8.4117,  34.3320,2,   -999.0,9,  34.3335,2,     86.1,2,    44.74,2,  -999.00,9,    30.61,2,     0.00,2,     2.16,2, -999.000,9, -999.000,9,  -999.00,9,   2220.5,3,   -999.0,9,   7.5403,2,     25.0, TS,  -999.00,9,   -999.0,  -999.00,9,  -999.00,9,  -999.00,9,  -999.00,9,   -999.0,-999.0000, -999,9,  404,   8.3691,  26.6935,     45.7,2
       RF04-10,  137E,RF-2283,  1,     13,02-18567,2,20041029,1018, 14.9913, 136.9640, 5484,    507.0,   7.0000,  34.3704,2,   -999.0,9,  34.3699,2,     66.8,2,    60.13,2,  -999.00,9,    34.95,2,     0.00,2,     2.49,2, -999.000,9, -999.000,9,  -999.00,9,   2258.3,2,   -999.0,9,   7.4813,2,     25.0, TS,  -999.00,9,   -999.0,  -999.00,9,  -999.00,9,  -999.00,9,  -999.00,9,   -999.0,-999.0000, -999,9,  503,   6.9519,  26.9294,     44.3,2
       RF04-10,  137E,RF-2283,  1,     12,02-18566,2,20041029,1015, 14.9913, 136.9640, 5484,    607.2,   6.3032,  34.4174,2,   -999.0,9,  34.4156,2,     68.2,2,    68.41,2,  -999.00,9,    36.30,2,     0.00,2,     2.58,2, -999.000,9, -999.000,9,  -999.00,9,   2267.8,3,   -999.0,9,   7.4757,2,     25.0, TS,  -999.00,9,   -999.0,  -999.00,9,  -999.00,9,  -999.00,9,  -999.00,9,   -999.0,-999.0000, -999,9,  603,   6.2484,  27.0605,     43.3,2
       RF04-10,  137E,RF-2283,  1,     11,02-18565,2,20041029,1012, 14.9913, 136.9640, 5484,    708.3,   5.6138,  34.4646,2,   -999.0,9,  34.4648,2,     73.2,2,    76.70,2,  -999.00,9,    37.21,2,     0.00,2,     2.64,2, -999.000,9, -999.000,9,  -999.00,9,   2283.4,2,   -999.0,9,   7.4801,2,     25.0, TS,  -999.00,9,   -999.0,  -999.00,9,  -999.00,9,  -999.00,9,  -999.00,9,   -999.0,-999.0000, -999,9,  703,   5.5530,  27.1852,     42.7,2
       RF04-10,  137E,RF-2283,  1,     10,02-18564,2,20041029,1010, 14.9913, 136.9640, 5484,    809.7,   4.9947,  34.4966,2,   -999.0,9,  34.4963,2,     77.8,2,    85.97,2,  -999.00,9,    37.76,2,     0.00,2,     2.68,2, -999.000,9, -999.000,9,  -999.00,9,   2292.4,2,   -999.0,9,   7.4850,2,     25.0, TS,  -999.00,9,   -999.0,  -999.00,9,  -999.00,9,  -999.00,9,  -999.00,9,   -999.0,-999.0000, -999,9,  803,   4.9284,  27.2844,     39.7,2
       RF04-10,  137E,RF-2283,  1,      9,02-18563,2,20041029,1007, 14.9913, 136.9640, 5484,    911.6,   4.5358,  34.5218,2,   -999.0,9,-999.0000,9,     81.5,2,    93.82,2,  -999.00,9,    38.06,2,     0.00,2,     2.71,2, -999.000,9, -999.000,9,  -999.00,9,   2304.0,2,   -999.0,9,   7.4895,2,     25.0, TS,  -999.00,9,   -999.0,  -999.00,9,  -999.00,9,  -999.00,9,  -999.00,9,   -999.0,-999.0000, -999,9,  904,   4.4636,  27.3564,     34.9,2
       RF04-10,  137E,RF-2283,  1,      8,02-18562,2,20041029,1004, 14.9913, 136.9640, 5484,   1011.7,   4.1089,  34.5366,2,   -999.0,9,  34.5366,2,     85.5,2,   102.56,2,  -999.00,9,    38.13,2,     0.00,2,     2.71,2, -999.000,9, -999.000,9,  -999.00,9,   2288.0,4,   -999.0,9,   7.4962,2,     25.0, TS,  -999.00,9,   -999.0,  -999.00,9,  -999.00,9,  -999.00,9,  -999.00,9,   -999.0,-999.0000, -999,9, 1003,   4.0314,  27.4143,     37.5,2
       RF04-10,  137E,RF-2283,  1,      7,02-18561,2,20041029,0959, 14.9913, 136.9640, 5484,   1264.0,   3.3345,  34.5625,2,   -999.0,9,  34.5617,2,     91.2,2,   118.40,2,  -999.00,9,    38.38,2,     0.00,2,     2.71,2, -999.000,9, -999.000,9,  -999.00,9,   2323.1,2,   -999.0,9,   7.4989,2,     25.0, TS,  -999.00,9,   -999.0,  -999.00,9,  -999.00,9,  -999.00,9,  -999.00,9,   -999.0,-999.0000, -999,9, 1253,   3.2427,  27.5132,   -999.0,9
       RF04-10,  137E,RF-2283,  1,      6,02-18560,2,20041029,0953, 14.9913, 136.9640, 5484,   1516.8,   2.7093,  34.5889,2,   -999.0,9,  34.5890,2,     99.1,2,   129.89,2,  -999.00,9,    38.47,2,     0.00,2,     2.71,2, -999.000,9, -999.000,9,  -999.00,9,   2334.2,2,   -999.0,9,   7.5054,2,     25.0, TS,  -999.00,9,   -999.0,  -999.00,9,  -999.00,9,  -999.00,9,  -999.00,9,   -999.0,-999.0000, -999,9, 1502,   2.6034,  27.5923,   -999.0,9
       RF04-10,  137E,RF-2283,  1,      5,02-18559,2,20041029,0944, 14.9913, 136.9640, 5484,   2022.3,   2.1092,  34.6288,2,   -999.0,9,  34.6291,2,    112.4,2,   138.74,2,  -999.00,9,    38.00,2,     0.00,2,     2.64,2, -999.000,9, -999.000,9,  -999.00,9,   2339.6,6,   -999.0,9,   7.5249,2,     25.0, TS,  -999.00,9,   -999.0,  -999.00,9,  -999.00,9,  -999.00,9,  -999.00,9,   -999.0,-999.0000, -999,9, 2001,   1.9692,  27.6767,   -999.0,9
       RF04-10,  137E,RF-2283,  1,      4,02-18558,2,20041029,0918, 14.9913, 136.9640, 5484,   3038.4,   1.6561,  34.6657,2,   -999.0,9,  34.6657,2,    136.6,2,   143.56,2,  -999.00,9,    36.77,2,     0.00,2,     2.52,2, -999.000,9, -999.000,9,  -999.00,9,   2330.1,3,   -999.0,9,   7.5607,6,     25.0, TS,  -999.00,9,   -999.0,  -999.00,9,  -999.00,9,  -999.00,9,  -999.00,9,   -999.0,-999.0000, -999,9, 2999,   1.4322,  27.7468,   -999.0,9
       RF04-10,  137E,RF-2283,  1,      3,02-18557,2,20041029,0851, 14.9913, 136.9640, 5484,   4061.3,   1.5270,  34.6821,2,   -999.0,9,  34.6817,2,    154.0,2,   139.39,2,  -999.00,9,    35.70,2,     0.00,2,     2.43,2, -999.000,9, -999.000,9,  -999.00,9,   -999.0,9,   -999.0,9,-999.0000,9,   -999.0,  9,  -999.00,9,   -999.0,  -999.00,9,  -999.00,9,  -999.00,9,  -999.00,9,   -999.0,-999.0000, -999,9, 3999,   1.2006,  27.7763,   -999.0,9
       RF04-10,  137E,RF-2283,  1,      2,02-18556,2,20041029,0835, 14.9913, 136.9640, 5484,   5088.9,   1.5861,  34.6863,2,   -999.0,9,  34.6865,2,    158.6,2,   137.60,2,  -999.00,9,    35.29,2,     0.00,2,     2.39,2, -999.000,9, -999.000,9,  -999.00,9,   -999.0,9,   -999.0,9,-999.0000,9,   -999.0,  9,  -999.00,9,   -999.0,  -999.00,9,  -999.00,9,  -999.00,9,  -999.00,9,   -999.0,-999.0000, -999,9, 5000,   1.1381,  27.7840,   -999.0,9
       RF04-10,  137E,RF-2283,  1,      1,02-18555,2,20041029,0828, 14.9913, 136.9640, 5484,   5400.0,   1.6258,  34.6859,2,   -999.0,9,  34.6868,2,    160.2,2,   137.35,2,  -999.00,9,    35.23,2,     0.00,2,     2.39,2, -999.000,9, -999.000,9,  -999.00,9,   -999.0,9,   -999.0,9,-999.0000,9,   -999.0,  9,  -999.00,9,   -999.0,  -999.00,9,  -999.00,9,  -999.00,9,  -999.00,9,   -999.0,-999.0000, -999,9, 5302,   1.1375,  27.7837,   -999.0,9
       RF04-10,  137E,RF-2284,  1,     -9,      -9,5,20041029,1624, 14.0025, 136.9952, 4728,      0.0,  28.1883,  34.3676,2,   -999.0,9,-999.0000,9,   -999.0,9,  -999.00,9,  -999.00,9,  -999.00,9,  -999.00,9,  -999.00,9, -999.000,9, -999.000,9,  -999.00,9,   1914.4,3,   -999.0,9,-999.0000,9,   -999.0,  9,  -999.00,9,   -999.0,  -999.00,9,  -999.00,9,  -999.00,9,  -999.00,9,   -999.0,-999.0000, -999,9,    0,  23.2038,  23.3953,   -999.0,9