BOTTLE,20130510GEMDJMAYT
EXPOCODE,SECT_ID,STNNBR,CASTNO,SAMPNO,BTLNBR,BTLNBR_FLAG_W,DATE,TIME,LATITUDE,LONGITUDE,DEPTH,CTDPRS,CTDTMP,CTDSAL,CTDSAL_FLAG_W,CTDOXY,CTDOXY_FLAG_W,SALNTY,SALNTY_FLAG_W,OXYGEN,OXYGEN_FLAG_W,SILCAT,SILCAT_FLAG_W,NITRAT,NITRAT_FLAG_W,NO2+NO3,NO2+NO3_FLAG_W,NITRIT,NITRIT_FLAG_W,PHSPHT,PHSPHT_FLAG_W,CFC-11,CFC-11_FLAG_W,CFC-12,CFC-12_FLAG_W,DELC13,DELC13_FLAG_W,TCARBN,TCARBN_FLAG_W,ALKALI,ALKALI_FLAG_W,PH,PH_FLAG_W,PH_TMP,PH_SCALE,PH_NBS,PH_NBS_FLAG_W,C13ERR,TOTALP,TOTALP_FLAG_W,AMMONI,AMMONI_FLAG_W,CHLORA,CHLORA_FLAG_W,PPHYTN,PPHYTN_FLAG_W,REVPRS,REVTMP,DEPTH_,DEPTH_FLAG,CTDDEP,THETA,SIGTHT,DOC,DOC_FLAG_W
,,,,,,,GMT,GMT,,,METER,DBAR,ITS-90,PSS-78,,UMOL/KG,,PSS-78,,UMOL/KG,,UMOL/KG,,UMOL/KG,,UMOL/KG,,UMOL/KG,,UMOL/KG,,PMOL/KG,,PMOL/KG,,/MILLE,,UMOL/KG,,UMOL/KG,,25_DEG_C,,DEG_C,,,,/MILLE,UMOL/KG,,UMOL/KG,,UG/L,,UG/L,,DBAR,ITS-90,METERS,,METERS,DEG_C,,UMOL/L,
       RF04-10,  137E,RF-2293,  1,     -9,      -9,5,20041101,1415,  5.0000, 137.0147, 5144,      0.0,  30.0980,  34.2084,2,   -999.0,9,-999.0000,9,    197.8,2,     1.08,2,  -999.00,9,     0.09,2,     0.00,2,     0.01,2, -999.000,9, -999.000,9,  -999.00,9,   1900.4,2,   -999.0,9,-999.0000,9,   -999.0,  9,  -999.00,9,   -999.0,  -999.00,9,  -999.00,9,     0.09,2,     0.02,2,   -999.0,-999.0000, -999,9,    0,  30.0978,  21.0995,   -999.0,9
       RF04-10,  137E,RF-2293,  1,     24,02-18578,2,20041101,1430,  5.0000, 137.0147, 5144,     11.5,  29.6032,  34.2243,2,   -999.0,9,-999.0000,9,    198.0,2,     1.04,2,  -999.00,9,     0.02,2,     0.00,2,     0.00,2, -999.000,9, -999.000,9,  -999.00,9,   -999.0,9,   -999.0,9,-999.0000,9,   -999.0,  9,  -999.00,9,   -999.0,  -999.00,9,  -999.00,9,     0.08,2,     0.02,2,   -999.0,-999.0000, -999,9,   11,  29.6004,  21.2803,   -999.0,9
       RF04-10,  137E,RF-2293,  1,     23,02-18577,2,20041101,1429,  5.0000, 137.0147, 5144,     25.6,  29.1211,  34.2262,2,   -999.0,9,-999.0000,9,    199.2,2,     1.10,2,  -999.00,9,     0.02,2,     0.00,2,     0.00,2, -999.000,9, -999.000,9,  -999.00,9,   -999.0,9,   -999.0,9,-999.0000,9,   -999.0,  9,  -999.00,9,   -999.0,  -999.00,9,  -999.00,9,     0.08,2,     0.02,2,   -999.0,-999.0000, -999,9,   25,  29.1149,  21.4449,   -999.0,9
       RF04-10,  137E,RF-2293,  1,     22,02-18576,2,20041101,1428,  5.0000, 137.0147, 5144,     51.9,  28.0451,  34.2743,2,   -999.0,9,  34.3179,4,    200.9,2,     1.48,2,  -999.00,9,     0.00,2,     0.00,2,     0.01,2, -999.000,9, -999.000,9,  -999.00,9,   -999.0,9,   -999.0,9,-999.0000,9,   -999.0,  9,  -999.00,9,   -999.0,  -999.00,9,  -999.00,9,     0.17,2,     0.08,2,   -999.0,-999.0000, -999,9,   52,  28.0329,  21.8383,   -999.0,9
       RF04-10,  137E,RF-2293,  1,     21,02-18575,2,20041101,1426,  5.0000, 137.0147, 5144,     76.4,  25.1409,  34.6926,2,   -999.0,9,-999.0000,9,    191.4,2,     2.46,2,  -999.00,9,     0.27,2,     0.04,2,     0.12,2, -999.000,9, -999.000,9,  -999.00,9,   -999.0,9,   -999.0,9,-999.0000,9,   -999.0,  9,  -999.00,9,   -999.0,  -999.00,9,  -999.00,9,     0.28,2,     0.31,2,   -999.0,-999.0000, -999,9,   76,  25.1243,  23.0712,   -999.0,9
       RF04-10,  137E,RF-2293,  1,     20,02-18574,2,20041101,1425,  5.0000, 137.0147, 5144,    101.1,  21.2876,  34.8836,2,   -999.0,9,  34.8809,2,    165.3,2,     4.73,2,  -999.00,9,     4.89,2,     0.08,2,     0.37,2, -999.000,9, -999.000,9,  -999.00,9,   -999.0,9,   -999.0,9,-999.0000,9,   -999.0,  9,  -999.00,9,   -999.0,  -999.00,9,  -999.00,9,     0.23,2,     0.45,2,   -999.0,-999.0000, -999,9,  100,  21.2681,  24.3321,   -999.0,9
       RF04-10,  137E,RF-2293,  1,     19,02-18573,2,20041101,1423,  5.0000, 137.0147, 5144,    127.5,  18.5867,  34.7359,2,   -999.0,9,-999.0000,9,    147.2,2,     8.95,2,  -999.00,9,    10.09,2,     0.03,2,     0.70,2, -999.000,9, -999.000,9,  -999.00,9,   -999.0,9,   -999.0,9,-999.0000,9,   -999.0,  9,  -999.00,9,   -999.0,  -999.00,9,  -999.00,9,     0.11,2,     0.30,2,   -999.0,-999.0000, -999,9,  127,  18.5644,  24.9295,   -999.0,9
       RF04-10,  137E,RF-2293,  1,     18,02-18572,2,20041101,1422,  5.0000, 137.0147, 5144,    153.3,  15.0745,  34.6532,2,   -999.0,9,-999.0000,9,    140.2,2,    15.80,2,  -999.00,9,    15.72,2,     0.00,2,     1.06,2, -999.000,9, -999.000,9,  -999.00,9,   -999.0,9,   -999.0,9,-999.0000,9,   -999.0,  9,  -999.00,9,   -999.0,  -999.00,9,  -999.00,9,     0.03,2,     0.07,2,   -999.0,-999.0000, -999,9,  152,  15.0513,  25.6933,   -999.0,9
       RF04-10,  137E,RF-2293,  1,     17,02-18571,2,20041101,1420,  5.0000, 137.0147, 5144,    203.2,  11.7611,  34.5338,2,   -999.0,9,  34.5278,2,    108.9,2,    27.37,2,  -999.00,9,    23.78,2,     0.00,2,     1.65,2, -999.000,9, -999.000,9,  -999.00,9,   -999.0,9,   -999.0,9,-999.0000,9,   -999.0,  9,  -999.00,9,   -999.0,  -999.00,9,  -999.00,9,     0.00,2,     0.03,2,   -999.0,-999.0000, -999,9,  202,  11.7351,  26.2771,   -999.0,9
       RF04-10,  137E,RF-2293,  1,     16,02-18570,2,20041101,1418,  5.0000, 137.0147, 5144,    252.8,   9.6642,  34.4915,2,   -999.0,9,-999.0000,9,     87.4,2,    36.22,2,  -999.00,9,    29.04,2,     0.00,2,     2.03,2, -999.000,9, -999.000,9,  -999.00,9,   -999.0,9,   -999.0,9,-999.0000,9,   -999.0,  9,  -999.00,9,   -999.0,  -999.00,9,  -999.00,9,  -999.00,9,  -999.00,9,   -999.0,-999.0000, -999,9,  251,   9.6356,  26.6162,   -999.0,9
       RF04-10,  137E,RF-2293,  1,     15,02-18569,2,20041101,1416,  5.0000, 137.0147, 5144,    303.3,   8.9031,  34.5603,2,   -999.0,9,  34.5598,2,     70.4,2,    39.09,2,  -999.00,9,    32.42,2,     0.00,2,     2.27,2, -999.000,9, -999.000,9,  -999.00,9,   -999.0,9,   -999.0,9,-999.0000,9,   -999.0,  9,  -999.00,9,   -999.0,  -999.00,9,  -999.00,9,  -999.00,9,  -999.00,9,   -999.0,-999.0000, -999,9,  301,   8.8703,  26.7945,   -999.0,9
       RF04-10,  137E,RF-2293,  1,     14,02-18568,2,20041101,1414,  5.0000, 137.0147, 5144,    401.9,   7.9055,  34.5434,2,   -999.0,9,  34.5443,2,     96.9,2,    42.66,2,  -999.00,9,    31.79,2,     0.00,2,     2.22,2, -999.000,9, -999.000,9,  -999.00,9,   -999.0,9,   -999.0,9,-999.0000,9,   -999.0,  9,  -999.00,9,   -999.0,  -999.00,9,  -999.00,9,  -999.00,9,  -999.00,9,   -999.0,-999.0000, -999,9,  399,   7.8648,  26.9353,   -999.0,9
       RF04-10,  137E,RF-2293,  1,     13,02-18567,2,20041101,1411,  5.0000, 137.0147, 5144,    503.4,   7.3573,  34.5613,2,   -999.0,9,  34.5616,2,    102.5,2,    41.99,2,  -999.00,9,    32.93,2,     0.00,2,     2.29,2, -999.000,9, -999.000,9,  -999.00,9,   -999.0,9,   -999.0,9,-999.0000,9,   -999.0,  9,  -999.00,9,   -999.0,  -999.00,9,  -999.00,9,  -999.00,9,  -999.00,9,   -999.0,-999.0000, -999,9,  500,   7.3081,  27.0300,   -999.0,9
       RF04-10,  137E,RF-2293,  1,     12,02-18566,2,20041101,1408,  5.0000, 137.0147, 5144,    604.7,   6.8040,  34.5476,2,   -999.0,9,  34.5481,2,     76.5,2,    52.51,2,  -999.00,9,    36.26,2,     0.00,2,     2.55,2, -999.000,9, -999.000,9,  -999.00,9,   -999.0,9,   -999.0,9,-999.0000,9,   -999.0,  9,  -999.00,9,   -999.0,  -999.00,9,  -999.00,9,  -999.00,9,  -999.00,9,   -999.0,-999.0000, -999,9,  601,   6.7470,  27.0970,   -999.0,9
       RF04-10,  137E,RF-2293,  1,     11,02-18565,2,20041101,1404,  5.0000, 137.0147, 5144,    705.3,   6.1369,  34.5390,2,   -999.0,9,  34.5394,2,     78.4,2,    60.61,2,  -999.00,9,    37.10,2,     0.00,2,     2.63,2, -999.000,9, -999.000,9,  -999.00,9,   -999.0,9,   -999.0,9,-999.0000,9,   -999.0,  9,  -999.00,9,   -999.0,  -999.00,9,  -999.00,9,  -999.00,9,  -999.00,9,   -999.0,-999.0000, -999,9,  700,   6.0735,  27.1790,   -999.0,9
       RF04-10,  137E,RF-2293,  1,     10,02-18564,2,20041101,1402,  5.0000, 137.0147, 5144,    806.3,   5.4643,  34.5364,2,   -999.0,9,  34.5370,2,     85.2,2,    70.75,2,  -999.00,9,    37.58,2,     0.00,2,     2.66,2, -999.000,9, -999.000,9,  -999.00,9,   -999.0,9,   -999.0,9,-999.0000,9,   -999.0,  9,  -999.00,9,   -999.0,  -999.00,9,  -999.00,9,  -999.00,9,  -999.00,9,   -999.0,-999.0000, -999,9,  800,   5.3954,  27.2611,   -999.0,9
       RF04-10,  137E,RF-2293,  1,      9,02-18563,2,20041101,1359,  5.0000, 137.0147, 5144,    907.8,   5.0322,  34.5415,2,   -999.0,9,-999.0000,9,     86.5,2,    79.18,2,  -999.00,9,    37.61,2,     0.00,2,     2.68,2, -999.000,9, -999.000,9,  -999.00,9,   -999.0,9,   -999.0,9,-999.0000,9,   -999.0,  9,  -999.00,9,   -999.0,  -999.00,9,  -999.00,9,  -999.00,9,  -999.00,9,   -999.0,-999.0000, -999,9,  901,   4.9569,  27.3167,   -999.0,9
       RF04-10,  137E,RF-2293,  1,      8,02-18562,2,20041101,1356,  5.0000, 137.0147, 5144,   1008.5,   4.5028,  34.5525,2,   -999.0,9,  34.5538,2,     89.9,2,    88.75,2,  -999.00,9,    38.12,2,     0.00,2,     2.70,2, -999.000,9, -999.000,9,  -999.00,9,   -999.0,9,   -999.0,9,-999.0000,9,   -999.0,  9,  -999.00,9,   -999.0,  -999.00,9,  -999.00,9,  -999.00,9,  -999.00,9,   -999.0,-999.0000, -999,9, 1001,   4.4225,  27.3853,   -999.0,9
       RF04-10,  137E,RF-2293,  1,      7,02-18561,2,20041101,1351,  5.0000, 137.0147, 5144,   1260.3,   3.7472,  34.5739,2,   -999.0,9,  34.5743,2,     90.2,2,   104.65,2,  -999.00,9,    38.69,2,     0.00,2,     2.74,2, -999.000,9, -999.000,9,  -999.00,9,   -999.0,9,   -999.0,9,-999.0000,9,   -999.0,  9,  -999.00,9,   -999.0,  -999.00,9,  -999.00,9,  -999.00,9,  -999.00,9,   -999.0,-999.0000, -999,9, 1250,   3.6517,  27.4826,   -999.0,9
       RF04-10,  137E,RF-2293,  1,      6,02-18560,2,20041101,1345,  5.0000, 137.0147, 5144,   1514.9,   3.0742,  34.5963,2,   -999.0,9,  34.5969,2,     98.5,2,   118.93,2,  -999.00,9,    38.78,2,     0.00,2,     2.74,2, -999.000,9, -999.000,9,  -999.00,9,   -999.0,9,   -999.0,9,-999.0000,9,   -999.0,  9,  -999.00,9,   -999.0,  -999.00,9,  -999.00,9,  -999.00,9,  -999.00,9,   -999.0,-999.0000, -999,9, 1501,   2.9642,  27.5661,   -999.0,9
       RF04-10,  137E,RF-2293,  1,      5,02-18559,2,20041101,1340,  5.0000, 137.0147, 5144,   1768.4,   2.5935,  34.6164,2,   -999.0,9,  34.6180,2,    105.4,2,   128.54,2,  -999.00,9,    38.56,2,     0.00,2,     2.70,2, -999.000,9, -999.000,9,  -999.00,9,   -999.0,9,   -999.0,9,-999.0000,9,   -999.0,  9,  -999.00,9,   -999.0,  -999.00,9,  -999.00,9,  -999.00,9,  -999.00,9,   -999.0,-999.0000, -999,9, 1751,   2.4681,  27.6259,   -999.0,9
       RF04-10,  137E,RF-2293,  1,      4,02-18558,2,20041101,1334,  5.0000, 137.0147, 5144,   2021.2,   2.2857,  34.6316,2,   -999.0,9,  34.6326,2,    113.3,2,   134.76,2,  -999.00,9,    38.18,2,     0.00,2,     2.66,2, -999.000,9, -999.000,9,  -999.00,9,   -999.0,9,   -999.0,9,-999.0000,9,   -999.0,  9,  -999.00,9,   -999.0,  -999.00,9,  -999.00,9,  -999.00,9,  -999.00,9,   -999.0,-999.0000, -999,9, 2000,   2.1431,  27.6650,   -999.0,9
       RF04-10,  137E,RF-2293,  1,      3,02-18557,2,20041101,1312,  5.0000, 137.0147, 5144,   3040.5,   1.5941,  34.6711,2,   -999.0,9,  34.6724,2,   -999.0,4,   141.01,2,  -999.00,9,    36.34,2,     0.00,2,     2.48,2, -999.000,9, -999.000,9,  -999.00,9,   -999.0,9,   -999.0,9,-999.0000,9,   -999.0,  9,  -999.00,9,   -999.0,  -999.00,9,  -999.00,9,  -999.00,9,  -999.00,9,   -999.0,-999.0000, -999,9, 3002,   1.3714,  27.7555,   -999.0,9
       RF04-10,  137E,RF-2293,  1,      2,02-18556,2,20041101,1246,  5.0000, 137.0147, 5144,   4061.7,   1.5164,  34.6838,2,   -999.0,9,  34.6847,2,    154.5,2,   139.39,2,  -999.00,9,    35.58,2,     0.00,2,     2.42,2, -999.000,9, -999.000,9,  -999.00,9,   -999.0,9,   -999.0,9,-999.0000,9,   -999.0,  9,  -999.00,9,   -999.0,  -999.00,9,  -999.00,9,  -999.00,9,  -999.00,9,   -999.0,-999.0000, -999,9, 4001,   1.1903,  27.7784,   -999.0,9
       RF04-10,  137E,RF-2293,  1,      1,02-18555,2,20041101,1217,  5.0000, 137.0147, 5144,   5156.7,   1.5919,  34.6868,2,   -999.0,9,  34.6882,2,    159.2,2,   137.85,2,  -999.00,9,    35.24,2,     0.00,2,     2.39,2, -999.000,9, -999.000,9,  -999.00,9,   -999.0,9,   -999.0,9,-999.0000,9,   -999.0,  9,  -999.00,9,   -999.0,  -999.00,9,  -999.00,9,  -999.00,9,  -999.00,9,   -999.0,-999.0000, -999,9, 5067,   1.1353,  27.7845,   -999.0,9
       RF04-10,  137E,RF-2294,  1,     -9,      -9,5,20041101,1952,  3.9973, 137.0252, 4603,      0.0,  29.6120,  34.2632,2,   -999.0,9,-999.0000,9,   -999.0,9,  -999.00,9,  -999.00,9,  -999.00,9,  -999.00,9,  -999.00,9, -999.000,9, -999.000,9,  -999.00,9,   1909.5,3,   -999.0,9,-999.0000,9,   -999.0,  9,  -999.00,9,   -999.0,  -999.00,9,  -999.00,9,  -999.00,9,  -999.00,9,   -999.0,-999.0000, -999,9,    0,  23.2038,  23.3162,   -999.0,9