BOTTLE,20130510GEMDJMAYT
EXPOCODE,SECT_ID,STNNBR,CASTNO,SAMPNO,BTLNBR,BTLNBR_FLAG_W,DATE,TIME,LATITUDE,LONGITUDE,DEPTH,CTDPRS,CTDTMP,CTDSAL,CTDSAL_FLAG_W,CTDOXY,CTDOXY_FLAG_W,SALNTY,SALNTY_FLAG_W,OXYGEN,OXYGEN_FLAG_W,SILCAT,SILCAT_FLAG_W,NITRAT,NITRAT_FLAG_W,NO2+NO3,NO2+NO3_FLAG_W,NITRIT,NITRIT_FLAG_W,PHSPHT,PHSPHT_FLAG_W,CFC-11,CFC-11_FLAG_W,CFC-12,CFC-12_FLAG_W,DELC13,DELC13_FLAG_W,TCARBN,TCARBN_FLAG_W,ALKALI,ALKALI_FLAG_W,PH,PH_FLAG_W,PH_TMP,PH_SCALE,PH_NBS,PH_NBS_FLAG_W,C13ERR,TOTALP,TOTALP_FLAG_W,AMMONI,AMMONI_FLAG_W,CHLORA,CHLORA_FLAG_W,PPHYTN,PPHYTN_FLAG_W,REVPRS,REVTMP,DEPTH_,DEPTH_FLAG,CTDDEP,THETA,SIGTHT,DOC,DOC_FLAG_W
,,,,,,,GMT,GMT,,,METER,DBAR,ITS-90,PSS-78,,UMOL/KG,,PSS-78,,UMOL/KG,,UMOL/KG,,UMOL/KG,,UMOL/KG,,UMOL/KG,,UMOL/KG,,PMOL/KG,,PMOL/KG,,/MILLE,,UMOL/KG,,UMOL/KG,,25_DEG_C,,DEG_C,,,,/MILLE,UMOL/KG,,UMOL/KG,,UG/L,,UG/L,,DBAR,ITS-90,METERS,,METERS,DEG_C,,UMOL/L,
       RF04-10,  137E,RF-2268,  1,     -9,      -9,5,20041025,0105, 30.0032, 136.9802, 4519,      0.0,  25.8354,  34.5860,2,   -999.0,9,-999.0000,9,    205.1,2,     1.51,2,  -999.00,9,     0.09,2,     0.01,2,     0.01,2, -999.000,9, -999.000,9,  -999.00,9,   1939.8,2,   -999.0,9,   8.0842,3,     25.0, TS,  -999.00,9,   -999.0,  -999.00,9,  -999.00,9,     0.15,2,     0.05,2,   -999.0,-999.0000, -999,9,    0,  25.8352,  22.7722,     90.3,2
       RF04-10,  137E,RF-2268,  1,     24,02-18578,2,20041025,0122, 30.0032, 136.9802, 4519,     11.0,  25.7817,  34.5851,2,   -999.0,9,-999.0000,9,    207.0,2,     1.45,2,  -999.00,9,     0.03,2,     0.00,2,     0.01,2, -999.000,9, -999.000,9,  -999.00,9,   1943.4,2,   -999.0,9,   8.0985,2,     25.0, TS,  -999.00,9,   -999.0,  -999.00,9,  -999.00,9,     0.15,2,     0.05,2,   -999.0,-999.0000, -999,9,   11,  25.7793,  22.7888,     68.2,2
       RF04-10,  137E,RF-2268,  1,     23,02-18577,2,20041025,0121, 30.0032, 136.9802, 4519,     25.5,  25.7643,  34.5848,2,   -999.0,9,-999.0000,9,    209.4,2,     1.50,2,  -999.00,9,     0.04,2,     0.00,2,     0.00,2, -999.000,9, -999.000,9,  -999.00,9,   1942.0,2,   -999.0,9,   8.0998,2,     25.0, TS,  -999.00,9,   -999.0,  -999.00,9,  -999.00,9,     0.15,2,     0.05,2,   -999.0,-999.0000, -999,9,   25,  25.7587,  22.7950,     62.7,2
       RF04-10,  137E,RF-2268,  1,     22,02-18576,2,20041025,0119, 30.0032, 136.9802, 4519,     51.0,  25.7553,  34.5866,2,   -999.0,9,  34.5851,2,    205.8,2,     1.51,2,  -999.00,9,     0.00,2,     0.00,2,     0.00,2, -999.000,9, -999.000,9,  -999.00,9,   1940.3,2,   -999.0,9,   8.0988,2,     25.0, TS,  -999.00,9,   -999.0,  -999.00,9,  -999.00,9,     0.17,2,     0.07,2,   -999.0,-999.0000, -999,9,   51,  25.7440,  22.8009,     52.6,2
       RF04-10,  137E,RF-2268,  1,     21,02-18575,2,20041025,0118, 30.0032, 136.9802, 4519,     76.8,  25.6478,  34.6001,2,   -999.0,9,-999.0000,9,    213.7,3,     1.51,2,  -999.00,9,     0.02,2,     0.00,2,     0.00,2, -999.000,9, -999.000,9,  -999.00,9,   1942.6,2,   -999.0,9,   8.0969,2,     25.0, TS,  -999.00,9,   -999.0,  -999.00,9,  -999.00,9,     0.24,2,     0.08,2,   -999.0,-999.0000, -999,9,   76,  25.6309,  22.8460,     81.0,2
       RF04-10,  137E,RF-2268,  1,     20,02-18574,2,20041025,0117, 30.0032, 136.9802, 4519,    102.7,  25.1029,  34.6410,2,   -999.0,9,  34.6620,4,    203.4,2,     1.63,2,  -999.00,9,     0.25,2,     0.08,2,     0.01,2, -999.000,9, -999.000,9,  -999.00,9,   1958.5,2,   -999.0,9,   8.0791,2,     25.0, TS,  -999.00,9,   -999.0,  -999.00,9,  -999.00,9,     0.29,2,     0.26,2,   -999.0,-999.0000, -999,9,  102,  25.0806,  23.0455,     65.4,2
       RF04-10,  137E,RF-2268,  1,     19,02-18573,2,20041025,0115, 30.0032, 136.9802, 4519,    126.6,  21.9085,  34.8702,2,   -999.0,9,-999.0000,9,    201.5,2,     2.07,2,  -999.00,9,     1.20,2,     0.05,2,     0.08,2, -999.000,9, -999.000,9,  -999.00,9,   1993.6,2,   -999.0,9,   8.0366,2,     25.0, TS,  -999.00,9,   -999.0,  -999.00,9,  -999.00,9,     0.01,2,     0.38,2,   -999.0,-999.0000, -999,9,  126,  21.8836,  24.1518,     57.0,2
       RF04-10,  137E,RF-2268,  1,     18,02-18572,2,20041025,0114, 30.0032, 136.9802, 4519,    151.0,  20.9685,  34.8749,2,   -999.0,9,-999.0000,9,    197.8,2,     2.38,2,  -999.00,9,     2.03,2,     0.02,2,     0.12,2, -999.000,9, -999.000,9,  -999.00,9,   2000.3,2,   -999.0,9,   8.0250,2,     25.0, TS,  -999.00,9,   -999.0,  -999.00,9,  -999.00,9,     0.04,2,     0.11,2,   -999.0,-999.0000, -999,9,  150,  20.9397,  24.4150,     51.3,2
       RF04-10,  137E,RF-2268,  1,     17,02-18571,2,20041025,0112, 30.0032, 136.9802, 4519,    203.1,  19.1771,  34.8559,2,   -999.0,9,  34.8531,2,    199.7,2,     2.98,2,  -999.00,9,     3.28,2,     0.01,2,     0.20,2, -999.000,9, -999.000,9,  -999.00,9,   2015.6,2,   -999.0,9,   7.9975,2,     25.0, TS,  -999.00,9,   -999.0,  -999.00,9,  -999.00,9,     0.01,2,     0.01,2,   -999.0,-999.0000, -999,9,  202,  19.1407,  24.8751,     50.2,2
       RF04-10,  137E,RF-2268,  1,     16,02-18570,2,20041025,0110, 30.0032, 136.9802, 4519,    252.9,  18.3539,  34.8231,2,   -999.0,9,-999.0000,9,    200.6,2,     3.44,2,  -999.00,9,     4.03,2,     0.01,2,     0.23,2, -999.000,9, -999.000,9,  -999.00,9,   2020.5,2,   -999.0,9,   7.9844,2,     25.0, TS,  -999.00,9,   -999.0,  -999.00,9,  -999.00,9,  -999.00,9,  -999.00,9,   -999.0,-999.0000, -999,9,  251,  18.3099,  25.0598,     38.3,2
       RF04-10,  137E,RF-2268,  1,     15,02-18569,2,20041025,0108, 30.0032, 136.9802, 4519,    302.7,  17.5119,  34.7802,2,   -999.0,9,  34.7798,2,    205.2,3,     4.07,2,  -999.00,9,     4.69,2,     0.00,2,     0.27,2, -999.000,9, -999.000,9,  -999.00,9,   2024.4,2,   -999.0,9,   7.9724,2,     25.0, TS,  -999.00,9,   -999.0,  -999.00,9,  -999.00,9,  -999.00,9,  -999.00,9,   -999.0,-999.0000, -999,9,  300,  17.4608,  25.2352,     35.4,2
       RF04-10,  137E,RF-2268,  1,     14,02-18568,2,20041025,0106, 30.0032, 136.9802, 4519,    403.0,  16.1720,  34.6820,2,   -999.0,9,  34.6804,2,    194.3,2,     7.43,2,  -999.00,9,     7.79,2,     0.00,2,     0.48,2, -999.000,9, -999.000,9,  -999.00,9,   2047.1,2,   -999.0,9,   7.9253,2,     25.0, TS,  -999.00,9,   -999.0,  -999.00,9,  -999.00,9,  -999.00,9,  -999.00,9,   -999.0,-999.0000, -999,9,  400,  16.1075,  25.4784,     34.8,2
       RF04-10,  137E,RF-2268,  1,     13,02-18567,2,20041025,0103, 30.0032, 136.9802, 4519,    505.4,  13.7808,  34.5122,2,   -999.0,9,  34.5103,2,    179.1,2,    15.03,2,  -999.00,9,    13.00,2,     0.00,2,     0.84,2, -999.000,9, -999.000,9,  -999.00,9,   2087.8,2,   -999.0,9,   7.8428,2,     25.0, TS,  -999.00,9,   -999.0,  -999.00,9,  -999.00,9,  -999.00,9,  -999.00,9,   -999.0,-999.0000, -999,9,  501,  13.7081,  25.8709,     27.3,2
       RF04-10,  137E,RF-2268,  1,     12,02-18566,2,20041025,0100, 30.0032, 136.9802, 4519,    605.1,  11.2874,  34.3785,2,   -999.0,9,  34.3769,2,    157.8,2,    29.76,2,  -999.00,9,    19.30,2,     0.00,2,     1.33,2, -999.000,9, -999.000,9,  -999.00,9,   2137.0,2,   -999.0,9,   7.7405,2,     25.0, TS,  -999.00,9,   -999.0,  -999.00,9,  -999.00,9,  -999.00,9,  -999.00,9,   -999.0,-999.0000, -999,9,  600,  11.2107,  26.2534,     30.2,2
       RF04-10,  137E,RF-2268,  1,     11,02-18565,2,20041025,0058, 30.0032, 136.9802, 4519,    705.9,   8.5828,  34.2209,2,   -999.0,9,  34.2220,2,    139.9,2,    45.12,2,  -999.00,9,    25.40,2,     0.00,2,     1.79,2, -999.000,9, -999.000,9,  -999.00,9,   2181.3,2,   -999.0,9,   7.6374,2,     25.0, TS,  -999.00,9,   -999.0,  -999.00,9,  -999.00,9,  -999.00,9,  -999.00,9,   -999.0,-999.0000, -999,9,  700,   8.5068,  26.5852,     33.8,2
       RF04-10,  137E,RF-2268,  1,     10,02-18564,2,20041025,0055, 30.0032, 136.9802, 4519,    808.9,   6.4686,  34.1629,2,   -999.0,9,  34.1643,2,    109.6,2,    66.85,2,  -999.00,9,    31.21,2,     0.00,2,     2.26,2, -999.000,9, -999.000,9,  -999.00,9,   2235.8,2,   -999.0,9,   7.5311,2,     25.0, TS,  -999.00,9,   -999.0,  -999.00,9,  -999.00,9,  -999.00,9,  -999.00,9,   -999.0,-999.0000, -999,9,  802,   6.3938,  26.8406,     30.6,2
       RF04-10,  137E,RF-2268,  1,      9,02-18563,2,20041025,0052, 30.0032, 136.9802, 4519,    906.6,   5.3920,  34.2539,2,   -999.0,9,-999.0000,9,     80.9,2,    86.36,2,  -999.00,9,    35.30,2,     0.00,2,     2.56,2, -999.000,9, -999.000,9,  -999.00,9,   2279.6,2,   -999.0,9,   7.4703,2,     25.0, TS,  -999.00,9,   -999.0,  -999.00,9,  -999.00,9,  -999.00,9,  -999.00,9,   -999.0,-999.0000, -999,9,  899,   5.3147,  27.0470,     27.9,2
       RF04-10,  137E,RF-2268,  1,      8,02-18562,2,20041025,0049, 30.0032, 136.9802, 4519,   1008.0,   4.4689,  34.3135,2,   -999.0,9,  34.3137,2,     67.4,2,   102.65,2,  -999.00,9,    37.78,2,     0.00,2,     2.75,2, -999.000,9, -999.000,9,  -999.00,9,   2309.2,2,   -999.0,9,   7.4387,2,     25.0, TS,  -999.00,9,   -999.0,  -999.00,9,  -999.00,9,  -999.00,9,  -999.00,9,   -999.0,-999.0000, -999,9,  999,   4.3893,  27.1990,     29.9,2
       RF04-10,  137E,RF-2268,  1,      7,02-18561,2,20041025,0044, 30.0032, 136.9802, 4519,   1260.7,   3.3394,  34.4433,2,   -999.0,9,  34.4434,2,     66.9,2,   124.23,2,  -999.00,9,    39.18,2,     0.00,2,     2.85,2, -999.000,9, -999.000,9,  -999.00,9,   2338.4,2,   -999.0,9,   7.4338,2,     25.0, TS,  -999.00,9,   -999.0,  -999.00,9,  -999.00,9,  -999.00,9,  -999.00,9,   -999.0,-999.0000, -999,9, 1248,   3.2481,  27.4177,   -999.0,9
       RF04-10,  137E,RF-2268,  1,      6,02-18560,2,20041025,0039, 30.0032, 136.9802, 4519,   1516.2,   2.7368,  34.5092,2,   -999.0,9,  34.5092,2,     77.4,2,   134.09,2,  -999.00,9,    39.23,2,     0.00,2,     2.83,2, -999.000,9, -999.000,9,  -999.00,9,   2346.3,2,   -999.0,9,   7.4493,2,     25.0, TS,  -999.00,9,   -999.0,  -999.00,9,  -999.00,9,  -999.00,9,  -999.00,9,   -999.0,-999.0000, -999,9, 1500,   2.6308,  27.5262,   -999.0,9
       RF04-10,  137E,RF-2268,  1,      5,02-18559,2,20041025,0033, 30.0032, 136.9802, 4519,   1768.9,   2.3867,  34.5514,2,   -999.0,9,  34.5517,2,     87.9,2,   138.50,2,  -999.00,9,    39.04,2,     0.00,2,     2.79,2, -999.000,9, -999.000,9,  -999.00,9,   2346.6,6,   -999.0,9,   7.4712,2,     25.0, TS,  -999.00,9,   -999.0,  -999.00,9,  -999.00,9,  -999.00,9,  -999.00,9,   -999.0,-999.0000, -999,9, 1749,   2.2642,  27.5910,   -999.0,9
       RF04-10,  137E,RF-2268,  1,      4,02-18558,2,20041025,0028, 30.0032, 136.9802, 4519,   2023.7,   2.1068,  34.5896,2,   -999.0,9,  34.5898,2,    101.7,2,   140.37,2,  -999.00,9,    38.37,2,     0.00,2,     2.72,2, -999.000,9, -999.000,9,  -999.00,9,   2345.0,2,   -999.0,9,   7.4969,6,     25.0, TS,  -999.00,9,   -999.0,  -999.00,9,  -999.00,9,  -999.00,9,  -999.00,9,   -999.0,-999.0000, -999,9, 2000,   1.9669,  27.6455,   -999.0,9
       RF04-10,  137E,RF-2268,  1,      3,02-18557,2,20041025,0010, 30.0032, 136.9802, 4519,   3043.1,   1.5720,  34.6663,2,   -999.0,9,  34.6665,2,    145.2,2,   138.89,2,  -999.00,9,    36.20,2,     0.00,2,     2.52,2, -999.000,9, -999.000,9,  -999.00,9,   -999.0,9,   -999.0,9,-999.0000,9,   -999.0,  9,  -999.00,9,   -999.0,  -999.00,9,  -999.00,9,  -999.00,9,  -999.00,9,   -999.0,-999.0000, -999,9, 3001,   1.3495,  27.7532,   -999.0,9
       RF04-10,  137E,RF-2268,  1,      2,02-18556,2,20041024,2352, 30.0032, 136.9802, 4519,   4065.5,   1.5518,  34.6800,2,   -999.0,9,  34.6801,2,    155.3,2,   137.70,2,  -999.00,9,    35.61,2,     0.00,2,     2.46,2, -999.000,9, -999.000,9,  -999.00,9,   -999.0,9,   -999.0,9,-999.0000,9,   -999.0,  9,  -999.00,9,   -999.0,  -999.00,9,  -999.00,9,  -999.00,9,  -999.00,9,   -999.0,-999.0000, -999,9, 4000,   1.2243,  27.7730,   -999.0,9
       RF04-10,  137E,RF-2268,  1,      1,02-18555,2,20041024,2343, 30.0032, 136.9802, 4519,   4533.8,   1.5938,  34.6813,2,   -999.0,9,  34.6816,2,    155.5,2,   137.67,2,  -999.00,9,    35.54,2,     0.00,2,     2.46,2, -999.000,9, -999.000,9,  -999.00,9,   -999.0,9,   -999.0,9,-999.0000,9,   -999.0,  9,  -999.00,9,   -999.0,  -999.00,9,  -999.00,9,  -999.00,9,  -999.00,9,   -999.0,-999.0000, -999,9, 4456,   1.2120,  27.7748,   -999.0,9
       RF04-10,  137E,RF-2269,  1,     -9,      -9,5,20041025,1059, 29.0077, 136.9712, 4591,      0.0,  26.8459,  34.4721,2,   -999.0,9,-999.0000,9,   -999.0,9,  -999.00,9,  -999.00,9,  -999.00,9,  -999.00,9,  -999.00,9, -999.000,9, -999.000,9,  -999.00,9,   1930.6,3,   -999.0,9,-999.0000,9,   -999.0,  9,  -999.00,9,   -999.0,  -999.00,9,  -999.00,9,  -999.00,9,  -999.00,9,   -999.0,-999.0000, -999,9,    0,  23.2038,  23.4745,   -999.0,9