BOTTLE,20130510GEMDJMAYT
# 05/09/2013: Correct the error of converted time from JST to GMT.
#BOTTLE,20121206MIRCJHATS
# 12/06/2012: Change BTLNBR_FLAG_W: 8 to 5 at lines of BTLNBR = -9.
# 01/25/2006: Transformed into WOCE exchange format
# 06/29/2006: TCARBN QF revised
# 11/20/2006: OXYGEN QF revised
# 08/14/2008: pH(TOTAL HYDROGEN SCALE) data reviced
# 02/19/2009 : pH scale specified in header.
# 02/19/2009 : NO2+NO3 label corrected in header.
# 10/01/2009 : QF of TCARBN at RF-2283 revised.
# 04/05/2010 : pH scale specified in header, corrected for QF of CTDSAL (5 -> 2), converted time from JST to GMT
EXPOCODE,SECT_ID,STNNBR,CASTNO,SAMPNO,BTLNBR,BTLNBR_FLAG_W,DATE,TIME,LATITUDE,LONGITUDE,DEPTH,CTDPRS,CTDTMP,CTDSAL,CTDSAL_FLAG_W,CTDOXY,CTDOXY_FLAG_W,SALNTY,SALNTY_FLAG_W,OXYGEN,OXYGEN_FLAG_W,SILCAT,SILCAT_FLAG_W,NITRAT,NITRAT_FLAG_W,NO2+NO3,NO2+NO3_FLAG_W,NITRIT,NITRIT_FLAG_W,PHSPHT,PHSPHT_FLAG_W,CFC-11,CFC-11_FLAG_W,CFC-12,CFC-12_FLAG_W,DELC13,DELC13_FLAG_W,TCARBN,TCARBN_FLAG_W,ALKALI,ALKALI_FLAG_W,PH,PH_FLAG_W,PH_TMP,PH_SCALE,PH_NBS,PH_NBS_FLAG_W,C13ERR,TOTALP,TOTALP_FLAG_W,AMMONI,AMMONI_FLAG_W,CHLORA,CHLORA_FLAG_W,PPHYTN,PPHYTN_FLAG_W,REVPRS,REVTMP,DEPTH_,DEPTH_FLAG,CTDDEP,THETA,SIGTHT,DOC,DOC_FLAG_W
,,,,,,,GMT,GMT,,,METER,DBAR,ITS-90,PSS-78,,UMOL/KG,,PSS-78,,UMOL/KG,,UMOL/KG,,UMOL/KG,,UMOL/KG,,UMOL/KG,,UMOL/KG,,PMOL/KG,,PMOL/KG,,/MILLE,,UMOL/KG,,UMOL/KG,,25_DEG_C,,DEG_C,,,,/MILLE,UMOL/KG,,UMOL/KG,,UG/L,,UG/L,,DBAR,ITS-90,METERS,,METERS,DEG_C,,UMOL/L,
       RF04-10,  137E,RF-2257,  1,     -9,      -9,5,20041023,0930, 33.9762, 136.9952, 1141,      0.0,  23.2970,  34.1535,2,   -999.0,9,-999.0000,9,    214.9,2,     2.83,2,  -999.00,9,     0.36,2,     0.01,2,     0.06,2, -999.000,9, -999.000,9,  -999.00,9,   1943.1,3,   -999.0,9,-999.0000,9,   -999.0,  9,  -999.00,9,   -999.0,  -999.00,9,  -999.00,9,     0.96,2,     0.36,2,   -999.0,-999.0000, -999,9,    0,  23.2969,  23.2062,   -999.0,9
       RF04-10,  137E,RF-2257,  1,     18,02-18572,2,20041023,0946, 33.9762, 136.9952, 1141,     10.2,  23.2956,  34.1531,2,   -999.0,9,-999.0000,9,    212.6,2,     2.88,2,  -999.00,9,     0.30,2,     0.01,2,     0.06,2, -999.000,9, -999.000,9,  -999.00,9,   -999.0,9,   -999.0,9,-999.0000,9,   -999.0,  9,  -999.00,9,   -999.0,  -999.00,9,  -999.00,9,     0.99,2,     0.38,2,   -999.0,-999.0000, -999,9,   10,  23.2935,  23.2068,   -999.0,9
       RF04-10,  137E,RF-2257,  1,     17,02-18571,2,20041023,0945, 33.9762, 136.9952, 1141,     25.1,  23.3162,  34.1521,2,   -999.0,9,-999.0000,9,    212.9,2,     2.86,2,  -999.00,9,     0.30,2,     0.01,2,     0.05,2, -999.000,9, -999.000,9,  -999.00,9,   -999.0,9,   -999.0,9,-999.0000,9,   -999.0,  9,  -999.00,9,   -999.0,  -999.00,9,  -999.00,9,     1.01,2,     0.37,2,   -999.0,-999.0000, -999,9,   25,  23.3111,  23.2010,   -999.0,9
       RF04-10,  137E,RF-2257,  1,     16,02-18570,2,20041023,0943, 33.9762, 136.9952, 1141,     51.9,  23.0408,  34.1962,2,   -999.0,9,  34.1983,2,    204.1,2,     3.47,2,  -999.00,9,     1.23,2,     0.06,2,     0.10,2, -999.000,9, -999.000,9,  -999.00,9,   -999.0,9,   -999.0,9,-999.0000,9,   -999.0,  9,  -999.00,9,   -999.0,  -999.00,9,  -999.00,9,     0.58,2,     0.29,2,   -999.0,-999.0000, -999,9,   52,  23.0302,  23.3154,   -999.0,9
       RF04-10,  137E,RF-2257,  1,     15,02-18569,2,20041023,0941, 33.9762, 136.9952, 1141,     76.8,  18.0752,  34.6694,2,   -999.0,9,-999.0000,9,    176.7,2,     9.12,2,  -999.00,9,     7.89,2,     0.03,2,     0.50,2, -999.000,9, -999.000,9,  -999.00,9,   -999.0,9,   -999.0,9,-999.0000,9,   -999.0,  9,  -999.00,9,   -999.0,  -999.00,9,  -999.00,9,     0.11,2,     0.23,2,   -999.0,-999.0000, -999,9,   76,  18.0620,  25.0036,   -999.0,9
       RF04-10,  137E,RF-2257,  1,     14,02-18568,2,20041023,0939, 33.9762, 136.9952, 1141,    102.5,  16.1122,  34.6234,2,   -999.0,9,  34.6220,2,    170.2,2,    13.38,2,  -999.00,9,    10.64,2,     0.01,2,     0.67,2, -999.000,9, -999.000,9,  -999.00,9,   -999.0,9,   -999.0,9,-999.0000,9,   -999.0,  9,  -999.00,9,   -999.0,  -999.00,9,  -999.00,9,     0.06,2,     0.08,2,   -999.0,-999.0000, -999,9,  102,  16.0960,  25.4360,   -999.0,9
       RF04-10,  137E,RF-2257,  1,     13,02-18567,2,20041023,0938, 33.9762, 136.9952, 1141,    127.5,  14.3134,  34.5485,2,   -999.0,9,-999.0000,9,    164.1,2,    19.32,2,  -999.00,9,    13.87,2,     0.00,2,     0.92,2, -999.000,9, -999.000,9,  -999.00,9,   -999.0,9,   -999.0,9,-999.0000,9,   -999.0,  9,  -999.00,9,   -999.0,  -999.00,9,  -999.00,9,     0.01,2,     0.05,2,   -999.0,-999.0000, -999,9,  127,  14.2948,  25.7759,   -999.0,9
       RF04-10,  137E,RF-2257,  1,     12,02-18566,2,20041023,0936, 33.9762, 136.9952, 1141,    153.1,  12.6149,  34.4659,2,   -999.0,9,-999.0000,9,    155.7,2,    25.35,2,  -999.00,9,    16.82,2,     0.00,2,     1.13,2, -999.000,9, -999.000,9,  -999.00,9,   -999.0,9,   -999.0,9,-999.0000,9,   -999.0,  9,  -999.00,9,   -999.0,  -999.00,9,  -999.00,9,     0.01,2,     0.04,2,   -999.0,-999.0000, -999,9,  152,  12.5944,  26.0594,   -999.0,9
       RF04-10,  137E,RF-2257,  1,     11,02-18565,2,20041023,0934, 33.9762, 136.9952, 1141,    203.1,  10.5696,  34.3738,2,   -999.0,9,  34.3722,2,    142.0,2,    36.45,2,  -999.00,9,    21.56,2,     0.00,2,     1.49,2, -999.000,9, -999.000,9,  -999.00,9,   -999.0,9,   -999.0,9,-999.0000,9,   -999.0,  9,  -999.00,9,   -999.0,  -999.00,9,  -999.00,9,     0.00,2,     0.03,2,   -999.0,-999.0000, -999,9,  202,  10.5454,  26.3687,   -999.0,9
       RF04-10,  137E,RF-2257,  1,     10,02-18564,2,20041023,0931, 33.9762, 136.9952, 1141,    254.0,   9.1255,  34.2871,2,   -999.0,9,  34.2872,2,    134.8,2,    44.41,2,  -999.00,9,    24.74,2,     0.00,2,     1.72,2, -999.000,9, -999.000,9,  -999.00,9,   -999.0,9,   -999.0,9,-999.0000,9,   -999.0,  9,  -999.00,9,   -999.0,  -999.00,9,  -999.00,9,  -999.00,9,  -999.00,9,   -999.0,-999.0000, -999,9,  252,   9.0978,  26.5442,   -999.0,9
       RF04-10,  137E,RF-2257,  1,      9,02-18563,2,20041023,0929, 33.9762, 136.9952, 1141,    305.0,   8.1270,  34.2684,2,   -999.0,9,  34.2681,2,    122.3,2,    54.20,2,  -999.00,9,    27.62,2,     0.00,2,     1.95,2, -999.000,9, -999.000,9,  -999.00,9,   -999.0,9,   -999.0,9,-999.0000,9,   -999.0,  9,  -999.00,9,   -999.0,  -999.00,9,  -999.00,9,  -999.00,9,  -999.00,9,   -999.0,-999.0000, -999,9,  303,   8.0960,  26.6850,   -999.0,9
       RF04-10,  137E,RF-2257,  1,      8,02-18562,2,20041023,0926, 33.9762, 136.9952, 1141,    405.8,   6.6434,  34.2311,2,   -999.0,9,  34.2302,2,    103.6,2,    68.88,2,  -999.00,9,    31.48,2,     0.00,2,     2.25,2, -999.000,9, -999.000,9,  -999.00,9,   -999.0,9,   -999.0,9,-999.0000,9,   -999.0,  9,  -999.00,9,   -999.0,  -999.00,9,  -999.00,9,  -999.00,9,  -999.00,9,   -999.0,-999.0000, -999,9,  402,   6.6064,  26.8663,   -999.0,9
       RF04-10,  137E,RF-2257,  1,      7,02-18561,2,20041023,0922, 33.9762, 136.9952, 1141,    507.1,   5.0908,  34.2832,2,   -999.0,9,  34.2808,2,     77.1,2,    91.69,2,  -999.00,9,    36.07,2,     0.00,2,     2.60,2, -999.000,9, -999.000,9,  -999.00,9,   -999.0,9,   -999.0,9,-999.0000,9,   -999.0,  9,  -999.00,9,   -999.0,  -999.00,9,  -999.00,9,  -999.00,9,  -999.00,9,   -999.0,-999.0000, -999,9,  503,   5.0502,  27.1012,   -999.0,9
       RF04-10,  137E,RF-2257,  1,      6,02-18560,2,20041023,0918, 33.9762, 136.9952, 1141,    609.1,   4.5434,  34.3235,2,   -999.0,9,  34.3213,2,     70.4,2,   101.30,2,  -999.00,9,    37.63,2,     0.00,2,     2.73,2, -999.000,9, -999.000,9,  -999.00,9,   -999.0,9,   -999.0,9,-999.0000,9,   -999.0,  9,  -999.00,9,   -999.0,  -999.00,9,  -999.00,9,  -999.00,9,  -999.00,9,   -999.0,-999.0000, -999,9,  604,   4.4967,  27.1953,   -999.0,9
       RF04-10,  137E,RF-2257,  1,      5,02-18559,2,20041023,0914, 33.9762, 136.9952, 1141,    710.6,   4.2149,  34.3574,2,   -999.0,9,  34.3556,2,     68.3,2,   107.94,2,  -999.00,9,    38.12,2,     0.00,2,     2.77,2, -999.000,9, -999.000,9,  -999.00,9,   -999.0,9,   -999.0,9,-999.0000,9,   -999.0,  9,  -999.00,9,   -999.0,  -999.00,9,  -999.00,9,  -999.00,9,  -999.00,9,   -999.0,-999.0000, -999,9,  704,   4.1617,  27.2581,   -999.0,9
       RF04-10,  137E,RF-2257,  1,      4,02-18558,2,20041023,0910, 33.9762, 136.9952, 1141,    808.6,   3.9332,  34.3804,2,   -999.0,9,  34.3797,2,     67.0,2,   113.67,2,  -999.00,9,    38.60,2,     0.00,2,     2.79,2, -999.000,9, -999.000,9,  -999.00,9,   -999.0,9,   -999.0,9,-999.0000,9,   -999.0,  9,  -999.00,9,   -999.0,  -999.00,9,  -999.00,9,  -999.00,9,  -999.00,9,   -999.0,-999.0000, -999,9,  801,   3.8738,  27.3062,   -999.0,9
       RF04-10,  137E,RF-2257,  1,      3,02-18557,2,20041023,0908, 33.9762, 136.9952, 1141,    907.2,   3.6374,  34.4082,2,   -999.0,9,  34.4091,2,     66.7,2,   118.97,2,  -999.00,9,    39.27,2,     0.00,2,     2.83,2, -999.000,9, -999.000,9,  -999.00,9,   -999.0,9,   -999.0,9,-999.0000,9,   -999.0,  9,  -999.00,9,   -999.0,  -999.00,9,  -999.00,9,  -999.00,9,  -999.00,9,   -999.0,-999.0000, -999,9,  899,   3.5721,  27.3585,   -999.0,9
       RF04-10,  137E,RF-2257,  1,      2,02-18556,2,20041023,0905, 33.9762, 136.9952, 1141,   1007.4,   3.5045,  34.4226,2,   -999.0,9,  34.4246,2,     67.8,2,   121.61,2,  -999.00,9,    39.13,2,     0.00,2,     2.84,2, -999.000,9, -999.000,9,  -999.00,9,   -999.0,9,   -999.0,9,-999.0000,9,   -999.0,  9,  -999.00,9,   -999.0,  -999.00,9,  -999.00,9,  -999.00,9,  -999.00,9,   -999.0,-999.0000, -999,9,  998,   3.4322,  27.3836,   -999.0,9
       RF04-10,  137E,RF-2257,  1,      1,02-18555,2,20041023,0904, 33.9762, 136.9952, 1141,   1044.0,   3.4298,  34.4289,2,   -999.0,9,  34.4301,2,     68.0,2,   122.94,2,  -999.00,9,    39.44,2,     0.00,2,     2.84,2, -999.000,9, -999.000,9,  -999.00,9,   -999.0,9,   -999.0,9,-999.0000,9,   -999.0,  9,  -999.00,9,   -999.0,  -999.00,9,  -999.00,9,  -999.00,9,  -999.00,9,   -999.0,-999.0000, -999,9, 1034,   3.3552,  27.3960,   -999.0,9
       RF04-10,  137E,RF-2258,  1,     -9,      -9,5,20041023,1237, 33.6178, 136.9803, 2034,      0.0,  23.2038,  34.1082,2,   -999.0,9,-999.0000,9,   -999.0,9,  -999.00,9,  -999.00,9,  -999.00,9,  -999.00,9,  -999.00,9, -999.000,9, -999.000,9,  -999.00,9,   1938.2,3,   -999.0,9,-999.0000,9,   -999.0,  9,  -999.00,9,   -999.0,  -999.00,9,  -999.00,9,  -999.00,9,  -999.00,9,   -999.0,   9.0000, -999,9,    0,  23.2038,  23.1987,   -999.0,9
       RF04-10,  137E,RF-2259,  1,     -9,      -9,5,20041023,1537, 33.3192, 136.9768, 2694,      0.0,  23.1890,  34.1200,2,   -999.0,9,-999.0000,9,   -999.0,9,  -999.00,9,  -999.00,9,  -999.00,9,  -999.00,9,  -999.00,9, -999.000,9, -999.000,9,  -999.00,9,   1936.5,3,   -999.0,9,-999.0000,9,   -999.0,  9,  -999.00,9,   -999.0,  -999.00,9,  -999.00,9,  -999.00,9,  -999.00,9,   -999.0,   9.0000, -999,9,    0,  23.2038,  23.2077,   -999.0,9