BOTTLE,20130510GEMDJMAYT
EXPOCODE,SECT_ID,STNNBR,CASTNO,SAMPNO,BTLNBR,BTLNBR_FLAG_W,DATE,TIME,LATITUDE,LONGITUDE,DEPTH,CTDPRS,CTDTMP,CTDSAL,CTDSAL_FLAG_W,CTDOXY,CTDOXY_FLAG_W,SALNTY,SALNTY_FLAG_W,OXYGEN,OXYGEN_FLAG_W,SILCAT,SILCAT_FLAG_W,NITRAT,NITRAT_FLAG_W,NO2+NO3,NO2+NO3_FLAG_W,NITRIT,NITRIT_FLAG_W,PHSPHT,PHSPHT_FLAG_W,CFC-11,CFC-11_FLAG_W,CFC-12,CFC-12_FLAG_W,DELC13,DELC13_FLAG_W,TCARBN,TCARBN_FLAG_W,ALKALI,ALKALI_FLAG_W,PH,PH_FLAG_W,PH_TMP,PH_SCALE,PH_NBS,PH_NBS_FLAG_W,C13ERR,TOTALP,TOTALP_FLAG_W,AMMONI,AMMONI_FLAG_W,CHLORA,CHLORA_FLAG_W,PPHYTN,PPHYTN_FLAG_W,REVPRS,REVTMP,DEPTH_,DEPTH_FLAG,CTDDEP,THETA,SIGTHT,DOC,DOC_FLAG_W
,,,,,,,GMT,GMT,,,METER,DBAR,ITS-90,PSS-78,,UMOL/KG,,PSS-78,,UMOL/KG,,UMOL/KG,,UMOL/KG,,UMOL/KG,,UMOL/KG,,UMOL/KG,,PMOL/KG,,PMOL/KG,,/MILLE,,UMOL/KG,,UMOL/KG,,25_DEG_C,,DEG_C,,,,/MILLE,UMOL/KG,,UMOL/KG,,UG/L,,UG/L,,DBAR,ITS-90,METERS,,METERS,DEG_C,,UMOL/L,
       RF04-10,  137E,RF-2278,  1,     -9,      -9,5,20041028,0005, 19.9873, 136.9795, 4734,      0.0,  28.8096,  34.4191,2,   -999.0,9,-999.0000,9,    195.5,2,     2.29,2,  -999.00,9,     0.00,2,     0.00,2,     0.00,2, -999.000,9, -999.000,9,  -999.00,9,   1912.0,2,   -999.0,9,   8.1293,2,     25.0, TS,  -999.00,9,   -999.0,  -999.00,9,  -999.00,9,     0.09,2,     0.01,2,   -999.0,-999.0000, -999,9,    0,  28.8094,  21.6914,     82.5,2
       RF04-10,  137E,RF-2278,  1,     24,02-18578,2,20041028,0021, 19.9873, 136.9795, 4734,     11.1,  28.8137,  34.4189,2,   -999.0,9,-999.0000,9,    196.6,2,     2.32,2,  -999.00,9,     0.00,2,     0.00,2,     0.00,2, -999.000,9, -999.000,9,  -999.00,9,   1928.0,4,   -999.0,9,   8.1324,2,     25.0, TS,  -999.00,9,   -999.0,  -999.00,9,  -999.00,9,     0.09,2,     0.00,2,   -999.0,-999.0000, -999,9,   11,  28.8110,  21.6907,     75.8,2
       RF04-10,  137E,RF-2278,  1,     23,02-18577,2,20041028,0020, 19.9873, 136.9795, 4734,     25.5,  28.8029,  34.4180,2,   -999.0,9,-999.0000,9,    196.2,2,     2.46,2,  -999.00,9,     0.00,2,     0.00,2,     0.00,2, -999.000,9, -999.000,9,  -999.00,9,   1912.3,2,   -999.0,9,   8.1330,2,     25.0, TS,  -999.00,9,   -999.0,  -999.00,9,  -999.00,9,     0.10,2,     0.01,2,   -999.0,-999.0000, -999,9,   25,  28.7968,  21.6948,     77.6,2
       RF04-10,  137E,RF-2278,  1,     22,02-18576,2,20041028,0019, 19.9873, 136.9795, 4734,     51.6,  28.8033,  34.4175,2,   -999.0,9,  34.4138,4,    195.5,2,     2.55,2,  -999.00,9,     0.00,2,     0.00,2,     0.00,2, -999.000,9, -999.000,9,  -999.00,9,   1914.6,2,   -999.0,9,   8.1334,2,     25.0, TS,  -999.00,9,   -999.0,  -999.00,9,  -999.00,9,     0.09,2,     0.01,2,   -999.0,-999.0000, -999,9,   51,  28.7909,  21.6963,     77.8,2
       RF04-10,  137E,RF-2278,  1,     21,02-18575,2,20041028,0018, 19.9873, 136.9795, 4734,     75.3,  28.7797,  34.4241,2,   -999.0,9,-999.0000,9,    198.9,2,     2.76,2,  -999.00,9,     0.00,2,     0.00,2,     0.00,2, -999.000,9, -999.000,9,  -999.00,9,   1916.9,2,   -999.0,9,   8.1310,2,     25.0, TS,  -999.00,9,   -999.0,  -999.00,9,  -999.00,9,     0.12,2,     0.03,2,   -999.0,-999.0000, -999,9,   75,  28.7616,  21.7110,     76.3,2
       RF04-10,  137E,RF-2278,  1,     20,02-18574,2,20041028,0016, 19.9873, 136.9795, 4734,    100.3,  27.6653,  34.6657,2,   -999.0,9,  34.6633,2,    201.4,2,     2.92,2,  -999.00,9,     0.00,2,     0.00,2,     0.00,2, -999.000,9, -999.000,9,  -999.00,9,   1936.8,2,   -999.0,9,   8.1172,2,     25.0, TS,  -999.00,9,   -999.0,  -999.00,9,  -999.00,9,     0.20,2,     0.06,2,   -999.0,-999.0000, -999,9,  100,  27.6419,  22.2597,     73.3,2
       RF04-10,  137E,RF-2278,  1,     19,02-18573,2,20041028,0015, 19.9873, 136.9795, 4734,    126.9,  26.3754,  34.9149,2,   -999.0,9,-999.0000,9,    194.3,2,     3.08,2,  -999.00,9,     0.01,2,     0.05,2,     0.00,2, -999.000,9, -999.000,9,  -999.00,9,   1962.8,2,   -999.0,9,   8.0920,2,     25.0, TS,  -999.00,9,   -999.0,  -999.00,9,  -999.00,9,     0.30,2,     0.36,2,   -999.0,-999.0000, -999,9,  126,  26.3468,  22.8606,     66.3,2
       RF04-10,  137E,RF-2278,  1,     18,02-18572,2,20041028,0013, 19.9873, 136.9795, 4734,    153.1,  24.3394,  35.0855,2,   -999.0,9,-999.0000,9,    188.7,2,     3.27,2,  -999.00,9,     0.49,2,     0.05,2,     0.02,2, -999.000,9, -999.000,9,  -999.00,9,   1990.5,2,   -999.0,9,   8.0642,2,     25.0, TS,  -999.00,9,   -999.0,  -999.00,9,  -999.00,9,     0.09,2,     0.19,2,   -999.0,-999.0000, -999,9,  152,  24.3068,  23.6148,     62.4,2
       RF04-10,  137E,RF-2278,  1,     17,02-18571,2,20041028,0012, 19.9873, 136.9795, 4734,    202.2,  22.0739,  35.0636,2,   -999.0,9,  33.1028,4,    184.6,2,     4.06,2,  -999.00,9,     1.67,2,     0.01,2,     0.10,2, -999.000,9, -999.000,9,  -999.00,9,   2015.6,2,   -999.0,9,   8.0158,2,     25.0, TS,  -999.00,9,   -999.0,  -999.00,9,  -999.00,9,     0.03,2,     0.08,2,   -999.0,-999.0000, -999,9,  201,  22.0338,  24.2567,     68.6,2
       RF04-10,  137E,RF-2278,  1,     16,02-18570,2,20041028,0010, 19.9873, 136.9795, 4734,    254.2,  19.5115,  34.9396,2,   -999.0,9,-999.0000,9,    183.1,2,     5.52,2,  -999.00,9,     3.79,2,     0.00,2,     0.24,2, -999.000,9, -999.000,9,  -999.00,9,   2039.8,2,   -999.0,9,   7.9647,2,     25.0, TS,  -999.00,9,   -999.0,  -999.00,9,  -999.00,9,  -999.00,9,  -999.00,9,   -999.0,-999.0000, -999,9,  252,  19.4653,  24.8554,     51.5,2
       RF04-10,  137E,RF-2278,  1,     15,02-18569,2,20041028,0008, 19.9873, 136.9795, 4734,    302.0,  17.2328,  34.7397,2,   -999.0,9,  34.7394,2,    181.3,2,     8.06,2,  -999.00,9,     6.83,2,     0.00,2,     0.43,2, -999.000,9, -999.000,9,  -999.00,9,   2056.4,2,   -999.0,9,   7.9165,2,     25.0, TS,  -999.00,9,   -999.0,  -999.00,9,  -999.00,9,  -999.00,9,  -999.00,9,   -999.0,-999.0000, -999,9,  300,  17.1824,  25.2710,     50.8,2
       RF04-10,  137E,RF-2278,  1,     14,02-18568,2,20041028,0005, 19.9873, 136.9795, 4734,    402.4,  12.6110,  34.3902,2,   -999.0,9,  34.3895,2,    173.8,2,    18.18,2,  -999.00,9,    14.76,2,     0.00,2,     0.96,2, -999.000,9, -999.000,9,  -999.00,9,   2102.9,2,   -999.0,9,   7.7917,2,     25.0, TS,  -999.00,9,   -999.0,  -999.00,9,  -999.00,9,  -999.00,9,  -999.00,9,   -999.0,-999.0000, -999,9,  400,  12.5567,  26.0081,     45.9,2
       RF04-10,  137E,RF-2278,  1,     13,02-18567,2,20041028,0002, 19.9873, 136.9795, 4734,    504.7,   9.3699,  34.2114,2,   -999.0,9,  34.2118,2,    141.2,2,    35.28,2,  -999.00,9,    23.28,2,     0.00,2,     1.61,2, -999.000,9, -999.000,9,  -999.00,9,   2162.6,2,   -999.0,9,   7.6598,2,     25.0, TS,  -999.00,9,   -999.0,  -999.00,9,  -999.00,9,  -999.00,9,  -999.00,9,   -999.0,-999.0000, -999,9,  501,   9.3133,  26.4502,     44.5,2
       RF04-10,  137E,RF-2278,  1,     12,02-18566,2,20041027,2354, 19.9873, 136.9795, 4734,    605.3,   7.1252,  34.1622,2,   -999.0,9,  34.1627,2,    106.8,2,    58.39,2,  -999.00,9,    30.79,2,     0.00,2,     2.16,2, -999.000,9, -999.000,9,  -999.00,9,   2225.1,2,   -999.0,9,   7.5336,2,     25.0, TS,  -999.00,9,   -999.0,  -999.00,9,  -999.00,9,  -999.00,9,  -999.00,9,   -999.0,-999.0000, -999,9,  601,   7.0671,  26.7495,     42.4,2
       RF04-10,  137E,RF-2278,  1,     11,02-18565,2,20041027,2351, 19.9873, 136.9795, 4734,    705.9,   5.8326,  34.2163,2,   -999.0,9,  34.2170,2,     72.8,2,    77.57,2,  -999.00,9,    35.96,2,     0.00,2,     2.58,2, -999.000,9, -999.000,9,  -999.00,9,   2273.7,2,   -999.0,9,   7.4510,2,     25.0, TS,  -999.00,9,   -999.0,  -999.00,9,  -999.00,9,  -999.00,9,  -999.00,9,   -999.0,-999.0000, -999,9,  700,   5.7711,  26.9620,     39.2,2
       RF04-10,  137E,RF-2278,  1,     10,02-18564,2,20041027,2349, 19.9873, 136.9795, 4734,    809.9,   5.1408,  34.3322,2,   -999.0,9,  34.3324,2,     60.9,2,    90.96,2,  -999.00,9,    37.70,2,     0.00,2,     2.74,2, -999.000,9, -999.000,9,  -999.00,9,   2296.4,2,   -999.0,9,   7.4328,2,     25.0, TS,  -999.00,9,   -999.0,  -999.00,9,  -999.00,9,  -999.00,9,  -999.00,9,   -999.0,-999.0000, -999,9,  803,   5.0738,  27.1372,     37.1,2
       RF04-10,  137E,RF-2278,  1,      9,02-18563,2,20041027,2346, 19.9873, 136.9795, 4734,    908.2,   4.6590,  34.3914,2,   -999.0,9,-999.0000,9,     62.1,2,   100.10,2,  -999.00,9,    38.91,2,     0.00,2,     2.79,2, -999.000,9, -999.000,9,  -999.00,9,   2308.2,2,   -999.0,9,   7.4348,2,     25.0, TS,  -999.00,9,   -999.0,  -999.00,9,  -999.00,9,  -999.00,9,  -999.00,9,   -999.0,-999.0000, -999,9,  901,   4.5865,  27.2394,     37.2,2
       RF04-10,  137E,RF-2278,  1,      8,02-18562,2,20041027,2343, 19.9873, 136.9795, 4734,   1011.8,   4.1327,  34.4407,2,   -999.0,9,  34.4406,2,     64.9,2,   110.24,2,  -999.00,9,    39.44,2,     0.00,2,     2.81,2, -999.000,9, -999.000,9,  -999.00,9,   2322.5,2,   -999.0,9,   7.4383,2,     25.0, TS,  -999.00,9,   -999.0,  -999.00,9,  -999.00,9,  -999.00,9,  -999.00,9,   -999.0,-999.0000, -999,9, 1003,   4.0551,  27.3355,     34.5,2
       RF04-10,  137E,RF-2278,  1,      7,02-18561,2,20041027,2334, 19.9873, 136.9795, 4734,   1263.4,   3.1484,  34.5200,2,   -999.0,9,  34.5204,2,     77.4,2,   129.14,2,  -999.00,9,    39.45,2,     0.00,2,     2.78,2, -999.000,9, -999.000,9,  -999.00,9,   2338.9,2,   -999.0,9,   7.4590,2,     25.0, TS,  -999.00,9,   -999.0,  -999.00,9,  -999.00,9,  -999.00,9,  -999.00,9,   -999.0,-999.0000, -999,9, 1252,   3.0585,  27.4966,   -999.0,9
       RF04-10,  137E,RF-2278,  1,      6,02-18560,2,20041027,2327, 19.9873, 136.9795, 4734,   1515.0,   2.6343,  34.5674,2,   -999.0,9,  34.5680,2,     92.5,2,   137.22,2,  -999.00,9,    38.86,2,     0.00,2,     2.72,2, -999.000,9, -999.000,9,  -999.00,9,   2339.9,2,   -999.0,9,   7.4884,2,     25.0, TS,  -999.00,9,   -999.0,  -999.00,9,  -999.00,9,  -999.00,9,  -999.00,9,   -999.0,-999.0000, -999,9, 1500,   2.5295,  27.5815,   -999.0,9
       RF04-10,  137E,RF-2278,  1,      5,02-18559,2,20041027,2317, 19.9873, 136.9795, 4734,   1769.4,   2.2918,  34.6022,2,   -999.0,9,  34.6030,2,    105.9,2,   140.90,2,  -999.00,9,    37.75,2,     0.00,2,     2.66,2, -999.000,9, -999.000,9,  -999.00,9,   2338.5,6,   -999.0,9,   7.5086,2,     25.0, TS,  -999.00,9,   -999.0,  -999.00,9,  -999.00,9,  -999.00,9,  -999.00,9,   -999.0,-999.0000, -999,9, 1751,   2.1704,  27.6393,   -999.0,9
       RF04-10,  137E,RF-2278,  1,      4,02-18558,2,20041027,2311, 19.9873, 136.9795, 4734,   2022.5,   2.0595,  34.6223,2,   -999.0,9,  34.6234,2,    112.2,2,   143.87,2,  -999.00,9,    38.05,2,     0.00,2,     2.63,2, -999.000,9, -999.000,9,  -999.00,9,   2338.0,2,   -999.0,9,   7.5196,6,     25.0, TS,  -999.00,9,   -999.0,  -999.00,9,  -999.00,9,  -999.00,9,  -999.00,9,   -999.0,-999.0000, -999,9, 2000,   1.9203,  27.6753,   -999.0,9
       RF04-10,  137E,RF-2278,  1,      3,02-18557,2,20041027,2241, 19.9873, 136.9795, 4734,   3041.0,   1.6384,  34.6636,2,   -999.0,9,  34.6643,2,    138.2,2,   145.04,2,  -999.00,9,    36.52,2,     0.00,2,     2.50,2, -999.000,9, -999.000,9,  -999.00,9,   -999.0,9,   -999.0,9,-999.0000,9,   -999.0,  9,  -999.00,9,   -999.0,  -999.00,9,  -999.00,9,  -999.00,9,  -999.00,9,   -999.0,-999.0000, -999,9, 3001,   1.4147,  27.7464,   -999.0,9
       RF04-10,  137E,RF-2278,  1,      2,02-18556,2,20041027,2224, 19.9873, 136.9795, 4734,   4062.8,   1.5219,  34.6821,2,   -999.0,9,  34.6566,4,    155.9,2,   142.39,2,  -999.00,9,    35.52,2,     0.00,2,     2.40,2, -999.000,9, -999.000,9,  -999.00,9,   -999.0,9,   -999.0,9,-999.0000,9,   -999.0,  9,  -999.00,9,   -999.0,  -999.00,9,  -999.00,9,  -999.00,9,  -999.00,9,   -999.0,-999.0000, -999,9, 4000,   1.1955,  27.7767,   -999.0,9
       RF04-10,  137E,RF-2278,  1,      1,02-18555,2,20041027,2213, 19.9873, 136.9795, 4734,   4681.0,   1.5544,  34.6852,2,   -999.0,9,  34.6850,2,    158.1,2,   141.67,2,  -999.00,9,    35.37,2,     0.00,2,     2.39,2, -999.000,9, -999.000,9,  -999.00,9,   -999.0,9,   -999.0,9,-999.0000,9,   -999.0,  9,  -999.00,9,   -999.0,  -999.00,9,  -999.00,9,  -999.00,9,  -999.00,9,   -999.0,-999.0000, -999,9, 4602,   1.1566,  27.7818,   -999.0,9
       RF04-10,  137E,RF-2279,  1,     -9,      -9,5,20041028,0554, 18.9857, 136.9887, 4715,      0.0,  28.7097,  34.3625,2,   -999.0,9,-999.0000,9,   -999.0,9,  -999.00,9,  -999.00,9,  -999.00,9,  -999.00,9,  -999.00,9, -999.000,9, -999.000,9,  -999.00,9,   1910.3,3,   -999.0,9,-999.0000,9,   -999.0,  9,  -999.00,9,   -999.0,  -999.00,9,  -999.00,9,  -999.00,9,  -999.00,9,   -999.0,-999.0000, -999,9,    0,  23.2038,  23.3914,   -999.0,9