BOTTLE,20130510GEMDJMAYT
EXPOCODE,SECT_ID,STNNBR,CASTNO,SAMPNO,BTLNBR,BTLNBR_FLAG_W,DATE,TIME,LATITUDE,LONGITUDE,DEPTH,CTDPRS,CTDTMP,CTDSAL,CTDSAL_FLAG_W,CTDOXY,CTDOXY_FLAG_W,SALNTY,SALNTY_FLAG_W,OXYGEN,OXYGEN_FLAG_W,SILCAT,SILCAT_FLAG_W,NITRAT,NITRAT_FLAG_W,NO2+NO3,NO2+NO3_FLAG_W,NITRIT,NITRIT_FLAG_W,PHSPHT,PHSPHT_FLAG_W,CFC-11,CFC-11_FLAG_W,CFC-12,CFC-12_FLAG_W,DELC13,DELC13_FLAG_W,TCARBN,TCARBN_FLAG_W,ALKALI,ALKALI_FLAG_W,PH,PH_FLAG_W,PH_TMP,PH_SCALE,PH_NBS,PH_NBS_FLAG_W,C13ERR,TOTALP,TOTALP_FLAG_W,AMMONI,AMMONI_FLAG_W,CHLORA,CHLORA_FLAG_W,PPHYTN,PPHYTN_FLAG_W,REVPRS,REVTMP,DEPTH_,DEPTH_FLAG,CTDDEP,THETA,SIGTHT,DOC,DOC_FLAG_W
,,,,,,,GMT,GMT,,,METER,DBAR,ITS-90,PSS-78,,UMOL/KG,,PSS-78,,UMOL/KG,,UMOL/KG,,UMOL/KG,,UMOL/KG,,UMOL/KG,,UMOL/KG,,PMOL/KG,,PMOL/KG,,/MILLE,,UMOL/KG,,UMOL/KG,,25_DEG_C,,DEG_C,,,,/MILLE,UMOL/KG,,UMOL/KG,,UG/L,,UG/L,,DBAR,ITS-90,METERS,,METERS,DEG_C,,UMOL/L,
       RF04-10,  137E,RF-2288,  1,     -9,      -9,5,20041030,2036,  9.9808, 136.9693, 4887,      0.0,  28.9797,  33.8461,2,   -999.0,9,-999.0000,9,    193.4,2,     0.82,2,  -999.00,9,     0.00,2,     0.00,2,     0.00,2, -999.000,9, -999.000,9,  -999.00,9,   1884.6,2,   -999.0,9,   8.1305,2,     25.0, TS,  -999.00,9,   -999.0,  -999.00,9,  -999.00,9,     0.05,2,     0.00,2,   -999.0,-999.0000, -999,9,    0,  28.9795,  21.2048,     63.4,2
       RF04-10,  137E,RF-2288,  1,     24,02-18578,2,20041030,2047,  9.9808, 136.9693, 4887,     11.5,  28.9858,  33.8457,2,   -999.0,9,-999.0000,9,    195.1,2,     0.78,2,  -999.00,9,     0.00,2,     0.00,2,     0.00,2, -999.000,9, -999.000,9,  -999.00,9,   1881.1,2,   -999.0,9,   8.1320,2,     25.0, TS,  -999.00,9,   -999.0,  -999.00,9,  -999.00,9,     0.05,2,     0.00,2,   -999.0,-999.0000, -999,9,   11,  28.9830,  21.2033,     63.0,2
       RF04-10,  137E,RF-2288,  1,     23,02-18577,2,20041030,2046,  9.9808, 136.9693, 4887,     24.7,  28.9067,  33.8615,2,   -999.0,9,-999.0000,9,    194.8,2,     0.79,2,  -999.00,9,     0.00,2,     0.00,2,     0.00,2, -999.000,9, -999.000,9,  -999.00,9,   1885.8,2,   -999.0,9,   8.1310,2,     25.0, TS,  -999.00,9,   -999.0,  -999.00,9,  -999.00,9,     0.06,4,  -999.00,4,   -999.0,-999.0000, -999,9,   25,  28.9008,  21.2425,     60.7,2
       RF04-10,  137E,RF-2288,  1,     22,02-18576,2,20041030,2044,  9.9808, 136.9693, 4887,     50.1,  28.5621,  33.8795,2,   -999.0,9,  33.8847,2,    197.7,2,     0.87,2,  -999.00,9,     0.00,2,     0.00,2,     0.00,2, -999.000,9, -999.000,9,  -999.00,9,   1888.1,2,   -999.0,9,   8.1273,2,     25.0, TS,  -999.00,9,   -999.0,  -999.00,9,  -999.00,9,     0.08,2,     0.02,2,   -999.0,-999.0000, -999,9,   50,  28.5502,  21.3721,     60.1,2
       RF04-10,  137E,RF-2288,  1,     21,02-18575,2,20041030,2042,  9.9808, 136.9693, 4887,     76.7,  27.9912,  34.2020,2,   -999.0,9,-999.0000,9,    196.8,2,     1.12,2,  -999.00,9,     0.00,2,     0.00,2,     0.01,2, -999.000,9, -999.000,9,  -999.00,9,   1919.8,2,   -999.0,9,   8.1075,2,     25.0, TS,  -999.00,9,   -999.0,  -999.00,9,  -999.00,9,     0.12,2,     0.04,2,   -999.0,-999.0000, -999,9,   76,  27.9732,  21.8034,     59.7,2
       RF04-10,  137E,RF-2288,  1,     20,02-18574,2,20041030,2041,  9.9808, 136.9693, 4887,    101.2,  23.7464,  34.9681,2,   -999.0,9,  34.9424,4,    172.0,2,     2.75,2,  -999.00,9,     2.13,2,     0.10,2,     0.23,2, -999.000,9, -999.000,9,  -999.00,9,   2024.4,2,   -999.0,9,   7.9966,2,     25.0, TS,  -999.00,9,   -999.0,  -999.00,9,  -999.00,9,     0.19,2,     0.28,2,   -999.0,-999.0000, -999,9,  101,  23.7253,  23.6982,     54.5,2
       RF04-10,  137E,RF-2288,  1,     19,02-18573,2,20041030,2040,  9.9808, 136.9693, 4887,    125.3,  18.9055,  34.8152,2,   -999.0,9,-999.0000,9,    148.3,2,     7.47,2,  -999.00,9,     9.01,2,     0.00,2,     0.62,2, -999.000,9, -999.000,9,  -999.00,9,   2076.1,2,   -999.0,9,   7.8873,2,     25.0, TS,  -999.00,9,   -999.0,  -999.00,9,  -999.00,9,     0.06,2,     0.15,2,   -999.0,-999.0000, -999,9,  125,  18.8833,  24.9096,     45.9,2
       RF04-10,  137E,RF-2288,  1,     18,02-18572,2,20041030,2038,  9.9808, 136.9693, 4887,    151.2,  16.8256,  34.7218,2,   -999.0,9,-999.0000,9,    141.8,2,    12.02,2,  -999.00,9,    12.94,2,     0.00,2,     0.86,2, -999.000,9, -999.000,9,  -999.00,9,   2096.6,2,   -999.0,9,   7.8384,2,     25.0, TS,  -999.00,9,   -999.0,  -999.00,9,  -999.00,9,     0.04,2,     0.09,2,   -999.0,-999.0000, -999,9,  150,  16.8009,  25.3478,     36.9,2
       RF04-10,  137E,RF-2288,  1,     17,02-18571,2,20041030,2036,  9.9808, 136.9693, 4887,    203.3,  14.3708,  34.6200,2,   -999.0,9,  34.6218,2,    134.4,2,    16.46,2,  -999.00,9,    16.66,2,     0.00,2,     1.11,2, -999.000,9, -999.000,9,  -999.00,9,   2121.9,2,   -999.0,9,   7.7784,2,     25.0, TS,  -999.00,9,   -999.0,  -999.00,9,  -999.00,9,     0.02,2,     0.03,2,   -999.0,-999.0000, -999,9,  202,  14.3410,  25.8213,     33.2,2
       RF04-10,  137E,RF-2288,  1,     16,02-18570,2,20041030,2034,  9.9808, 136.9693, 4887,    252.8,  11.6654,  34.4742,2,   -999.0,9,-999.0000,9,    114.2,2,    25.32,2,  -999.00,9,    22.71,2,     0.00,2,     1.56,2, -999.000,9, -999.000,9,  -999.00,9,   2164.8,2,   -999.0,9,   7.6721,2,     25.0, TS,  -999.00,9,   -999.0,  -999.00,9,  -999.00,9,  -999.00,9,  -999.00,9,   -999.0,-999.0000, -999,9,  251,  11.6331,  26.2499,     34.6,2
       RF04-10,  137E,RF-2288,  1,     15,02-18569,2,20041030,2032,  9.9808, 136.9693, 4887,    307.0,   9.6875,  34.4445,2,   -999.0,9,  34.4408,2,     80.2,2,    34.79,2,  -999.00,9,    29.15,2,     0.00,2,     2.04,2, -999.000,9, -999.000,9,  -999.00,9,   2212.3,2,   -999.0,9,   7.5632,2,     25.0, TS,  -999.00,9,   -999.0,  -999.00,9,  -999.00,9,  -999.00,9,  -999.00,9,   -999.0,-999.0000, -999,9,  305,   9.6526,  26.5767,     43.9,2
       RF04-10,  137E,RF-2288,  1,     14,02-18568,2,20041030,2028,  9.9808, 136.9693, 4887,    406.9,   8.0568,  34.5111,2,   -999.0,9,  34.5128,2,     75.7,2,    44.70,2,  -999.00,9,    32.92,2,     0.00,2,     2.30,2, -999.000,9, -999.000,9,  -999.00,9,   2238.8,2,   -999.0,9,   7.5288,2,     25.0, TS,  -999.00,9,   -999.0,  -999.00,9,  -999.00,9,  -999.00,9,  -999.00,9,   -999.0,-999.0000, -999,9,  404,   8.0152,  26.8876,     37.7,2
       RF04-10,  137E,RF-2288,  1,     13,02-18567,2,20041030,2024,  9.9808, 136.9693, 4887,    507.9,   7.2836,  34.5378,2,   -999.0,9,  34.5344,2,     89.0,2,    47.02,2,  -999.00,9,    33.52,2,     0.00,2,     2.33,2, -999.000,9, -999.000,9,  -999.00,9,   2241.8,3,   -999.0,9,   7.5397,2,     25.0, TS,  -999.00,9,   -999.0,  -999.00,9,  -999.00,9,  -999.00,9,  -999.00,9,   -999.0,-999.0000, -999,9,  504,   7.2342,  27.0220,     30.3,2
       RF04-10,  137E,RF-2288,  1,     12,02-18566,2,20041030,2020,  9.9808, 136.9693, 4887,    609.7,   6.7156,  34.5268,2,   -999.0,9,  34.5270,2,     91.8,2,    52.34,2,  -999.00,9,    34.45,2,     0.00,2,     2.40,2, -999.000,9, -999.000,9,  -999.00,9,   2247.7,3,   -999.0,9,   7.5344,2,     25.0, TS,  -999.00,9,   -999.0,  -999.00,9,  -999.00,9,  -999.00,9,  -999.00,9,   -999.0,-999.0000, -999,9,  605,   6.6585,  27.0926,     28.0,2
       RF04-10,  137E,RF-2288,  1,     11,02-18565,3,20041030,2017,  9.9808, 136.9693, 4887,    706.4,   6.1098,  34.5251,2,   -999.0,9,  34.5255,2,     89.2,2,    61.06,2,  -999.00,9,    35.55,2,     0.00,2,     2.49,2, -999.000,9, -999.000,9,  -999.00,9,   2262.9,3,   -999.0,9,   7.5251,2,     25.0, TS,  -999.00,9,   -999.0,  -999.00,9,  -999.00,9,  -999.00,9,  -999.00,9,   -999.0,-999.0000, -999,9,  701,   6.0464,  27.1715,     27.1,2
       RF04-10,  137E,RF-2288,  1,     10,02-18564,2,20041030,2014,  9.9808, 136.9693, 4887,    808.4,   5.5955,  34.5236,2,   -999.0,9,  34.5235,2,     85.0,2,    70.46,2,  -999.00,9,    36.53,2,     0.00,2,     2.57,2, -999.000,9, -999.000,9,  -999.00,9,   2275.9,3,   -999.0,9,   7.5090,2,     25.0, TS,  -999.00,9,   -999.0,  -999.00,9,  -999.00,9,  -999.00,9,  -999.00,9,   -999.0,-999.0000, -999,9,  802,   5.5256,  27.2352,     27.7,2
       RF04-10,  137E,RF-2288,  1,      9,02-18563,2,20041030,2011,  9.9808, 136.9693, 4887,    908.3,   4.9016,  34.5331,2,   -999.0,9,-999.0000,9,     79.5,2,    84.55,2,  -999.00,9,    37.84,2,     0.00,2,     2.68,2, -999.000,9, -999.000,9,  -999.00,9,   2295.6,3,   -999.0,9,   7.4894,2,     25.0, TS,  -999.00,9,   -999.0,  -999.00,9,  -999.00,9,  -999.00,9,  -999.00,9,   -999.0,-999.0000, -999,9,  901,   4.8272,  27.3249,     23.7,2
       RF04-10,  137E,RF-2288,  1,      8,02-18562,2,20041030,2008,  9.9808, 136.9693, 4887,   1007.6,   4.3819,  34.5500,2,   -999.0,9,  34.5504,2,     84.1,2,    93.72,2,  -999.00,9,    38.22,2,     0.00,2,     2.69,2, -999.000,9, -999.000,9,  -999.00,9,   2302.9,3,   -999.0,9,   7.4958,2,     25.0, TS,  -999.00,9,   -999.0,  -999.00,9,  -999.00,9,  -999.00,9,  -999.00,9,   -999.0,-999.0000, -999,9,  999,   4.3026,  27.3962,     29.0,2
       RF04-10,  137E,RF-2288,  1,      7,02-18561,2,20041030,2002,  9.9808, 136.9693, 4887,   1263.7,   3.5742,  34.5733,2,   -999.0,9,  34.5737,2,     90.3,2,   109.55,2,  -999.00,9,    38.21,2,     0.00,2,     2.70,2, -999.000,9, -999.000,9,  -999.00,9,   2319.2,3,   -999.0,9,   7.5043,2,     25.0, TS,  -999.00,9,   -999.0,  -999.00,9,  -999.00,9,  -999.00,9,  -999.00,9,   -999.0,-999.0000, -999,9, 1253,   3.4801,  27.4991,   -999.0,9
       RF04-10,  137E,RF-2288,  1,      6,02-18560,2,20041030,1957,  9.9808, 136.9693, 4887,   1515.1,   2.9557,  34.5956,2,   -999.0,9,  34.5962,2,     98.8,2,   121.40,2,  -999.00,9,    38.21,2,     0.00,2,     2.68,2, -999.000,9, -999.000,9,  -999.00,9,   2326.9,3,   -999.0,9,   7.5104,2,     25.0, TS,  -999.00,9,   -999.0,  -999.00,9,  -999.00,9,  -999.00,9,  -999.00,9,   -999.0,-999.0000, -999,9, 1501,   2.8471,  27.5761,   -999.0,9
       RF04-10,  137E,RF-2288,  1,      5,02-18559,2,20041030,1952,  9.9808, 136.9693, 4887,   1769.1,   2.5377,  34.6143,2,   -999.0,9,  34.6155,2,    105.8,2,   129.11,2,  -999.00,9,    38.05,2,     0.00,2,     2.66,2, -999.000,9, -999.000,9,  -999.00,9,   2333.5,6,   -999.0,9,   7.5194,2,     25.0, TS,  -999.00,9,   -999.0,  -999.00,9,  -999.00,9,  -999.00,9,  -999.00,9,   -999.0,-999.0000, -999,9, 1752,   2.4130,  27.6289,   -999.0,9
       RF04-10,  137E,RF-2288,  1,      4,02-18558,2,20041030,1946,  9.9808, 136.9693, 4887,   2019.8,   2.1820,  34.6339,2,   -999.0,9,  34.6352,2,    114.8,2,   134.96,2,  -999.00,9,    38.01,2,     0.00,2,     2.61,2, -999.000,9, -999.000,9,  -999.00,9,   2331.1,3,   -999.0,9,   7.5317,6,     25.0, TS,  -999.00,9,   -999.0,  -999.00,9,  -999.00,9,  -999.00,9,  -999.00,9,   -999.0,-999.0000, -999,9, 1999,   2.0411,  27.6751,   -999.0,9
       RF04-10,  137E,RF-2288,  1,      3,02-18557,2,20041030,1925,  9.9808, 136.9693, 4887,   3035.1,   1.6084,  34.6695,2,   -999.0,9,  34.6701,2,    141.4,2,   140.22,2,  -999.00,9,    36.51,2,     0.00,2,     2.48,2, -999.000,9, -999.000,9,  -999.00,9,   -999.0,9,   -999.0,9,-999.0000,9,   -999.0,  9,  -999.00,9,   -999.0,  -999.00,9,  -999.00,9,  -999.00,9,  -999.00,9,   -999.0,-999.0000, -999,9, 2996,   1.3859,  27.7532,   -999.0,9
       RF04-10,  137E,RF-2288,  1,      2,02-18556,2,20041030,1902,  9.9808, 136.9693, 4887,   4059.0,   1.5355,  34.6815,2,   -999.0,9,  34.6818,2,    154.2,2,   137.49,2,  -999.00,9,    35.69,2,     0.00,2,     2.40,2, -999.000,9, -999.000,9,  -999.00,9,   -999.0,9,   -999.0,9,-999.0000,9,   -999.0,  9,  -999.00,9,   -999.0,  -999.00,9,  -999.00,9,  -999.00,9,  -999.00,9,   -999.0,-999.0000, -999,9, 3998,   1.2092,  27.7752,   -999.0,9
       RF04-10,  137E,RF-2288,  1,      1,02-18555,2,20041030,1841,  9.9808, 136.9693, 4887,   4901.7,   1.5780,  34.6854,2,   -999.0,9,  34.6855,2,    157.8,2,   135.94,2,  -999.00,9,    35.28,2,     0.00,2,     2.38,2, -999.000,9, -999.000,9,  -999.00,9,   -999.0,9,   -999.0,9,-999.0000,9,   -999.0,  9,  -999.00,9,   -999.0,  -999.00,9,  -999.00,9,  -999.00,9,  -999.00,9,   -999.0,-999.0000, -999,9, 4819,   1.1531,  27.7822,   -999.0,9
       RF04-10,  137E,RF-2289,  1,     -9,      -9,5,20041031,0200,  8.9853, 136.9867, 3845,      0.0,  29.2829,  33.8157,2,   -999.0,9,-999.0000,9,   -999.0,9,  -999.00,9,  -999.00,9,  -999.00,9,  -999.00,9,  -999.00,9, -999.000,9, -999.000,9,  -999.00,9,   1881.1,3,   -999.0,9,-999.0000,9,   -999.0,  9,  -999.00,9,   -999.0,  -999.00,9,  -999.00,9,  -999.00,9,  -999.00,9,   -999.0,-999.0000, -999,9,    0,  23.2038,  22.9771,   -999.0,9