BOTTLE,20130510GEMDJMAYT
EXPOCODE,SECT_ID,STNNBR,CASTNO,SAMPNO,BTLNBR,BTLNBR_FLAG_W,DATE,TIME,LATITUDE,LONGITUDE,DEPTH,CTDPRS,CTDTMP,CTDSAL,CTDSAL_FLAG_W,CTDOXY,CTDOXY_FLAG_W,SALNTY,SALNTY_FLAG_W,OXYGEN,OXYGEN_FLAG_W,SILCAT,SILCAT_FLAG_W,NITRAT,NITRAT_FLAG_W,NO2+NO3,NO2+NO3_FLAG_W,NITRIT,NITRIT_FLAG_W,PHSPHT,PHSPHT_FLAG_W,CFC-11,CFC-11_FLAG_W,CFC-12,CFC-12_FLAG_W,DELC13,DELC13_FLAG_W,TCARBN,TCARBN_FLAG_W,ALKALI,ALKALI_FLAG_W,PH,PH_FLAG_W,PH_TMP,PH_SCALE,PH_NBS,PH_NBS_FLAG_W,C13ERR,TOTALP,TOTALP_FLAG_W,AMMONI,AMMONI_FLAG_W,CHLORA,CHLORA_FLAG_W,PPHYTN,PPHYTN_FLAG_W,REVPRS,REVTMP,DEPTH_,DEPTH_FLAG,CTDDEP,THETA,SIGTHT,DOC,DOC_FLAG_W
,,,,,,,GMT,GMT,,,METER,DBAR,ITS-90,PSS-78,,UMOL/KG,,PSS-78,,UMOL/KG,,UMOL/KG,,UMOL/KG,,UMOL/KG,,UMOL/KG,,UMOL/KG,,PMOL/KG,,PMOL/KG,,/MILLE,,UMOL/KG,,UMOL/KG,,25_DEG_C,,DEG_C,,,,/MILLE,UMOL/KG,,UMOL/KG,,UG/L,,UG/L,,DBAR,ITS-90,METERS,,METERS,DEG_C,,UMOL/L,
     RF05-06-1,  165E,RF-2437,  1,     -9,      -9,5,20050621,1811, 50.0153, 165.0278,   -9,      0.0,   5.4943,  33.0480,2,   -999.0,9,-999.0000,9,    325.0,2,    38.93,2,  -999.00,9,    21.26,2,     0.22,2,     1.63,2,    5.011,2,    2.689,2,  -999.00,9,   2082.8,2,   2231.2,3,-999.0000,9,   -999.0,  9,  -999.00,9,   -999.0,  -999.00,9,  -999.00,9,     1.37,2,     0.24,2,   -999.0,-999.0000, -999,9,    0,   5.4942,  26.0713,   -999.0,9
     RF05-06-1,  165E,RF-2437,  1,     23,02-18577,2,20050621,1832, 50.0153, 165.0278,   -9,     10.4,   5.5022,  33.0468,2,   -999.0,9,  33.0495,2,    326.0,2,    38.52,2,  -999.00,9,    21.12,2,     0.22,2,     1.60,2,    5.013,2,    2.690,2,  -999.00,9,   2084.6,2,   2239.8,3,-999.0000,9,   -999.0,  9,  -999.00,9,   -999.0,  -999.00,9,  -999.00,9,     1.36,2,     0.21,2,   -999.0,-999.0000, -999,9,   10,   5.5014,  26.0694,   -999.0,9
     RF05-06-1,  165E,RF-2437,  1,     22,02-18576,2,20050621,1831, 50.0153, 165.0278,   -9,     24.7,   5.2418,  33.0617,2,   -999.0,9,-999.0000,9,    329.5,2,    38.46,2,  -999.00,9,    21.23,2,     0.22,2,     1.62,2,    5.088,2,    2.726,2,  -999.00,9,   2094.7,2,   2235.9,3,-999.0000,9,   -999.0,  9,  -999.00,9,   -999.0,  -999.00,9,  -999.00,9,     1.36,2,     0.31,2,   -999.0,-999.0000, -999,9,   24,   5.2399,  26.1116,   -999.0,9
     RF05-06-1,  165E,RF-2437,  1,     21,02-18575,2,20050621,1830, 50.0153, 165.0278,   -9,     50.6,   3.0319,  33.1753,2,   -999.0,9,-999.0000,9,    326.8,2,    52.32,2,  -999.00,9,    27.25,2,     0.30,2,     2.08,2,    5.814,2,    3.061,2,  -999.00,9,   2133.7,2,   2246.9,3,-999.0000,9,   -999.0,  9,  -999.00,9,   -999.0,  -999.00,9,  -999.00,9,     0.35,2,     0.31,2,   -999.0,-999.0000, -999,9,   50,   3.0290,  26.4260,   -999.0,9
     RF05-06-1,  165E,RF-2437,  1,     20,02-18574,2,20050621,1829, 50.0153, 165.0278,   -9,     76.0,   2.8419,  33.2982,2,   -999.0,9,-999.0000,9,    258.6,2,    57.48,2,  -999.00,9,    31.22,2,     0.01,2,     2.31,2,    6.057,2,    3.089,2,  -999.00,9,   2174.6,2,   2249.0,3,-999.0000,9,   -999.0,  9,  -999.00,9,   -999.0,  -999.00,9,  -999.00,9,     0.07,2,     0.07,2,   -999.0,-999.0000, -999,9,   75,   2.8376,  26.5408,   -999.0,9
     RF05-06-1,  165E,RF-2437,  1,     19,02-18573,2,20050621,1828, 50.0153, 165.0278,   -9,     81.2,   2.7947,  33.3174,2,   -999.0,9,-999.0000,9,    266.0,2,    58.31,2,  -999.00,9,    31.41,2,     0.04,2,     2.32,2,    6.039,2,    3.091,2,  -999.00,9,   2175.6,2,   -999.0,9,-999.0000,9,   -999.0,  9,  -999.00,9,   -999.0,  -999.00,9,  -999.00,9,     0.07,2,     0.07,2,   -999.0,-999.0000, -999,9,   80,   2.7901,  26.5602,   -999.0,9
     RF05-06-1,  165E,RF-2437,  1,     18,02-18572,2,20050621,1827, 50.0153, 165.0278,   -9,     91.2,   2.2240,  33.3150,2,   -999.0,9,-999.0000,9,    277.8,2,    59.55,2,  -999.00,9,    31.62,2,     0.02,2,     2.33,2,    6.185,2,    3.177,2,  -999.00,9,   2180.8,2,   -999.0,9,-999.0000,9,   -999.0,  9,  -999.00,9,   -999.0,  -999.00,9,  -999.00,9,     0.06,2,     0.06,2,   -999.0,-999.0000, -999,9,   90,   2.2192,  26.6050,   -999.0,9
     RF05-06-1,  165E,RF-2437,  1,     17,02-18571,2,20050621,1826, 50.0153, 165.0278,   -9,    101.8,   2.7152,  33.4667,2,   -999.0,9,  33.4770,4,    208.3,2,    68.69,2,  -999.00,9,    35.16,2,     0.00,2,     2.55,2,    6.185,2,    3.077,2,  -999.00,9,   2220.6,2,   2268.5,3,-999.0000,9,   -999.0,  9,  -999.00,9,   -999.0,  -999.00,9,  -999.00,9,     0.03,2,     0.05,2,   -999.0,-999.0000, -999,9,  101,   2.7094,  26.6863,   -999.0,9
     RF05-06-1,  165E,RF-2437,  1,     16,02-18570,2,20050621,1825, 50.0153, 165.0278,   -9,    126.3,   3.6347,  33.8376,2,   -999.0,9,-999.0000,9,     54.9,2,    92.87,2,  -999.00,9,    43.35,2,     0.00,2,     3.10,2,    5.222,2,    2.376,2,  -999.00,9,   2314.9,2,   2297.5,3,-999.0000,9,   -999.0,  9,  -999.00,9,   -999.0,  -999.00,9,  -999.00,9,     0.02,2,     0.04,2,   -999.0,-999.0000, -999,9,  125,   3.6265,  26.8987,   -999.0,9
     RF05-06-1,  165E,RF-2437,  1,     15,02-18569,2,20050621,1824, 50.0153, 165.0278,   -9,    151.6,   3.7566,  33.9228,2,   -999.0,9,-999.0000,9,     30.3,2,    98.69,2,  -999.00,9,    44.44,2,     0.00,2,     3.16,2,    4.451,2,    1.986,2,  -999.00,9,   2332.6,3,   2305.8,3,-999.0000,9,   -999.0,  9,  -999.00,9,   -999.0,  -999.00,9,  -999.00,9,     0.00,2,     0.03,2,   -999.0,-999.0000, -999,9,  150,   3.7466,  26.9548,   -999.0,9
     RF05-06-1,  165E,RF-2437,  1,     14,02-18568,2,20050621,1822, 50.0153, 165.0278,   -9,    203.5,   3.7619,  34.0084,2,   -999.0,9,  34.0065,2,     31.8,2,  -999.00,4,  -999.00,9,  -999.00,4,  -999.00,4,  -999.00,4,    3.840,2,    1.707,2,  -999.00,9,   2340.1,3,   2315.1,3,-999.0000,9,   -999.0,  9,  -999.00,9,   -999.0,  -999.00,9,  -999.00,9,     0.00,2,     0.02,2,   -999.0,-999.0000, -999,9,  202,   3.7483,  27.0227,   -999.0,9
     RF05-06-1,  165E,RF-2437,  1,     13,02-18567,2,20050621,1820, 50.0153, 165.0278,   -9,    253.2,   3.6718,  34.0611,2,   -999.0,9,-999.0000,9,     17.5,2,   110.45,2,  -999.00,9,    44.66,2,     0.00,2,     3.19,2,    3.622,2,    1.416,2,  -999.00,9,   2350.4,3,   2321.8,3,-999.0000,9,   -999.0,  9,  -999.00,9,   -999.0,  -999.00,9,  -999.00,9,  -999.00,9,  -999.00,9,   -999.0,-999.0000, -999,9,  251,   3.6549,  27.0739,   -999.0,9
     RF05-06-1,  165E,RF-2437,  1,     12,02-18566,2,20050621,1818, 50.0153, 165.0278,   -9,    305.0,   3.6512,  34.1050,2,   -999.0,9,  34.1042,2,     16.0,2,   113.77,2,  -999.00,9,    44.50,2,     0.00,2,     3.18,2,    2.508,2,    1.174,2,  -999.00,9,   2353.5,3,   2328.5,3,-999.0000,9,   -999.0,  9,  -999.00,9,   -999.0,  -999.00,9,  -999.00,9,  -999.00,9,  -999.00,9,   -999.0,-999.0000, -999,9,  302,   3.6308,  27.1112,   -999.0,9
     RF05-06-1,  165E,RF-2437,  1,     11,02-18565,2,20050621,1815, 50.0153, 165.0278,   -9,    406.3,   3.4916,  34.1778,2,   -999.0,9,  34.1779,2,     16.6,2,   121.59,2,  -999.00,9,    44.15,2,     0.00,2,     3.15,2,    1.504,2,    0.807,2,  -999.00,9,   2360.2,3,   2341.0,3,-999.0000,9,   -999.0,  9,  -999.00,9,   -999.0,  -999.00,9,  -999.00,9,  -999.00,9,  -999.00,9,   -999.0,-999.0000, -999,9,  402,   3.4646,  27.1854,   -999.0,9
     RF05-06-1,  165E,RF-2437,  1,     10,02-18564,2,20050621,1812, 50.0153, 165.0278,   -9,    506.7,   3.3142,  34.2397,2,   -999.0,9,  34.2373,2,     19.4,2,   129.35,2,  -999.00,9,    44.16,2,     0.00,2,     3.15,2,    1.090,2,    0.398,2,  -999.00,9,   2364.6,3,   2353.2,3,-999.0000,9,   -999.0,  9,  -999.00,9,   -999.0,  -999.00,9,  -999.00,9,  -999.00,9,  -999.00,9,   -999.0,-999.0000, -999,9,  502,   3.2807,  27.2522,   -999.0,9
     RF05-06-1,  165E,RF-2437,  1,      9,02-18563,2,20050621,1808, 50.0153, 165.0278,   -9,    607.6,   3.1320,  34.2970,2,   -999.0,9,  34.2973,2,     16.6,2,   136.30,2,  -999.00,9,    44.00,2,     0.00,2,     3.16,2,    0.943,2,    0.314,2,  -999.00,9,   2371.0,3,   2365.7,3,-999.0000,9,   -999.0,  9,  -999.00,9,   -999.0,  -999.00,9,  -999.00,9,  -999.00,9,  -999.00,9,   -999.0,-999.0000, -999,9,  602,   3.0922,  27.3154,   -999.0,9
     RF05-06-1,  165E,RF-2437,  1,      8,02-18562,2,20050621,1805, 50.0153, 165.0278,   -9,    709.6,   2.9856,  34.3384,2,   -999.0,9,  34.3367,2,     17.3,2,   137.04,2,  -999.00,9,    44.00,2,     0.00,2,     3.16,2,    0.864,2,    0.284,2,  -999.00,9,   2372.1,3,   2372.9,3,-999.0000,9,   -999.0,  9,  -999.00,9,   -999.0,  -999.00,9,  -999.00,9,  -999.00,9,  -999.00,9,   -999.0,-999.0000, -999,9,  702,   2.9393,  27.3624,   -999.0,9
     RF05-06-1,  165E,RF-2437,  1,      7,02-18561,2,20050621,1802, 50.0153, 165.0278,   -9,    809.9,   2.8646,  34.3723,2,   -999.0,9,  34.3712,2,     18.8,2,   145.20,2,  -999.00,9,    43.91,2,     0.00,2,     3.15,2,    0.676,2,    0.184,2,  -999.00,9,   2374.4,3,   2371.8,3,-999.0000,9,   -999.0,  9,  -999.00,9,   -999.0,  -999.00,9,  -999.00,9,  -999.00,9,  -999.00,9,   -999.0,-999.0000, -999,9,  801,   2.8119,  27.4009,   -999.0,9
     RF05-06-1,  165E,RF-2437,  1,      6,02-18560,2,20050621,1759, 50.0153, 165.0278,   -9,    911.3,   2.7179,  34.4073,2,   -999.0,9,  34.4056,2,     19.7,2,   149.75,2,  -999.00,9,    43.84,2,     0.00,2,     3.14,2,    0.503,2,    0.142,2,  -999.00,9,   2383.1,3,   2379.5,3,-999.0000,9,   -999.0,  9,  -999.00,9,   -999.0,  -999.00,9,  -999.00,9,  -999.00,9,  -999.00,9,   -999.0,-999.0000, -999,9,  902,   2.6588,  27.4423,   -999.0,9
     RF05-06-1,  165E,RF-2437,  1,      5,02-18559,2,20050621,1756, 50.0153, 165.0278,   -9,   1012.5,   2.5653,  34.4413,2,   -999.0,9,  34.4403,2,     23.8,2,   154.10,2,  -999.00,9,    43.62,2,     0.00,2,     3.13,2,    0.508,2,    0.107,2,  -999.00,9,   2387.1,3,   2386.7,3,-999.0000,9,   -999.0,  9,  -999.00,9,   -999.0,  -999.00,9,  -999.00,9,  -999.00,9,  -999.00,9,   -999.0,-999.0000, -999,9, 1001,   2.5000,  27.4831,   -999.0,9
     RF05-06-1,  165E,RF-2437,  1,      4,02-18558,2,20050621,1750, 50.0153, 165.0278,   -9,   1265.2,   2.2693,  34.5068,2,   -999.0,9,  34.5059,2,     34.7,2,   161.34,2,  -999.00,9,    43.00,2,     0.00,2,     3.08,2,    0.443,2,    0.068,2,  -999.00,9,   2387.2,3,   2390.6,3,-999.0000,9,   -999.0,  9,  -999.00,9,   -999.0,  -999.00,9,  -999.00,9,  -999.00,9,  -999.00,9,   -999.0,-999.0000, -999,9, 1251,   2.1880,  27.5615,   -999.0,9
     RF05-06-1,  165E,RF-2437,  1,      3,02-18557,2,20050621,1744, 50.0153, 165.0278,   -9,   1518.7,   2.0559,  34.5544,2,   -999.0,9,  34.5557,2,     48.5,2,   166.93,2,  -999.00,9,    42.10,2,     0.00,2,     3.02,2,    0.392,2,    0.039,2,  -999.00,9,   2385.6,3,   2404.5,3,-999.0000,9,   -999.0,  9,  -999.00,9,   -999.0,  -999.00,9,  -999.00,9,  -999.00,9,  -999.00,9,   -999.0,-999.0000, -999,9, 1500,   1.9576,  27.6180,   -999.0,9
     RF05-06-1,  165E,RF-2437,  1,      2,02-18556,2,20050621,1738, 50.0153, 165.0278,   -9,   1773.4,   1.8970,  34.5898,2,   -999.0,9,  34.5886,2,     63.3,2,   168.42,2,  -999.00,9,    41.22,2,     0.00,2,     2.94,2,    0.000,2,    0.000,2,  -999.00,9,   2379.1,3,   2408.4,3,-999.0000,9,   -999.0,  9,  -999.00,9,   -999.0,  -999.00,9,  -999.00,9,  -999.00,9,  -999.00,9,   -999.0,-999.0000, -999,9, 1751,   1.7807,  27.6601,   -999.0,9
     RF05-06-1,  165E,RF-2437,  1,      1,02-18555,2,20050621,1733, 50.0153, 165.0278,   -9,   2024.8,   1.7721,  34.6172,2,   -999.0,9,  34.6163,2,     81.6,2,   166.21,2,  -999.00,9,    40.18,2,     0.00,2,     2.86,2,    0.000,2,    0.000,2,  -999.00,9,   2366.1,3,   2410.3,3,-999.0000,9,   -999.0,  9,  -999.00,9,   -999.0,  -999.00,9,  -999.00,9,  -999.00,9,  -999.00,9,   -999.0,-999.0000, -999,9, 1998,   1.6371,  27.6928,   -999.0,9