BOTTLE,20130510GEMDJMAYT
EXPOCODE,SECT_ID,STNNBR,CASTNO,SAMPNO,BTLNBR,BTLNBR_FLAG_W,DATE,TIME,LATITUDE,LONGITUDE,DEPTH,CTDPRS,CTDTMP,CTDSAL,CTDSAL_FLAG_W,CTDOXY,CTDOXY_FLAG_W,SALNTY,SALNTY_FLAG_W,OXYGEN,OXYGEN_FLAG_W,SILCAT,SILCAT_FLAG_W,NITRAT,NITRAT_FLAG_W,NO2+NO3,NO2+NO3_FLAG_W,NITRIT,NITRIT_FLAG_W,PHSPHT,PHSPHT_FLAG_W,CFC-11,CFC-11_FLAG_W,CFC-12,CFC-12_FLAG_W,DELC13,DELC13_FLAG_W,TCARBN,TCARBN_FLAG_W,ALKALI,ALKALI_FLAG_W,PH,PH_FLAG_W,PH_TMP,PH_SCALE,PH_NBS,PH_NBS_FLAG_W,C13ERR,TOTALP,TOTALP_FLAG_W,AMMONI,AMMONI_FLAG_W,CHLORA,CHLORA_FLAG_W,PPHYTN,PPHYTN_FLAG_W,REVPRS,REVTMP,DEPTH_,DEPTH_FLAG,CTDDEP,THETA,SIGTHT,DOC,DOC_FLAG_W
,,,,,,,GMT,GMT,,,METER,DBAR,ITS-90,PSS-78,,UMOL/KG,,PSS-78,,UMOL/KG,,UMOL/KG,,UMOL/KG,,UMOL/KG,,UMOL/KG,,UMOL/KG,,PMOL/KG,,PMOL/KG,,/MILLE,,UMOL/KG,,UMOL/KG,,25_DEG_C,,DEG_C,,,,/MILLE,UMOL/KG,,UMOL/KG,,UG/L,,UG/L,,DBAR,ITS-90,METERS,,METERS,DEG_C,,UMOL/L,
     RF05-06-1,  165E,RF-2457,  1,     -9,      -9,5,20050627,0521, 29.9837, 165.0197,   -9,      0.0,  23.4992,  34.8406,2,   -999.0,9,-999.0000,9,    220.7,2,     2.28,2,  -999.00,9,     0.00,2,     0.00,2,     0.01,2,    2.008,2,    1.202,2,  -999.00,9,   1988.7,2,   2286.5,3,-999.0000,9,   -999.0,  9,  -999.00,9,   -999.0,  -999.00,9,  -999.00,9,     0.09,2,     0.01,2,   -999.0,-999.0000, -999,9,    0,  23.4990,  23.6680,   -999.0,9
     RF05-06-1,  165E,RF-2457,  1,     21,02-18575,2,20050627,0539, 29.9837, 165.0197,   -9,     10.8,  23.3841,  34.8368,2,   -999.0,9,  34.8371,2,    222.7,2,     2.26,2,  -999.00,9,     0.00,2,     0.00,2,     0.01,2,    2.018,2,    1.207,2,  -999.00,9,   1987.6,2,   2282.9,3,-999.0000,9,   -999.0,  9,  -999.00,9,   -999.0,  -999.00,9,  -999.00,9,     0.10,2,     0.02,2,   -999.0,-999.0000, -999,9,   11,  23.3819,  23.6992,   -999.0,9
     RF05-06-1,  165E,RF-2457,  1,     20,02-18574,2,20050627,0538, 29.9837, 165.0197,   -9,     26.8,  21.7859,  34.8191,2,   -999.0,9,-999.0000,9,    232.9,2,     2.26,2,  -999.00,9,     0.00,2,     0.00,2,     0.01,2,    2.165,2,    1.282,2,  -999.00,9,   1991.6,2,   2282.7,3,-999.0000,9,   -999.0,  9,  -999.00,9,   -999.0,  -999.00,9,  -999.00,9,     0.10,2,     0.02,2,   -999.0,-999.0000, -999,9,   27,  21.7807,  24.1416,   -999.0,9
     RF05-06-1,  165E,RF-2457,  1,     19,02-18573,2,20050627,0537, 29.9837, 165.0197,   -9,     50.9,  19.6116,  34.8685,2,   -999.0,9,-999.0000,9,    238.1,2,     2.25,2,  -999.00,9,     0.00,2,     0.00,2,     0.02,2,    2.382,2,    1.394,2,  -999.00,9,   1992.9,2,   2282.7,3,-999.0000,9,   -999.0,  9,  -999.00,9,   -999.0,  -999.00,9,  -999.00,9,     0.14,2,     0.04,2,   -999.0,-999.0000, -999,9,   51,  19.6024,  24.7655,   -999.0,9
     RF05-06-1,  165E,RF-2457,  1,     18,02-18572,2,20050627,0536, 29.9837, 165.0197,   -9,     75.8,  18.8934,  34.8638,2,   -999.0,9,-999.0000,9,    238.7,2,     2.46,2,  -999.00,9,     0.00,2,     0.00,2,     0.03,2,    2.462,2,    1.435,2,  -999.00,9,   2000.8,2,   2284.4,3,-999.0000,9,   -999.0,  9,  -999.00,9,   -999.0,  -999.00,9,  -999.00,9,     0.26,2,     0.17,2,   -999.0,-999.0000, -999,9,   75,  18.8800,  24.9476,   -999.0,9
     RF05-06-1,  165E,RF-2457,  1,     17,02-18571,2,20050627,0534, 29.9837, 165.0197,   -9,    101.3,  18.0530,  34.8101,2,   -999.0,9,  34.8094,2,    225.3,2,     3.15,2,  -999.00,9,     1.65,2,     0.29,2,     0.13,2,    2.561,2,    1.486,2,  -999.00,9,   2009.1,2,   2280.2,3,-999.0000,9,   -999.0,  9,  -999.00,9,   -999.0,  -999.00,9,  -999.00,9,     0.24,2,     0.34,2,   -999.0,-999.0000, -999,9,  101,  18.0356,  25.1178,   -999.0,9
     RF05-06-1,  165E,RF-2457,  1,     16,02-18570,2,20050627,0533, 29.9837, 165.0197,   -9,    125.5,  17.8157,  34.8165,2,   -999.0,9,-999.0000,9,    225.5,2,     3.36,2,  -999.00,9,     2.84,2,     0.05,2,     0.18,2,    2.589,2,    1.500,2,  -999.00,9,   2014.6,2,   2275.0,3,-999.0000,9,   -999.0,  9,  -999.00,9,   -999.0,  -999.00,9,  -999.00,9,     0.15,2,     0.23,2,   -999.0,-999.0000, -999,9,  125,  17.7944,  25.1819,   -999.0,9
     RF05-06-1,  165E,RF-2457,  1,     15,02-18569,2,20050627,0532, 29.9837, 165.0197,   -9,    149.6,  17.5144,  34.7890,2,   -999.0,9,-999.0000,9,    217.0,2,     3.80,2,  -999.00,9,     3.68,2,     0.02,2,     0.22,2,    2.632,2,    1.517,2,  -999.00,9,   2019.8,2,   2280.6,3,-999.0000,9,   -999.0,  9,  -999.00,9,   -999.0,  -999.00,9,  -999.00,9,     0.10,2,     0.05,2,   -999.0,-999.0000, -999,9,  149,  17.4893,  25.2351,   -999.0,9
     RF05-06-1,  165E,RF-2457,  1,     14,02-18568,2,20050627,0530, 29.9837, 165.0197,   -9,    201.9,  17.2092,  34.7896,2,   -999.0,9,  34.7876,2,    216.5,2,     4.20,2,  -999.00,9,     4.11,2,     0.01,2,     0.24,2,    2.672,2,    1.537,2,  -999.00,9,   2018.9,2,   2279.1,3,-999.0000,9,   -999.0,  9,  -999.00,9,   -999.0,  -999.00,9,  -999.00,9,     0.01,2,     0.02,2,   -999.0,-999.0000, -999,9,  200,  17.1756,  25.3109,   -999.0,9
     RF05-06-1,  165E,RF-2457,  1,     13,02-18567,2,20050627,0528, 29.9837, 165.0197,   -9,    253.3,  16.7653,  34.7672,2,   -999.0,9,-999.0000,9,    223.0,2,     4.41,2,  -999.00,9,     4.11,2,     0.01,2,     0.25,2,    2.730,2,    1.566,2,  -999.00,9,   2020.4,2,   2279.0,3,-999.0000,9,   -999.0,  9,  -999.00,9,   -999.0,  -999.00,9,  -999.00,9,  -999.00,9,  -999.00,9,   -999.0,-999.0000, -999,9,  251,  16.7239,  25.4008,   -999.0,9
     RF05-06-1,  165E,RF-2457,  1,     12,02-18566,2,20050627,0526, 29.9837, 165.0197,   -9,    305.3,  15.9352,  34.6783,2,   -999.0,9,  34.6772,2,    201.3,2,     7.82,2,  -999.00,9,     7.64,2,     0.00,2,     0.47,2,    2.844,2,    1.621,2,  -999.00,9,   2044.6,2,   2277.4,3,-999.0000,9,   -999.0,  9,  -999.00,9,   -999.0,  -999.00,9,  -999.00,9,  -999.00,9,  -999.00,9,   -999.0,-999.0000, -999,9,  303,  15.8870,  25.5259,   -999.0,9
     RF05-06-1,  165E,RF-2457,  1,     11,02-18565,2,20050627,0523, 29.9837, 165.0197,   -9,    404.9,  13.7894,  34.5067,2,   -999.0,9,  34.5065,2,    207.2,2,    12.17,2,  -999.00,9,    10.26,2,     0.00,2,     0.66,2,    3.205,2,    1.777,2,  -999.00,9,   2066.7,2,   2267.5,3,-999.0000,9,   -999.0,  9,  -999.00,9,   -999.0,  -999.00,9,  -999.00,9,  -999.00,9,  -999.00,9,   -999.0,-999.0000, -999,9,  402,  13.7313,  25.8618,   -999.0,9
     RF05-06-1,  165E,RF-2457,  1,     10,02-18564,2,20050627,0519, 29.9837, 165.0197,   -9,    505.7,  12.4823,  34.4608,2,   -999.0,9,  34.4594,2,    251.7,3,    10.28,2,  -999.00,9,     8.24,2,     0.00,2,     0.55,2,    3.410,2,    1.896,2,  -999.00,9,   2059.4,3,   2273.0,3,-999.0000,9,   -999.0,  9,  -999.00,9,   -999.0,  -999.00,9,  -999.00,9,  -999.00,9,  -999.00,9,   -999.0,-999.0000, -999,9,  502,  12.4141,  26.0906,   -999.0,9
     RF05-06-1,  165E,RF-2457,  1,      9,02-18563,2,20050627,0516, 29.9837, 165.0197,   -9,    606.5,   9.7900,  34.2098,2,   -999.0,9,  34.2089,2,    185.2,2,    29.45,2,  -999.00,9,    19.14,2,     0.00,2,     1.30,2,    4.093,2,    2.093,2,  -999.00,9,   2133.9,2,   2273.4,3,-999.0000,9,   -999.0,  9,  -999.00,9,   -999.0,  -999.00,9,  -999.00,9,  -999.00,9,  -999.00,9,   -999.0,-999.0000, -999,9,  602,   9.7198,  26.3820,   -999.0,9
     RF05-06-1,  165E,RF-2457,  1,      8,02-18562,2,20050627,0513, 29.9837, 165.0197,   -9,    706.2,   6.5552,  33.9887,2,   -999.0,9,  33.9881,2,    164.4,2,    51.38,2,  -999.00,9,    26.85,2,     0.00,2,     1.91,2,    5.072,2,    2.438,2,  -999.00,9,   2190.3,2,   2283.9,3,-999.0000,9,   -999.0,  9,  -999.00,9,   -999.0,  -999.00,9,  -999.00,9,  -999.00,9,  -999.00,9,   -999.0,-999.0000, -999,9,  700,   6.4901,  26.6906,   -999.0,9
     RF05-06-1,  165E,RF-2457,  1,      7,02-18561,2,20050627,0510, 29.9837, 165.0197,   -9,    807.9,   5.2129,  34.0242,2,   -999.0,9,  34.0237,2,    112.0,2,    74.22,2,  -999.00,9,    33.67,2,     0.00,2,     2.42,2,    4.965,2,    1.939,2,  -999.00,9,   2249.0,2,   2301.2,3,-999.0000,9,   -999.0,  9,  -999.00,9,   -999.0,  -999.00,9,  -999.00,9,  -999.00,9,  -999.00,9,   -999.0,-999.0000, -999,9,  801,   5.1460,  26.8848,   -999.0,9
     RF05-06-1,  165E,RF-2457,  1,      6,02-18560,2,20050627,0507, 29.9837, 165.0197,   -9,    908.6,   4.5912,  34.1403,2,   -999.0,9,  34.1400,2,     71.0,2,    94.07,2,  -999.00,9,    38.09,2,     0.00,2,     2.74,2,    3.661,2,    1.458,2,  -999.00,9,   2299.4,2,   2324.5,3,-999.0000,9,   -999.0,  9,  -999.00,9,   -999.0,  -999.00,9,  -999.00,9,  -999.00,9,  -999.00,9,   -999.0,-999.0000, -999,9,  900,   4.5195,  27.0473,   -999.0,9
     RF05-06-1,  165E,RF-2457,  1,      5,02-18559,2,20050627,0504, 29.9837, 165.0197,   -9,   1010.2,   4.0879,  34.2256,2,   -999.0,9,  34.2220,2,     55.7,2,   108.73,2,  -999.00,9,    39.73,2,     0.00,2,     2.85,2,    1.785,2,    0.784,2,  -999.00,9,   2324.9,2,   2341.0,3,-999.0000,9,   -999.0,  9,  -999.00,9,   -999.0,  -999.00,9,  -999.00,9,  -999.00,9,  -999.00,9,   -999.0,-999.0000, -999,9, 1001,   4.0112,  27.1689,   -999.0,9
     RF05-06-1,  165E,RF-2457,  1,      4,02-18558,2,20050627,0458, 29.9837, 165.0197,   -9,   1263.1,   3.1221,  34.3916,2,   -999.0,9,  34.3918,2,     34.2,2,   136.04,2,  -999.00,9,    42.43,2,     0.00,2,     3.06,2,    0.859,2,    0.231,2,  -999.00,9,   2370.4,2,   2371.9,3,-999.0000,9,   -999.0,  9,  -999.00,9,   -999.0,  -999.00,9,  -999.00,9,  -999.00,9,  -999.00,9,   -999.0,-999.0000, -999,9, 1251,   3.0328,  27.3964,   -999.0,9
     RF05-06-1,  165E,RF-2457,  1,      3,02-18557,2,20050627,0452, 29.9837, 165.0197,   -9,   1517.4,   2.6027,  34.4815,2,   -999.0,9,  34.4797,2,     38.4,2,   149.96,2,  -999.00,9,    42.56,2,     0.00,2,     3.06,2,    0.000,2,    0.000,2,  -999.00,9,   2384.6,2,   2394.3,3,-999.0000,9,   -999.0,  9,  -999.00,9,   -999.0,  -999.00,9,  -999.00,9,  -999.00,9,  -999.00,9,   -999.0,-999.0000, -999,9, 1502,   2.4983,  27.5155,   -999.0,9
     RF05-06-1,  165E,RF-2457,  1,      2,02-18556,2,20050627,0446, 29.9837, 165.0197,   -9,   1770.0,   2.2432,  34.5517,2,   -999.0,9,  34.5502,2,     54.0,2,   156.88,2,  -999.00,9,    41.99,2,     0.00,2,     2.99,2,    0.000,2,    0.000,2,  -999.00,9,   2379.9,2,   2406.9,3,-999.0000,9,   -999.0,  9,  -999.00,9,   -999.0,  -999.00,9,  -999.00,9,  -999.00,9,  -999.00,9,   -999.0,-999.0000, -999,9, 1751,   2.1226,  27.6027,   -999.0,9
     RF05-06-1,  165E,RF-2457,  1,      1,02-18555,2,20050627,0441, 29.9837, 165.0197,   -9,   2023.2,   1.9777,  34.5964,2,   -999.0,9,  34.5948,2,     75.4,2,   159.08,2,  -999.00,9,    40.75,2,     0.00,2,     2.89,2,    0.000,2,    0.000,2,  -999.00,9,   2374.4,2,   2410.2,3,-999.0000,9,   -999.0,  9,  -999.00,9,   -999.0,  -999.00,9,  -999.00,9,  -999.00,9,  -999.00,9,   -999.0,-999.0000, -999,9, 2000,   1.8398,  27.6608,   -999.0,9