BOTTLE,20130510GEMDJMAYT
EXPOCODE,SECT_ID,STNNBR,CASTNO,SAMPNO,BTLNBR,BTLNBR_FLAG_W,DATE,TIME,LATITUDE,LONGITUDE,DEPTH,CTDPRS,CTDTMP,CTDSAL,CTDSAL_FLAG_W,CTDOXY,CTDOXY_FLAG_W,SALNTY,SALNTY_FLAG_W,OXYGEN,OXYGEN_FLAG_W,SILCAT,SILCAT_FLAG_W,NITRAT,NITRAT_FLAG_W,NO2+NO3,NO2+NO3_FLAG_W,NITRIT,NITRIT_FLAG_W,PHSPHT,PHSPHT_FLAG_W,CFC-11,CFC-11_FLAG_W,CFC-12,CFC-12_FLAG_W,DELC13,DELC13_FLAG_W,TCARBN,TCARBN_FLAG_W,ALKALI,ALKALI_FLAG_W,PH,PH_FLAG_W,PH_TMP,PH_SCALE,PH_NBS,PH_NBS_FLAG_W,C13ERR,TOTALP,TOTALP_FLAG_W,AMMONI,AMMONI_FLAG_W,CHLORA,CHLORA_FLAG_W,PPHYTN,PPHYTN_FLAG_W,REVPRS,REVTMP,DEPTH_,DEPTH_FLAG,CTDDEP,THETA,SIGTHT,DOC,DOC_FLAG_W
,,,,,,,GMT,GMT,,,METER,DBAR,ITS-90,PSS-78,,UMOL/KG,,PSS-78,,UMOL/KG,,UMOL/KG,,UMOL/KG,,UMOL/KG,,UMOL/KG,,UMOL/KG,,PMOL/KG,,PMOL/KG,,/MILLE,,UMOL/KG,,UMOL/KG,,25_DEG_C,,DEG_C,,,,/MILLE,UMOL/KG,,UMOL/KG,,UG/L,,UG/L,,DBAR,ITS-90,METERS,,METERS,DEG_C,,UMOL/L,
     RF05-06-1,  165E,RF-2442,  1,     -9,      -9,5,20050623,0244, 45.0022, 165.0252,   -9,      0.0,   6.7055,  33.1823,2,   -999.0,9,-999.0000,9,    310.4,2,    34.39,2,  -999.00,9,    17.54,2,     0.24,2,     1.50,2,    4.685,2,    2.530,2,  -999.00,9,   2091.9,3,   2242.2,3,-999.0000,9,   -999.0,  9,  -999.00,9,   -999.0,  -999.00,9,  -999.00,9,     0.32,2,     0.03,2,   -999.0,-999.0000, -999,9,    0,   6.7054,  26.0263,   -999.0,9
     RF05-06-1,  165E,RF-2442,  1,     21,02-18575,2,20050623,0258, 45.0022, 165.0252,   -9,      9.9,   6.6671,  33.1820,2,   -999.0,9,  33.1872,2,    316.2,2,    34.23,2,  -999.00,9,    17.48,2,     0.23,2,     1.49,2,    4.696,2,    2.535,2,  -999.00,9,   2092.3,3,   2241.2,3,-999.0000,9,   -999.0,  9,  -999.00,9,   -999.0,  -999.00,9,  -999.00,9,     0.24,2,     0.03,2,   -999.0,-999.0000, -999,9,   10,   6.6662,  26.0312,   -999.0,9
     RF05-06-1,  165E,RF-2442,  1,     20,02-18574,2,20050623,0257, 45.0022, 165.0252,   -9,     25.5,   6.4326,  33.2158,2,   -999.0,9,-999.0000,9,    316.4,2,    32.77,2,  -999.00,9,    16.85,2,     0.23,2,     1.43,2,    4.758,2,    2.565,2,  -999.00,9,   2084.4,3,   2244.8,3,-999.0000,9,   -999.0,  9,  -999.00,9,   -999.0,  -999.00,9,  -999.00,9,     0.27,2,     0.05,2,   -999.0,-999.0000, -999,9,   25,   6.4304,  26.0885,   -999.0,9
     RF05-06-1,  165E,RF-2442,  1,     19,02-18573,2,20050623,0256, 45.0022, 165.0252,   -9,     51.9,   5.4210,  33.2365,2,   -999.0,9,-999.0000,9,    320.9,2,    32.02,2,  -999.00,9,    16.85,2,     0.26,2,     1.42,2,    5.075,2,    2.696,2,  -999.00,9,   2086.3,3,   2243.4,3,-999.0000,9,   -999.0,  9,  -999.00,9,   -999.0,  -999.00,9,  -999.00,9,     0.45,2,     0.12,2,   -999.0,-999.0000, -999,9,   51,   5.4170,  26.2295,   -999.0,9
     RF05-06-1,  165E,RF-2442,  1,     18,02-18572,2,20050623,0255, 45.0022, 165.0252,   -9,     75.8,   4.3179,  33.4008,2,   -999.0,9,-999.0000,9,    310.8,2,    31.22,2,  -999.00,9,    19.03,2,     0.03,2,     1.45,2,    5.440,2,    2.825,2,  -999.00,9,   2107.4,3,   2247.6,3,-999.0000,9,   -999.0,  9,  -999.00,9,   -999.0,  -999.00,9,  -999.00,9,     0.23,2,     0.09,2,   -999.0,-999.0000, -999,9,   75,   4.3126,  26.4821,   -999.0,9
     RF05-06-1,  165E,RF-2442,  1,     17,02-18571,2,20050623,0253, 45.0022, 165.0252,   -9,    101.6,   4.0595,  33.4102,2,   -999.0,9,  33.4106,2,    316.0,2,    31.95,2,  -999.00,9,    19.36,2,     0.00,2,     1.48,2,    5.525,2,    2.854,2,  -999.00,9,   2111.1,3,   2248.7,3,-999.0000,9,   -999.0,  9,  -999.00,9,   -999.0,  -999.00,9,  -999.00,9,     0.08,2,     0.06,2,   -999.0,-999.0000, -999,9,  101,   4.0527,  26.5162,   -999.0,9
     RF05-06-1,  165E,RF-2442,  1,     16,02-18570,2,20050623,0252, 45.0022, 165.0252,   -9,    126.1,   4.1122,  33.4386,2,   -999.0,9,-999.0000,9,    312.4,2,    31.80,2,  -999.00,9,    19.28,2,     0.00,2,     1.47,2,    5.506,2,    2.824,2,  -999.00,9,   2108.8,3,   2251.3,3,-999.0000,9,   -999.0,  9,  -999.00,9,   -999.0,  -999.00,9,  -999.00,9,     0.04,2,     0.06,2,   -999.0,-999.0000, -999,9,  125,   4.1036,  26.5337,   -999.0,9
     RF05-06-1,  165E,RF-2442,  1,     15,02-18569,2,20050623,0251, 45.0022, 165.0252,   -9,    152.5,   4.3814,  33.5199,2,   -999.0,9,-999.0000,9,    299.0,2,    31.78,2,  -999.00,9,    19.18,2,     0.00,2,     1.44,2,    5.414,2,    2.758,2,  -999.00,9,   2115.6,3,   2254.7,3,-999.0000,9,   -999.0,  9,  -999.00,9,   -999.0,  -999.00,9,  -999.00,9,     0.02,2,     0.04,2,   -999.0,-999.0000, -999,9,  151,   4.3706,  26.5706,   -999.0,9
     RF05-06-1,  165E,RF-2442,  1,     14,02-18568,2,20050623,0250, 45.0022, 165.0252,   -9,    201.9,   4.5408,  33.6723,2,   -999.0,9,  33.6691,2,    224.7,2,    48.48,2,  -999.00,9,    25.65,2,     0.00,2,     1.88,2,    5.529,2,    2.660,2,  -999.00,9,   2172.8,3,   2263.3,3,-999.0000,9,   -999.0,  9,  -999.00,9,   -999.0,  -999.00,9,  -999.00,9,     0.01,2,     0.04,2,   -999.0,-999.0000, -999,9,  200,   4.5262,  26.6750,   -999.0,9
     RF05-06-1,  165E,RF-2442,  1,     13,02-18567,2,20050623,0248, 45.0022, 165.0252,   -9,    251.9,   4.1613,  33.7800,2,   -999.0,9,-999.0000,9,    152.9,2,    68.53,2,  -999.00,9,    32.42,2,     0.00,2,     2.35,2,    5.721,2,    2.639,2,  -999.00,9,   2229.5,3,   2279.2,3,-999.0000,9,   -999.0,  9,  -999.00,9,   -999.0,  -999.00,9,  -999.00,9,  -999.00,9,  -999.00,9,   -999.0,-999.0000, -999,9,  250,   4.1437,  26.8010,   -999.0,9
     RF05-06-1,  165E,RF-2442,  1,     12,02-18566,2,20050623,0247, 45.0022, 165.0252,   -9,    302.4,   4.1399,  33.8622,2,   -999.0,9,  33.8587,2,    124.5,2,    76.99,2,  -999.00,9,    34.88,2,     0.00,2,     2.52,2,    5.068,2,    2.424,2,  -999.00,9,   2251.8,3,   2289.2,3,-999.0000,9,   -999.0,  9,  -999.00,9,   -999.0,  -999.00,9,  -999.00,9,  -999.00,9,  -999.00,9,   -999.0,-999.0000, -999,9,  300,   4.1186,  26.8689,   -999.0,9
     RF05-06-1,  165E,RF-2442,  1,     11,02-18565,2,20050623,0244, 45.0022, 165.0252,   -9,    403.8,   3.6170,  33.9187,2,   -999.0,9,  33.9211,2,     83.1,2,    94.44,2,  -999.00,9,    39.12,2,     0.00,2,     2.83,2,    4.715,2,    1.811,2,  -999.00,9,   2299.3,3,   2307.3,3,-999.0000,9,   -999.0,  9,  -999.00,9,   -999.0,  -999.00,9,  -999.00,9,  -999.00,9,  -999.00,9,   -999.0,-999.0000, -999,9,  400,   3.5899,  26.9669,   -999.0,9
     RF05-06-1,  165E,RF-2442,  1,     10,02-18564,2,20050623,0242, 45.0022, 165.0252,   -9,    504.7,   3.5666,  34.0411,2,   -999.0,9,  34.0408,2,     54.1,2,   107.01,2,  -999.00,9,    41.08,2,     0.00,2,     2.96,2,    3.889,2,    0.972,2,  -999.00,9,   2320.3,3,   2320.5,3,-999.0000,9,   -999.0,  9,  -999.00,9,   -999.0,  -999.00,9,  -999.00,9,  -999.00,9,  -999.00,9,   -999.0,-999.0000, -999,9,  500,   3.5324,  27.0699,   -999.0,9
     RF05-06-1,  165E,RF-2442,  1,      9,02-18563,2,20050623,0240, 45.0022, 165.0252,   -9,    606.8,   3.5316,  34.1430,2,   -999.0,9,  34.1442,2,     42.8,2,   116.42,2,  -999.00,9,    41.65,2,     0.00,2,     3.00,2,    3.433,2,    0.616,2,  -999.00,9,   2341.8,3,   2336.2,3,-999.0000,9,   -999.0,  9,  -999.00,9,   -999.0,  -999.00,9,  -999.00,9,  -999.00,9,  -999.00,9,   -999.0,-999.0000, -999,9,  601,   3.4901,  27.1552,   -999.0,9
     RF05-06-1,  165E,RF-2442,  1,      8,02-18562,2,20050623,0237, 45.0022, 165.0252,   -9,    707.5,   3.3804,  34.2284,2,   -999.0,9,  34.2305,2,     34.3,2,   125.36,2,  -999.00,9,    42.22,2,     0.00,2,     3.05,2,    2.206,2,    0.554,2,  -999.00,9,   2354.4,3,   2349.3,3,-999.0000,9,   -999.0,  9,  -999.00,9,   -999.0,  -999.00,9,  -999.00,9,  -999.00,9,  -999.00,9,   -999.0,-999.0000, -999,9,  701,   3.3322,  27.2384,   -999.0,9
     RF05-06-1,  165E,RF-2442,  1,      7,02-18561,2,20050623,0235, 45.0022, 165.0252,   -9,    808.1,   3.1655,  34.2905,2,   -999.0,9,  34.2896,2,     30.8,2,   133.65,2,  -999.00,9,    42.57,2,     0.00,2,     3.08,2,    1.535,2,    0.447,2,  -999.00,9,   2362.2,3,   2360.2,3,-999.0000,9,   -999.0,  9,  -999.00,9,   -999.0,  -999.00,9,  -999.00,9,  -999.00,9,  -999.00,9,   -999.0,-999.0000, -999,9,  800,   3.1111,  27.3086,   -999.0,9
     RF05-06-1,  165E,RF-2442,  1,      6,02-18560,2,20050623,0233, 45.0022, 165.0252,   -9,    910.2,   3.0442,  34.3418,2,   -999.0,9,  34.3428,2,     31.0,2,   137.97,2,  -999.00,9,    42.52,2,     0.00,2,     3.07,2,    1.407,2,    0.358,2,  -999.00,9,   2369.0,3,   2368.5,3,-999.0000,9,   -999.0,  9,  -999.00,9,   -999.0,  -999.00,9,  -999.00,9,  -999.00,9,  -999.00,9,   -999.0,-999.0000, -999,9,  901,   2.9830,  27.3612,   -999.0,9
     RF05-06-1,  165E,RF-2442,  1,      5,02-18559,2,20050623,0230, 45.0022, 165.0252,   -9,   1010.8,   2.8961,  34.3810,2,   -999.0,9,  34.3884,2,     31.0,2,   142.97,2,  -999.00,9,    42.61,2,     0.00,2,     3.08,2,    0.957,2,    0.361,2,  -999.00,9,   2373.1,3,   2374.2,3,-999.0000,9,   -999.0,  9,  -999.00,9,   -999.0,  -999.00,9,  -999.00,9,  -999.00,9,  -999.00,9,   -999.0,-999.0000, -999,9, 1000,   2.8284,  27.4064,   -999.0,9
     RF05-06-1,  165E,RF-2442,  1,      4,02-18558,2,20050623,0225, 45.0022, 165.0252,   -9,   1265.4,   2.5333,  34.4578,2,   -999.0,9,  34.4583,2,     35.0,2,   153.06,2,  -999.00,9,    42.66,2,     0.00,2,     3.07,2,    0.690,2,    0.238,2,  -999.00,9,   2377.5,2,   2387.3,3,-999.0000,9,   -999.0,  9,  -999.00,9,   -999.0,  -999.00,9,  -999.00,9,  -999.00,9,  -999.00,9,   -999.0,-999.0000, -999,9, 1251,   2.4495,  27.5006,   -999.0,9
     RF05-06-1,  165E,RF-2442,  1,      3,02-18557,2,20050623,0219, 45.0022, 165.0252,   -9,   1520.1,   2.2640,  34.5135,2,   -999.0,9,  34.5136,2,     41.4,2,   160.95,2,  -999.00,9,    42.36,2,     0.00,2,     3.04,2,    0.443,2,    0.094,2,  -999.00,9,   2383.7,2,   2398.8,3,-999.0000,9,   -999.0,  9,  -999.00,9,   -999.0,  -999.00,9,  -999.00,9,  -999.00,9,  -999.00,9,   -999.0,-999.0000, -999,9, 1502,   2.1632,  27.5689,   -999.0,9
     RF05-06-1,  165E,RF-2442,  1,      2,02-18556,2,20050623,0214, 45.0022, 165.0252,   -9,   1772.1,   2.0728,  34.5577,2,   -999.0,9,  34.5586,2,     52.4,2,   164.92,2,  -999.00,9,    41.73,2,     0.00,2,     2.99,2,    0.000,2,    0.000,2,  -999.00,9,   2384.1,2,   2406.8,3,-999.0000,9,   -999.0,  9,  -999.00,9,   -999.0,  -999.00,9,  -999.00,9,  -999.00,9,  -999.00,9,   -999.0,-999.0000, -999,9, 1750,   1.9543,  27.6209,   -999.0,9
     RF05-06-1,  165E,RF-2442,  1,      1,02-18555,2,20050623,0209, 45.0022, 165.0252,   -9,   2025.7,   1.9258,  34.5918,2,   -999.0,9,  34.5909,2,     67.0,2,   165.15,2,  -999.00,9,    40.92,2,     0.00,2,     2.92,2,    0.000,2,    0.000,2,  -999.00,9,   2374.9,2,   2412.4,3,-999.0000,9,   -999.0,  9,  -999.00,9,   -999.0,  -999.00,9,  -999.00,9,  -999.00,9,  -999.00,9,   -999.0,-999.0000, -999,9, 2000,   1.7885,  27.6611,   -999.0,9