BOTTLE,20130510GEMDJMAYT
# 05/09/2013: Correct the error of converted time from JST to GMT.
#BOTTLE,20121206MIRCJHATS
# 12/06/2012: Change BTLNBR_FLAG_W: 8 to 5 at lines of BTLNBR = -9.
# 01/25/2006: transformed into WOCE exchange format
# 05/11/2006: data of CFCs are reported by PI (T.Tokieda).
# 06/20/2006: TCARBN data were revised by JMA.
# 06/30/2006: TCARBN QF revised
# 10/06/2006: OXYGEN QF revised
# 11/20/2006: OXYGEN QF revised
# 12/04/2006: TCARBN data @RF2476 were corrected.
# 04/26/2007: CFCs QF revised
# 08/14/2008: pH(TOTAL HYDROGEN SCALE) data reviced
# 08/14/2008: ALKALI data reported but questionable because of contamination during storing samples
# 08/28/2008: TCARBN data updated
# 11/20/2008: pH(TOTAL HYDROGEN SCALE) data @RF2491 was corrected.
# 02/19/2009 : pH scale specified in header.
# 02/19/2009 : NO2+NO3 label corrected in header.
# 10/01/2009 : QF of TCARBN at RF-2481, RF-2486 and OXYGEN at RF-2491 revised.
# 04/05/2010 : Separate csvfile 49RY20050615 -> 49RY20050615 & 49RY20050708
# 04/05/2010 : pH scale specified in header, corrected for QF of CTDSAL (5 -> 2), converted time from JST to GMT
EXPOCODE,SECT_ID,STNNBR,CASTNO,SAMPNO,BTLNBR,BTLNBR_FLAG_W,DATE,TIME,LATITUDE,LONGITUDE,DEPTH,CTDPRS,CTDTMP,CTDSAL,CTDSAL_FLAG_W,CTDOXY,CTDOXY_FLAG_W,SALNTY,SALNTY_FLAG_W,OXYGEN,OXYGEN_FLAG_W,SILCAT,SILCAT_FLAG_W,NITRAT,NITRAT_FLAG_W,NO2+NO3,NO2+NO3_FLAG_W,NITRIT,NITRIT_FLAG_W,PHSPHT,PHSPHT_FLAG_W,CFC-11,CFC-11_FLAG_W,CFC-12,CFC-12_FLAG_W,DELC13,DELC13_FLAG_W,TCARBN,TCARBN_FLAG_W,ALKALI,ALKALI_FLAG_W,PH,PH_FLAG_W,PH_TMP,PH_SCALE,PH_NBS,PH_NBS_FLAG_W,C13ERR,TOTALP,TOTALP_FLAG_W,AMMONI,AMMONI_FLAG_W,CHLORA,CHLORA_FLAG_W,PPHYTN,PPHYTN_FLAG_W,REVPRS,REVTMP,DEPTH_,DEPTH_FLAG,CTDDEP,THETA,SIGTHT,DOC,DOC_FLAG_W
,,,,,,,GMT,GMT,,,METER,DBAR,ITS-90,PSS-78,,UMOL/KG,,PSS-78,,UMOL/KG,,UMOL/KG,,UMOL/KG,,UMOL/KG,,UMOL/KG,,UMOL/KG,,PMOL/KG,,PMOL/KG,,/MILLE,,UMOL/KG,,UMOL/KG,,25_DEG_C,,DEG_C,,,,/MILLE,UMOL/KG,,UMOL/KG,,UG/L,,UG/L,,DBAR,ITS-90,METERS,,METERS,DEG_C,,UMOL/L,
     RF05-06-1,  NONE,RF-2428,  1,     19,02-18573,2,20050618,0104, 39.0750, 147.0038,   -9,      9.3,  18.2043,  34.4771,2,   -999.0,9,  34.4820,2,   -999.0,9,  -999.00,9,  -999.00,9,  -999.00,9,  -999.00,9,  -999.00,9, -999.000,9, -999.000,9,  -999.00,9,   1990.4,2,   -999.0,9,-999.0000,9,   -999.0,  9,  -999.00,9,   -999.0,  -999.00,9,  -999.00,9,  -999.00,9,  -999.00,9,   -999.0,-999.0000, -999,9,    9,  18.2027,  24.8216,   -999.0,9
     RF05-06-1,  NONE,RF-2428,  1,     18,02-18572,2,20050618,0102, 39.0750, 147.0038,   -9,    100.9,  11.9749,  34.3675,2,   -999.0,9,  34.3595,4,   -999.0,9,  -999.00,9,  -999.00,9,  -999.00,9,  -999.00,9,  -999.00,9, -999.000,9, -999.000,9,  -999.00,9,   -999.0,9,   -999.0,9,-999.0000,9,   -999.0,  9,  -999.00,9,   -999.0,  -999.00,9,  -999.00,9,  -999.00,9,  -999.00,9,   -999.0,-999.0000, -999,9,  100,  11.9619,  26.1050,   -999.0,9
     RF05-06-1,  NONE,RF-2428,  1,     17,02-18571,2,20050618,0100, 39.0750, 147.0038,   -9,    202.4,   6.5511,  33.7478,2,   -999.0,9,  33.7488,2,   -999.0,9,  -999.00,9,  -999.00,9,  -999.00,9,  -999.00,9,  -999.00,9, -999.000,9, -999.000,9,  -999.00,9,   -999.0,9,   -999.0,9,-999.0000,9,   -999.0,  9,  -999.00,9,   -999.0,  -999.00,9,  -999.00,9,  -999.00,9,  -999.00,9,   -999.0,-999.0000, -999,9,  201,   6.5332,  26.4948,   -999.0,9
     RF05-06-1,  NONE,RF-2428,  1,     16,02-18570,2,20050618,0058, 39.0750, 147.0038,   -9,    302.1,   5.6187,  33.8333,2,   -999.0,9,  33.8490,4,   -999.0,9,  -999.00,9,  -999.00,9,  -999.00,9,  -999.00,9,  -999.00,9, -999.000,9, -999.000,9,  -999.00,9,   -999.0,9,   -999.0,9,-999.0000,9,   -999.0,  9,  -999.00,9,   -999.0,  -999.00,9,  -999.00,9,  -999.00,9,  -999.00,9,   -999.0,-999.0000, -999,9,  300,   5.5939,  26.6807,   -999.0,9
     RF05-06-1,  NONE,RF-2428,  1,     15,02-18569,2,20050618,0056, 39.0750, 147.0038,   -9,    403.6,   4.6357,  33.9191,2,   -999.0,9,  33.9243,2,   -999.0,9,  -999.00,9,  -999.00,9,  -999.00,9,  -999.00,9,  -999.00,9, -999.000,9, -999.000,9,  -999.00,9,   -999.0,9,   -999.0,9,-999.0000,9,   -999.0,  9,  -999.00,9,   -999.0,  -999.00,9,  -999.00,9,  -999.00,9,  -999.00,9,   -999.0,-999.0000, -999,9,  400,   4.6054,  26.8623,   -999.0,9
     RF05-06-1,  NONE,RF-2428,  1,     14,02-18568,2,20050618,0054, 39.0750, 147.0038,   -9,    504.1,   3.7463,  33.9809,2,   -999.0,9,  33.9734,4,   -999.0,9,  -999.00,9,  -999.00,9,  -999.00,9,  -999.00,9,  -999.00,9, -999.000,9, -999.000,9,  -999.00,9,   -999.0,9,   -999.0,9,-999.0000,9,   -999.0,  9,  -999.00,9,   -999.0,  -999.00,9,  -999.00,9,  -999.00,9,  -999.00,9,   -999.0,-999.0000, -999,9,  500,   3.7115,  27.0045,   -999.0,9
     RF05-06-1,  NONE,RF-2428,  1,     13,02-18567,2,20050618,0052, 39.0750, 147.0038,   -9,    605.3,   4.0917,  34.1658,2,   -999.0,9,  34.1604,2,   -999.0,9,  -999.00,9,  -999.00,9,  -999.00,9,  -999.00,9,  -999.00,9, -999.000,9, -999.000,9,  -999.00,9,   -999.0,9,   -999.0,9,-999.0000,9,   -999.0,  9,  -999.00,9,   -999.0,  -999.00,9,  -999.00,9,  -999.00,9,  -999.00,9,   -999.0,-999.0000, -999,9,  600,   4.0476,  27.1177,   -999.0,9
     RF05-06-1,  NONE,RF-2428,  1,     12,02-18566,2,20050618,0050, 39.0750, 147.0038,   -9,    706.1,   3.7870,  34.2629,2,   -999.0,9,  34.2617,2,   -999.0,9,  -999.00,9,  -999.00,9,  -999.00,9,  -999.00,9,  -999.00,9, -999.000,9, -999.000,9,  -999.00,9,   -999.0,9,   -999.0,9,-999.0000,9,   -999.0,  9,  -999.00,9,   -999.0,  -999.00,9,  -999.00,9,  -999.00,9,  -999.00,9,   -999.0,-999.0000, -999,9,  700,   3.7366,  27.2265,   -999.0,9
     RF05-06-1,  NONE,RF-2428,  1,     11,02-18565,2,20050618,0048, 39.0750, 147.0038,   -9,    807.4,   3.6385,  34.3391,2,   -999.0,9,  34.3382,2,   -999.0,9,  -999.00,9,  -999.00,9,  -999.00,9,  -999.00,9,  -999.00,9, -999.000,9, -999.000,9,  -999.00,9,   -999.0,9,   -999.0,9,-999.0000,9,   -999.0,  9,  -999.00,9,   -999.0,  -999.00,9,  -999.00,9,  -999.00,9,  -999.00,9,   -999.0,-999.0000, -999,9,  800,   3.5811,  27.3025,   -999.0,9
     RF05-06-1,  NONE,RF-2428,  1,     10,02-18564,2,20050618,0045, 39.0750, 147.0038,   -9,    908.2,   3.2553,  34.3655,2,   -999.0,9,  34.3640,2,   -999.0,9,  -999.00,9,  -999.00,9,  -999.00,9,  -999.00,9,  -999.00,9, -999.000,9, -999.000,9,  -999.00,9,   -999.0,9,   -999.0,9,-999.0000,9,   -999.0,  9,  -999.00,9,   -999.0,  -999.00,9,  -999.00,9,  -999.00,9,  -999.00,9,   -999.0,-999.0000, -999,9,  899,   3.1927,  27.3608,   -999.0,9
     RF05-06-1,  NONE,RF-2428,  1,      9,02-18563,2,20050618,0043, 39.0750, 147.0038,   -9,   1009.8,   3.0201,  34.4043,2,   -999.0,9,  34.4026,2,   -999.0,9,  -999.00,9,  -999.00,9,  -999.00,9,  -999.00,9,  -999.00,9, -999.000,9, -999.000,9,  -999.00,9,   -999.0,9,   -999.0,9,-999.0000,9,   -999.0,  9,  -999.00,9,   -999.0,  -999.00,9,  -999.00,9,  -999.00,9,  -999.00,9,   -999.0,-999.0000, -999,9, 1000,   2.9515,  27.4139,   -999.0,9
     RF05-06-1,  NONE,RF-2428,  1,      8,02-18562,2,20050618,0039, 39.0750, 147.0038,   -9,   1263.0,   2.5791,  34.4779,2,   -999.0,9,  34.4761,2,   -999.0,9,  -999.00,9,  -999.00,9,  -999.00,9,  -999.00,9,  -999.00,9, -999.000,9, -999.000,9,  -999.00,9,   -999.0,9,   -999.0,9,-999.0000,9,   -999.0,  9,  -999.00,9,   -999.0,  -999.00,9,  -999.00,9,  -999.00,9,  -999.00,9,   -999.0,-999.0000, -999,9, 1250,   2.4949,  27.5128,   -999.0,9
     RF05-06-1,  NONE,RF-2428,  1,      7,02-18561,2,20050618,0034, 39.0750, 147.0038,   -9,   1516.8,   2.2855,  34.5278,2,   -999.0,9,  34.5264,2,   -999.0,9,  -999.00,9,  -999.00,9,  -999.00,9,  -999.00,9,  -999.00,9, -999.000,9, -999.000,9,  -999.00,9,   -999.0,9,   -999.0,9,-999.0000,9,   -999.0,  9,  -999.00,9,   -999.0,  -999.00,9,  -999.00,9,  -999.00,9,  -999.00,9,   -999.0,-999.0000, -999,9, 1500,   2.1847,  27.5786,   -999.0,9
     RF05-06-1,  NONE,RF-2428,  1,      6,02-18560,2,20050618,0030, 39.0750, 147.0038,   -9,   1771.5,   2.0827,  34.5697,2,   -999.0,9,  34.5682,2,   -999.0,9,  -999.00,9,  -999.00,9,  -999.00,9,  -999.00,9,  -999.00,9, -999.000,9, -999.000,9,  -999.00,9,   -999.0,9,   -999.0,9,-999.0000,9,   -999.0,  9,  -999.00,9,   -999.0,  -999.00,9,  -999.00,9,  -999.00,9,  -999.00,9,   -999.0,-999.0000, -999,9, 1751,   1.9641,  27.6298,   -999.0,9
     RF05-06-1,  NONE,RF-2428,  1,      5,02-18559,2,20050618,0025, 39.0750, 147.0038,   -9,   2025.3,   1.9040,  34.6036,2,   -999.0,9,  34.6017,2,   -999.0,9,  -999.00,9,  -999.00,9,  -999.00,9,  -999.00,9,  -999.00,9, -999.000,9, -999.000,9,  -999.00,9,   -999.0,9,   -999.0,9,-999.0000,9,   -999.0,  9,  -999.00,9,   -999.0,  -999.00,9,  -999.00,9,  -999.00,9,  -999.00,9,   -999.0,-999.0000, -999,9, 2000,   1.7670,  27.6722,   -999.0,9
     RF05-06-1,  NONE,RF-2428,  1,      4,02-18558,2,20050618,0021, 39.0750, 147.0038,   -9,   2278.1,   1.7738,  34.6263,2,   -999.0,9,  34.6246,2,   -999.0,9,  -999.00,9,  -999.00,9,  -999.00,9,  -999.00,9,  -999.00,9, -999.000,9, -999.000,9,  -999.00,9,   -999.0,9,   -999.0,9,-999.0000,9,   -999.0,  9,  -999.00,9,   -999.0,  -999.00,9,  -999.00,9,  -999.00,9,  -999.00,9,   -999.0,-999.0000, -999,9, 2249,   1.6173,  27.7017,   -999.0,9
     RF05-06-1,  NONE,RF-2428,  1,      3,02-18557,2,20050618,0016, 39.0750, 147.0038,   -9,   2534.5,   1.6705,  34.6442,2,   -999.0,9,  34.6430,2,   -999.0,9,  -999.00,9,  -999.00,9,  -999.00,9,  -999.00,9,  -999.00,9, -999.000,9, -999.000,9,  -999.00,9,   -999.0,9,   -999.0,9,-999.0000,9,   -999.0,  9,  -999.00,9,   -999.0,  -999.00,9,  -999.00,9,  -999.00,9,  -999.00,9,   -999.0,-999.0000, -999,9, 2500,   1.4933,  27.7251,   -999.0,9
     RF05-06-1,  NONE,RF-2428,  1,      2,02-18556,2,20050618,0011, 39.0750, 147.0038,   -9,   2788.7,   1.5994,  34.6567,2,   -999.0,9,  34.6576,2,   -999.0,9,  -999.00,9,  -999.00,9,  -999.00,9,  -999.00,9,  -999.00,9, -999.000,9, -999.000,9,  -999.00,9,   -999.0,9,   -999.0,9,-999.0000,9,   -999.0,  9,  -999.00,9,   -999.0,  -999.00,9,  -999.00,9,  -999.00,9,  -999.00,9,   -999.0,-999.0000, -999,9, 2749,   1.4004,  27.7418,   -999.0,9
     RF05-06-1,  NONE,RF-2428,  1,      1,02-18555,2,20050618,0006, 39.0750, 147.0038,   -9,   3043.8,   1.5453,  34.6662,2,   -999.0,9,  34.6667,2,   -999.0,9,  -999.00,9,  -999.00,9,  -999.00,9,  -999.00,9,  -999.00,9, -999.000,9, -999.000,9,  -999.00,9,   -999.0,9,   -999.0,9,-999.0000,9,   -999.0,  9,  -999.00,9,   -999.0,  -999.00,9,  -999.00,9,  -999.00,9,  -999.00,9,   -999.0,-999.0000, -999,9, 2999,   1.3233,  27.7550,   -999.0,9