BOTTLE,20121206MIRCJHATS
EXPOCODE,SECT_ID,STNNBR,CASTNO,SAMPNO,BTLNBR,BTLNBR_FLAG_W,DATE,TIME,LATITUDE,LONGITUDE,DEPTH,CTDPRS,CTDTMP,CTDSAL,CTDSAL_FLAG_W,CTDOXY,CTDOXY_FLAG_W,SALNTY,SALNTY_FLAG_W,OXYGEN,OXYGEN_FLAG_W,SILCAT,SILCAT_FLAG_W,NITRAT,NITRAT_FLAG_W,NO2+NO3,NO2+NO3_FLAG_W,NITRIT,NITRIT_FLAG_W,PHSPHT,PHSPHT_FLAG_W,CFC-11,CFC-11_FLAG_W,CFC-12,CFC-12_FLAG_W,DELC13,DELC13_FLAG_W,TCARBN,TCARBN_FLAG_W,ALKALI,ALKALI_FLAG_W,PH,PH_FLAG_W,PH_TMP,PH_SCALE,PH_NBS,PH_NBS_FLAG_W,C13ERR,TOTALP,TOTALP_FLAG_W,AMMONI,AMMONI_FLAG_W,CHLORA,CHLORA_FLAG_W,PPHYTN,PPHYTN_FLAG_W,REVPRS,REVTMP,DEPTH,DEPTH_FLAG,CTDDEP,THETA,SIGTHT,DOC,DOC_FLAG_W
,,,,,,,GMT,GMT,,,METERS,DBAR,ITS-90,PSS-78,,UMOL/KG,,PSS-78,,UMOL/KG,,UMOL/KG,,UMOL/KG,,UMOL/KG,,UMOL/KG, ,UMOL/KG,,PMOL/KG,,PMOL/KG,,/MILLE,,UMOL/KG,,UMOL/KG,,25_DEG_C,,DEG_C,,,,/MILLE,UMOL/KG,,UMOL/KG,,UG/L,,UG/L,,DBAR,ITS-90,METERS,,METERS,DEG_C,,UMOL/L
RF05-10,137E,RF-2541,1,-9,-9,5,20051029,1302,8.0042,136.9983,3074,0,30.4846,33.744,2,-999,9,-999,9,201.3,2,1.22,2,-999,9,0.04,2,0,2,0.04,2,-999,9,-999,9,-999,9,-999,9,-999,9,-999,9,   -999.0,  9,-999,9,-999,-999,9,-999,9,0.06,2,0.01,2,-999,-999,-999,9,0,30.4844,20.6193,-999,9
RF05-10,137E,RF-2541,1,21,02-18575,2,20051029,1314,8.0042,136.9983,3074,10,30.0018,33.7645,2,-999,9,33.7669,2,199,2,1.22,2,-999,9,0,2,0,2,0.03,2,-999,9,-999,9,-999,9,-999,9,-999,9,-999,9,   -999.0,  9,-999,9,-999,-999,9,-999,9,0.05,2,0.01,2,-999,-999,-999,9,10,29.9993,20.8005,-999,9
RF05-10,137E,RF-2541,1,20,02-18574,2,20051029,1313,8.0042,136.9983,3074,25.5,29.7975,33.8157,2,-999,9,-999,9,199.1,2,1.22,2,-999,9,0,2,0,2,0.03,2,-999,9,-999,9,-999,9,-999,9,-999,9,-999,9,   -999.0,  9,-999,9,-999,-999,9,-999,9,0.06,2,0.02,2,-999,-999,-999,9,25,29.7912,20.9095,-999,9
RF05-10,137E,RF-2541,1,19,02-18573,2,20051029,1312,8.0042,136.9983,3074,50.9,29.3296,34.0114,2,-999,9,-999,9,207,2,1.38,2,-999,9,0,2,0,2,0.04,2,-999,9,-999,9,-999,9,-999,9,-999,9,-999,9,   -999.0,  9,-999,9,-999,-999,9,-999,9,0.09,2,0.03,2,-999,-999,-999,9,51,29.3172,21.216,-999,9
RF05-10,137E,RF-2541,1,18,02-18572,2,20051029,1311,8.0042,136.9983,3074,76.7,27.405,34.5908,2,-999,9,-999,9,194.6,2,2.09,2,-999,9,0.17,2,0.01,2,0.11,2,-999,9,-999,9,-999,9,-999,9,-999,9,-999,9,   -999.0,  9,-999,9,-999,-999,9,-999,9,0.18,2,0.15,2,-999,-999,-999,9,76,27.3872,22.2855,-999,9
RF05-10,137E,RF-2541,1,17,02-18571,2,20051029,1310,8.0042,136.9983,3074,101.3,24.3163,34.7542,2,-999,9,34.7816,4,160.9,2,4.44,2,-999,9,3.82,2,0.2,2,0.34,2,-999,9,-999,9,-999,9,-999,9,-999,9,-999,9,   -999.0,  9,-999,9,-999,-999,9,-999,9,0.22,2,0.29,2,-999,-999,-999,9,101,24.2948,23.3677,-999,9
RF05-10,137E,RF-2541,1,16,02-18570,2,20051029,1309,8.0042,136.9983,3074,126.8,22.1969,34.7962,2,-999,9,-999,9,154.7,2,6.31,2,-999,9,6.73,2,0.12,2,0.51,2,-999,9,-999,9,-999,9,-999,9,-999,9,-999,9,   -999.0,  9,-999,9,-999,-999,9,-999,9,0.13,2,0.24,2,-999,-999,-999,9,126,22.1717,24.0148,-999,9
RF05-10,137E,RF-2541,1,15,02-18569,2,20051029,1308,8.0042,136.9983,3074,151.3,17.3915,34.7188,2,-999,9,-999,9,141.8,2,12.09,2,-999,9,12.84,2,0.02,2,0.88,2,-999,9,-999,9,-999,9,-999,9,-999,9,-999,9,   -999.0,  9,-999,9,-999,-999,9,-999,9,0.05,2,0.13,2,-999,-999,-999,9,150,17.3662,25.2109,-999,9
RF05-10,137E,RF-2541,1,14,02-18568,2,20051029,1307,8.0042,136.9983,3074,201.9,13.2957,34.5451,2,-999,9,34.5361,4,123,2,21.95,2,-999,9,20.12,2,0,2,1.38,2,-999,9,-999,9,-999,9,-999,9,-999,9,-999,9,   -999.0,  9,-999,9,-999,-999,9,-999,9,0,2,0.03,2,-999,-999,-999,9,201,13.2676,25.9865,-999,9
RF05-10,137E,RF-2541,1,13,02-18567,2,20051029,1306,8.0042,136.9983,3074,252,11.2917,34.4938,2,-999,9,-999,9,102.8,2,30.04,2,-999,9,25.29,2,0,2,1.78,2,-999,9,-999,9,-999,9,-999,9,-999,9,-999,9,   -999.0,  9,-999,9,-999,-999,9,-999,9,-999,9,-999,9,-999,-999,-999,9,250,11.2602,26.334,-999,9
RF05-10,137E,RF-2541,1,12,02-18566,2,20051029,1304,8.0042,136.9983,3074,302.2,9.2182,34.5108,2,-999,9,34.5114,2,81.3,2,39.85,2,-999,9,30.84,2,0,2,2.19,2,-999,9,-999,9,-999,9,-999,9,-999,9,-999,9,   -999.0,  9,-999,9,-999,-999,9,-999,9,-999,9,-999,9,-999,-999,-999,9,300,9.1849,26.7053,-999,9
RF05-10,137E,RF-2541,1,11,02-18565,2,20051029,1302,8.0042,136.9983,3074,403.2,7.8848,34.5046,2,-999,9,34.5121,4,84.5,2,46.96,2,-999,9,32.77,2,0,2,2.34,2,-999,9,-999,9,-999,9,-999,9,-999,9,-999,9,   -999.0,  9,-999,9,-999,-999,9,-999,9,-999,9,-999,9,-999,-999,-999,9,401,7.8441,26.9079,-999,9
RF05-10,137E,RF-2541,1,10,02-18564,2,20051029,1300,8.0042,136.9983,3074,504.4,7.3099,34.5334,2,-999,9,34.5346,2,95.3,2,48.73,2,-999,9,33.66,2,0,2,2.4,2,-999,9,-999,9,-999,9,-999,9,-999,9,-999,9,   -999.0,  9,-999,9,-999,-999,9,-999,9,-999,9,-999,9,-999,-999,-999,9,501,7.2608,27.0147,-999,9
RF05-10,137E,RF-2541,1,9,02-18563,2,20051029,1257,8.0042,136.9983,3074,605.9,6.4215,34.5233,2,-999,9,34.5229,2,88.9,2,59.24,2,-999,9,35.11,2,0,2,2.53,2,-999,9,-999,9,-999,9,-999,9,-999,9,-999,9,   -999.0,  9,-999,9,-999,-999,9,-999,9,-999,9,-999,9,-999,-999,-999,9,602,6.3661,27.1287,-999,9
RF05-10,137E,RF-2541,1,8,02-18562,2,20051029,1255,8.0042,136.9983,3074,705,6.0374,34.5236,2,-999,9,34.5232,2,88.7,2,65.71,2,-999,9,35.88,2,0,2,2.6,2,-999,9,-999,9,-999,9,-999,9,-999,9,-999,9,   -999.0,  9,-999,9,-999,-999,9,-999,9,-999,9,-999,9,-999,-999,-999,9,700,5.9746,27.1794,-999,9
RF05-10,137E,RF-2541,1,7,02-18561,2,20051029,1252,8.0042,136.9983,3074,806.4,5.5782,34.5279,2,-999,9,34.5274,2,81.8,2,73.48,2,-999,9,36.9,2,0,2,2.67,2,-999,9,-999,9,-999,9,-999,9,-999,9,-999,9,   -999.0,  9,-999,9,-999,-999,9,-999,9,-999,9,-999,9,-999,-999,-999,9,800,5.5086,27.2407,-999,9
RF05-10,137E,RF-2541,1,6,02-18560,2,20051029,1250,8.0042,136.9983,3074,906.9,4.9389,34.5397,2,-999,9,34.5394,2,84.1,2,84.69,2,-999,9,37.73,2,0,2,2.74,2,-999,9,-999,9,-999,9,-999,9,-999,9,-999,9,   -999.0,  9,-999,9,-999,-999,9,-999,9,-999,9,-999,9,-999,-999,-999,9,900,4.8643,27.3259,-999,9
RF05-10,137E,RF-2541,1,5,02-18559,2,20051029,1248,8.0042,136.9983,3074,1008.1,4.1851,34.5595,2,-999,9,34.5581,2,88.1,2,98.54,2,-999,9,38.22,2,0,2,2.78,2,-999,9,-999,9,-999,9,-999,9,-999,9,-999,9,   -999.0,  9,-999,9,-999,-999,9,-999,9,-999,9,-999,9,-999,-999,-999,9,1000,4.1072,27.4245,-999,9
RF05-10,137E,RF-2541,1,4,02-18558,2,20051029,1243,8.0042,136.9983,3074,1262,3.3907,34.5824,2,-999,9,34.5829,2,98.4,2,114.64,2,-999,9,38.45,2,0,2,2.79,2,-999,9,-999,9,-999,9,-999,9,-999,9,-999,9,   -999.0,  9,-999,9,-999,-999,9,-999,9,-999,9,-999,9,-999,-999,-999,9,1251,3.2985,27.5238,-999,9
RF05-10,137E,RF-2541,1,3,02-18557,2,20051029,1238,8.0042,136.9983,3074,1514.4,2.8048,34.6055,2,-999,9,34.6061,2,104.4,2,125.51,2,-999,9,38.34,2,0,2,2.77,2,-999,9,-999,9,-999,9,-999,9,-999,9,-999,9,   -999.0,  9,-999,9,-999,-999,9,-999,9,-999,9,-999,9,-999,-999,-999,9,1500, 2.6980,27.5973,-999,9
RF05-10,137E,RF-2541,1,2,02-18556,2,20051029,1233,8.0042,136.9983,3074,1766.8,2.3957,34.6257,2,-999,9,34.6254,2,108.6,2,133.25,2,-999,9,38.17,2,0,2,2.74,2,-999,9,-999,9,-999,9,-999,9,-999,9,-999,9,   -999.0,  9,-999,9,-999,-999,9,-999,9,-999,9,-999,9,-999,-999,-999,9,1750, 2.2731,27.6497,-999,9
RF05-10,137E,RF-2541,1,1,02-18555,2,20051029,1228,8.0042,136.9983,3074,2021.5,2.1481,34.6386,2,-999,9,34.6387,2,117.5,2,137.34,2,-999,9,37.8,2,0,2,2.71,2,-999,9,-999,9,-999,9,-999,9,-999,9,-999,9,   -999.0,  9,-999,9,-999,-999,9,-999,9,-999,9,-999,9,-999,-999,-999,9,2000, 2.0076,27.6816,-999,9
RF05-10,137E,RF-2544,1,-9,-9,5,20051030,1845,5.0095,137.0112,5106,0,29.9351,33.3667,2,-999,9,-999,9,199,2,1.65,2,-999,9,0,2,0,2,0,2,-999,9,-999,9,-999,9,-999,9,-999,9,-999,9,   -999.0,  9,-999,9,-999,-999,9,-999,9,0.09,2,0,2,-999,-999,-999,9,0,29.9349,20.5244,-999,9
RF05-10,137E,RF-2544,1,21,02-18575,2,20051030,1858,5.0095,137.0112,5106,10.5,30.0688,33.5514,2,-999,9,-999,9,200.4,2,1.66,2,-999,9,0,2,0,2,0,2,-999,9,-999,9,-999,9,-999,9,-999,9,-999,9,   -999.0,  9,-999,9,-999,-999,9,-999,9,0.11,4,0,4,-999,-999,-999,9,10,30.0662,20.6181,-999,9
RF05-10,137E,RF-2544,1,20,02-18574,2,20051030,1857,5.0095,137.0112,5106,25.7,29.4544,33.7603,2,-999,9,-999,9,201.6,2,1.69,2,-999,9,0,2,0,2,0,2,-999,9,-999,9,-999,9,-999,9,-999,9,-999,9,   -999.0,  9,-999,9,-999,-999,9,-999,9,0.1,2,0.01,2,-999,-999,-999,9,26,29.4481,20.9837,-999,9
RF05-10,137E,RF-2544,1,19,02-18573,2,20051030,1856,5.0095,137.0112,5106,51.1,28.9211,33.8818,2,-999,9,-999,9,197.2,2,1.95,2,-999,9,0,2,0,2,0.01,2,-999,9,-999,9,-999,9,-999,9,-999,9,-999,9,   -999.0,  9,-999,9,-999,-999,9,-999,9,0.13,2,0.03,2,-999,-999,-999,9,51,28.9088,21.2551,-999,9
RF05-10,137E,RF-2544,1,18,02-18572,2,20051030,1855,5.0095,137.0112,5106,75.2,27.4548,34.3783,2,-999,9,-999,9,187.6,2,2.74,2,-999,9,0.38,2,0.02,2,0.07,2,-999,9,-999,9,-999,9,-999,9,-999,9,-999,9,   -999.0,  9,-999,9,-999,-999,9,-999,9,0.26,2,0.16,2,-999,-999,-999,9,75,27.4374,22.1095,-999,9
RF05-10,137E,RF-2544,1,17,02-18571,2,20051030,1854,5.0095,137.0112,5106,101.3,24.0735,34.7349,2,-999,9,-999,9,162.8,2,4.47,2,-999,9,3.65,2,0.14,2,0.22,2,-999,9,-999,9,-999,9,-999,9,-999,9,-999,9,   -999.0,  9,-999,9,-999,-999,9,-999,9,0.22,2,0.33,2,-999,-999,-999,9,101,24.0521,23.4252,-999,9
RF05-10,137E,RF-2544,1,16,02-18570,2,20051030,1853,5.0095,137.0112,5106,126.3,20.5514,34.8278,2,-999,9,-999,9,148.5,2,8.03,2,-999,9,8.87,2,0.03,2,0.5,2,-999,9,-999,9,-999,9,-999,9,-999,9,-999,9,   -999.0,  9,-999,9,-999,-999,9,-999,9,0.09,2,0.21,2,-999,-999,-999,9,126,20.5276,24.4902,-999,9
RF05-10,137E,RF-2544,1,15,02-18569,2,20051030,1851,5.0095,137.0112,5106,151.3,16.1534,34.7532,2,-999,9,-999,9,137.5,2,14.98,2,-999,9,14.93,2,0,2,0.89,2,-999,9,-999,9,-999,9,-999,9,-999,9,-999,9,   -999.0,  9,-999,9,-999,-999,9,-999,9,0.03,2,0.03,2,-999,-999,-999,9,150,16.1294,25.5281,-999,9
RF05-10,137E,RF-2544,1,14,02-18568,2,20051030,1850,5.0095,137.0112,5106,202.5,12.2575,34.5303,2,-999,9,-999,9,115.2,2,26.03,2,-999,9,22.51,2,0,2,1.47,2,-999,9,-999,9,-999,9,-999,9,-999,9,-999,9,   -999.0,  9,-999,9,-999,-999,9,-999,9,0,2,0.02,2,-999,-999,-999,9,201,12.2308,26.1801,-999,9
RF05-10,137E,RF-2544,1,13,02-18567,2,20051030,1849,5.0095,137.0112,5106,252.3,10.468,34.563,2,-999,9,-999,9,72.7,2,33.63,2,-999,9,29.74,2,0,2,2.06,2,-999,9,-999,9,-999,9,-999,9,-999,9,-999,9,   -999.0,  9,-999,9,-999,-999,9,-999,9,-999,9,-999,9,-999,-999,-999,9,251,10.4379,26.5351,-999,9
RF05-10,137E,RF-2544,1,12,02-18566,2,20051030,1847,5.0095,137.0112,5106,302.9,9.4305,34.5945,2,-999,9,-999,9,59.4,2,37.16,2,-999,9,32.57,2,0,2,2.27,2,-999,9,-999,9,-999,9,-999,9,-999,9,-999,9,   -999.0,  9,-999,9,-999,-999,9,-999,9,-999,9,-999,9,-999,-999,-999,9,301,9.3966,26.7363,-999,9
RF05-10,137E,RF-2544,1,11,02-18565,2,20051030,1845,5.0095,137.0112,5106,402.9,8.1719,34.5763,2,-999,9,-999,9,79.2,2,41.77,2,-999,9,33.03,2,0,2,2.3,2,-999,9,-999,9,-999,9,-999,9,-999,9,-999,9,   -999.0,  9,-999,9,-999,-999,9,-999,9,-999,9,-999,9,-999,-999,-999,9,400,8.1303,26.9215,-999,9
RF05-10,137E,RF-2544,1,10,02-18564,2,20051030,1842,5.0095,137.0112,5106,505,7.4706,34.5678,2,-999,9,-999,9,86.8,2,44.86,2,-999,9,34.18,2,0,2,2.41,2,-999,9,-999,9,-999,9,-999,9,-999,9,-999,9,   -999.0,  9,-999,9,-999,-999,9,-999,9,-999,9,-999,9,-999,-999,-999,9,502,7.4208,27.0191,-999,9
RF05-10,137E,RF-2544,1,9,02-18563,2,20051030,1840,5.0095,137.0112,5106,605.3,6.7697,34.5503,2,-999,9,-999,9,79.7,2,52.38,2,-999,9,35.8,2,0,2,2.56,2,-999,9,-999,9,-999,9,-999,9,-999,9,-999,9,   -999.0,  9,-999,9,-999,-999,9,-999,9,-999,9,-999,9,-999,-999,-999,9,601,6.7128,27.1038,-999,9
RF05-10,137E,RF-2544,1,8,02-18562,2,20051030,1838,5.0095,137.0112,5106,706.3,6.1246,34.5418,2,-999,9,-999,9,72.7,2,63.34,2,-999,9,37.56,2,0,2,2.74,2,-999,9,-999,9,-999,9,-999,9,-999,9,-999,9,   -999.0,  9,-999,9,-999,-999,9,-999,9,-999,9,-999,9,-999,-999,-999,9,701,6.0612,27.1828,-999,9
RF05-10,137E,RF-2544,1,7,02-18561,2,20051030,1836,5.0095,137.0112,5106,807.5,5.5837,34.5396,2,-999,9,-999,9,74.4,2,71.66,2,-999,9,37.81,2,0,2,2.75,2,-999,9,-999,9,-999,9,-999,9,-999,9,-999,9,   -999.0,  9,-999,9,-999,-999,9,-999,9,-999,9,-999,9,-999,-999,-999,9,801,5.5139,27.2493,-999,9
RF05-10,137E,RF-2544,1,6,02-18560,2,20051030,1833,5.0095,137.0112,5106,908.7,4.9163,34.5446,2,-999,9,-999,9,87.3,2,82.63,2,-999,9,37.49,2,0,2,2.73,2,-999,9,-999,9,-999,9,-999,9,-999,9,-999,9,   -999.0,  9,-999,9,-999,-999,9,-999,9,-999,9,-999,9,-999,-999,-999,9,902,4.8417,27.3324,-999,9
RF05-10,137E,RF-2544,1,5,02-18559,2,20051030,1831,5.0095,137.0112,5106,1009.3,4.5103,34.5547,2,-999,9,-999,9,90.5,2,89.46,2,-999,9,37.97,2,0,2,2.77,2,-999,9,-999,9,-999,9,-999,9,-999,9,-999,9,   -999.0,  9,-999,9,-999,-999,9,-999,9,-999,9,-999,9,-999,-999,-999,9,1001,4.4298,27.3862,-999,9
RF05-10,137E,RF-2544,1,4,02-18558,2,20051030,1826,5.0095,137.0112,5106,1261.5,3.7658,34.5752,2,-999,9,-999,9,94.6,2,105.15,2,-999,9,38.41,2,0,2,2.81,2,-999,9,-999,9,-999,9,-999,9,-999,9,-999,9,   -999.0,  9,-999,9,-999,-999,9,-999,9,-999,9,-999,9,-999,-999,-999,9,1251,3.67,27.4819,-999,9
RF05-10,137E,RF-2544,1,3,02-18557,2,20051030,1821,5.0095,137.0112,5106,1515.2,3.1543,34.595,2,-999,9,-999,9,99.6,2,117.88,2,-999,9,38.49,2,0,2,2.78,2,-999,9,-999,9,-999,9,-999,9,-999,9,-999,9,   -999.0,  9,-999,9,-999,-999,9,-999,9,-999,9,-999,9,-999,-999,-999,9,1501, 3.0434,27.5578,-999,9
RF05-10,137E,RF-2544,1,2,02-18556,2,20051030,1816,5.0095,137.0112,5106,1768,2.6274,34.6171,2,-999,9,-999,9,106.2,2,128.92,2,-999,9,38.33,2,0,2,2.76,2,-999,9,-999,9,-999,9,-999,9,-999,9,-999,9,   -999.0,  9,-999,9,-999,-999,9,-999,9,-999,9,-999,9,-999,-999,-999,9,1751, 2.5016,27.6236,-999,9
RF05-10,137E,RF-2544,1,1,02-18555,2,20051030,1812,5.0095,137.0112,5106,2021.6,2.2063,34.6379,2,-999,9,-999,9,113.8,2,136.86,2,-999,9,38,2,0,2,2.71,2,-999,9,-999,9,-999,9,-999,9,-999,9,-999,9,   -999.0,  9,-999,9,-999,-999,9,-999,9,-999,9,-999,9,-999,-999,-999,9,2001, 2.0649,27.6764,-999,9