BOTTLE,20121206MIRCJHATS
EXPOCODE,SECT_ID,STNNBR,CASTNO,SAMPNO,BTLNBR,BTLNBR_FLAG_W,DATE,TIME,LATITUDE,LONGITUDE,DEPTH,CTDPRS,CTDTMP,CTDSAL,CTDSAL_FLAG_W,CTDOXY,CTDOXY_FLAG_W,SALNTY,SALNTY_FLAG_W,OXYGEN,OXYGEN_FLAG_W,SILCAT,SILCAT_FLAG_W,NITRAT,NITRAT_FLAG_W,NO2+NO3,NO2+NO3_FLAG_W,NITRIT,NITRIT_FLAG_W,PHSPHT,PHSPHT_FLAG_W,CFC-11,CFC-11_FLAG_W,CFC-12,CFC-12_FLAG_W,DELC13,DELC13_FLAG_W,TCARBN,TCARBN_FLAG_W,ALKALI,ALKALI_FLAG_W,PH,PH_FLAG_W,PH_TMP,PH_SCALE,PH_NBS,PH_NBS_FLAG_W,C13ERR,TOTALP,TOTALP_FLAG_W,AMMONI,AMMONI_FLAG_W,CHLORA,CHLORA_FLAG_W,PPHYTN,PPHYTN_FLAG_W,REVPRS,REVTMP,DEPTH,DEPTH_FLAG,CTDDEP,THETA,SIGTHT,DOC,DOC_FLAG_W
,,,,,,,GMT,GMT,,,METERS,DBAR,ITS-90,PSS-78,,UMOL/KG,,PSS-78,,UMOL/KG,,UMOL/KG,,UMOL/KG,,UMOL/KG,,UMOL/KG, ,UMOL/KG,,PMOL/KG,,PMOL/KG,,/MILLE,,UMOL/KG,,UMOL/KG,,25_DEG_C,,DEG_C,,,,/MILLE,UMOL/KG,,UMOL/KG,,UG/L,,UG/L,,DBAR,ITS-90,METERS,,METERS,DEG_C,,UMOL/L
RF05-10,137E,RF-2546,1,-9,-9,5,20051031,1205,3.0062,137.037,4512,0,29.6358,34.0293,2,-999,9,-999,9,204.7,2,1.3,2,-999,9,0.07,2,0,2,0.04,2,-999,9,-999,9,-999,9,-999,9,-999,9,-999,9,   -999.0,  9,-999,9,-999,-999,9,-999,9,0.25,2,0.06,2,-999,-999,-999,9,0,29.6356,21.1222,-999,9
RF05-10,137E,RF-2546,1,21,02-18575,2,20051031,1217,3.0062,137.037,4512,9.9,29.6462,34.0299,2,-999,9,34.0296,2,205.2,2,1.33,2,-999,9,0.02,2,0,2,0.02,2,-999,9,-999,9,-999,9,-999,9,-999,9,-999,9,   -999.0,  9,-999,9,-999,-999,9,-999,9,0.21,2,0.04,2,-999,-999,-999,9,10,29.6438,21.1199,-999,9
RF05-10,137E,RF-2546,1,20,02-18574,2,20051031,1216,3.0062,137.037,4512,25.9,29.6495,34.0425,2,-999,9,-999,9,201,2,1.33,2,-999,9,0,2,0,2,0.02,2,-999,9,-999,9,-999,9,-999,9,-999,9,-999,9,   -999.0,  9,-999,9,-999,-999,9,-999,9,0.21,2,0.06,2,-999,-999,-999,9,26,29.6431,21.1296,-999,9
RF05-10,137E,RF-2546,1,19,02-18573,2,20051031,1215,3.0062,137.037,4512,52.4,29.621,34.0563,2,-999,9,-999,9,201.8,2,1.33,2,-999,9,0,2,0,2,0.01,2,-999,9,-999,9,-999,9,-999,9,-999,9,-999,9,   -999.0,  9,-999,9,-999,-999,9,-999,9,0.26,2,0.07,2,-999,-999,-999,9,52,29.6082,21.1518,-999,9
RF05-10,137E,RF-2546,1,18,02-18572,2,20051031,1214,3.0062,137.037,4512,74.9,29.1594,34.1811,2,-999,9,-999,9,198.8,2,1.38,2,-999,9,0.06,2,0,2,0.04,2,-999,9,-999,9,-999,9,-999,9,-999,9,-999,9,   -999.0,  9,-999,9,-999,-999,9,-999,9,0.3,2,0.14,2,-999,-999,-999,9,74,29.1413,21.4022,-999,9
RF05-10,137E,RF-2546,1,17,02-18571,2,20051031,1213,3.0062,137.037,4512,100.4,25.8162,35.0929,2,-999,9,35.1147,4,153.7,2,2.59,2,-999,9,5.24,2,0.18,2,0.35,2,-999,9,-999,9,-999,9,-999,9,-999,9,-999,9,   -999.0,  9,-999,9,-999,-999,9,-999,9,0.2,2,0.35,2,-999,-999,-999,9,100,25.7939,23.1675,-999,9
RF05-10,137E,RF-2546,1,16,02-18570,2,20051031,1213,3.0062,137.037,4512,126.6,25.5761,35.1972,2,-999,9,-999,9,147.3,2,2.88,2,-999,9,6.08,2,0.17,2,0.41,2,-999,9,-999,9,-999,9,-999,9,-999,9,-999,9,   -999.0,  9,-999,9,-999,-999,9,-999,9,0.13,2,0.27,2,-999,-999,-999,9,126,25.5482,23.3223,-999,9
RF05-10,137E,RF-2546,1,15,02-18569,2,20051031,1211,3.0062,137.037,4512,151.8,22.4247,34.7662,2,-999,9,-999,9,150.8,2,6.14,2,-999,9,7.12,2,0.04,2,0.45,2,-999,9,-999,9,-999,9,-999,9,-999,9,-999,9,   -999.0,  9,-999,9,-999,-999,9,-999,9,0.05,2,0.13,2,-999,-999,-999,9,151,22.3943,23.9292,-999,9
RF05-10,137E,RF-2546,1,14,02-18568,2,20051031,1210,3.0062,137.037,4512,203.6,16.9459,34.7525,2,-999,9,34.7526,2,140.7,2,14.82,2,-999,9,13.76,2,0.01,2,0.88,2,-999,9,-999,9,-999,9,-999,9,-999,9,-999,9,   -999.0,  9,-999,9,-999,-999,9,-999,9,0.01,2,0.03,2,-999,-999,-999,9,202,16.9124,25.345,-999,9
RF05-10,137E,RF-2546,1,13,02-18567,2,20051031,1208,3.0062,137.037,4512,254,13.2908,34.5912,2,-999,9,-999,9,137.9,2,21.1,2,-999,9,18.58,2,0,2,1.23,2,-999,9,-999,9,-999,9,-999,9,-999,9,-999,9,   -999.0,  9,-999,9,-999,-999,9,-999,9,-999,9,-999,9,-999,-999,-999,9,252,13.2554,26.0247,-999,9
RF05-10,137E,RF-2546,1,12,02-18566,2,20051031,1206,3.0062,137.037,4512,305.1,9.9553,34.4816,2,-999,9,34.4731,4,103,2,34.96,2,-999,9,27.09,2,0,2,1.87,2,-999,9,-999,9,-999,9,-999,9,-999,9,-999,9,   -999.0,  9,-999,9,-999,-999,9,-999,9,-999,9,-999,9,-999,-999,-999,9,303,9.92,26.5607,-999,9
RF05-10,137E,RF-2546,1,11,02-18565,2,20051031,1202,3.0062,137.037,4512,405.4,8.1492,34.5797,2,-999,9,34.5778,2,78.9,2,41.05,2,-999,9,33.15,2,0,2,2.34,2,-999,9,-999,9,-999,9,-999,9,-999,9,-999,9,   -999.0,  9,-999,9,-999,-999,9,-999,9,-999,9,-999,9,-999,-999,-999,9,403,8.1074,26.9276,-999,9
RF05-10,137E,RF-2546,1,10,02-18564,2,20051031,1158,3.0062,137.037,4512,505.1,7.2928,34.5634,2,-999,9,34.5629,2,122.4,2,39.04,2,-999,9,31.66,2,0,2,2.2,2,-999,9,-999,9,-999,9,-999,9,-999,9,-999,9,   -999.0,  9,-999,9,-999,-999,9,-999,9,-999,9,-999,9,-999,-999,-999,9,502,7.2437,27.0408,-999,9
RF05-10,137E,RF-2546,1,9,02-18563,2,20051031,1155,3.0062,137.037,4512,607.8,6.896,34.5486,2,-999,9,34.5478,2,112.6,2,43.71,2,-999,9,32.67,2,0,2,2.31,2,-999,9,-999,9,-999,9,-999,9,-999,9,-999,9,   -999.0,  9,-999,9,-999,-999,9,-999,9,-999,9,-999,9,-999,-999,-999,9,604,6.8383,27.0854,-999,9
RF05-10,137E,RF-2546,1,8,02-18562,2,20051031,1151,3.0062,137.037,4512,707.8,6.3871,34.5381,2,-999,9,34.5378,2,102.7,2,53.7,2,-999,9,34.55,2,0,2,2.46,2,-999,9,-999,9,-999,9,-999,9,-999,9,-999,9,   -999.0,  9,-999,9,-999,-999,9,-999,9,-999,9,-999,9,-999,-999,-999,9,703,6.3221,27.1462,-999,9
RF05-10,137E,RF-2546,1,7,02-18561,2,20051031,1148,3.0062,137.037,4512,808.4,5.5313,34.5379,2,-999,9,34.538,2,85.8,2,69.04,2,-999,9,36.96,2,0,2,2.67,2,-999,9,-999,9,-999,9,-999,9,-999,9,-999,9,   -999.0,  9,-999,9,-999,-999,9,-999,9,-999,9,-999,9,-999,-999,-999,9,802, 5.4618,27.2543,-999,9
RF05-10,137E,RF-2546,1,6,02-18560,2,20051031,1145,3.0062,137.037,4512,908.6,5.0164,34.5444,2,-999,9,34.544,2,89.5,2,78.03,2,-999,9,37.4,2,0,2,2.71,2,-999,9,-999,9,-999,9,-999,9,-999,9,-999,9,   -999.0,  9,-999,9,-999,-999,9,-999,9,-999,9,-999,9,-999,-999,-999,9,902,4.9411,27.3208,-999,9
RF05-10,137E,RF-2546,1,5,02-18559,2,20051031,1142,3.0062,137.037,4512,1010.6,4.5958,34.5526,2,-999,9,34.5521,2,90.8,2,87.6,2,-999,9,37.87,2,0,2,2.74,2,-999,9,-999,9,-999,9,-999,9,-999,9,-999,9,   -999.0,  9,-999,9,-999,-999,9,-999,9,-999,9,-999,9,-999,-999,-999,9,1003, 4.5146,27.3753,-999,9
RF05-10,137E,RF-2546,1,4,02-18558,2,20051031,1137,3.0062,137.037,4512,1263,3.6985,34.5776,2,-999,9,34.5769,2,95.3,2,105.49,2,-999,9,38.38,2,0,2,2.82,2,-999,9,-999,9,-999,9,-999,9,-999,9,-999,9,   -999.0,  9,-999,9,-999,-999,9,-999,9,-999,9,-999,9,-999,-999,-999,9,1252,3.6032,27.4904,-999,9
RF05-10,137E,RF-2546,1,3,02-18557,2,20051031,1131,3.0062,137.037,4512,1514.5,3.0558,34.5999,2,-999,9,34.5995,2,100.1,2,118.31,2,-999,9,38.51,2,0,2,2.82,2,-999,9,-999,9,-999,9,-999,9,-999,9,-999,9,   -999.0,  9,-999,9,-999,-999,9,-999,9,-999,9,-999,9,-999,-999,-999,9,1501,2.946,27.5706,-999,9
RF05-10,137E,RF-2546,1,2,02-18556,2,20051031,1127,3.0062,137.037,4512,1765.9,2.6065,34.6185,2,-999,9,34.6186,2,106.5,2,126.52,2,-999,9,38.07,2,0,2,2.75,2,-999,9,-999,9,-999,9,-999,9,-999,9,-999,9,   -999.0,  9,-999,9,-999,-999,9,-999,9,-999,9,-999,9,-999,-999,-999,9,1749,2.4811,27.6265,-999,9
RF05-10,137E,RF-2546,1,22,02-18576,2,20051031,1123,3.0062,137.037,4512,2014.1,2.2853,34.6341,2,-999,9,34.6341,2,-999,9,-999,9,-999,9,-999,9,-999,9,-999,9,-999,9,-999,9,-999,9,-999,9,-999,9,-999,9,   -999.0,  9,-999,9,-999,-999,9,-999,9,-999,9,-999,9,-999,-999,-999,9,1993,2.1433,27.667,-999,9
RF05-10,137E,RF-2546,1,1,02-18555,2,20051031,1122,3.0062,137.037,4512,2017.8,2.282,34.6343,2,-999,9,34.6338,2,113.3,2,133.69,2,-999,9,38.05,2,0,2,2.73,2,-999,9,-999,9,-999,9,-999,9,-999,9,-999,9,   -999.0,  9,-999,9,-999,-999,9,-999,9,-999,9,-999,9,-999,-999,-999,9,1997,2.1397,27.6675,-999,9