BOTTLE,20121206MIRCJHATS
EXPOCODE,SECT_ID,STNNBR,CASTNO,SAMPNO,BTLNBR,BTLNBR_FLAG_W,DATE,TIME,LATITUDE,LONGITUDE,DEPTH,CTDPRS,CTDTMP,CTDSAL,CTDSAL_FLAG_W,CTDOXY,CTDOXY_FLAG_W,SALNTY,SALNTY_FLAG_W,OXYGEN,OXYGEN_FLAG_W,SILCAT,SILCAT_FLAG_W,NITRAT,NITRAT_FLAG_W,NO2+NO3,NO2+NO3_FLAG_W,NITRIT,NITRIT_FLAG_W,PHSPHT,PHSPHT_FLAG_W,CFC-11,CFC-11_FLAG_W,CFC-12,CFC-12_FLAG_W,DELC13,DELC13_FLAG_W,TCARBN,TCARBN_FLAG_W,ALKALI,ALKALI_FLAG_W,PH,PH_FLAG_W,PH_TMP,PH_SCALE,PH_NBS,PH_NBS_FLAG_W,C13ERR,TOTALP,TOTALP_FLAG_W,AMMONI,AMMONI_FLAG_W,CHLORA,CHLORA_FLAG_W,PPHYTN,PPHYTN_FLAG_W,REVPRS,REVTMP,DEPTH,DEPTH_FLAG,CTDDEP,THETA,SIGTHT,DOC,DOC_FLAG_W
,,,,,,,GMT,GMT,,,METERS,DBAR,ITS-90,PSS-78,,UMOL/KG,,PSS-78,,UMOL/KG,,UMOL/KG,,UMOL/KG,,UMOL/KG,,UMOL/KG, ,UMOL/KG,,PMOL/KG,,PMOL/KG,,/MILLE,,UMOL/KG,,UMOL/KG,,25_DEG_C,,DEG_C,,,,/MILLE,UMOL/KG,,UMOL/KG,,UG/L,,UG/L,,DBAR,ITS-90,METERS,,METERS,DEG_C,,UMOL/L
RF05-10,137E,RF-2536,1,-9,-9,5,20051028,0436,12.9945,136.9833,4834,0,29.6291,34.2284,2,-999,9,-999,9,201.1,2,1.38,2,-999,9,0,2,0,2,0.03,2,-999,9,-999,9,-999,9,-999,9,-999,9,-999,9,   -999.0,  9,-999,9,-999,-999,9,-999,9,0.08,2,0.01,2,-999,-999,-999,9,0,29.6289,21.2737,-999,9
RF05-10,137E,RF-2536,1,21,02-18575,2,20051028,0450,12.9945,136.9833,4834,10.7,29.6276,34.2289,2,-999,9,34.228,2,198.1,2,1.38,2,-999,9,0,2,0,2,0.02,2,-999,9,-999,9,-999,9,-999,9,-999,9,-999,9,   -999.0,  9,-999,9,-999,-999,9,-999,9,0.08,2,0.01,2,-999,-999,-999,9,11,29.625,21.2755,-999,9
RF05-10,137E,RF-2536,1,20,02-18574,2,20051028,0449,12.9945,136.9833,4834,26.5,29.5698,34.2284,2,-999,9,-999,9,194,2,1.32,2,-999,9,0,2,0,2,0.02,2,-999,9,-999,9,-999,9,-999,9,-999,9,-999,9,   -999.0,  9,-999,9,-999,-999,9,-999,9,0.09,2,0.02,2,-999,-999,-999,9,26,29.5633,21.2959,-999,9
RF05-10,137E,RF-2536,1,19,02-18573,2,20051028,0448,12.9945,136.9833,4834,49.2,29.0273,34.3496,2,-999,9,-999,9,200.7,2,1.38,2,-999,9,0,2,0,2,0.02,2,-999,9,-999,9,-999,9,-999,9,-999,9,-999,9,   -999.0,  9,-999,9,-999,-999,9,-999,9,0.14,2,0.03,2,-999,-999,-999,9,49,29.0154,21.5707,-999,9
RF05-10,137E,RF-2536,1,18,02-18572,2,20051028,0447,12.9945,136.9833,4834,76,27.8337,34.6755,2,-999,9,-999,9,204.1,2,1.32,2,-999,9,0,2,0,2,0.03,2,-999,9,-999,9,-999,9,-999,9,-999,9,-999,9,   -999.0,  9,-999,9,-999,-999,9,-999,9,0.18,2,0.07,2,-999,-999,-999,9,76,27.8159,22.2106,-999,9
RF05-10,137E,RF-2536,1,17,02-18571,2,20051028,0446,12.9945,136.9833,4834,101.4,26.2152,34.8868,2,-999,9,34.8996,4,192,2,1.43,2,-999,9,0,2,0,2,0.05,2,-999,9,-999,9,-999,9,-999,9,-999,9,-999,9,   -999.0,  9,-999,9,-999,-999,9,-999,9,0.21,2,0.28,2,-999,-999,-999,9,101,26.1925,22.8879,-999,9
RF05-10,137E,RF-2536,1,16,02-18570,2,20051028,0445,12.9945,136.9833,4834,125.5,25.3451,34.9667,2,-999,9,-999,9,188,2,1.57,2,-999,9,0.38,2,0.08,2,0.08,2,-999,9,-999,9,-999,9,-999,9,-999,9,-999,9,   -999.0,  9,-999,9,-999,-999,9,-999,9,0.19,2,0.4,2,-999,-999,-999,9,125,25.3176,23.2192,-999,9
RF05-10,137E,RF-2536,1,15,02-18569,2,20051028,0444,12.9945,136.9833,4834,151.6,23.3406,35.0559,2,-999,9,-999,9,177.4,2,2.08,2,-999,9,1.56,2,0.03,2,0.17,2,-999,9,-999,9,-999,9,-999,9,-999,9,-999,9,   -999.0,  9,-999,9,-999,-999,9,-999,9,0.07,2,0.21,2,-999,-999,-999,9,151,23.3093,23.8864,-999,9
RF05-10,137E,RF-2536,1,14,02-18568,2,20051028,0443,12.9945,136.9833,4834,202.1,18.106,34.8197,2,-999,9,34.8153,4,166.3,2,6.04,2,-999,9,7.15,2,0,2,0.51,2,-999,9,-999,9,-999,9,-999,9,-999,9,-999,9,   -999.0,  9,-999,9,-999,-999,9,-999,9,0.01,2,0.02,2,-999,-999,-999,9,201,18.0712,25.1164,-999,9
RF05-10,137E,RF-2536,1,13,02-18567,2,20051028,0441,12.9945,136.9833,4834,253.1,14.4968,34.5406,2,-999,9,-999,9,169.9,2,11.88,2,-999,9,12.32,2,0,2,0.83,2,-999,9,-999,9,-999,9,-999,9,-999,9,-999,9,   -999.0,  9,-999,9,-999,-999,9,-999,9,-999,9,-999,9,-999,-999,-999,9,251,14.4594,25.7347,-999,9
RF05-10,137E,RF-2536,1,12,02-18566,2,20051028,0440,12.9945,136.9833,4834,304.5,11.7655,34.3637,2,-999,9,34.3651,2,155.2,2,20.69,2,-999,9,18.15,2,0,2,1.26,2,-999,9,-999,9,-999,9,-999,9,-999,9,-999,9,   -999.0,  9,-999,9,-999,-999,9,-999,9,-999,9,-999,9,-999,-999,-999,9,303,11.7264,26.1465,-999,9
RF05-10,137E,RF-2536,1,11,02-18565,2,20051028,0437,12.9945,136.9833,4834,403.8,8.8362,34.3848,2,-999,9,34.3858,2,80.6,2,42.21,2,-999,9,30.58,2,0,2,2.2,2,-999,9,-999,9,-999,9,-999,9,-999,9,-999,9,   -999.0,  9,-999,9,-999,-999,9,-999,9,-999,9,-999,9,-999,-999,-999,9,401,8.7926,26.6693,-999,9
RF05-10,137E,RF-2536,1,10,02-18564,2,20051028,0434,12.9945,136.9833,4834,503.4,6.9618,34.3905,2,-999,9,34.3901,2,75.5,2,61.25,2,-999,9,34.66,2,0,2,2.51,2,-999,9,-999,9,-999,9,-999,9,-999,9,-999,9,   -999.0,  9,-999,9,-999,-999,9,-999,9,-999,9,-999,9,-999,-999,-999,9,500,6.9142,26.9504,-999,9
RF05-10,137E,RF-2536,1,9,02-18563,2,20051028,0431,12.9945,136.9833,4834,605.3,6.4215,34.4738,2,-999,9,34.473,2,75.9,2,64.35,2,-999,9,35.77,2,0,2,2.59,2,-999,9,-999,9,-999,9,-999,9,-999,9,-999,9,   -999.0,  9,-999,9,-999,-999,9,-999,9,-999,9,-999,9,-999,-999,-999,9,601,6.3663,27.0896,-999,9
RF05-10,137E,RF-2536,1,8,02-18562,2,20051028,0429,12.9945,136.9833,4834,708.3,5.8213,34.4995,2,-999,9,34.4999,2,80.2,2,70.96,2,-999,9,36.73,2,0,2,2.66,2,-999,9,-999,9,-999,9,-999,9,-999,9,-999,9,   -999.0,  9,-999,9,-999,-999,9,-999,9,-999,9,-999,9,-999,-999,-999,9,703,5.7593,27.1874,-999,9
RF05-10,137E,RF-2536,1,7,02-18561,2,20051028,0426,12.9945,136.9833,4834,807.2,5.2813,34.5149,2,-999,9,34.5147,2,77.8,2,79.6,2,-999,9,37.49,2,0,2,2.72,2,-999,9,-999,9,-999,9,-999,9,-999,9,-999,9,   -999.0,  9,-999,9,-999,-999,9,-999,9,-999,9,-999,9,-999,-999,-999,9,801,5.2134,27.2657,-999,9
RF05-10,137E,RF-2536,1,6,02-18560,2,20051028,0424,12.9945,136.9833,4834,908.1,4.8218,34.5296,2,-999,9,34.5295,2,78.7,2,88.44,2,-999,9,38.19,2,0,2,2.77,2,-999,9,-999,9,-999,9,-999,9,-999,9,-999,9,   -999.0,  9,-999,9,-999,-999,9,-999,9,-999,9,-999,9,-999,-999,-999,9,901,4.7479,27.3311,-999,9
RF05-10,137E,RF-2536,1,5,02-18559,2,20051028,0421,12.9945,136.9833,4834,1008.3,4.4549,34.5401,2,-999,9,34.5396,2,80.9,2,95.67,2,-999,9,38.43,2,0,2,2.79,2,-999,9,-999,9,-999,9,-999,9,-999,9,-999,9,   -999.0,  9,-999,9,-999,-999,9,-999,9,-999,9,-999,9,-999,-999,-999,9,1000,4.375,27.3806,-999,9
RF05-10,137E,RF-2536,1,4,02-18558,2,20051028,0416,12.9945,136.9833,4834,1261.8,3.5848,34.561,2,-999,9,34.561,2,93.6,2,113.6,2,-999,9,38.41,2,0,2,2.79,2,-999,9,-999,9,-999,9,-999,9,-999,9,-999,9,   -999.0,  9,-999,9,-999,-999,9,-999,9,-999,9,-999,9,-999,-999,-999,9,1251, 3.4908,27.4883,-999,9
RF05-10,137E,RF-2536,1,3,02-18557,2,20051028,0411,12.9945,136.9833,4834,1513.6,2.8977,34.5865,2,-999,9,34.5872,2,100.1,2,126.62,2,-999,9,38.38,2,0,2,2.76,2,-999,9,-999,9,-999,9,-999,9,-999,9,-999,9,   -999.0,  9,-999,9,-999,-999,9,-999,9,-999,9,-999,9,-999,-999,-999,9,1499,2.7899,27.574,-999,9
RF05-10,137E,RF-2536,1,2,02-18556,2,20051028,0406,12.9945,136.9833,4834,1768.8,2.4785,34.6099,2,-999,9,34.61,2,105.1,2,133.75,2,-999,9,38.31,2,0,2,2.75,2,-999,9,-999,9,-999,9,-999,9,-999,9,-999,9,   -999.0,  9,-999,9,-999,-999,9,-999,9,-999,9,-999,9,-999,-999,-999,9,1751,2.3546,27.6303,-999,9
RF05-10,137E,RF-2536,1,1,02-18555,2,20051028,0401,12.9945,136.9833,4834,2024.1,2.1545,34.6311,2,-999,9,34.6312,2,116.6,2,138.75,2,-999,9,38.05,2,0,2,2.72,2,-999,9,-999,9,-999,9,-999,9,-999,9,-999,9,   -999.0,  9,-999,9,-999,-999,9,-999,9,-999,9,-999,9,-999,-999,-999,9,2003, 2.0137,27.675,-999,9
RF05-10,137E,RF-2539,1,-9,-9,5,20051028,2348,10.0022,136.9735,4821,0,29.6439,34.0406,2,-999,9,-999,9,195.8,2,1.38,2,-999,9,0,2,0,2,0.04,2,-999,9,-999,9,-999,9,1889,2,-999,9,8.1362,2,     25.0, TS,-999,9,-999,-999,9,-999,9,0.09,2,0.02,2,-999,-999,-999,9,0,29.6437,21.1279,-999,9
RF05-10,137E,RF-2539,1,21,02-18575,2,20051028,2358,10.0022,136.9735,4821,10.4,29.6277,34.0398,2,-999,9,-999,9,198.9,2,1.38,2,-999,9,0,2,0,2,0.03,2,-999,9,-999,9,-999,9,1890.9,2,-999,9,8.133,2,     25.0, TS,-999,9,-999,-999,9,-999,9,0.09,2,0.01,2,-999,-999,-999,9,10,29.6252,21.1336,-999,9
RF05-10,137E,RF-2539,1,20,02-18574,2,20051028,2357,10.0022,136.9735,4821,24.5,29.6243,34.0399,2,-999,9,-999,9,195.4,2,1.33,2,-999,9,0,2,0,2,0.03,2,-999,9,-999,9,-999,9,1890.7,2,-999,9,8.1359,2,     25.0, TS,-999,9,-999,-999,9,-999,9,0.09,2,0.02,2,-999,-999,-999,9,24,29.6183,21.136,-999,9
RF05-10,137E,RF-2539,1,19,02-18573,2,20051028,2356,10.0022,136.9735,4821,51.2,29.6277,34.066,2,-999,9,-999,9,197,2,1.38,2,-999,9,0,2,0,2,0.02,2,-999,9,-999,9,-999,9,1894,2,-999,9,8.1353,2,     25.0, TS,-999,9,-999,-999,9,-999,9,0.1,2,0.01,2,-999,-999,-999,9,51,29.6151,21.1566,-999,9
RF05-10,137E,RF-2539,1,18,02-18572,2,20051028,2354,10.0022,136.9735,4821,76.1,28.439,34.524,2,-999,9,-999,9,207.5,2,1.43,2,-999,9,0,2,0,2,0.05,2,-999,9,-999,9,-999,9,1929.5,2,-999,9,8.1172,2,     25.0, TS,-999,9,-999,-999,9,-999,9,0.16,2,0.05,2,-999,-999,-999,9,76,28.4209,21.8987,-999,9
RF05-10,137E,RF-2539,1,17,02-18571,2,20051028,2353,10.0022,136.9735,4821,101.1,24.9634,34.8866,2,-999,9,-999,9,190.6,2,2.18,2,-999,9,0.4,2,0.08,2,0.14,2,-999,9,-999,9,-999,9,1998.2,2,-999,9,8.044,2,     25.0, TS,-999,9,-999,-999,9,-999,9,0.23,2,0.26,2,-999,-999,-999,9,101,24.9415,23.2733,-999,9
RF05-10,137E,RF-2539,1,16,02-18570,2,20051028,2352,10.0022,136.9735,4821,126.6,20.7387,34.8861,2,-999,9,-999,9,162.7,2,4.99,2,-999,9,5.34,2,0.04,2,0.45,2,-999,9,-999,9,-999,9,2061.1,2,-999,9,7.9269,2,     25.0, TS,-999,9,-999,-999,9,-999,9,0.07,2,0.18,2,-999,-999,-999,9,126,20.7147,24.4844,-999,9
RF05-10,137E,RF-2539,1,15,02-18569,2,20051028,2351,10.0022,136.9735,4821,154,17.3876,34.7481,2,-999,9,-999,9,171.5,2,8.09,2,-999,9,9.28,2,0.01,2,0.65,2,-999,9,-999,9,-999,9,2083.6,2,-999,9,7.8679,2,     25.0, TS,-999,9,-999,-999,9,-999,9,0.03,2,0.08,2,-999,-999,-999,9,153,17.3618,25.2345,-999,9
RF05-10,137E,RF-2539,1,14,02-18568,2,20051028,2349,10.0022,136.9735,4821,202.6,13.1483,34.5135,2,-999,9,-999,9,127.4,2,20.35,2,-999,9,19.17,2,0,2,1.31,2,-999,9,-999,9,-999,9,2141.7,2,-999,9,7.7274,2,     25.0, TS,-999,9,-999,-999,9,-999,9,0,2,0.02,2,-999,-999,-999,9,201,13.1204,25.9918,-999,9
RF05-10,137E,RF-2539,1,13,02-18567,2,20051028,2348,10.0022,136.9735,4821,253.8,11.1569,34.4509,2,-999,9,-999,9,109,2,29.35,2,-999,9,24.42,2,0,2,1.71,2,-999,9,-999,9,-999,9,2177.4,2,-999,9,7.6466,2,     25.0, TS,-999,9,-999,-999,9,-999,9,-999,9,-999,9,-999,-999,-999,9,252,11.1254,26.3252,-999,9
RF05-10,137E,RF-2539,1,12,02-18566,2,20051028,2346,10.0022,136.9735,4821,302.7,9.4427,34.4093,2,-999,9,-999,9,88.4,2,38.06,2,-999,9,28.77,2,0,2,2.06,2,-999,9,-999,9,-999,9,2211.3,2,-999,9,7.5734,2,     25.0, TS,-999,9,-999,-999,9,-999,9,-999,9,-999,9,-999,-999,-999,9,301,9.4089,26.5894,-999,9
RF05-10,137E,RF-2539,1,11,02-18565,2,20051028,2343,10.0022,136.9735,4821,403.3,7.9645,34.441,2,-999,9,-999,9,70.8,2,49.7,2,-999,9,33.11,2,0,2,2.4,2,-999,9,-999,9,-999,9,2242.6,2,-999,9,7.5289,2,     25.0, TS,-999,9,-999,-999,9,-999,9,-999,9,-999,9,-999,-999,-999,9,401,7.9236,26.8461,-999,9
RF05-10,137E,RF-2539,1,10,02-18564,2,20051028,2341,10.0022,136.9735,4821,505.1,7.0809,34.4895,2,-999,9,-999,9,80.1,2,55.14,2,-999,9,34.58,2,0,2,2.49,2,-999,9,-999,9,-999,9,2254.1,2,-999,9,7.5155,2,     25.0, TS,-999,9,-999,-999,9,-999,9,-999,9,-999,9,-999,-999,-999,9,502,7.0326,27.0121,-999,9
RF05-10,137E,RF-2539,1,9,02-18563,2,20051028,2338,10.0022,136.9735,4821,606.6,6.4118,34.5033,2,-999,9,-999,9,79,2,61.95,2,-999,9,35.72,2,0,2,2.58,2,-999,9,-999,9,-999,9,2264,2,-999,9,7.5091,2,     25.0, TS,-999,9,-999,-999,9,-999,9,-999,9,-999,9,-999,-999,-999,9,602, 6.3565,27.1142,-999,9
RF05-10,137E,RF-2539,1,8,02-18562,2,20051028,2336,10.0022,136.9735,4821,706,5.8764,34.5162,2,-999,9,-999,9,85.1,2,68.36,2,-999,9,36.45,2,0,2,2.63,2,-999,9,-999,9,-999,9,2273.8,2,-999,9,7.5096,2,     25.0, TS,-999,9,-999,-999,9,-999,9,-999,9,-999,9,-999,-999,-999,9,701,5.8143,27.1938,-999,9
RF05-10,137E,RF-2539,1,7,02-18561,2,20051028,2334,10.0022,136.9735,4821,806.8,5.4034,34.527,2,-999,9,-999,9,82.8,2,75.85,2,-999,9,37.14,2,0,2,2.68,2,-999,9,-999,9,-999,9,2283.2,2,-999,9,7.5079,2,     25.0, TS,-999,9,-999,-999,9,-999,9,-999,9,-999,9,-999,-999,-999,9,801,5.3348,27.2609,-999,9
RF05-10,137E,RF-2539,1,6,02-18560,2,20051028,2331,10.0022,136.9735,4821,909.2,4.8568,34.5341,2,-999,9,-999,9,79.3,2,87.3,2,-999,9,38.14,2,0,2,2.75,2,-999,9,-999,9,-999,9,2298.3,2,-999,9,7.4929,2,     25.0, TS,-999,9,-999,-999,9,-999,9,-999,9,-999,9,-999,-999,-999,9,902,4.7826,27.3307,-999,9
RF05-10,137E,RF-2539,1,5,02-18559,2,20051028,2329,10.0022,136.9735,4821,1009.3,4.4989,34.544,2,-999,9,-999,9,79.3,2,94.55,2,-999,9,38.53,2,0,2,2.8,2,-999,9,-999,9,-999,9,2307,2,-999,9,7.4909,3,     25.0, TS,-999,9,-999,-999,9,-999,9,-999,9,-999,9,-999,-999,-999,9,1001,4.4185,27.3789,-999,9
RF05-10,137E,RF-2539,1,4,02-18558,2,20051028,2323,10.0022,136.9735,4821,1263.6,3.5644,34.5723,2,-999,9,-999,9,93.4,2,112.41,2,-999,9,38.59,2,0,2,2.77,2,-999,9,-999,9,-999,9,2322.8,2,-999,9,7.5015,2,     25.0, TS,-999,9,-999,-999,9,-999,9,-999,9,-999,9,-999,-999,-999,9,1253,3.4704,27.4992,-999,9
RF05-10,137E,RF-2539,1,3,02-18557,2,20051028,2318,10.0022,136.9735,4821,1514.5,2.8682,34.5982,2,-999,9,-999,9,100.6,2,126.11,2,-999,9,38.57,2,0,2,2.77,2,-999,9,-999,9,-999,9,2334,2,-999,9,7.511,2,     25.0, TS,-999,9,-999,-999,9,-999,9,-999,9,-999,9,-999,-999,-999,9,1501,2.7606,27.5859,-999,9
RF05-10,137E,RF-2539,1,2,02-18556,2,20051028,2313,10.0022,136.9735,4821,1765.7,2.5354,34.6149,2,-999,9,-999,9,105.7,2,131.45,2,-999,9,38.22,2,0,2,2.73,2,-999,9,-999,9,-999,9,2335.1,6,-999,9,7.5212,2,     25.0, TS,-999,9,-999,-999,9,-999,9,-999,9,-999,9,-999,-999,-999,9,1748,2.411,27.6295,-999,9
RF05-10,137E,RF-2539,1,1,02-18555,2,20051028,2309,10.0022,136.9735,4821,2020.8,2.2059,34.6339,2,-999,9,-999,9,116.5,2,136.37,2,-999,9,37.89,2,0,2,2.7,2,-999,9,-999,9,-999,9,2338.1,2,-999,9,7.5358,6,     25.0, TS,-999,9,-999,-999,9,-999,9,-999,9,-999,9,-999,-999,-999,9,2000,2.0645,27.6732,-999,9