BOTTLE,20130510GEMDJMAYT
EXPOCODE,SECT_ID,STNNBR,CASTNO,SAMPNO,BTLNBR,BTLNBR_FLAG_W,DATE,TIME,LATITUDE,LONGITUDE,DEPTH,CTDPRS,CTDTMP,CTDSAL,CTDSAL_FLAG_W,CTDOXY,CTDOXY_FLAG_W,SALNTY,SALNTY_FLAG_W,OXYGEN,OXYGEN_FLAG_W,SILCAT,SILCAT_FLAG_W,NITRAT,NITRAT_FLAG_W,NO2+NO3,NO2+NO3_FLAG_W,NITRIT,NITRIT_FLAG_W,PHSPHT,PHSPHT_FLAG_W,CFC-11,CFC-11_FLAG_W,CFC-12,CFC-12_FLAG_W,DELC13,DELC13_FLAG_W,TCARBN,TCARBN_FLAG_W,ALKALI,ALKALI_FLAG_W,PH,PH_FLAG_W,PH_TMP,PH_SCALE,PH_NBS,PH_NBS_FLAG_W,C13ERR,TOTALP,TOTALP_FLAG_W,AMMONI,AMMONI_FLAG_W,CHLORA,CHLORA_FLAG_W,PPHYTN,PPHYTN_FLAG_W,REVPRS,REVTMP,DEPTH_,DEPTH_FLAG,CTDDEP,THETA,SIGTHT,DOC,DOC_FLAG_W
,,,,,,,GMT,GMT,,,METER,DBAR,ITS-90,PSS-78,,UMOL/KG,,PSS-78,,UMOL/KG,,UMOL/KG,,UMOL/KG,,UMOL/KG,,UMOL/KG,,UMOL/KG,,PMOL/KG,,PMOL/KG,,/MILLE,,UMOL/KG,,UMOL/KG,,25_DEG_C,,DEG_C,,,,/MILLE,UMOL/KG,,UMOL/KG,,UG/L,,UG/L,,DBAR,ITS-90,METERS,,METERS,DEG_C,,UMOL/L,
     RF07-06-2,  137E,RF-3013,  1,     -9,      -9,5,20070727,0638,  8.0003, 136.9850, 3060,      0.0,  28.9013,  33.9458,2,   -999.0,9,-999.0000,9,    196.9,2,     1.73,2,  -999.00,9,     0.00,2,     0.00,2,     0.02,2, -999.000,9, -999.000,9,  -999.00,9,   1902.6,2,   -999.0,9,   8.1204,6,     25.0, TS,  -999.00,9,   -999.0,  -999.00,9,  -999.00,9,     0.16,2,     0.07,2,   -999.0,-999.0000, -999,9,    0,  28.9011,  21.3057,   -999.0,9
     RF07-06-2,  137E,RF-3013,  1,     21,02-18575,2,20070727,0649,  8.0003, 136.9850, 3060,     12.1,  29.0599,  34.0393,2,   -999.0,9,  34.0581,4,    196.7,2,     1.63,2,  -999.00,9,     0.00,2,     0.00,2,     0.02,2, -999.000,9, -999.000,9,  -999.00,9,   1898.5,2,   -999.0,9,-999.0000,9,   -999.0,  9,  -999.00,9,   -999.0,  -999.00,9,  -999.00,9,     0.17,2,     0.05,2,   -999.0,-999.0000, -999,9,   12,  29.0570,  21.3239,   -999.0,9
     RF07-06-2,  137E,RF-3013,  1,     20,02-18574,2,20070727,0648,  8.0003, 136.9850, 3060,     27.0,  29.1125,  34.1137,2,   -999.0,9,-999.0000,9,    197.3,2,     1.58,2,  -999.00,9,     0.00,2,     0.00,2,     0.02,2, -999.000,9, -999.000,9,  -999.00,9,   1912.3,2,   -999.0,9,-999.0000,9,   -999.0,  9,  -999.00,9,   -999.0,  -999.00,9,  -999.00,9,     0.19,2,     0.07,2,   -999.0,-999.0000, -999,9,   27,  29.1060,  21.3634,   -999.0,9
     RF07-06-2,  137E,RF-3013,  1,     19,02-18573,2,20070727,0646,  8.0003, 136.9850, 3060,     52.6,  27.9546,  34.4131,2,   -999.0,9,-999.0000,9,    198.9,2,     1.60,2,  -999.00,9,     0.00,2,     0.00,2,     0.04,2, -999.000,9, -999.000,9,  -999.00,9,   1927.8,3,   -999.0,9,-999.0000,9,   -999.0,  9,  -999.00,9,   -999.0,  -999.00,9,  -999.00,9,     0.22,2,     0.11,2,   -999.0,-999.0000, -999,9,   52,  27.9423,  21.9722,   -999.0,9
     RF07-06-2,  137E,RF-3013,  1,     18,02-18572,2,20070727,0645,  8.0003, 136.9850, 3060,     77.0,  24.8915,  34.8888,2,   -999.0,9,-999.0000,9,    158.5,2,     4.29,2,  -999.00,9,     5.35,2,     0.15,2,     0.41,2, -999.000,9, -999.000,9,  -999.00,9,   2024.1,3,   -999.0,9,-999.0000,9,   -999.0,  9,  -999.00,9,   -999.0,  -999.00,9,  -999.00,9,     0.32,2,     0.29,2,   -999.0,-999.0000, -999,9,   77,  24.8749,  23.2951,   -999.0,9
     RF07-06-2,  137E,RF-3013,  1,     17,02-18571,2,20070727,0644,  8.0003, 136.9850, 3060,    101.8,  21.6091,  34.9240,2,   -999.0,9,  34.9217,4,    160.9,2,     5.00,2,  -999.00,9,     5.50,2,     0.03,2,     0.43,2, -999.000,9, -999.000,9,  -999.00,9,   2045.9,3,   -999.0,9,-999.0000,9,   -999.0,  9,  -999.00,9,   -999.0,  -999.00,9,  -999.00,9,     0.14,2,     0.21,2,   -999.0,-999.0000, -999,9,  101,  21.5893,  24.2745,   -999.0,9
     RF07-06-2,  137E,RF-3013,  1,     16,02-18570,2,20070727,0643,  8.0003, 136.9850, 3060,    127.7,  17.9807,  34.7902,2,   -999.0,9,-999.0000,9,    152.8,2,     9.74,2,  -999.00,9,    10.41,2,     0.00,2,     0.72,2, -999.000,9, -999.000,9,  -999.00,9,   2085.0,3,   -999.0,9,-999.0000,9,   -999.0,  9,  -999.00,9,   -999.0,  -999.00,9,  -999.00,9,     0.04,2,     0.07,2,   -999.0,-999.0000, -999,9,  127,  17.9589,  25.1215,   -999.0,9
     RF07-06-2,  137E,RF-3013,  1,     15,02-18569,2,20070727,0641,  8.0003, 136.9850, 3060,    153.2,  16.5454,  34.8621,2,   -999.0,9,-999.0000,9,    141.1,2,    13.48,2,  -999.00,9,    13.95,2,     0.00,2,     0.97,2, -999.000,9, -999.000,9,  -999.00,9,   2107.3,3,   -999.0,9,-999.0000,9,   -999.0,  9,  -999.00,9,   -999.0,  -999.00,9,  -999.00,9,     0.01,2,     0.02,2,   -999.0,-999.0000, -999,9,  152,  16.5206,  25.5213,   -999.0,9
     RF07-06-2,  137E,RF-3013,  1,     14,02-18568,2,20070727,0639,  8.0003, 136.9850, 3060,    203.1,  12.6029,  34.5775,2,   -999.0,9,  34.5883,4,    115.9,2,    27.01,2,  -999.00,9,    22.21,2,     0.00,2,     1.54,2, -999.000,9, -999.000,9,  -999.00,9,   2158.7,3,   -999.0,9,-999.0000,9,   -999.0,  9,  -999.00,9,   -999.0,  -999.00,9,  -999.00,9,     0.00,2,     0.03,2,   -999.0,-999.0000, -999,9,  202,  12.5756,  26.1496,   -999.0,9
     RF07-06-2,  137E,RF-3013,  1,     13,02-18567,2,20070727,0638,  8.0003, 136.9850, 3060,    253.3,  10.5074,  34.5419,2,   -999.0,9,-999.0000,9,    106.7,2,    34.37,2,  -999.00,9,    26.35,2,     0.00,2,     1.83,2, -999.000,9, -999.000,9,  -999.00,9,   2186.8,3,   -999.0,9,-999.0000,9,   -999.0,  9,  -999.00,9,   -999.0,  -999.00,9,  -999.00,9,  -999.00,9,  -999.00,9,   -999.0,-999.0000, -999,9,  252,  10.4772,  26.5117,   -999.0,9
     RF07-06-2,  137E,RF-3013,  1,     12,02-18348,2,20070727,0636,  8.0003, 136.9850, 3060,    303.5,   9.9133,  34.6240,2,   -999.0,9,  34.6258,2,    115.0,2,    33.54,2,  -999.00,9,    26.94,2,     0.00,2,     1.86,2, -999.000,9, -999.000,9,  -999.00,9,   2192.1,3,   -999.0,9,-999.0000,9,   -999.0,  9,  -999.00,9,   -999.0,  -999.00,9,  -999.00,9,  -999.00,9,  -999.00,9,   -999.0,-999.0000, -999,9,  302,   9.8782,  26.6791,   -999.0,9
     RF07-06-2,  137E,RF-3013,  1,     11,02-18565,2,20070727,0633,  8.0003, 136.9850, 3060,    404.9,   8.9824,  34.5956,2,   -999.0,9,  34.5957,2,     95.4,2,    38.67,2,  -999.00,9,    30.45,2,     0.00,2,     2.11,2, -999.000,9, -999.000,9,  -999.00,9,   2216.8,3,   -999.0,9,-999.0000,9,   -999.0,  9,  -999.00,9,   -999.0,  -999.00,9,  -999.00,9,  -999.00,9,  -999.00,9,   -999.0,-999.0000, -999,9,  402,   8.9382,  26.8113,   -999.0,9
     RF07-06-2,  137E,RF-3013,  1,     10,02-18564,2,20070727,0630,  8.0003, 136.9850, 3060,    505.9,   8.1552,  34.5728,2,   -999.0,9,-999.0000,9,    104.3,2,    41.50,2,  -999.00,9,    31.25,2,     0.00,2,     2.16,2, -999.000,9, -999.000,9,  -999.00,9,   2219.3,3,   -999.0,9,-999.0000,9,   -999.0,  9,  -999.00,9,   -999.0,  -999.00,9,  -999.00,9,  -999.00,9,  -999.00,9,   -999.0,-999.0000, -999,9,  502,   8.1027,  26.9229,   -999.0,9
     RF07-06-2,  137E,RF-3013,  1,      9,02-18563,2,20070727,0628,  8.0003, 136.9850, 3060,    606.7,   7.4198,  34.5423,2,   -999.0,9,  34.5437,2,     79.8,2,    51.83,2,  -999.00,9,    34.74,2,     0.00,2,     2.43,2, -999.000,9, -999.000,9,  -999.00,9,   2248.7,3,   -999.0,9,-999.0000,9,   -999.0,  9,  -999.00,9,   -999.0,  -999.00,9,  -999.00,9,  -999.00,9,  -999.00,9,   -999.0,-999.0000, -999,9,  602,   7.3598,  27.0077,   -999.0,9
     RF07-06-2,  137E,RF-3013,  1,      8,02-18562,2,20070727,0625,  8.0003, 136.9850, 3060,    706.4,   6.8891,  34.5320,2,   -999.0,9,-999.0000,9,     85.0,2,    56.37,2,  -999.00,9,    35.10,2,     0.00,2,     2.47,2, -999.000,9, -999.000,9,  -999.00,9,   2251.6,3,   -999.0,9,-999.0000,9,   -999.0,  9,  -999.00,9,   -999.0,  -999.00,9,  -999.00,9,  -999.00,9,  -999.00,9,   -999.0,-999.0000, -999,9,  701,   6.8216,  27.0746,   -999.0,9
     RF07-06-2,  137E,RF-3013,  1,      7,02-18561,2,20070727,0622,  8.0003, 136.9850, 3060,    807.9,   6.2381,  34.5226,2,   -999.0,9,  34.5279,4,     83.4,2,    66.42,2,  -999.00,9,    36.20,2,     0.00,2,     2.56,2, -999.000,9, -999.000,9,  -999.00,9,   2261.8,3,   -999.0,9,-999.0000,9,   -999.0,  9,  -999.00,9,   -999.0,  -999.00,9,  -999.00,9,  -999.00,9,  -999.00,9,   -999.0,-999.0000, -999,9,  802,   6.1643,  27.1544,   -999.0,9
     RF07-06-2,  137E,RF-3013,  1,      6,02-18560,2,20070727,0620,  8.0003, 136.9850, 3060,    909.8,   5.4760,  34.5294,2,   -999.0,9,-999.0000,9,     82.8,2,    78.49,2,  -999.00,9,    37.40,2,     0.00,2,     2.65,2, -999.000,9, -999.000,9,  -999.00,9,   2282.2,3,   -999.0,9,-999.0000,9,   -999.0,  9,  -999.00,9,   -999.0,  -999.00,9,  -999.00,9,  -999.00,9,  -999.00,9,   -999.0,-999.0000, -999,9,  903,   5.3975,  27.2553,   -999.0,9
     RF07-06-2,  137E,RF-3013,  1,      5,02-18559,2,20070727,0617,  8.0003, 136.9850, 3060,   1010.2,   4.7351,  34.5429,2,   -999.0,9,  34.5451,2,     85.3,2,    91.95,2,  -999.00,9,    38.06,2,     0.00,2,     2.71,2, -999.000,9, -999.000,9,  -999.00,9,   2299.8,3,   -999.0,9,-999.0000,9,   -999.0,  9,  -999.00,9,   -999.0,  -999.00,9,  -999.00,9,  -999.00,9,  -999.00,9,   -999.0,-999.0000, -999,9, 1002,   4.6528,  27.3523,   -999.0,9
     RF07-06-2,  137E,RF-3013,  1,      4,02-18558,2,20070727,0612,  8.0003, 136.9850, 3060,   1263.6,   3.6759,  34.5721,2,   -999.0,9,  34.5740,2,     91.8,2,   111.91,2,  -999.00,9,    38.54,2,     0.00,2,     2.73,2, -999.000,9, -999.000,9,  -999.00,9,   2316.1,3,   -999.0,9,-999.0000,9,   -999.0,  9,  -999.00,9,   -999.0,  -999.00,9,  -999.00,9,  -999.00,9,  -999.00,9,   -999.0,-999.0000, -999,9, 1253,   3.5808,  27.4883,   -999.0,9
     RF07-06-2,  137E,RF-3013,  1,      3,02-18557,2,20070727,0607,  8.0003, 136.9850, 3060,   1516.5,   2.9874,  34.5971,2,   -999.0,9,  34.5991,2,     99.0,2,   124.49,2,  -999.00,9,    38.61,2,     0.00,2,     2.73,2, -999.000,9, -999.000,9,  -999.00,9,   2327.6,3,   -999.0,9,-999.0000,9,   -999.0,  9,  -999.00,9,   -999.0,  -999.00,9,  -999.00,9,  -999.00,9,  -999.00,9,   -999.0,-999.0000, -999,9, 1503,   2.8783,  27.5746,   -999.0,9
     RF07-06-2,  137E,RF-3013,  1,      2,02-18556,2,20070727,0602,  8.0003, 136.9850, 3060,   1768.8,   2.5759,  34.6153,2,   -999.0,9,  34.6186,2,    106.6,2,   131.45,2,  -999.00,9,    38.40,2,     0.00,2,     2.71,2, -999.000,9, -999.000,9,  -999.00,9,   2332.7,6,   -999.0,9,-999.0000,9,   -999.0,  9,  -999.00,9,   -999.0,  -999.00,9,  -999.00,9,  -999.00,9,  -999.00,9,   -999.0,-999.0000, -999,9, 1751,   2.4507,  27.6265,   -999.0,9
     RF07-06-2,  137E,RF-3013,  1,      1,02-18555,2,20070727,0557,  8.0003, 136.9850, 3060,   2021.8,   2.2623,  34.6315,2,   -999.0,9,  34.6339,2,    113.9,2,   136.56,2,  -999.00,9,    38.13,2,     0.00,2,     2.68,2, -999.000,9, -999.000,9,  -999.00,9,   2334.4,3,   -999.0,9,-999.0000,9,   -999.0,  9,  -999.00,9,   -999.0,  -999.00,9,  -999.00,9,  -999.00,9,  -999.00,9,   -999.0,-999.0000, -999,9, 2001,   2.1200,  27.6669,   -999.0,9