BOTTLE,20130510GEMDJMAYT
EXPOCODE,SECT_ID,STNNBR,CASTNO,SAMPNO,BTLNBR,BTLNBR_FLAG_W,DATE,TIME,LATITUDE,LONGITUDE,DEPTH,CTDPRS,CTDTMP,CTDSAL,CTDSAL_FLAG_W,CTDOXY,CTDOXY_FLAG_W,SALNTY,SALNTY_FLAG_W,OXYGEN,OXYGEN_FLAG_W,SILCAT,SILCAT_FLAG_W,NITRAT,NITRAT_FLAG_W,NO2+NO3,NO2+NO3_FLAG_W,NITRIT,NITRIT_FLAG_W,PHSPHT,PHSPHT_FLAG_W,CFC-11,CFC-11_FLAG_W,CFC-12,CFC-12_FLAG_W,DELC13,DELC13_FLAG_W,TCARBN,TCARBN_FLAG_W,ALKALI,ALKALI_FLAG_W,PH,PH_FLAG_W,PH_TMP,PH_SCALE,PH_NBS,PH_NBS_FLAG_W,C13ERR,TOTALP,TOTALP_FLAG_W,AMMONI,AMMONI_FLAG_W,CHLORA,CHLORA_FLAG_W,PPHYTN,PPHYTN_FLAG_W,REVPRS,REVTMP,DEPTH_,DEPTH_FLAG,CTDDEP,THETA,SIGTHT,DOC,DOC_FLAG_W
,,,,,,,GMT,GMT,,,METER,DBAR,ITS-90,PSS-78,,UMOL/KG,,PSS-78,,UMOL/KG,,UMOL/KG,,UMOL/KG,,UMOL/KG,,UMOL/KG,,UMOL/KG,,PMOL/KG,,PMOL/KG,,/MILLE,,UMOL/KG,,UMOL/KG,,25_DEG_C,,DEG_C,,,,/MILLE,UMOL/KG,,UMOL/KG,,UG/L,,UG/L,,DBAR,ITS-90,METERS,,METERS,DEG_C,,UMOL/L,
     RF07-06-2,  137E,RF-3040,  1,     -9,      -9,5,20070805,0335, 32.0018, 137.0115, 4221,      0.0,  27.5010,  34.5787,2,   -999.0,9,-999.0000,9,    204.4,2,     1.77,2,  -999.00,9,     0.00,2,     0.00,2,     0.00,2, -999.000,9, -999.000,9,  -999.00,9,   1948.8,2,   -999.0,9,   8.0878,6,     25.0, TS,  -999.00,9,   -999.0,  -999.00,9,  -999.00,9,     0.05,2,     0.01,2,   -999.0,-999.0000, -999,9,    0,  27.5008,  22.2398,   -999.0,9
     RF07-06-2,  137E,RF-3040,  1,     21,02-18575,2,20070805,0346, 32.0018, 137.0115, 4221,     11.4,  26.9039,  34.5722,2,   -999.0,9,  34.5717,2,    205.4,2,     1.72,2,  -999.00,9,     0.00,2,     0.00,2,     0.00,2, -999.000,9, -999.000,9,  -999.00,9,   1946.1,2,   -999.0,9,-999.0000,9,   -999.0,  9,  -999.00,9,   -999.0,  -999.00,9,  -999.00,9,     0.06,2,     0.01,2,   -999.0,-999.0000, -999,9,   11,  26.9013,  22.4270,   -999.0,9
     RF07-06-2,  137E,RF-3040,  1,     20,02-18574,2,20070805,0344, 32.0018, 137.0115, 4221,     26.9,  26.7963,  34.5679,2,   -999.0,9,-999.0000,9,    206.0,2,     1.72,2,  -999.00,9,     0.00,2,     0.00,2,     0.00,2, -999.000,9, -999.000,9,  -999.00,9,   1946.9,2,   -999.0,9,-999.0000,9,   -999.0,  9,  -999.00,9,   -999.0,  -999.00,9,  -999.00,9,     0.07,2,     0.01,2,   -999.0,-999.0000, -999,9,   27,  26.7902,  22.4590,   -999.0,9
     RF07-06-2,  137E,RF-3040,  1,     19,02-18573,2,20070805,0343, 32.0018, 137.0115, 4221,     51.5,  25.9937,  34.6008,2,   -999.0,9,-999.0000,9,    217.1,2,     1.72,2,  -999.00,9,     0.00,2,     0.00,2,     0.00,2, -999.000,9, -999.000,9,  -999.00,9,   1954.8,2,   -999.0,9,-999.0000,9,   -999.0,  9,  -999.00,9,   -999.0,  -999.00,9,  -999.00,9,     0.12,2,     0.04,2,   -999.0,-999.0000, -999,9,   51,  25.9822,  22.7377,   -999.0,9
     RF07-06-2,  137E,RF-3040,  1,     18,02-18572,2,20070805,0341, 32.0018, 137.0115, 4221,     76.5,  22.6869,  34.7738,2,   -999.0,9,-999.0000,9,    218.0,2,     1.78,2,  -999.00,9,     0.00,2,     0.00,2,     0.00,2, -999.000,9, -999.000,9,  -999.00,9,   1969.7,2,   -999.0,9,-999.0000,9,   -999.0,  9,  -999.00,9,   -999.0,  -999.00,9,  -999.00,9,     0.17,2,     0.08,2,   -999.0,-999.0000, -999,9,   76,  22.6715,  23.8562,   -999.0,9
     RF07-06-2,  137E,RF-3040,  1,     17,02-18571,2,20070805,0340, 32.0018, 137.0115, 4221,    102.2,  21.2432,  34.8142,2,   -999.0,9,  34.8162,2,    210.4,2,     1.94,2,  -999.00,9,     0.30,2,     0.18,2,     0.03,2, -999.000,9, -999.000,9,  -999.00,9,   1993.0,2,   -999.0,9,-999.0000,9,   -999.0,  9,  -999.00,9,   -999.0,  -999.00,9,  -999.00,9,     0.32,2,     0.42,2,   -999.0,-999.0000, -999,9,  101,  21.2235,  24.2915,   -999.0,9
     RF07-06-2,  137E,RF-3040,  1,     16,02-18570,2,20070805,0339, 32.0018, 137.0115, 4221,    127.8,  20.7143,  34.8221,2,   -999.0,9,-999.0000,9,    207.7,2,     2.32,2,  -999.00,9,     1.07,2,     0.20,2,     0.06,2, -999.000,9, -999.000,9,  -999.00,9,   1999.1,2,   -999.0,9,-999.0000,9,   -999.0,  9,  -999.00,9,   -999.0,  -999.00,9,  -999.00,9,     0.15,2,     0.26,2,   -999.0,-999.0000, -999,9,  127,  20.6901,  24.4423,   -999.0,9
     RF07-06-2,  137E,RF-3040,  1,     15,02-18569,2,20070805,0337, 32.0018, 137.0115, 4221,    153.0,  19.9876,  34.8435,2,   -999.0,9,-999.0000,9,    207.0,2,     2.54,2,  -999.00,9,     1.36,2,     0.02,2,     0.08,2, -999.000,9, -999.000,9,  -999.00,9,   2002.5,2,   -999.0,9,-999.0000,9,   -999.0,  9,  -999.00,9,   -999.0,  -999.00,9,  -999.00,9,     0.06,2,     0.13,2,   -999.0,-999.0000, -999,9,  152,  19.9594,  24.6531,   -999.0,9
     RF07-06-2,  137E,RF-3040,  1,     14,02-18568,2,20070805,0335, 32.0018, 137.0115, 4221,    205.0,  19.2874,  34.8289,2,   -999.0,9,  34.8306,2,    203.4,2,     3.08,2,  -999.00,9,     2.58,2,     0.01,2,     0.15,2, -999.000,9, -999.000,9,  -999.00,9,   2011.0,2,   -999.0,9,-999.0000,9,   -999.0,  9,  -999.00,9,   -999.0,  -999.00,9,  -999.00,9,     0.02,2,     0.03,2,   -999.0,-999.0000, -999,9,  203,  19.2505,  24.8262,   -999.0,9
     RF07-06-2,  137E,RF-3040,  1,     13,02-18567,2,20070805,0333, 32.0018, 137.0115, 4221,    254.9,  18.6850,  34.8300,2,   -999.0,9,-999.0000,9,    198.4,2,     3.80,2,  -999.00,9,     3.79,2,     0.00,2,     0.21,2, -999.000,9, -999.000,9,  -999.00,9,   2019.9,2,   -999.0,9,-999.0000,9,   -999.0,  9,  -999.00,9,   -999.0,  -999.00,9,  -999.00,9,  -999.00,9,  -999.00,9,   -999.0,-999.0000, -999,9,  253,  18.6401,  24.9825,   -999.0,9
     RF07-06-2,  137E,RF-3040,  1,     12,02-18348,2,20070805,0331, 32.0018, 137.0115, 4221,    305.4,  17.9266,  34.8063,2,   -999.0,9,  34.8073,2,    196.1,2,     4.95,2,  -999.00,9,     5.01,2,     0.00,2,     0.28,2, -999.000,9, -999.000,9,  -999.00,9,   2033.4,2,   -999.0,9,-999.0000,9,   -999.0,  9,  -999.00,9,   -999.0,  -999.00,9,  -999.00,9,  -999.00,9,  -999.00,9,   -999.0,-999.0000, -999,9,  303,  17.8742,  25.1546,   -999.0,9
     RF07-06-2,  137E,RF-3040,  1,     11,02-18565,2,20070805,0328, 32.0018, 137.0115, 4221,    406.5,  16.0723,  34.6791,2,   -999.0,9,  34.6811,2,    190.4,2,     8.74,2,  -999.00,9,     8.25,2,     0.00,2,     0.50,2, -999.000,9, -999.000,9,  -999.00,9,   2054.9,2,   -999.0,9,-999.0000,9,   -999.0,  9,  -999.00,9,   -999.0,  -999.00,9,  -999.00,9,  -999.00,9,  -999.00,9,   -999.0,-999.0000, -999,9,  403,  16.0076,  25.4990,   -999.0,9
     RF07-06-2,  137E,RF-3040,  1,     10,02-18564,2,20070805,0325, 32.0018, 137.0115, 4221,    505.9,  13.9731,  34.5106,2,   -999.0,9,-999.0000,9,    181.6,2,    14.83,2,  -999.00,9,    12.34,2,     0.00,2,     0.79,2, -999.000,9, -999.000,9,  -999.00,9,   2081.2,2,   -999.0,9,-999.0000,9,   -999.0,  9,  -999.00,9,   -999.0,  -999.00,9,  -999.00,9,  -999.00,9,  -999.00,9,   -999.0,-999.0000, -999,9,  502,  13.8996,  25.8298,   -999.0,9
     RF07-06-2,  137E,RF-3040,  1,      9,02-18563,2,20070805,0323, 32.0018, 137.0115, 4221,    607.6,  11.5338,  34.3548,2,   -999.0,9,  34.3575,2,    168.6,2,    27.38,2,  -999.00,9,    17.78,2,     0.00,2,     1.19,2, -999.000,9, -999.000,9,  -999.00,9,   2118.8,2,   -999.0,9,-999.0000,9,   -999.0,  9,  -999.00,9,   -999.0,  -999.00,9,  -999.00,9,  -999.00,9,  -999.00,9,   -999.0,-999.0000, -999,9,  602,  11.4557,  26.1899,   -999.0,9
     RF07-06-2,  137E,RF-3040,  1,      8,02-18562,2,20070805,0320, 32.0018, 137.0115, 4221,    707.9,   8.8813,  34.2117,2,   -999.0,9,-999.0000,9,    147.0,2,    45.96,2,  -999.00,9,    24.24,2,     0.00,2,     1.68,2, -999.000,9, -999.000,9,  -999.00,9,   2170.2,2,   -999.0,9,-999.0000,9,   -999.0,  9,  -999.00,9,   -999.0,  -999.00,9,  -999.00,9,  -999.00,9,  -999.00,9,   -999.0,-999.0000, -999,9,  702,   8.8036,  26.5319,   -999.0,9
     RF07-06-2,  137E,RF-3040,  1,      7,02-18561,2,20070805,0317, 32.0018, 137.0115, 4221,    809.6,   6.9818,  34.1736,2,   -999.0,9,  34.1768,2,    118.0,2,    67.57,2,  -999.00,9,    30.09,2,     0.00,2,     2.12,2, -999.000,9, -999.000,9,  -999.00,9,   2222.1,2,   -999.0,9,-999.0000,9,   -999.0,  9,  -999.00,9,   -999.0,  -999.00,9,  -999.00,9,  -999.00,9,  -999.00,9,   -999.0,-999.0000, -999,9,  802,   6.9038,  26.7810,   -999.0,9
     RF07-06-2,  137E,RF-3040,  1,      6,02-18560,2,20070805,0315, 32.0018, 137.0115, 4221,    910.6,   5.4736,  34.1996,2,   -999.0,9,-999.0000,9,     86.7,2,    89.61,2,  -999.00,9,    35.20,2,     0.00,2,     2.51,2, -999.000,9, -999.000,9,  -999.00,9,   2265.4,2,   -999.0,9,-999.0000,9,   -999.0,  9,  -999.00,9,   -999.0,  -999.00,9,  -999.00,9,  -999.00,9,  -999.00,9,   -999.0,-999.0000, -999,9,  902,   5.3955,  26.9944,   -999.0,9
     RF07-06-2,  137E,RF-3040,  1,      5,02-18559,2,20070805,0312, 32.0018, 137.0115, 4221,   1012.0,   4.8366,  34.2941,2,   -999.0,9,  34.2965,2,     71.8,2,   103.93,2,  -999.00,9,    37.21,2,     0.00,2,     2.68,2, -999.000,9, -999.000,9,  -999.00,9,   2280.8,2,   -999.0,9,-999.0000,9,   -999.0,  9,  -999.00,9,   -999.0,  -999.00,9,  -999.00,9,  -999.00,9,  -999.00,9,   -999.0,-999.0000, -999,9, 1003,   4.7538,  27.1435,   -999.0,9
     RF07-06-2,  137E,RF-3040,  1,      4,02-18558,2,20070805,0307, 32.0018, 137.0115, 4221,   1265.5,   3.5143,  34.4168,2,   -999.0,9,  34.4187,2,     64.9,2,   128.04,2,  -999.00,9,    39.57,2,     0.00,2,     2.84,2, -999.000,9, -999.000,9,  -999.00,9,   2336.8,2,   -999.0,9,-999.0000,9,   -999.0,  9,  -999.00,9,   -999.0,  -999.00,9,  -999.00,9,  -999.00,9,  -999.00,9,   -999.0,-999.0000, -999,9, 1253,   3.4209,  27.3800,   -999.0,9
     RF07-06-2,  137E,RF-3040,  1,      3,02-18557,2,20070805,0302, 32.0018, 137.0115, 4221,   1518.2,   2.7785,  34.5021,2,   -999.0,9,  34.5047,2,     74.6,2,   139.42,2,  -999.00,9,    39.79,2,     0.00,2,     2.84,2, -999.000,9, -999.000,9,  -999.00,9,   2343.5,2,   -999.0,9,-999.0000,9,   -999.0,  9,  -999.00,9,   -999.0,  -999.00,9,  -999.00,9,  -999.00,9,  -999.00,9,   -999.0,-999.0000, -999,9, 1502,   2.6719,  27.5169,   -999.0,9
     RF07-06-2,  137E,RF-3040,  1,      2,02-18556,2,20070805,0257, 32.0018, 137.0115, 4221,   1770.9,   2.3432,  34.5547,2,   -999.0,9,  34.5573,2,     87.6,2,   144.98,2,  -999.00,9,    39.33,2,     0.00,2,     2.79,2, -999.000,9, -999.000,9,  -999.00,9,   2347.5,6,   -999.0,9,-999.0000,9,   -999.0,  9,  -999.00,9,   -999.0,  -999.00,9,  -999.00,9,  -999.00,9,  -999.00,9,   -999.0,-999.0000, -999,9, 1751,   2.2211,  27.5971,   -999.0,9
     RF07-06-2,  137E,RF-3040,  1,      1,02-18555,2,20070805,0252, 32.0018, 137.0115, 4221,   2024.4,   2.0740,  34.5941,2,   -999.0,9,  34.5967,2,    104.3,2,   145.42,2,  -999.00,9,    38.41,2,     0.00,2,     2.71,2, -999.000,9, -999.000,9,  -999.00,9,   2343.0,2,   -999.0,9,-999.0000,9,   -999.0,  9,  -999.00,9,   -999.0,  -999.00,9,  -999.00,9,  -999.00,9,  -999.00,9,   -999.0,-999.0000, -999,9, 2001,   1.9345,  27.6516,   -999.0,9
     RF07-06-2,  137E,RF-3045,  1,     -9,      -9,5,20070805,2154, 33.9942, 136.9932, 1112,      0.0,  25.9011,  33.6731,2,   -999.0,9,-999.0000,9,    211.2,2,     1.16,2,  -999.00,9,     0.00,2,     0.00,2,     0.00,2, -999.000,9, -999.000,9,  -999.00,9,   1918.9,2,   -999.0,9,   8.0861,6,     25.0, TS,  -999.00,9,   -999.0,  -999.00,9,  -999.00,9,     0.19,2,     0.04,2,   -999.0,-999.0000, -999,9,    0,  25.9009,  22.0633,   -999.0,9
     RF07-06-2,  137E,RF-3045,  1,     21,02-18575,2,20070805,2216, 33.9942, 136.9932, 1112,     10.4,  24.6580,  33.8353,2,   -999.0,9,  33.8886,4,    221.5,2,     2.38,2,  -999.00,9,     0.00,2,     0.00,2,     0.01,2, -999.000,9, -999.000,9,  -999.00,9,   1927.3,2,   -999.0,9,-999.0000,9,   -999.0,  9,  -999.00,9,   -999.0,  -999.00,9,  -999.00,9,     0.29,2,     0.07,2,   -999.0,-999.0000, -999,9,   10,  24.6558,  22.5649,   -999.0,9
     RF07-06-2,  137E,RF-3045,  1,     20,02-18574,2,20070805,2214, 33.9942, 136.9932, 1112,     26.0,  22.0684,  34.1509,2,   -999.0,9,-999.0000,9,    220.3,2,     4.75,2,  -999.00,9,     0.84,2,     0.08,2,     0.09,2, -999.000,9, -999.000,9,  -999.00,9,   1973.7,2,   -999.0,9,-999.0000,9,   -999.0,  9,  -999.00,9,   -999.0,  -999.00,9,  -999.00,9,     0.96,2,     0.31,2,   -999.0,-999.0000, -999,9,   26,  22.0633,  23.5551,   -999.0,9
     RF07-06-2,  137E,RF-3045,  1,     19,02-18573,2,20070805,2213, 33.9942, 136.9932, 1112,     51.7,  19.0291,  34.5582,2,   -999.0,9,-999.0000,9,    193.6,2,     8.08,2,  -999.00,9,     4.91,2,     0.48,2,     0.34,2, -999.000,9, -999.000,9,  -999.00,9,   2025.9,2,   -999.0,9,-999.0000,9,   -999.0,  9,  -999.00,9,   -999.0,  -999.00,9,  -999.00,9,     1.15,2,     0.43,2,   -999.0,-999.0000, -999,9,   51,  19.0199,  24.6784,   -999.0,9
     RF07-06-2,  137E,RF-3045,  1,     18,02-18572,2,20070805,2211, 33.9942, 136.9932, 1112,     77.2,  16.8791,  34.6045,2,   -999.0,9,-999.0000,9,    173.2,2,    14.51,2,  -999.00,9,     9.77,2,     0.04,2,     0.63,2, -999.000,9, -999.000,9,  -999.00,9,   2065.6,2,   -999.0,9,-999.0000,9,   -999.0,  9,  -999.00,9,   -999.0,  -999.00,9,  -999.00,9,     0.17,2,     0.14,2,   -999.0,-999.0000, -999,9,   77,  16.8665,  25.2422,   -999.0,9
     RF07-06-2,  137E,RF-3045,  1,     17,02-18571,2,20070805,2210, 33.9942, 136.9932, 1112,    101.2,  15.3952,  34.5847,2,   -999.0,9,  34.5837,2,    167.9,2,    18.82,2,  -999.00,9,    12.08,2,     0.02,2,     0.80,2, -999.000,9, -999.000,9,  -999.00,9,   2085.5,2,   -999.0,9,-999.0000,9,   -999.0,  9,  -999.00,9,   -999.0,  -999.00,9,  -999.00,9,     0.06,2,     0.10,2,   -999.0,-999.0000, -999,9,  100,  15.3797,  25.5679,   -999.0,9
     RF07-06-2,  137E,RF-3045,  1,     16,02-18570,2,20070805,2208, 33.9942, 136.9932, 1112,    126.2,  14.0434,  34.5333,2,   -999.0,9,-999.0000,9,    161.2,2,    25.00,2,  -999.00,9,    15.04,2,     0.00,2,     1.00,2, -999.000,9, -999.000,9,  -999.00,9,   2106.4,2,   -999.0,9,-999.0000,9,   -999.0,  9,  -999.00,9,   -999.0,  -999.00,9,  -999.00,9,     0.03,2,     0.08,2,   -999.0,-999.0000, -999,9,  125,  14.0252,  25.8211,   -999.0,9
     RF07-06-2,  137E,RF-3045,  1,     15,02-18569,2,20070805,2207, 33.9942, 136.9932, 1112,    152.7,  12.3306,  34.4591,2,   -999.0,9,-999.0000,9,    151.4,2,    33.21,2,  -999.00,9,    18.42,2,     0.00,2,     1.26,2, -999.000,9, -999.000,9,  -999.00,9,   2133.0,2,   -999.0,9,-999.0000,9,   -999.0,  9,  -999.00,9,   -999.0,  -999.00,9,  -999.00,9,     0.01,2,     0.04,2,   -999.0,-999.0000, -999,9,  152,  12.3105,  26.1094,   -999.0,9
     RF07-06-2,  137E,RF-3045,  1,     14,02-18568,2,20070805,2205, 33.9942, 136.9932, 1112,    203.2,  10.7739,  34.3811,2,   -999.0,9,  34.3758,4,    142.2,2,    41.84,2,  -999.00,9,    21.79,2,     0.00,2,     1.50,2, -999.000,9, -999.000,9,  -999.00,9,   2157.8,2,   -999.0,9,-999.0000,9,   -999.0,  9,  -999.00,9,   -999.0,  -999.00,9,  -999.00,9,     0.01,2,     0.04,2,   -999.0,-999.0000, -999,9,  202,  10.7493,  26.3384,   -999.0,9
     RF07-06-2,  137E,RF-3045,  1,     13,02-18567,2,20070805,2203, 33.9942, 136.9932, 1112,    252.8,   8.9701,  34.3162,2,   -999.0,9,-999.0000,9,    126.6,2,    55.09,2,  -999.00,9,    25.99,2,     0.00,2,     1.81,2, -999.000,9, -999.000,9,  -999.00,9,   2188.2,2,   -999.0,9,-999.0000,9,   -999.0,  9,  -999.00,9,   -999.0,  -999.00,9,  -999.00,9,  -999.00,9,  -999.00,9,   -999.0,-999.0000, -999,9,  251,   8.9428,  26.5918,   -999.0,9
     RF07-06-2,  137E,RF-3045,  1,     12,02-18348,2,20070805,2201, 33.9942, 136.9932, 1112,    302.7,   8.0344,  34.2932,2,   -999.0,9,  34.2959,2,    116.7,2,    64.06,2,  -999.00,9,    28.19,2,     0.00,2,     2.00,2, -999.000,9, -999.000,9,  -999.00,9,   2209.8,3,   -999.0,9,-999.0000,9,   -999.0,  9,  -999.00,9,   -999.0,  -999.00,9,  -999.00,9,  -999.00,9,  -999.00,9,   -999.0,-999.0000, -999,9,  300,   8.0038,  26.7181,   -999.0,9
     RF07-06-2,  137E,RF-3045,  1,     11,02-18565,2,20070805,2158, 33.9942, 136.9932, 1112,    404.1,   6.8876,  34.2481,2,   -999.0,9,  34.2557,4,    105.7,2,    74.68,2,  -999.00,9,    31.21,2,     0.00,2,     2.22,2, -999.000,9, -999.000,9,  -999.00,9,   2237.9,3,   -999.0,9,-999.0000,9,   -999.0,  9,  -999.00,9,   -999.0,  -999.00,9,  -999.00,9,  -999.00,9,  -999.00,9,   -999.0,-999.0000, -999,9,  401,   6.8500,  26.8469,   -999.0,9
     RF07-06-2,  137E,RF-3045,  1,     10,02-18564,3,20070805,2156, 33.9942, 136.9932, 1112,    504.4,   5.7155,  34.2575,2,   -999.0,9,-999.0000,9,     89.7,2,    89.98,2,  -999.00,9,    34.55,2,     0.00,2,     2.47,2, -999.000,9, -999.000,9,  -999.00,9,   2269.1,3,   -999.0,9,-999.0000,9,   -999.0,  9,  -999.00,9,   -999.0,  -999.00,9,  -999.00,9,  -999.00,9,  -999.00,9,   -999.0,-999.0000, -999,9,  500,   5.6727,  27.0067,   -999.0,9
     RF07-06-2,  137E,RF-3045,  1,      9,02-18563,3,20070805,2153, 33.9942, 136.9932, 1112,    606.7,   4.9270,  34.2623,2,   -999.0,9,  34.2651,2,     74.2,2,   100.47,2,  -999.00,9,    36.82,2,     0.00,2,     2.65,2, -999.000,9, -999.000,9,  -999.00,9,   2290.9,3,   -999.0,9,-999.0000,9,   -999.0,  9,  -999.00,9,   -999.0,  -999.00,9,  -999.00,9,  -999.00,9,  -999.00,9,   -999.0,-999.0000, -999,9,  601,   4.8788,  27.1042,   -999.0,9
     RF07-06-2,  137E,RF-3045,  1,      8,02-18562,2,20070805,2150, 33.9942, 136.9932, 1112,    707.4,   4.2731,  34.3205,2,   -999.0,9,-999.0000,9,     64.1,2,   113.21,2,  -999.00,9,    38.55,2,     0.00,2,     2.78,2, -999.000,9, -999.000,9,  -999.00,9,   2313.1,3,   -999.0,9,-999.0000,9,   -999.0,  9,  -999.00,9,   -999.0,  -999.00,9,  -999.00,9,  -999.00,9,  -999.00,9,   -999.0,-999.0000, -999,9,  701,   4.2199,  27.2226,   -999.0,9
     RF07-06-2,  137E,RF-3045,  1,      7,02-18561,2,20070805,2148, 33.9942, 136.9932, 1112,    808.3,   3.8501,  34.3575,2,   -999.0,9,  34.3597,2,     60.7,2,   121.33,2,  -999.00,9,    39.31,2,     0.00,2,     2.84,2, -999.000,9, -999.000,9,  -999.00,9,   2328.4,3,   -999.0,9,-999.0000,9,   -999.0,  9,  -999.00,9,   -999.0,  -999.00,9,  -999.00,9,  -999.00,9,  -999.00,9,   -999.0,-999.0000, -999,9,  801,   3.7913,  27.2963,   -999.0,9
     RF07-06-2,  137E,RF-3045,  1,      6,02-18560,2,20070805,2145, 33.9942, 136.9932, 1112,    909.9,   3.5701,  34.3978,2,   -999.0,9,-999.0000,9,     62.5,2,   126.90,2,  -999.00,9,    39.43,2,     0.00,2,     2.84,2, -999.000,9, -999.000,9,  -999.00,9,   2332.6,3,   -999.0,9,-999.0000,9,   -999.0,  9,  -999.00,9,   -999.0,  -999.00,9,  -999.00,9,  -999.00,9,  -999.00,9,   -999.0,-999.0000, -999,9,  901,   3.5051,  27.3568,   -999.0,9
     RF07-06-2,  137E,RF-3045,  1,      5,02-18559,2,20070805,2142, 33.9942, 136.9932, 1112,   1010.5,   3.4721,  34.4102,2,   -999.0,9,  34.4135,2,     62.9,2,   128.92,2,  -999.00,9,    39.54,2,     0.00,2,     2.86,2, -999.000,9, -999.000,9,  -999.00,9,   2335.4,3,   -999.0,9,-999.0000,9,   -999.0,  9,  -999.00,9,   -999.0,  -999.00,9,  -999.00,9,  -999.00,9,  -999.00,9,   -999.0,-999.0000, -999,9, 1001,   3.3999,  27.3768,   -999.0,9
     RF07-06-2,  137E,RF-3045,  1,      4,02-18558,2,20070805,2140, 33.9942, 136.9932, 1112,   1064.6,   3.3142,  34.4281,2,   -999.0,9,  34.4301,2,     64.0,2,   131.66,2,  -999.00,9,    39.64,2,     0.00,2,     2.85,2, -999.000,9, -999.000,9,  -999.00,9,   2339.1,3,   -999.0,9,-999.0000,9,   -999.0,  9,  -999.00,9,   -999.0,  -999.00,9,  -999.00,9,  -999.00,9,  -999.00,9,   -999.0,-999.0000, -999,9, 1054,   3.2389,  27.4064,   -999.0,9