BOTTLE,20130510GEMDJMAYT
EXPOCODE,SECT_ID,STNNBR,CASTNO,SAMPNO,BTLNBR,BTLNBR_FLAG_W,DATE,TIME,LATITUDE,LONGITUDE,DEPTH,CTDPRS,CTDTMP,CTDSAL,CTDSAL_FLAG_W,CTDOXY,CTDOXY_FLAG_W,SALNTY,SALNTY_FLAG_W,OXYGEN,OXYGEN_FLAG_W,SILCAT,SILCAT_FLAG_W,NITRAT,NITRAT_FLAG_W,NO2+NO3,NO2+NO3_FLAG_W,NITRIT,NITRIT_FLAG_W,PHSPHT,PHSPHT_FLAG_W,CFC-11,CFC-11_FLAG_W,CFC-12,CFC-12_FLAG_W,DELC13,DELC13_FLAG_W,TCARBN,TCARBN_FLAG_W,ALKALI,ALKALI_FLAG_W,PH,PH_FLAG_W,PH_TMP,PH_SCALE,PH_NBS,PH_NBS_FLAG_W,C13ERR,TOTALP,TOTALP_FLAG_W,AMMONI,AMMONI_FLAG_W,CHLORA,CHLORA_FLAG_W,PPHYTN,PPHYTN_FLAG_W,REVPRS,REVTMP,DEPTH_,DEPTH_FLAG,CTDDEP,THETA,SIGTHT,DOC,DOC_FLAG_W
,,,,,,,GMT,GMT,,,METER,DBAR,ITS-90,PSS-78,,UMOL/KG,,PSS-78,,UMOL/KG,,UMOL/KG,,UMOL/KG,,UMOL/KG,,UMOL/KG,,UMOL/KG,,PMOL/KG,,PMOL/KG,,/MILLE,,UMOL/KG,,UMOL/KG,,25_DEG_C,,DEG_C,,,,/MILLE,UMOL/KG,,UMOL/KG,,UG/L,,UG/L,,DBAR,ITS-90,METERS,,METERS,DEG_C,,UMOL/L,
     RF07-06-2,  137E,RF-3018,  1,     -9,      -9,5,20070728,1450, 13.0025, 136.9905, 4893,      0.0,  30.0807,  34.0370,2,   -999.0,9,-999.0000,9,    193.6,2,     1.59,2,  -999.00,9,     0.00,2,     0.00,2,     0.06,2, -999.000,9, -999.000,9,  -999.00,9,   1899.8,3,   -999.0,9,   8.1169,2,     25.0, TS,  -999.00,9,   -999.0,  -999.00,9,  -999.00,9,     0.03,2,     0.01,2,   -999.0,-999.0000, -999,9,    0,  30.0805,  20.9770,   -999.0,9
     RF07-06-2,  137E,RF-3018,  1,     21,02-18575,2,20070728,1508, 13.0025, 136.9905, 4893,     11.6,  30.0857,  34.0367,2,   -999.0,9,  34.0358,2,    194.2,2,     1.60,2,  -999.00,9,     0.00,2,     0.00,2,     0.04,2, -999.000,9, -999.000,9,  -999.00,9,   1903.3,3,   -999.0,9,-999.0000,9,   -999.0,  9,  -999.00,9,   -999.0,  -999.00,9,  -999.00,9,     0.03,2,     0.01,2,   -999.0,-999.0000, -999,9,   12,  30.0828,  20.9760,   -999.0,9
     RF07-06-2,  137E,RF-3018,  1,     20,02-18574,2,20070728,1506, 13.0025, 136.9905, 4893,     27.2,  29.9993,  34.0419,2,   -999.0,9,-999.0000,9,    195.4,2,     1.70,2,  -999.00,9,     0.00,2,     0.00,2,     0.03,2, -999.000,9, -999.000,9,  -999.00,9,   1897.1,3,   -999.0,9,-999.0000,9,   -999.0,  9,  -999.00,9,   -999.0,  -999.00,9,  -999.00,9,     0.04,2,     0.01,2,   -999.0,-999.0000, -999,9,   27,  29.9926,  21.0106,   -999.0,9
     RF07-06-2,  137E,RF-3018,  1,     19,02-18573,2,20070728,1505, 13.0025, 136.9905, 4893,     52.2,  29.5249,  34.0077,2,   -999.0,9,-999.0000,9,    197.1,2,     1.69,2,  -999.00,9,     0.00,2,     0.00,2,     0.03,2, -999.000,9, -999.000,9,  -999.00,9,   1900.7,3,   -999.0,9,-999.0000,9,   -999.0,  9,  -999.00,9,   -999.0,  -999.00,9,  -999.00,9,     0.07,2,     0.02,2,   -999.0,-999.0000, -999,9,   52,  29.5121,  21.1476,   -999.0,9
     RF07-06-2,  137E,RF-3018,  1,     18,02-18572,2,20070728,1504, 13.0025, 136.9905, 4893,     77.9,  29.2874,  34.1887,2,   -999.0,9,-999.0000,9,    196.6,2,     1.66,2,  -999.00,9,     0.00,2,     0.00,2,     0.05,2, -999.000,9, -999.000,9,  -999.00,9,   1912.5,3,   -999.0,9,-999.0000,9,   -999.0,  9,  -999.00,9,   -999.0,  -999.00,9,  -999.00,9,     0.08,2,     0.04,2,   -999.0,-999.0000, -999,9,   77,  29.2685,  21.3653,   -999.0,9
     RF07-06-2,  137E,RF-3018,  1,     17,02-18571,2,20070728,1502, 13.0025, 136.9905, 4893,    103.4,  27.6421,  34.5034,2,   -999.0,9,  34.5093,4,    195.2,2,     2.11,2,  -999.00,9,     0.00,2,     0.00,2,     0.08,2, -999.000,9, -999.000,9,  -999.00,9,   1946.5,2,   -999.0,9,-999.0000,9,   -999.0,  9,  -999.00,9,   -999.0,  -999.00,9,  -999.00,9,     0.21,2,     0.21,2,   -999.0,-999.0000, -999,9,  103,  27.6180,  22.1453,   -999.0,9
     RF07-06-2,  137E,RF-3018,  1,     16,02-18570,2,20070728,1501, 13.0025, 136.9905, 4893,    127.4,  25.0182,  34.6792,2,   -999.0,9,-999.0000,9,    175.1,2,     3.49,2,  -999.00,9,     1.98,2,     0.37,2,     0.26,2, -999.000,9, -999.000,9,  -999.00,9,   1994.7,2,   -999.0,9,-999.0000,9,   -999.0,  9,  -999.00,9,   -999.0,  -999.00,9,  -999.00,9,     0.18,2,     0.40,2,   -999.0,-999.0000, -999,9,  127,  24.9906,  23.1017,   -999.0,9
     RF07-06-2,  137E,RF-3018,  1,     15,02-18569,2,20070728,1500, 13.0025, 136.9905, 4893,    153.0,  22.7656,  34.8117,2,   -999.0,9,-999.0000,9,    165.3,2,     4.80,2,  -999.00,9,     3.88,2,     0.02,2,     0.36,2, -999.000,9, -999.000,9,  -999.00,9,   2032.5,2,   -999.0,9,-999.0000,9,   -999.0,  9,  -999.00,9,   -999.0,  -999.00,9,  -999.00,9,     0.08,2,     0.23,2,   -999.0,-999.0000, -999,9,  152,  22.7346,  23.8670,   -999.0,9
     RF07-06-2,  137E,RF-3018,  1,     14,02-18568,2,20070728,1458, 13.0025, 136.9905, 4893,    203.7,  16.9658,  34.6945,2,   -999.0,9,  34.6951,2,    168.6,2,     7.96,2,  -999.00,9,     8.49,2,     0.00,2,     0.61,2, -999.000,9, -999.000,9,  -999.00,9,   2073.4,2,   -999.0,9,-999.0000,9,   -999.0,  9,  -999.00,9,   -999.0,  -999.00,9,  -999.00,9,     0.01,2,     0.03,2,   -999.0,-999.0000, -999,9,  202,  16.9323,  25.2958,   -999.0,9
     RF07-06-2,  137E,RF-3018,  1,     13,02-18567,2,20070728,1456, 13.0025, 136.9905, 4893,    252.8,  13.9093,  34.4878,2,   -999.0,9,-999.0000,9,    152.9,2,    15.28,2,  -999.00,9,    14.80,2,     0.00,2,     1.03,2, -999.000,9, -999.000,9,  -999.00,9,   2109.9,2,   -999.0,9,-999.0000,9,   -999.0,  9,  -999.00,9,   -999.0,  -999.00,9,  -999.00,9,  -999.00,9,  -999.00,9,   -999.0,-999.0000, -999,9,  251,  13.8730,  25.8178,   -999.0,9
     RF07-06-2,  137E,RF-3018,  1,     12,02-18348,2,20070728,1454, 13.0025, 136.9905, 4893,    302.8,  11.0077,  34.3614,2,   -999.0,9,  34.3623,2,    126.4,2,    27.91,2,  -999.00,9,    22.43,2,     0.00,2,     1.58,2, -999.000,9, -999.000,9,  -999.00,9,   2157.9,3,   -999.0,9,-999.0000,9,   -999.0,  9,  -999.00,9,   -999.0,  -999.00,9,  -999.00,9,  -999.00,9,  -999.00,9,   -999.0,-999.0000, -999,9,  301,  10.9704,  26.2836,   -999.0,9
     RF07-06-2,  137E,RF-3018,  1,     11,02-18565,2,20070728,1452, 13.0025, 136.9905, 4893,    403.0,   8.6535,  34.4290,2,   -999.0,9,  34.4296,2,     70.9,2,    46.22,2,  -999.00,9,    32.44,2,     0.00,2,     2.31,2, -999.000,9, -999.000,9,  -999.00,9,   2232.1,3,   -999.0,9,-999.0000,9,   -999.0,  9,  -999.00,9,   -999.0,  -999.00,9,  -999.00,9,  -999.00,9,  -999.00,9,   -999.0,-999.0000, -999,9,  400,   8.6106,  26.7324,   -999.0,9
     RF07-06-2,  137E,RF-3018,  1,     10,02-18564,2,20070728,1449, 13.0025, 136.9905, 4893,    503.8,   7.6177,  34.4909,2,   -999.0,9,-999.0000,9,     63.3,2,    54.87,2,  -999.00,9,    35.13,2,     0.00,2,     2.50,2, -999.000,9, -999.000,9,  -999.00,9,   2250.5,3,   -999.0,9,-999.0000,9,   -999.0,  9,  -999.00,9,   -999.0,  -999.00,9,  -999.00,9,  -999.00,9,  -999.00,9,   -999.0,-999.0000, -999,9,  500,   7.5675,  26.9375,   -999.0,9
     RF07-06-2,  137E,RF-3018,  1,      9,02-18563,2,20070728,1446, 13.0025, 136.9905, 4893,    605.2,   6.8416,  34.4970,2,   -999.0,9,  34.4979,2,     64.4,2,    62.60,2,  -999.00,9,    36.46,2,     0.00,2,     2.61,2, -999.000,9, -999.000,9,  -999.00,9,   2266.4,3,   -999.0,9,-999.0000,9,   -999.0,  9,  -999.00,9,   -999.0,  -999.00,9,  -999.00,9,  -999.00,9,  -999.00,9,   -999.0,-999.0000, -999,9,  601,   6.7844,  27.0521,   -999.0,9
     RF07-06-2,  137E,RF-3018,  1,      8,02-18562,2,20070728,1443, 13.0025, 136.9905, 4893,    706.2,   6.0885,  34.5087,2,   -999.0,9,-999.0000,9,     69.4,2,    71.08,2,  -999.00,9,    37.31,2,     0.00,2,     2.68,2, -999.000,9, -999.000,9,  -999.00,9,   2276.4,3,   -999.0,9,-999.0000,9,   -999.0,  9,  -999.00,9,   -999.0,  -999.00,9,  -999.00,9,  -999.00,9,  -999.00,9,   -999.0,-999.0000, -999,9,  701,   6.0253,  27.1612,   -999.0,9
     RF07-06-2,  137E,RF-3018,  1,      7,02-18561,2,20070728,1441, 13.0025, 136.9905, 4893,    807.8,   5.5706,  34.5175,2,   -999.0,9,  34.5181,2,     70.5,2,    78.86,2,  -999.00,9,    38.25,2,     0.00,2,     2.75,2, -999.000,9, -999.000,9,  -999.00,9,   2286.2,3,   -999.0,9,-999.0000,9,   -999.0,  9,  -999.00,9,   -999.0,  -999.00,9,  -999.00,9,  -999.00,9,  -999.00,9,   -999.0,-999.0000, -999,9,  802,   5.5009,  27.2334,   -999.0,9
     RF07-06-2,  137E,RF-3018,  1,      6,02-18560,2,20070728,1438, 13.0025, 136.9905, 4893,    909.1,   5.1523,  34.5257,2,   -999.0,9,-999.0000,9,     74.0,2,    85.69,2,  -999.00,9,    38.60,2,     0.00,2,     2.76,2, -999.000,9, -999.000,9,  -999.00,9,   2299.3,2,   -999.0,9,-999.0000,9,   -999.0,  9,  -999.00,9,   -999.0,  -999.00,9,  -999.00,9,  -999.00,9,  -999.00,9,   -999.0,-999.0000, -999,9,  902,   5.0761,  27.2904,   -999.0,9
     RF07-06-2,  137E,RF-3018,  1,      5,02-18559,2,20070728,1435, 13.0025, 136.9905, 4893,   1009.4,   4.5536,  34.5390,2,   -999.0,9,  34.5404,2,     71.7,3,    97.47,2,  -999.00,9,    39.37,2,     0.00,2,     2.83,2, -999.000,9, -999.000,9,  -999.00,9,   2308.8,2,   -999.0,9,-999.0000,9,   -999.0,  9,  -999.00,9,   -999.0,  -999.00,9,  -999.00,9,  -999.00,9,  -999.00,9,   -999.0,-999.0000, -999,9, 1001,   4.4728,  27.3691,   -999.0,9
     RF07-06-2,  137E,RF-3018,  1,      4,02-18558,2,20070728,1430, 13.0025, 136.9905, 4893,   1262.4,   3.6412,  34.5635,2,   -999.0,9,  34.5648,2,     83.5,2,   114.93,2,  -999.00,9,    39.19,2,     0.00,2,     2.80,2, -999.000,9, -999.000,9,  -999.00,9,   2327.0,2,   -999.0,9,-999.0000,9,   -999.0,  9,  -999.00,9,   -999.0,  -999.00,9,  -999.00,9,  -999.00,9,  -999.00,9,   -999.0,-999.0000, -999,9, 1251,   3.5465,  27.4847,   -999.0,9
     RF07-06-2,  137E,RF-3018,  1,      3,02-18557,2,20070728,1425, 13.0025, 136.9905, 4893,   1515.3,   3.0181,  34.5847,2,   -999.0,9,  34.5869,2,     94.0,2,   126.25,2,  -999.00,9,    38.92,2,     0.00,2,     2.76,2, -999.000,9, -999.000,9,  -999.00,9,   2325.4,3,   -999.0,9,-999.0000,9,   -999.0,  9,  -999.00,9,   -999.0,  -999.00,9,  -999.00,9,  -999.00,9,  -999.00,9,   -999.0,-999.0000, -999,9, 1501,   2.9088,  27.5619,   -999.0,9
     RF07-06-2,  137E,RF-3018,  1,      2,02-18556,2,20070728,1419, 13.0025, 136.9905, 4893,   1768.7,   2.4887,  34.6111,2,   -999.0,9,  34.6130,2,    103.4,2,   135.27,2,  -999.00,9,    38.60,2,     0.00,2,     2.73,2, -999.000,9, -999.000,9,  -999.00,9,   2338.7,6,   -999.0,9,-999.0000,9,   -999.0,  9,  -999.00,9,   -999.0,  -999.00,9,  -999.00,9,  -999.00,9,  -999.00,9,   -999.0,-999.0000, -999,9, 1751,   2.3647,  27.6304,   -999.0,9
     RF07-06-2,  137E,RF-3018,  1,      1,02-18555,2,20070728,1414, 13.0025, 136.9905, 4893,   2021.8,   2.2592,  34.6243,2,   -999.0,9,  34.6268,2,    110.3,2,   139.48,2,  -999.00,9,    38.35,2,     0.00,2,     2.70,2, -999.000,9, -999.000,9,  -999.00,9,   2341.8,2,   -999.0,9,-999.0000,9,   -999.0,  9,  -999.00,9,   -999.0,  -999.00,9,  -999.00,9,  -999.00,9,  -999.00,9,   -999.0,-999.0000, -999,9, 2000,   2.1170,  27.6613,   -999.0,9