BOTTLE,20130510GEMDJMAYT
EXPOCODE,SECT_ID,STNNBR,CASTNO,SAMPNO,BTLNBR,BTLNBR_FLAG_W,DATE,TIME,LATITUDE,LONGITUDE,DEPTH,CTDPRS,CTDTMP,CTDSAL,CTDSAL_FLAG_W,CTDOXY,CTDOXY_FLAG_W,SALNTY,SALNTY_FLAG_W,OXYGEN,OXYGEN_FLAG_W,SILCAT,SILCAT_FLAG_W,NITRAT,NITRAT_FLAG_W,NO2+NO3,NO2+NO3_FLAG_W,NITRIT,NITRIT_FLAG_W,PHSPHT,PHSPHT_FLAG_W,CFC-11,CFC-11_FLAG_W,CFC-12,CFC-12_FLAG_W,DELC13,DELC13_FLAG_W,TCARBN,TCARBN_FLAG_W,ALKALI,ALKALI_FLAG_W,PH,PH_FLAG_W,PH_TMP,PH_SCALE,PH_NBS,PH_NBS_FLAG_W,C13ERR,TOTALP,TOTALP_FLAG_W,AMMONI,AMMONI_FLAG_W,CHLORA,CHLORA_FLAG_W,PPHYTN,PPHYTN_FLAG_W,REVPRS,REVTMP,DEPTH_,DEPTH_FLAG,CTDDEP,THETA,SIGTHT,DOC,DOC_FLAG_W
,,,,,,,GMT,GMT,,,METER,DBAR,ITS-90,PSS-78,,UMOL/KG,,PSS-78,,UMOL/KG,,UMOL/KG,,UMOL/KG,,UMOL/KG,,UMOL/KG,,UMOL/KG,,PMOL/KG,,PMOL/KG,,/MILLE,,UMOL/KG,,UMOL/KG,,25_DEG_C,,DEG_C,,,,/MILLE,UMOL/KG,,UMOL/KG,,UG/L,,UG/L,,DBAR,ITS-90,METERS,,METERS,DEG_C,,UMOL/L,
     RF07-06-2,  137E,RF-3023,  1,     -9,      -9,5,20070801,0120, 17.9970, 137.0217, 4766,      0.0,  30.1407,  34.7324,2,   -999.0,9,-999.0000,9,    193.8,2,     1.22,2,  -999.00,9,     0.01,2,     0.00,2,     0.00,2, -999.000,9, -999.000,9,  -999.00,9,   1928.9,2,   -999.0,9,   8.1288,6,     25.0, TS,  -999.00,9,   -999.0,  -999.00,9,  -999.00,9,     0.08,2,     0.02,2,   -999.0,-999.0000, -999,9,    0,  30.1405,  21.4776,   -999.0,9
     RF07-06-2,  137E,RF-3023,  1,     21,02-18575,2,20070801,0135, 17.9970, 137.0217, 4766,     11.7,  30.1401,  34.7310,2,   -999.0,9,  34.7296,4,    194.0,2,     1.20,2,  -999.00,9,     0.00,2,     0.00,2,     0.00,2, -999.000,9, -999.000,9,  -999.00,9,   1924.9,2,   -999.0,9,-999.0000,9,   -999.0,  9,  -999.00,9,   -999.0,  -999.00,9,  -999.00,9,     0.08,2,     0.02,2,   -999.0,-999.0000, -999,9,   12,  30.1372,  21.4776,   -999.0,9
     RF07-06-2,  137E,RF-3023,  1,     20,02-18574,2,20070801,0134, 17.9970, 137.0217, 4766,     26.9,  30.1156,  34.7294,2,   -999.0,9,-999.0000,9,    194.6,2,     1.19,2,  -999.00,9,     0.00,2,     0.00,2,     0.00,2, -999.000,9, -999.000,9,  -999.00,9,   1923.5,2,   -999.0,9,-999.0000,9,   -999.0,  9,  -999.00,9,   -999.0,  -999.00,9,  -999.00,9,     0.08,2,     0.02,2,   -999.0,-999.0000, -999,9,   27,  30.1089,  21.4861,   -999.0,9
     RF07-06-2,  137E,RF-3023,  1,     19,02-18573,2,20070801,0133, 17.9970, 137.0217, 4766,     50.9,  29.6649,  34.7224,2,   -999.0,9,-999.0000,9,    199.6,2,     1.19,2,  -999.00,9,     0.02,2,     0.00,2,     0.00,2, -999.000,9, -999.000,9,  -999.00,9,   1931.0,2,   -999.0,9,-999.0000,9,   -999.0,  9,  -999.00,9,   -999.0,  -999.00,9,  -999.00,9,     0.09,2,     0.02,2,   -999.0,-999.0000, -999,9,   51,  29.6524,  21.6362,   -999.0,9
     RF07-06-2,  137E,RF-3023,  1,     18,02-18572,2,20070801,0131, 17.9970, 137.0217, 4766,     76.2,  28.3776,  34.7650,2,   -999.0,9,-999.0000,9,    205.9,2,     1.16,2,  -999.00,9,     0.01,2,     0.00,2,     0.00,2, -999.000,9, -999.000,9,  -999.00,9,   1931.7,2,   -999.0,9,-999.0000,9,   -999.0,  9,  -999.00,9,   -999.0,  -999.00,9,  -999.00,9,     0.15,2,     0.06,2,   -999.0,-999.0000, -999,9,   76,  28.3595,  22.1001,   -999.0,9
     RF07-06-2,  137E,RF-3023,  1,     17,02-18571,2,20070801,0130, 17.9970, 137.0217, 4766,    102.5,  26.1909,  34.8797,2,   -999.0,9,  34.8984,4,    209.0,2,     1.27,2,  -999.00,9,     0.01,2,     0.00,2,     0.00,2, -999.000,9, -999.000,9,  -999.00,9,   1952.0,2,   -999.0,9,-999.0000,9,   -999.0,  9,  -999.00,9,   -999.0,  -999.00,9,  -999.00,9,     0.20,2,     0.09,2,   -999.0,-999.0000, -999,9,  102,  26.1679,  22.8901,   -999.0,9
     RF07-06-2,  137E,RF-3023,  1,     16,02-18570,2,20070801,0129, 17.9970, 137.0217, 4766,    126.9,  25.2458,  34.9429,2,   -999.0,9,-999.0000,9,    204.9,2,     1.38,2,  -999.00,9,     0.00,2,     0.00,2,     0.00,2, -999.000,9, -999.000,9,  -999.00,9,   1960.0,2,   -999.0,9,-999.0000,9,   -999.0,  9,  -999.00,9,   -999.0,  -999.00,9,  -999.00,9,     0.22,2,     0.17,2,   -999.0,-999.0000, -999,9,  126,  25.2181,  23.2316,   -999.0,9
     RF07-06-2,  137E,RF-3023,  1,     15,02-18569,2,20070801,0127, 17.9970, 137.0217, 4766,    152.3,  23.9192,  35.0055,2,   -999.0,9,-999.0000,9,    194.2,2,     1.60,2,  -999.00,9,     0.21,2,     0.16,2,     0.03,2, -999.000,9, -999.000,9,  -999.00,9,   1989.5,2,   -999.0,9,-999.0000,9,   -999.0,  9,  -999.00,9,   -999.0,  -999.00,9,  -999.00,9,     0.12,2,     0.24,2,   -999.0,-999.0000, -999,9,  151,  23.8872,  23.6789,   -999.0,9
     RF07-06-2,  137E,RF-3023,  1,     14,02-18568,2,20070801,0126, 17.9970, 137.0217, 4766,    203.4,  20.8844,  34.9860,2,   -999.0,9,  34.9849,4,    183.5,2,     2.66,2,  -999.00,9,     2.46,2,     0.00,2,     0.18,2, -999.000,9, -999.000,9,  -999.00,9,   2025.9,2,   -999.0,9,-999.0000,9,   -999.0,  9,  -999.00,9,   -999.0,  -999.00,9,  -999.00,9,     0.01,2,     0.03,2,   -999.0,-999.0000, -999,9,  202,  20.8456,  24.5252,   -999.0,9
     RF07-06-2,  137E,RF-3023,  1,     13,02-18567,2,20070801,0124, 17.9970, 137.0217, 4766,    253.3,  18.0190,  34.8218,2,   -999.0,9,-999.0000,9,    193.8,2,     4.28,2,  -999.00,9,     4.68,2,     0.00,2,     0.29,2, -999.000,9, -999.000,9,  -999.00,9,   2035.0,2,   -999.0,9,-999.0000,9,   -999.0,  9,  -999.00,9,   -999.0,  -999.00,9,  -999.00,9,  -999.00,9,  -999.00,9,   -999.0,-999.0000, -999,9,  252,  17.9755,  25.1416,   -999.0,9
     RF07-06-2,  137E,RF-3023,  1,     12,02-18348,2,20070801,0122, 17.9970, 137.0217, 4766,    304.4,  16.7039,  34.7246,2,   -999.0,9,  34.7268,2,    195.9,2,     6.02,2,  -999.00,9,     6.53,2,     0.00,2,     0.40,2, -999.000,9, -999.000,9,  -999.00,9,   2044.6,2,   -999.0,9,-999.0000,9,   -999.0,  9,  -999.00,9,   -999.0,  -999.00,9,  -999.00,9,  -999.00,9,  -999.00,9,   -999.0,-999.0000, -999,9,  302,  16.6542,  25.3844,   -999.0,9
     RF07-06-2,  137E,RF-3023,  1,     11,02-18565,2,20070801,0120, 17.9970, 137.0217, 4766,    405.5,  13.1026,  34.4272,2,   -999.0,9,  34.4304,2,    184.0,2,    15.38,2,  -999.00,9,    13.30,2,     0.00,2,     0.88,2, -999.000,9, -999.000,9,  -999.00,9,   2086.8,2,   -999.0,9,-999.0000,9,   -999.0,  9,  -999.00,9,   -999.0,  -999.00,9,  -999.00,9,  -999.00,9,  -999.00,9,   -999.0,-999.0000, -999,9,  403,  13.0464,  25.9398,   -999.0,9
     RF07-06-2,  137E,RF-3023,  1,     10,02-18564,2,20070801,0117, 17.9970, 137.0217, 4766,    506.6,   9.3121,  34.2032,2,   -999.0,9,-999.0000,9,    150.1,2,    36.38,2,  -999.00,9,    23.16,2,     0.00,2,     1.59,2, -999.000,9, -999.000,9,  -999.00,9,   2159.0,2,   -999.0,9,-999.0000,9,   -999.0,  9,  -999.00,9,   -999.0,  -999.00,9,  -999.00,9,  -999.00,9,  -999.00,9,   -999.0,-999.0000, -999,9,  503,   9.2555,  26.4532,   -999.0,9
     RF07-06-2,  137E,RF-3023,  1,      9,02-18563,2,20070801,0114, 17.9970, 137.0217, 4766,    606.5,   6.6795,  34.1862,2,   -999.0,9,  34.1871,2,     90.8,2,    65.51,2,  -999.00,9,    33.08,2,     0.00,2,     2.36,2, -999.000,9, -999.000,9,  -999.00,9,   2240.6,2,   -999.0,9,-999.0000,9,   -999.0,  9,  -999.00,9,   -999.0,  -999.00,9,  -999.00,9,  -999.00,9,  -999.00,9,   -999.0,-999.0000, -999,9,  602,   6.6232,  26.8287,   -999.0,9
     RF07-06-2,  137E,RF-3023,  1,      8,02-18562,2,20070801,0111, 17.9970, 137.0217, 4766,    708.5,   5.6237,  34.2367,2,   -999.0,9,-999.0000,9,     69.0,2,    83.67,2,  -999.00,9,    36.73,2,     0.00,2,     2.64,2, -999.000,9, -999.000,9,  -999.00,9,   2281.3,3,   -999.0,9,-999.0000,9,   -999.0,  9,  -999.00,9,   -999.0,  -999.00,9,  -999.00,9,  -999.00,9,  -999.00,9,   -999.0,-999.0000, -999,9,  703,   5.5631,  27.0036,   -999.0,9
     RF07-06-2,  137E,RF-3023,  1,      7,02-18561,2,20070801,0109, 17.9970, 137.0217, 4766,    807.9,   4.9408,  34.3638,2,   -999.0,9,  34.3652,2,     63.6,2,    97.43,2,  -999.00,9,    38.41,2,     0.00,2,     2.76,2, -999.000,9, -999.000,9,  -999.00,9,   2301.4,2,   -999.0,9,-999.0000,9,   -999.0,  9,  -999.00,9,   -999.0,  -999.00,9,  -999.00,9,  -999.00,9,  -999.00,9,   -999.0,-999.0000, -999,9,  802,   4.8752,  27.1851,   -999.0,9
     RF07-06-2,  137E,RF-3023,  1,      6,02-18560,2,20070801,0106, 17.9970, 137.0217, 4766,    910.2,   4.3224,  34.4321,2,   -999.0,9,-999.0000,9,     67.9,2,   109.22,2,  -999.00,9,    38.92,2,     0.00,2,     2.79,2, -999.000,9, -999.000,9,  -999.00,9,   2309.0,3,   -999.0,9,-999.0000,9,   -999.0,  9,  -999.00,9,   -999.0,  -999.00,9,  -999.00,9,  -999.00,9,  -999.00,9,   -999.0,-999.0000, -999,9,  903,   4.2520,  27.3080,   -999.0,9
     RF07-06-2,  137E,RF-3023,  1,      5,02-18559,2,20070801,0103, 17.9970, 137.0217, 4766,   1011.5,   3.9042,  34.4752,2,   -999.0,9,  34.4783,2,     73.8,2,   116.87,2,  -999.00,9,    39.00,2,     0.00,2,     2.79,2, -999.000,9, -999.000,9,  -999.00,9,   2321.5,2,   -999.0,9,-999.0000,9,   -999.0,  9,  -999.00,9,   -999.0,  -999.00,9,  -999.00,9,  -999.00,9,  -999.00,9,   -999.0,-999.0000, -999,9, 1003,   3.8284,  27.3862,   -999.0,9
     RF07-06-2,  137E,RF-3023,  1,      4,02-18558,2,20070801,0058, 17.9970, 137.0217, 4766,   1264.0,   3.1197,  34.5558,2,   -999.0,9,  34.5575,2,     92.8,2,   129.18,2,  -999.00,9,    38.41,2,     0.00,2,     2.73,2, -999.000,9, -999.000,9,  -999.00,9,   2328.6,2,   -999.0,9,-999.0000,9,   -999.0,  9,  -999.00,9,   -999.0,  -999.00,9,  -999.00,9,  -999.00,9,  -999.00,9,   -999.0,-999.0000, -999,9, 1253,   3.0300,  27.5278,   -999.0,9
     RF07-06-2,  137E,RF-3023,  1,      3,02-18557,2,20070801,0053, 17.9970, 137.0217, 4766,   1515.5,   2.6566,  34.5848,2,   -999.0,9,  34.5871,2,    100.2,2,   134.95,2,  -999.00,9,    38.43,2,     0.00,2,     2.72,2, -999.000,9, -999.000,9,  -999.00,9,   2334.3,2,   -999.0,9,-999.0000,9,   -999.0,  9,  -999.00,9,   -999.0,  -999.00,9,  -999.00,9,  -999.00,9,  -999.00,9,   -999.0,-999.0000, -999,9, 1501,   2.5514,  27.5935,   -999.0,9
     RF07-06-2,  137E,RF-3023,  1,      2,02-18556,2,20070801,0048, 17.9970, 137.0217, 4766,   1768.1,   2.3275,  34.6081,2,   -999.0,9,  34.6106,2,    107.5,2,   139.33,2,  -999.00,9,    38.12,2,     0.00,2,     2.70,2, -999.000,9, -999.000,9,  -999.00,9,   2332.4,6,   -999.0,9,-999.0000,9,   -999.0,  9,  -999.00,9,   -999.0,  -999.00,9,  -999.00,9,  -999.00,9,  -999.00,9,   -999.0,-999.0000, -999,9, 1750,   2.2057,  27.6412,   -999.0,9
     RF07-06-2,  137E,RF-3023,  1,      1,02-18555,2,20070801,0043, 17.9970, 137.0217, 4766,   2022.1,   2.0597,  34.6260,2,   -999.0,9,  34.6282,2,    113.8,2,   143.20,2,  -999.00,9,    38.11,2,     0.00,2,     2.68,2, -999.000,9, -999.000,9,  -999.00,9,   2335.3,2,   -999.0,9,-999.0000,9,   -999.0,  9,  -999.00,9,   -999.0,  -999.00,9,  -999.00,9,  -999.00,9,  -999.00,9,   -999.0,-999.0000, -999,9, 2000,   1.9205,  27.6783,   -999.0,9