BOTTLE,20130510GEMDJMAYT
# 05/09/2013: Correct the error of converted time from JST to GMT.
#BOTTLE,20121206MIRCJHATS
# 12/06/2012: Change BTLNBR_FLAG_W: 8 to 5 at lines of BTLNBR = -9.
# 08/15/2008: JMA TCARBN data to be reported
# 08/15/2008: MRI TCARBN data reported by M. Ishii
# 08/14/2008: pH(TOTAL HYDROGEN SCALE) data reported
# 08/20/2008: SECT_ID was revised for the stations RF-2972,2974
# 08/28/2008: TCARBN data updated
# 02/19/2009 : pH scale specified in header.
# 02/19/2009 : NO2+NO3 label corrected in header.
# 04/23/2009 : TCARBN data measured by JMA revised according to the check by N.Ito (JMA).
# 10/01/2009 : QF of TCARBN at RF-3018, RF-3020, RF-3023, RF-3030, RF-3035 and OXYGEN at RF-3018, RF-3033 revised.
# 04/05/2010 : Separate csvfile 49RY20070606 -> 49RY20070606 & 49RY20070724
# 04/05/2010 : pH scale specified in header, corrected for QF of CTDSAL (5 -> 2), converted time from JST to GMT
EXPOCODE,SECT_ID,STNNBR,CASTNO,SAMPNO,BTLNBR,BTLNBR_FLAG_W,DATE,TIME,LATITUDE,LONGITUDE,DEPTH,CTDPRS,CTDTMP,CTDSAL,CTDSAL_FLAG_W,CTDOXY,CTDOXY_FLAG_W,SALNTY,SALNTY_FLAG_W,OXYGEN,OXYGEN_FLAG_W,SILCAT,SILCAT_FLAG_W,NITRAT,NITRAT_FLAG_W,NO2+NO3,NO2+NO3_FLAG_W,NITRIT,NITRIT_FLAG_W,PHSPHT,PHSPHT_FLAG_W,CFC-11,CFC-11_FLAG_W,CFC-12,CFC-12_FLAG_W,DELC13,DELC13_FLAG_W,TCARBN,TCARBN_FLAG_W,ALKALI,ALKALI_FLAG_W,PH,PH_FLAG_W,PH_TMP,PH_SCALE,PH_NBS,PH_NBS_FLAG_W,C13ERR,TOTALP,TOTALP_FLAG_W,AMMONI,AMMONI_FLAG_W,CHLORA,CHLORA_FLAG_W,PPHYTN,PPHYTN_FLAG_W,REVPRS,REVTMP,DEPTH_,DEPTH_FLAG,CTDDEP,THETA,SIGTHT,DOC,DOC_FLAG_W
,,,,,,,GMT,GMT,,,METER,DBAR,ITS-90,PSS-78,,UMOL/KG,,PSS-78,,UMOL/KG,,UMOL/KG,,UMOL/KG,,UMOL/KG,,UMOL/KG,,UMOL/KG,,PMOL/KG,,PMOL/KG,,/MILLE,,UMOL/KG,,UMOL/KG,,25_DEG_C,,DEG_C,,,,/MILLE,UMOL/KG,,UMOL/KG,,UG/L,,UG/L,,DBAR,ITS-90,METERS,,METERS,DEG_C,,UMOL/L,
     RF07-06-2,  137E,RF-3008,  1,     -9,      -9,5,20070725,1051,  3.0100, 136.9880, 4499,      0.0,  29.4223,  33.9518,2,   -999.0,9,-999.0000,9,    195.6,2,     1.15,2,  -999.00,9,     0.10,2,     0.00,2,     0.07,2, -999.000,9, -999.000,9,  -999.00,9,   1900.2,2,   -999.0,9,   8.1233,2,     25.0, TS,  -999.00,9,   -999.0,  -999.00,9,  -999.00,9,     0.09,2,     0.04,2,   -999.0,-999.0000, -999,9,    0,  29.4221,  21.1361,   -999.0,9
     RF07-06-2,  137E,RF-3008,  1,     21,02-18575,2,20070725,1111,  3.0100, 136.9880, 4499,     11.3,  29.4290,  34.0961,2,   -999.0,9,  34.0962,2,    195.6,2,     1.17,2,  -999.00,9,     0.04,2,     0.00,2,     0.04,2, -999.000,9, -999.000,9,  -999.00,9,   1901.0,2,   -999.0,9,-999.0000,9,   -999.0,  9,  -999.00,9,   -999.0,  -999.00,9,  -999.00,9,     0.10,2,     0.04,2,   -999.0,-999.0000, -999,9,   11,  29.4263,  21.2429,   -999.0,9
     RF07-06-2,  137E,RF-3008,  1,     20,02-18574,2,20070725,1110,  3.0100, 136.9880, 4499,     25.6,  29.4171,  34.1016,2,   -999.0,9,-999.0000,9,    195.4,2,     1.18,2,  -999.00,9,     0.03,2,     0.00,2,     0.03,2, -999.000,9, -999.000,9,  -999.00,9,   1902.3,2,   -999.0,9,-999.0000,9,   -999.0,  9,  -999.00,9,   -999.0,  -999.00,9,  -999.00,9,     0.11,2,     0.05,2,   -999.0,-999.0000, -999,9,   25,  29.4109,  21.2522,   -999.0,9
     RF07-06-2,  137E,RF-3008,  1,     19,02-18573,2,20070725,1108,  3.0100, 136.9880, 4499,     51.6,  29.2362,  34.1362,2,   -999.0,9,-999.0000,9,    196.4,2,     1.30,2,  -999.00,9,     0.02,2,     0.00,2,     0.03,2, -999.000,9, -999.000,9,  -999.00,9,   1905.3,2,   -999.0,9,-999.0000,9,   -999.0,  9,  -999.00,9,   -999.0,  -999.00,9,  -999.00,9,     0.17,2,     0.08,2,   -999.0,-999.0000, -999,9,   51,  29.2237,  21.3409,   -999.0,9
     RF07-06-2,  137E,RF-3008,  1,     18,02-18572,2,20070725,1107,  3.0100, 136.9880, 4499,     75.6,  28.5316,  34.4017,2,   -999.0,9,-999.0000,9,    190.3,2,     1.62,2,  -999.00,9,     0.15,2,     0.06,2,     0.07,2, -999.000,9, -999.000,9,  -999.00,9,   1936.7,2,   -999.0,9,-999.0000,9,   -999.0,  9,  -999.00,9,   -999.0,  -999.00,9,  -999.00,9,     0.35,2,     0.26,2,   -999.0,-999.0000, -999,9,   75,  28.5136,  21.7763,   -999.0,9
     RF07-06-2,  137E,RF-3008,  1,     17,02-18571,2,20070725,1106,  3.0100, 136.9880, 4499,    102.4,  26.8410,  35.0528,2,   -999.0,9,  35.0524,2,    145.2,2,     2.89,2,  -999.00,9,     6.31,2,     0.07,2,     0.45,2, -999.000,9, -999.000,9,  -999.00,9,   2022.8,3,   -999.0,9,-999.0000,9,   -999.0,  9,  -999.00,9,   -999.0,  -999.00,9,  -999.00,9,     0.17,2,     0.40,2,   -999.0,-999.0000, -999,9,  102,  26.8176,  22.8157,   -999.0,9
     RF07-06-2,  137E,RF-3008,  1,     16,02-18570,2,20070725,1104,  3.0100, 136.9880, 4499,    126.0,  24.8153,  35.1129,2,   -999.0,9,-999.0000,9,    127.2,2,     4.42,2,  -999.00,9,     9.46,2,     0.02,2,     0.62,2, -999.000,9, -999.000,9,  -999.00,9,   2053.0,3,   -999.0,9,-999.0000,9,   -999.0,  9,  -999.00,9,   -999.0,  -999.00,9,  -999.00,9,     0.05,2,     0.15,2,   -999.0,-999.0000, -999,9,  125,  24.7881,  23.4909,   -999.0,9
     RF07-06-2,  137E,RF-3008,  1,     15,02-18569,2,20070725,1103,  3.0100, 136.9880, 4499,    152.2,  22.9896,  35.1729,2,   -999.0,9,-999.0000,9,    129.9,2,     5.58,2,  -999.00,9,    10.03,2,     0.00,2,     0.66,2, -999.000,9, -999.000,9,  -999.00,9,   2067.0,3,   -999.0,9,-999.0000,9,   -999.0,  9,  -999.00,9,   -999.0,  -999.00,9,  -999.00,9,     0.01,2,     0.04,2,   -999.0,-999.0000, -999,9,  151,  22.9585,  24.0767,   -999.0,9
     RF07-06-2,  137E,RF-3008,  1,     14,02-18568,2,20070725,1101,  3.0100, 136.9880, 4499,    203.8,  19.1272,  35.4784,2,   -999.0,9,  35.4778,2,    137.7,2,     4.91,2,  -999.00,9,    11.63,2,     0.00,2,     0.81,2, -999.000,9, -999.000,9,  -999.00,9,   2109.9,3,   -999.0,9,-999.0000,9,   -999.0,  9,  -999.00,9,   -999.0,  -999.00,9,  -999.00,9,     0.00,2,     0.02,2,   -999.0,-999.0000, -999,9,  203,  19.0906,  25.3637,   -999.0,9
     RF07-06-2,  137E,RF-3008,  1,     13,02-18567,2,20070725,1100,  3.0100, 136.9880, 4499,    253.0,  15.6524,  35.1318,2,   -999.0,9,-999.0000,9,    139.6,2,    11.29,2,  -999.00,9,    15.61,2,     0.00,2,     1.05,2, -999.000,9, -999.000,9,  -999.00,9,   2124.9,3,   -999.0,9,-999.0000,9,   -999.0,  9,  -999.00,9,   -999.0,  -999.00,9,  -999.00,9,  -999.00,9,  -999.00,9,   -999.0,-999.0000, -999,9,  251,  15.6128,  25.9370,   -999.0,9
     RF07-06-2,  137E,RF-3008,  1,     12,02-18348,2,20070725,1058,  3.0100, 136.9880, 4499,    302.7,  12.0618,  34.6733,2,   -999.0,9,  34.6767,2,    125.1,2,    27.22,2,  -999.00,9,    22.22,2,     0.00,2,     1.51,2, -999.000,9, -999.000,9,  -999.00,9,   2157.5,3,   -999.0,9,-999.0000,9,   -999.0,  9,  -999.00,9,   -999.0,  -999.00,9,  -999.00,9,  -999.00,9,  -999.00,9,   -999.0,-999.0000, -999,9,  301,  12.0221,  26.3311,   -999.0,9
     RF07-06-2,  137E,RF-3008,  1,     11,02-18565,2,20070725,1055,  3.0100, 136.9880, 4499,    403.6,   9.0889,  34.5955,2,   -999.0,9,  34.5966,2,     58.5,2,    40.49,2,  -999.00,9,    33.56,2,     0.00,2,     2.36,2, -999.000,9, -999.000,9,  -999.00,9,   2240.5,4,   -999.0,9,-999.0000,9,   -999.0,  9,  -999.00,9,   -999.0,  -999.00,9,  -999.00,9,  -999.00,9,  -999.00,9,   -999.0,-999.0000, -999,9,  401,   9.0445,  26.7942,   -999.0,9
     RF07-06-2,  137E,RF-3008,  1,     10,02-18564,2,20070725,1053,  3.0100, 136.9880, 4499,    504.1,   7.5883,  34.5619,2,   -999.0,9,-999.0000,9,    110.1,2,    43.10,2,  -999.00,9,    31.89,2,     0.00,2,     2.22,2, -999.000,9, -999.000,9,  -999.00,9,   2225.1,3,   -999.0,9,-999.0000,9,   -999.0,  9,  -999.00,9,   -999.0,  -999.00,9,  -999.00,9,  -999.00,9,  -999.00,9,   -999.0,-999.0000, -999,9,  501,   7.5381,  26.9976,   -999.0,9
     RF07-06-2,  137E,RF-3008,  1,      9,02-18563,2,20070725,1050,  3.0100, 136.9880, 4499,    605.6,   6.7524,  34.5362,2,   -999.0,9,  34.5378,2,    107.6,2,    51.52,2,  -999.00,9,    33.62,2,     0.00,2,     2.37,2, -999.000,9, -999.000,9,  -999.00,9,   2237.4,3,   -999.0,9,-999.0000,9,   -999.0,  9,  -999.00,9,   -999.0,  -999.00,9,  -999.00,9,  -999.00,9,  -999.00,9,   -999.0,-999.0000, -999,9,  601,   6.6956,  27.0950,   -999.0,9
     RF07-06-2,  137E,RF-3008,  1,      8,02-18562,2,20070725,1047,  3.0100, 136.9880, 4499,    708.0,   6.1199,  34.5297,2,   -999.0,9,-999.0000,9,    100.7,2,    61.91,2,  -999.00,9,    35.18,2,     0.00,2,     2.48,2, -999.000,9, -999.000,9,  -999.00,9,   2251.7,3,   -999.0,9,-999.0000,9,   -999.0,  9,  -999.00,9,   -999.0,  -999.00,9,  -999.00,9,  -999.00,9,  -999.00,9,   -999.0,-999.0000, -999,9,  703,   6.0563,  27.1739,   -999.0,9
     RF07-06-2,  137E,RF-3008,  1,      7,02-18561,2,20070725,1044,  3.0100, 136.9880, 4499,    807.2,   5.5277,  34.5377,2,   -999.0,9,  34.5392,2,    100.3,2,    70.37,2,  -999.00,9,    36.23,2,     0.00,2,     2.57,2, -999.000,9, -999.000,9,  -999.00,9,   2261.3,3,   -999.0,9,-999.0000,9,   -999.0,  9,  -999.00,9,   -999.0,  -999.00,9,  -999.00,9,  -999.00,9,  -999.00,9,   -999.0,-999.0000, -999,9,  801,   5.4583,  27.2546,   -999.0,9
     RF07-06-2,  137E,RF-3008,  1,      6,02-18560,2,20070725,1041,  3.0100, 136.9880, 4499,    909.0,   4.9717,  34.5478,2,   -999.0,9,-999.0000,9,     99.4,2,    82.60,2,  -999.00,9,    36.93,2,     0.00,2,     2.64,2, -999.000,9, -999.000,9,  -999.00,9,   2280.7,3,   -999.0,9,-999.0000,9,   -999.0,  9,  -999.00,9,   -999.0,  -999.00,9,  -999.00,9,  -999.00,9,  -999.00,9,   -999.0,-999.0000, -999,9,  902,   4.8967,  27.3286,   -999.0,9
     RF07-06-2,  137E,RF-3008,  1,      5,02-18559,2,20070725,1038,  3.0100, 136.9880, 4499,   1010.3,   4.5330,  34.5544,2,   -999.0,9,  34.5558,2,     91.8,2,    91.63,2,  -999.00,9,    38.01,2,     0.00,2,     2.74,2, -999.000,9, -999.000,9,  -999.00,9,   2291.5,3,   -999.0,9,-999.0000,9,   -999.0,  9,  -999.00,9,   -999.0,  -999.00,9,  -999.00,9,  -999.00,9,  -999.00,9,   -999.0,-999.0000, -999,9, 1002,   4.4523,  27.3835,   -999.0,9
     RF07-06-2,  137E,RF-3008,  1,      4,02-18558,2,20070725,1033,  3.0100, 136.9880, 4499,   1263.7,   3.5971,  34.5799,2,   -999.0,9,  34.5819,2,     94.6,2,   110.87,2,  -999.00,9,    38.67,2,     0.00,2,     2.80,2, -999.000,9, -999.000,9,  -999.00,9,   2315.5,3,   -999.0,9,-999.0000,9,   -999.0,  9,  -999.00,9,   -999.0,  -999.00,9,  -999.00,9,  -999.00,9,  -999.00,9,   -999.0,-999.0000, -999,9, 1253,   3.5027,  27.5021,   -999.0,9
     RF07-06-2,  137E,RF-3008,  1,      3,02-18557,2,20070725,1027,  3.0100, 136.9880, 4499,   1515.5,   2.9235,  34.6031,2,   -999.0,9,  34.6068,2,    101.5,2,   124.63,2,  -999.00,9,    38.67,2,     0.00,2,     2.78,2, -999.000,9, -999.000,9,  -999.00,9,   2326.5,3,   -999.0,9,-999.0000,9,   -999.0,  9,  -999.00,9,   -999.0,  -999.00,9,  -999.00,9,  -999.00,9,  -999.00,9,   -999.0,-999.0000, -999,9, 1502,   2.8152,  27.5850,   -999.0,9
     RF07-06-2,  137E,RF-3008,  1,      2,02-18556,2,20070725,1022,  3.0100, 136.9880, 4499,   1768.4,   2.5175,  34.6208,2,   -999.0,9,  34.6235,2,    108.2,2,   132.68,2,  -999.00,9,    38.37,2,     0.00,2,     2.74,2, -999.000,9, -999.000,9,  -999.00,9,   2334.8,3,   -999.0,9,-999.0000,9,   -999.0,  9,  -999.00,9,   -999.0,  -999.00,9,  -999.00,9,  -999.00,9,  -999.00,9,   -999.0,-999.0000, -999,9, 1751,   2.3931,  27.6358,   -999.0,9
     RF07-06-2,  137E,RF-3008,  1,      1,02-18555,2,20070725,1009,  3.0100, 136.9880, 4499,   2020.6,   2.2090,  34.6362,2,   -999.0,9,  34.6387,2,    114.8,2,   138.16,2,  -999.00,9,    38.16,2,     0.00,2,     2.72,2, -999.000,9, -999.000,9,  -999.00,9,   2328.5,3,   -999.0,9,-999.0000,9,   -999.0,  9,  -999.00,9,   -999.0,  -999.00,9,  -999.00,9,  -999.00,9,  -999.00,9,   -999.0,-999.0000, -999,9, 2000,   2.0676,  27.6748,   -999.0,9