BOTTLE,20130510GEMDJMAYT
EXPOCODE,SECT_ID,STNNBR,CASTNO,SAMPNO,BTLNBR,BTLNBR_FLAG_W,DATE,TIME,LATITUDE,LONGITUDE,DEPTH,CTDPRS,CTDTMP,CTDSAL,CTDSAL_FLAG_W,CTDOXY,CTDOXY_FLAG_W,SALNTY,SALNTY_FLAG_W,OXYGEN,OXYGEN_FLAG_W,SILCAT,SILCAT_FLAG_W,NITRAT,NITRAT_FLAG_W,NO2+NO3,NO2+NO3_FLAG_W,NITRIT,NITRIT_FLAG_W,PHSPHT,PHSPHT_FLAG_W,CFC-11,CFC-11_FLAG_W,CFC-12,CFC-12_FLAG_W,DELC13,DELC13_FLAG_W,TCARBN,TCARBN_FLAG_W,ALKALI,ALKALI_FLAG_W,PH,PH_FLAG_W,PH_TMP,PH_SCALE,PH_NBS,PH_NBS_FLAG_W,C13ERR,TOTALP,TOTALP_FLAG_W,AMMONI,AMMONI_FLAG_W,CHLORA,CHLORA_FLAG_W,PPHYTN,PPHYTN_FLAG_W,REVPRS,REVTMP,DEPTH_,DEPTH_FLAG,CTDDEP,THETA,SIGTHT,DOC,DOC_FLAG_W
,,,,,,,GMT,GMT,,,METER,DBAR,ITS-90,PSS-78,,UMOL/KG,,PSS-78,,UMOL/KG,,UMOL/KG,,UMOL/KG,,UMOL/KG,,UMOL/KG,,UMOL/KG,,PMOL/KG,,PMOL/KG,,/MILLE,,UMOL/KG,,UMOL/KG,,25_DEG_C,,DEG_C,,,,/MILLE,UMOL/KG,,UMOL/KG,,UG/L,,UG/L,,DBAR,ITS-90,METERS,,METERS,DEG_C,,UMOL/L,
     RF07-06-2,  137E,RF-3033,  1,     -9,      -9,5,20070803,1926, 28.0135, 136.9775, 4184,      0.0,  27.5761,  34.6455,2,   -999.0,9,-999.0000,9,    202.2,2,     1.70,2,  -999.00,9,     0.05,2,     0.00,2,     0.00,2, -999.000,9, -999.000,9,  -999.00,9,   1946.6,2,   -999.0,9,   8.0967,6,     25.0, TS,  -999.00,9,   -999.0,  -999.00,9,  -999.00,9,     0.09,2,     0.02,2,   -999.0,-999.0000, -999,9,    0,  27.5759,  22.2658,   -999.0,9
     RF07-06-2,  137E,RF-3033,  1,     21,02-18575,2,20070803,1947, 28.0135, 136.9775, 4184,     10.3,  27.4749,  34.6532,2,   -999.0,9,  34.6528,2,    202.6,2,     1.70,2,  -999.00,9,     0.03,2,     0.00,2,     0.00,2, -999.000,9, -999.000,9,  -999.00,9,   1950.9,2,   -999.0,9,-999.0000,9,   -999.0,  9,  -999.00,9,   -999.0,  -999.00,9,  -999.00,9,     0.07,2,     0.02,2,   -999.0,-999.0000, -999,9,   10,  27.4725,  22.3050,   -999.0,9
     RF07-06-2,  137E,RF-3033,  1,     20,02-18574,2,20070803,1945, 28.0135, 136.9775, 4184,     25.9,  27.1770,  34.6506,2,   -999.0,9,-999.0000,9,    204.3,2,     1.71,2,  -999.00,9,     0.03,2,     0.00,2,     0.00,2, -999.000,9, -999.000,9,  -999.00,9,   1950.7,2,   -999.0,9,-999.0000,9,   -999.0,  9,  -999.00,9,   -999.0,  -999.00,9,  -999.00,9,     0.07,2,     0.02,2,   -999.0,-999.0000, -999,9,   26,  27.1710,  22.3999,   -999.0,9
     RF07-06-2,  137E,RF-3033,  1,     19,02-18573,2,20070803,1944, 28.0135, 136.9775, 4184,     52.1,  26.4957,  34.6636,2,   -999.0,9,-999.0000,9,    208.3,2,     1.75,2,  -999.00,9,     0.02,2,     0.00,2,     0.00,2, -999.000,9, -999.000,9,  -999.00,9,   1951.9,2,   -999.0,9,-999.0000,9,   -999.0,  9,  -999.00,9,   -999.0,  -999.00,9,  -999.00,9,     0.10,2,     0.03,2,   -999.0,-999.0000, -999,9,   52,  26.4839,  22.6280,   -999.0,9
     RF07-06-2,  137E,RF-3033,  1,     18,02-18572,2,20070803,1942, 28.0135, 136.9775, 4184,     76.6,  22.0928,  34.7691,2,   -999.0,9,-999.0000,9,    222.4,2,     1.94,2,  -999.00,9,     0.01,2,     0.00,2,     0.00,2, -999.000,9, -999.000,9,  -999.00,9,   1973.2,2,   -999.0,9,-999.0000,9,   -999.0,  9,  -999.00,9,   -999.0,  -999.00,9,  -999.00,9,     0.20,2,     0.08,2,   -999.0,-999.0000, -999,9,   76,  22.0776,  24.0206,   -999.0,9
     RF07-06-2,  137E,RF-3033,  1,     17,02-18571,2,20070803,1941, 28.0135, 136.9775, 4184,    101.9,  20.7275,  34.8233,2,   -999.0,9,  34.8247,2,    225.5,2,     1.97,2,  -999.00,9,     0.02,2,     0.00,2,     0.00,2, -999.000,9, -999.000,9,  -999.00,9,   1978.7,2,   -999.0,9,-999.0000,9,   -999.0,  9,  -999.00,9,   -999.0,  -999.00,9,  -999.00,9,     0.24,2,     0.18,2,   -999.0,-999.0000, -999,9,  101,  20.7082,  24.4383,   -999.0,9
     RF07-06-2,  137E,RF-3033,  1,     16,02-18570,2,20070803,1939, 28.0135, 136.9775, 4184,    127.9,  19.8953,  34.8115,2,   -999.0,9,-999.0000,9,    218.2,2,     2.06,2,  -999.00,9,     0.36,2,     0.06,2,     0.03,2, -999.000,9, -999.000,9,  -999.00,9,   1989.7,3,   -999.0,9,-999.0000,9,   -999.0,  9,  -999.00,9,   -999.0,  -999.00,9,  -999.00,9,     0.15,2,     0.29,2,   -999.0,-999.0000, -999,9,  127,  19.8718,  24.6517,   -999.0,9
     RF07-06-2,  137E,RF-3033,  1,     15,02-18569,2,20070803,1937, 28.0135, 136.9775, 4184,    154.2,  19.6645,  34.8099,2,   -999.0,9,-999.0000,9,    213.6,2,     2.28,2,  -999.00,9,     1.17,2,     0.00,2,     0.06,2, -999.000,9, -999.000,9,  -999.00,9,   1987.8,3,   -999.0,9,-999.0000,9,   -999.0,  9,  -999.00,9,   -999.0,  -999.00,9,  -999.00,9,     0.11,2,     0.21,2,   -999.0,-999.0000, -999,9,  153,  19.6364,  24.7120,   -999.0,9
     RF07-06-2,  137E,RF-3033,  1,     14,02-18568,2,20070803,1935, 28.0135, 136.9775, 4184,    203.2,  19.2977,  34.8084,2,   -999.0,9,  34.8081,2,    213.2,2,     2.45,2,  -999.00,9,     1.68,2,     0.00,2,     0.08,2, -999.000,9, -999.000,9,  -999.00,9,   1994.0,3,   -999.0,9,-999.0000,9,   -999.0,  9,  -999.00,9,   -999.0,  -999.00,9,  -999.00,9,     0.01,2,     0.01,2,   -999.0,-999.0000, -999,9,  202,  19.2611,  24.8079,   -999.0,9
     RF07-06-2,  137E,RF-3033,  1,     13,02-18567,2,20070803,1932, 28.0135, 136.9775, 4184,    255.9,  18.8214,  34.8130,2,   -999.0,9,-999.0000,9,    206.3,2,     3.37,2,  -999.00,9,     2.94,2,     0.00,2,     0.16,2, -999.000,9, -999.000,9,  -999.00,9,   2010.1,3,   -999.0,9,-999.0000,9,   -999.0,  9,  -999.00,9,   -999.0,  -999.00,9,  -999.00,9,  -999.00,9,  -999.00,9,   -999.0,-999.0000, -999,9,  254,  18.7760,  24.9351,   -999.0,9
     RF07-06-2,  137E,RF-3033,  1,     12,02-18348,2,20070803,1930, 28.0135, 136.9775, 4184,    306.1,  18.1033,  34.8046,2,   -999.0,9,  34.8043,2,    203.2,2,     4.23,2,  -999.00,9,     4.12,2,     0.00,2,     0.22,2, -999.000,9, -999.000,9,  -999.00,9,   2018.7,3,   -999.0,9,-999.0000,9,   -999.0,  9,  -999.00,9,   -999.0,  -999.00,9,  -999.00,9,  -999.00,9,  -999.00,9,   -999.0,-999.0000, -999,9,  304,  18.0504,  25.1099,   -999.0,9
     RF07-06-2,  137E,RF-3033,  1,     11,02-18565,2,20070803,1926, 28.0135, 136.9775, 4184,    408.0,  16.5709,  34.7177,2,   -999.0,9,  34.7198,2,    192.7,2,     7.62,2,  -999.00,9,     7.40,2,     0.00,2,     0.44,2, -999.000,9, -999.000,9,  -999.00,9,   2045.5,3,   -999.0,9,-999.0000,9,   -999.0,  9,  -999.00,9,   -999.0,  -999.00,9,  -999.00,9,  -999.00,9,  -999.00,9,   -999.0,-999.0000, -999,9,  405,  16.5045,  25.4141,   -999.0,9
     RF07-06-2,  137E,RF-3033,  1,     10,02-18564,2,20070803,1922, 28.0135, 136.9775, 4184,    507.4,  14.2465,  34.5441,2,   -999.0,9,-999.0000,9,    180.6,2,    15.27,2,  -999.00,9,    12.13,2,     0.00,2,     0.76,2, -999.000,9, -999.000,9,  -999.00,9,   2079.3,2,   -999.0,9,-999.0000,9,   -999.0,  9,  -999.00,9,   -999.0,  -999.00,9,  -999.00,9,  -999.00,9,  -999.00,9,   -999.0,-999.0000, -999,9,  503,  14.1718,  25.7986,   -999.0,9
     RF07-06-2,  137E,RF-3033,  1,      9,02-18563,2,20070803,1919, 28.0135, 136.9775, 4184,    608.2,  11.2246,  34.3406,2,   -999.0,9,  34.3421,2,    166.3,2,    29.52,2,  -999.00,9,    18.57,2,     0.00,2,     1.23,2, -999.000,9, -999.000,9,  -999.00,9,   2127.9,2,   -999.0,9,-999.0000,9,   -999.0,  9,  -999.00,9,   -999.0,  -999.00,9,  -999.00,9,  -999.00,9,  -999.00,9,   -999.0,-999.0000, -999,9,  603,  11.1478,  26.2353,   -999.0,9
     RF07-06-2,  137E,RF-3033,  1,      8,02-18562,2,20070803,1916, 28.0135, 136.9775, 4184,    709.4,   9.5568,  34.3176,2,   -999.0,9,-999.0000,9,    134.8,3,    49.99,2,  -999.00,9,    24.27,2,     0.00,2,     1.68,2, -999.000,9, -999.000,9,  -999.00,9,   2175.4,2,   -999.0,9,-999.0000,9,   -999.0,  9,  -999.00,9,   -999.0,  -999.00,9,  -999.00,9,  -999.00,9,  -999.00,9,   -999.0,-999.0000, -999,9,  703,   9.4753,  26.5068,   -999.0,9
     RF07-06-2,  137E,RF-3033,  1,      7,02-18561,2,20070803,1912, 28.0135, 136.9775, 4184,    809.0,   6.0451,  34.1941,2,   -999.0,9,  34.1965,2,     98.2,2,    80.49,2,  -999.00,9,    33.25,2,     0.00,2,     2.36,2, -999.000,9, -999.000,9,  -999.00,9,   2253.3,2,   -999.0,9,-999.0000,9,   -999.0,  9,  -999.00,9,   -999.0,  -999.00,9,  -999.00,9,  -999.00,9,  -999.00,9,   -999.0,-999.0000, -999,9,  802,   5.9728,  26.9193,   -999.0,9
     RF07-06-2,  137E,RF-3033,  1,      6,02-18560,2,20070803,1909, 28.0135, 136.9775, 4184,    910.1,   5.0784,  34.2766,2,   -999.0,9,-999.0000,9,     76.6,2,    98.76,2,  -999.00,9,    36.44,2,     0.00,2,     2.59,2, -999.000,9, -999.000,9,  -999.00,9,   2286.2,2,   -999.0,9,-999.0000,9,   -999.0,  9,  -999.00,9,   -999.0,  -999.00,9,  -999.00,9,  -999.00,9,  -999.00,9,   -999.0,-999.0000, -999,9,  902,   5.0030,  27.1014,   -999.0,9
     RF07-06-2,  137E,RF-3033,  1,      5,02-18559,2,20070803,1906, 28.0135, 136.9775, 4184,   1012.5,   4.2780,  34.3366,2,   -999.0,9,  34.3378,2,     65.7,2,   112.88,2,  -999.00,9,    38.52,2,     0.00,2,     2.75,2, -999.000,9, -999.000,9,  -999.00,9,   2310.5,2,   -999.0,9,-999.0000,9,   -999.0,  9,  -999.00,9,   -999.0,  -999.00,9,  -999.00,9,  -999.00,9,  -999.00,9,   -999.0,-999.0000, -999,9, 1003,   4.1994,  27.2376,   -999.0,9
     RF07-06-2,  137E,RF-3033,  1,      4,02-18558,2,20070803,1901, 28.0135, 136.9775, 4184,   1264.0,   3.0419,  34.4301,2,   -999.0,9,  34.4327,2,     49.1,2,   138.05,2,  -999.00,9,    41.01,2,     0.00,2,     2.96,2, -999.000,9, -999.000,9,  -999.00,9,   2357.3,2,   -999.0,9,-999.0000,9,   -999.0,  9,  -999.00,9,   -999.0,  -999.00,9,  -999.00,9,  -999.00,9,  -999.00,9,   -999.0,-999.0000, -999,9, 1252,   2.9532,  27.4344,   -999.0,9
     RF07-06-2,  137E,RF-3033,  1,      3,02-18557,2,20070803,1856, 28.0135, 136.9775, 4184,   1516.7,   2.4527,  34.5225,2,   -999.0,9,  34.5252,2,     65.0,2,   147.77,2,  -999.00,9,    40.49,2,     0.00,2,     2.89,2, -999.000,9, -999.000,9,  -999.00,9,   2359.4,2,   -999.0,9,-999.0000,9,   -999.0,  9,  -999.00,9,   -999.0,  -999.00,9,  -999.00,9,  -999.00,9,  -999.00,9,   -999.0,-999.0000, -999,9, 1501,   2.3500,  27.5607,   -999.0,9
     RF07-06-2,  137E,RF-3033,  1,      2,02-18556,2,20070803,1852, 28.0135, 136.9775, 4184,   1770.3,   2.1709,  34.5699,2,   -999.0,9,  34.5721,2,     85.4,2,   148.29,2,  -999.00,9,    39.35,2,     0.00,2,     2.80,2, -999.000,9, -999.000,9,  -999.00,9,   2349.0,6,   -999.0,9,-999.0000,9,   -999.0,  9,  -999.00,9,   -999.0,  -999.00,9,  -999.00,9,  -999.00,9,  -999.00,9,   -999.0,-999.0000, -999,9, 1751,   2.0512,  27.6230,   -999.0,9
     RF07-06-2,  137E,RF-3033,  1,      1,02-18555,2,20070803,1845, 28.0135, 136.9775, 4184,   2025.0,   1.9628,  34.6073,2,   -999.0,9,  34.6102,2,    109.1,2,   145.51,2,  -999.00,9,    38.02,2,     0.00,2,     2.68,2, -999.000,9, -999.000,9,  -999.00,9,   2336.9,2,   -999.0,9,-999.0000,9,   -999.0,  9,  -999.00,9,   -999.0,  -999.00,9,  -999.00,9,  -999.00,9,  -999.00,9,   -999.0,-999.0000, -999,9, 2002,   1.8249,  27.6707,   -999.0,9