BOTTLE,20130510GEMDJMAYT
EXPOCODE,SECT_ID,STNNBR,CASTNO,SAMPNO,BTLNBR,BTLNBR_FLAG_W,DATE,TIME,LATITUDE,LONGITUDE,DEPTH,CTDPRS,CTDTMP,CTDSAL,CTDSAL_FLAG_W,CTDOXY,CTDOXY_FLAG_W,SALNTY,SALNTY_FLAG_W,OXYGEN,OXYGEN_FLAG_W,SILCAT,SILCAT_FLAG_W,NITRAT,NITRAT_FLAG_W,NO2+NO3,NO2+NO3_FLAG_W,NITRIT,NITRIT_FLAG_W,PHSPHT,PHSPHT_FLAG_W,CFC-11,CFC-11_FLAG_W,CFC-12,CFC-12_FLAG_W,DELC13,DELC13_FLAG_W,TCARBN,TCARBN_FLAG_W,ALKALI,ALKALI_FLAG_W,PH,PH_FLAG_W,PH_TMP,PH_SCALE,PH_NBS,PH_NBS_FLAG_W,C13ERR,TOTALP,TOTALP_FLAG_W,AMMONI,AMMONI_FLAG_W,CHLORA,CHLORA_FLAG_W,PPHYTN,PPHYTN_FLAG_W,REVPRS,REVTMP,DEPTH_,DEPTH_FLAG,CTDDEP,THETA,SIGTHT,DOC,DOC_FLAG_W
,,,,,,,GMT,GMT,,,METER,DBAR,ITS-90,PSS-78,,UMOL/KG,,PSS-78,,UMOL/KG,,UMOL/KG,,UMOL/KG,,UMOL/KG,,UMOL/KG,,UMOL/KG,,PMOL/KG,,PMOL/KG,,/MILLE,,UMOL/KG,,UMOL/KG,,25_DEG_C,,DEG_C,,,,/MILLE,UMOL/KG,,UMOL/KG,,UG/L,,UG/L,,DBAR,ITS-90,METERS,,METERS,DEG_C,,UMOL/L,
     RF07-06-2,  137E,RF-3037,  1,     -9,      -9,5,20070804,1640, 30.9972, 136.9947, 4244,      0.0,  27.0373,  34.5836,2,   -999.0,9,-999.0000,9,    204.5,2,     1.86,2,  -999.00,9,     0.00,2,     0.00,2,     0.00,2, -999.000,9, -999.000,9,  -999.00,9,   -999.0,9,   -999.0,9,   8.0847,2,     25.0, TS,  -999.00,9,   -999.0,  -999.00,9,  -999.00,9,     0.04,2,     0.01,2,   -999.0,-999.0000, -999,9,    0,  27.0371,  22.3923,   -999.0,9
     RF07-06-2,  137E,RF-3037,  1,     21,02-18575,2,20070804,1645, 30.9972, 136.9947, 4244,     12.0,  26.8097,  34.5812,2,   -999.0,9,  34.5765,4,    205.5,2,     1.87,2,  -999.00,9,     0.00,2,     0.00,2,     0.00,2, -999.000,9, -999.000,9,  -999.00,9,   -999.0,9,   -999.0,9,-999.0000,9,   -999.0,  9,  -999.00,9,   -999.0,  -999.00,9,  -999.00,9,     0.04,2,     0.01,2,   -999.0,-999.0000, -999,9,   12,  26.8070,  22.4638,   -999.0,9
     RF07-06-2,  137E,RF-3037,  1,     20,02-18574,2,20070804,1644, 30.9972, 136.9947, 4244,     27.4,  26.5445,  34.6144,2,   -999.0,9,-999.0000,9,    209.4,2,     1.80,2,  -999.00,9,     0.00,2,     0.00,2,     0.00,2, -999.000,9, -999.000,9,  -999.00,9,   -999.0,9,   -999.0,9,-999.0000,9,   -999.0,  9,  -999.00,9,   -999.0,  -999.00,9,  -999.00,9,     0.04,2,     0.01,2,   -999.0,-999.0000, -999,9,   27,  26.5383,  22.5738,   -999.0,9
     RF07-06-2,  137E,RF-3037,  1,     19,02-18573,2,20070804,1643, 30.9972, 136.9947, 4244,     52.8,  22.8482,  34.6641,2,   -999.0,9,-999.0000,9,    226.7,2,     1.94,2,  -999.00,9,     0.00,2,     0.00,2,     0.00,2, -999.000,9, -999.000,9,  -999.00,9,   -999.0,9,   -999.0,9,-999.0000,9,   -999.0,  9,  -999.00,9,   -999.0,  -999.00,9,  -999.00,9,     0.09,2,     0.02,2,   -999.0,-999.0000, -999,9,   52,  22.8375,  23.7255,   -999.0,9
     RF07-06-2,  137E,RF-3037,  1,     18,02-18572,2,20070804,1641, 30.9972, 136.9947, 4244,     76.7,  20.4573,  34.8081,2,   -999.0,9,-999.0000,9,    224.0,2,     2.06,2,  -999.00,9,     0.00,2,     0.00,2,     0.00,2, -999.000,9, -999.000,9,  -999.00,9,   -999.0,9,   -999.0,9,-999.0000,9,   -999.0,  9,  -999.00,9,   -999.0,  -999.00,9,  -999.00,9,     0.15,2,     0.07,2,   -999.0,-999.0000, -999,9,   76,  20.4429,  24.4979,   -999.0,9
     RF07-06-2,  137E,RF-3037,  1,     17,02-18571,2,20070804,1640, 30.9972, 136.9947, 4244,    102.5,  19.9458,  34.8161,2,   -999.0,9,  34.8166,2,    216.7,2,     2.23,2,  -999.00,9,     0.40,2,     0.03,2,     0.03,2, -999.000,9, -999.000,9,  -999.00,9,   -999.0,9,   -999.0,9,-999.0000,9,   -999.0,  9,  -999.00,9,   -999.0,  -999.00,9,  -999.00,9,     0.32,2,     0.44,2,   -999.0,-999.0000, -999,9,  102,  19.9269,  24.6406,   -999.0,9
     RF07-06-2,  137E,RF-3037,  1,     16,02-18570,2,20070804,1638, 30.9972, 136.9947, 4244,    127.3,  19.6514,  34.8127,2,   -999.0,9,-999.0000,9,    212.4,2,     2.46,2,  -999.00,9,     1.41,2,     0.03,2,     0.07,2, -999.000,9, -999.000,9,  -999.00,9,   -999.0,9,   -999.0,9,-999.0000,9,   -999.0,  9,  -999.00,9,   -999.0,  -999.00,9,  -999.00,9,     0.14,2,     0.22,2,   -999.0,-999.0000, -999,9,  126,  19.6282,  24.7162,   -999.0,9
     RF07-06-2,  137E,RF-3037,  1,     15,02-18569,2,20070804,1637, 30.9972, 136.9947, 4244,    152.5,  19.4308,  34.8053,2,   -999.0,9,-999.0000,9,    214.2,2,     2.30,2,  -999.00,9,     1.32,2,     0.01,2,     0.07,2, -999.000,9, -999.000,9,  -999.00,9,   -999.0,9,   -999.0,9,-999.0000,9,   -999.0,  9,  -999.00,9,   -999.0,  -999.00,9,  -999.00,9,     0.06,2,     0.07,2,   -999.0,-999.0000, -999,9,  151,  19.4032,  24.7689,   -999.0,9
     RF07-06-2,  137E,RF-3037,  1,     14,02-18568,2,20070804,1635, 30.9972, 136.9947, 4244,    202.9,  19.1734,  34.8114,2,   -999.0,9,  34.8112,2,    212.3,2,     2.54,2,  -999.00,9,     1.80,2,     0.01,2,     0.10,2, -999.000,9, -999.000,9,  -999.00,9,   -999.0,9,   -999.0,9,-999.0000,9,   -999.0,  9,  -999.00,9,   -999.0,  -999.00,9,  -999.00,9,     0.00,2,     0.01,2,   -999.0,-999.0000, -999,9,  201,  19.1370,  24.8420,   -999.0,9
     RF07-06-2,  137E,RF-3037,  1,     13,02-18567,2,20070804,1633, 30.9972, 136.9947, 4244,    253.2,  18.8405,  34.8204,2,   -999.0,9,-999.0000,9,    206.7,2,     3.13,2,  -999.00,9,     2.81,2,     0.00,2,     0.16,2, -999.000,9, -999.000,9,  -999.00,9,   -999.0,9,   -999.0,9,-999.0000,9,   -999.0,  9,  -999.00,9,   -999.0,  -999.00,9,  -999.00,9,  -999.00,9,  -999.00,9,   -999.0,-999.0000, -999,9,  251,  18.7956,  24.9358,   -999.0,9
     RF07-06-2,  137E,RF-3037,  1,     12,02-18348,2,20070804,1631, 30.9972, 136.9947, 4244,    304.3,  18.2355,  34.8282,2,   -999.0,9,  34.8293,2,    202.9,2,     3.91,2,  -999.00,9,     3.94,2,     0.00,2,     0.21,2, -999.000,9, -999.000,9,  -999.00,9,   -999.0,9,   -999.0,9,-999.0000,9,   -999.0,  9,  -999.00,9,   -999.0,  -999.00,9,  -999.00,9,  -999.00,9,  -999.00,9,   -999.0,-999.0000, -999,9,  302,  18.1827,  25.0953,   -999.0,9
     RF07-06-2,  137E,RF-3037,  1,     11,02-18565,2,20070804,1628, 30.9972, 136.9947, 4244,    405.2,  16.8661,  34.7433,2,   -999.0,9,  34.7450,2,    196.3,2,     6.64,2,  -999.00,9,     6.66,2,     0.00,2,     0.39,2, -999.000,9, -999.000,9,  -999.00,9,   -999.0,9,   -999.0,9,-999.0000,9,   -999.0,  9,  -999.00,9,   -999.0,  -999.00,9,  -999.00,9,  -999.00,9,  -999.00,9,   -999.0,-999.0000, -999,9,  402,  16.7994,  25.3647,   -999.0,9
     RF07-06-2,  137E,RF-3037,  1,     10,02-18564,2,20070804,1626, 30.9972, 136.9947, 4244,    505.7,  14.5383,  34.5623,2,   -999.0,9,-999.0000,9,    185.0,2,    13.65,2,  -999.00,9,    11.22,2,     0.00,2,     0.71,2, -999.000,9, -999.000,9,  -999.00,9,   -999.0,9,   -999.0,9,-999.0000,9,   -999.0,  9,  -999.00,9,   -999.0,  -999.00,9,  -999.00,9,  -999.00,9,  -999.00,9,   -999.0,-999.0000, -999,9,  502,  14.4629,  25.7507,   -999.0,9
     RF07-06-2,  137E,RF-3037,  1,      9,02-18563,2,20070804,1623, 30.9972, 136.9947, 4244,    606.4,  12.0400,  34.3832,2,   -999.0,9,  34.3850,2,    175.3,2,    24.40,2,  -999.00,9,    16.32,2,     0.00,2,     1.07,2, -999.000,9, -999.000,9,  -999.00,9,   -999.0,9,   -999.0,9,-999.0000,9,   -999.0,  9,  -999.00,9,   -999.0,  -999.00,9,  -999.00,9,  -999.00,9,  -999.00,9,   -999.0,-999.0000, -999,9,  601,  11.9599,  26.1176,   -999.0,9
     RF07-06-2,  137E,RF-3037,  1,      8,02-18562,2,20070804,1620, 30.9972, 136.9947, 4244,    708.7,   9.4826,  34.2389,2,   -999.0,9,-999.0000,9,    152.8,2,    41.28,2,  -999.00,9,    22.80,2,     0.00,2,     1.56,2, -999.000,9, -999.000,9,  -999.00,9,   -999.0,9,   -999.0,9,-999.0000,9,   -999.0,  9,  -999.00,9,   -999.0,  -999.00,9,  -999.00,9,  -999.00,9,  -999.00,9,   -999.0,-999.0000, -999,9,  703,   9.4017,  26.4573,   -999.0,9
     RF07-06-2,  137E,RF-3037,  1,      7,02-18561,2,20070804,1618, 30.9972, 136.9947, 4244,    808.9,   6.7444,  34.1469,2,   -999.0,9,  34.1504,2,    119.2,2,    68.29,2,  -999.00,9,    30.37,2,     0.00,2,     2.15,2, -999.000,9, -999.000,9,  -999.00,9,   -999.0,9,   -999.0,9,-999.0000,9,   -999.0,  9,  -999.00,9,   -999.0,  -999.00,9,  -999.00,9,  -999.00,9,  -999.00,9,   -999.0,-999.0000, -999,9,  802,   6.6679,  26.7918,   -999.0,9
     RF07-06-2,  137E,RF-3037,  1,      6,02-18560,2,20070804,1615, 30.9972, 136.9947, 4244,    910.9,   5.4784,  34.2634,2,   -999.0,9,-999.0000,9,     82.4,2,    93.71,2,  -999.00,9,    35.42,2,     0.00,2,     2.53,2, -999.000,9, -999.000,9,  -999.00,9,   -999.0,9,   -999.0,9,-999.0000,9,   -999.0,  9,  -999.00,9,   -999.0,  -999.00,9,  -999.00,9,  -999.00,9,  -999.00,9,   -999.0,-999.0000, -999,9,  903,   5.4001,  27.0444,   -999.0,9
     RF07-06-2,  137E,RF-3037,  1,      5,02-18559,2,20070804,1613, 30.9972, 136.9947, 4244,   1012.0,   4.9995,  34.2920,2,   -999.0,9,  34.2940,2,     75.0,2,   101.95,2,  -999.00,9,    36.66,2,     0.00,2,     2.64,2, -999.000,9, -999.000,9,  -999.00,9,   -999.0,9,   -999.0,9,-999.0000,9,   -999.0,  9,  -999.00,9,   -999.0,  -999.00,9,  -999.00,9,  -999.00,9,  -999.00,9,   -999.0,-999.0000, -999,9, 1003,   4.9155,  27.1236,   -999.0,9
     RF07-06-2,  137E,RF-3037,  1,      4,02-18558,2,20070804,1608, 30.9972, 136.9947, 4244,   1264.6,   3.8767,  34.3789,2,   -999.0,9,  34.3812,2,     63.5,2,   121.63,2,  -999.00,9,    39.15,2,     0.00,2,     2.82,2, -999.000,9, -999.000,9,  -999.00,9,   -999.0,9,   -999.0,9,-999.0000,9,   -999.0,  9,  -999.00,9,   -999.0,  -999.00,9,  -999.00,9,  -999.00,9,  -999.00,9,   -999.0,-999.0000, -999,9, 1252,   3.7800,  27.3145,   -999.0,9
     RF07-06-2,  137E,RF-3037,  1,      3,02-18557,2,20070804,1603, 30.9972, 136.9947, 4244,   1518.3,   2.9869,  34.4787,2,   -999.0,9,  34.4805,2,     70.3,2,   136.26,2,  -999.00,9,    39.82,2,     0.00,2,     2.85,2, -999.000,9, -999.000,9,  -999.00,9,   -999.0,9,   -999.0,9,-999.0000,9,   -999.0,  9,  -999.00,9,   -999.0,  -999.00,9,  -999.00,9,  -999.00,9,  -999.00,9,   -999.0,-999.0000, -999,9, 1502,   2.8779,  27.4800,   -999.0,9
     RF07-06-2,  137E,RF-3037,  1,      2,02-18556,2,20070804,1557, 30.9972, 136.9947, 4244,   1771.1,   2.6149,  34.5239,2,   -999.0,9,  34.5264,2,     80.4,2,   141.58,2,  -999.00,9,    39.46,2,     0.00,2,     2.81,2, -999.000,9, -999.000,9,  -999.00,9,   -999.0,9,   -999.0,9,-999.0000,9,   -999.0,  9,  -999.00,9,   -999.0,  -999.00,9,  -999.00,9,  -999.00,9,  -999.00,9,   -999.0,-999.0000, -999,9, 1751,   2.4893,  27.5501,   -999.0,9
     RF07-06-2,  137E,RF-3037,  1,      1,02-18555,2,20070804,1552, 30.9972, 136.9947, 4244,   2025.5,   2.2693,  34.5688,2,   -999.0,9,  34.5711,2,     94.2,2,   144.35,2,  -999.00,9,    38.88,2,     0.00,2,     2.76,2, -999.000,9, -999.000,9,  -999.00,9,   -999.0,9,   -999.0,9,-999.0000,9,   -999.0,  9,  -999.00,9,   -999.0,  -999.00,9,  -999.00,9,  -999.00,9,  -999.00,9,   -999.0,-999.0000, -999,9, 2002,   2.1268,  27.6161,   -999.0,9