BOTTLE,20130510GEMDJMAYT
EXPOCODE,SECT_ID,STNNBR,CASTNO,SAMPNO,BTLNBR,BTLNBR_FLAG_W,DATE,TIME,LATITUDE,LONGITUDE,DEPTH,CTDPRS,CTDTMP,CTDSAL,CTDSAL_FLAG_W,CTDOXY,CTDOXY_FLAG_W,SALNTY,SALNTY_FLAG_W,OXYGEN,OXYGEN_FLAG_W,SILCAT,SILCAT_FLAG_W,NITRAT,NITRAT_FLAG_W,NO2+NO3,NO2+NO3_FLAG_W,NITRIT,NITRIT_FLAG_W,PHSPHT,PHSPHT_FLAG_W,CFC-11,CFC-11_FLAG_W,CFC-12,CFC-12_FLAG_W,DELC13,DELC13_FLAG_W,TCARBN,TCARBN_FLAG_W,ALKALI,ALKALI_FLAG_W,PH,PH_FLAG_W,PH_TMP,PH_SCALE,PH_NBS,PH_NBS_FLAG_W,C13ERR,TOTALP,TOTALP_FLAG_W,AMMONI,AMMONI_FLAG_W,CHLORA,CHLORA_FLAG_W,PPHYTN,PPHYTN_FLAG_W,REVPRS,REVTMP,DEPTH_,DEPTH_FLAG,CTDDEP,THETA,SIGTHT,DOC,DOC_FLAG_W
,,,,,,,GMT,GMT,,,METER,DBAR,ITS-90,PSS-78,,UMOL/KG,,PSS-78,,UMOL/KG,,UMOL/KG,,UMOL/KG,,UMOL/KG,,UMOL/KG,,UMOL/KG,,PMOL/KG,,PMOL/KG,,/MILLE,,UMOL/KG,,UMOL/KG,,25_DEG_C,,DEG_C,,,,/MILLE,UMOL/KG,,UMOL/KG,,UG/L,,UG/L,,DBAR,ITS-90,METERS,,METERS,DEG_C,,UMOL/L,
     RF07-06-2,  137E,RF-3028,  1,     -9,      -9,5,20070802,0853, 23.0043, 136.9870, 2703,      0.0,  29.1812,  34.7251,2,   -999.0,9,-999.0000,9,    193.0,2,     1.15,2,  -999.00,9,     0.00,2,     0.00,2,     0.00,2, -999.000,9, -999.000,9,  -999.00,9,   1935.4,3,   -999.0,9,   8.1136,2,     25.0, TS,  -999.00,9,   -999.0,  -999.00,9,  -999.00,9,     0.05,2,     0.01,2,   -999.0,-999.0000, -999,9,    0,  29.1810,  21.7971,   -999.0,9
     RF07-06-2,  137E,RF-3028,  1,     21,02-18575,2,20070802,0914, 23.0043, 136.9870, 2703,     11.2,  29.1886,  34.7264,2,   -999.0,9,  34.7285,2,    195.0,2,     1.12,2,  -999.00,9,     0.00,2,     0.00,2,     0.00,2, -999.000,9, -999.000,9,  -999.00,9,   1937.8,3,   -999.0,9,-999.0000,9,   -999.0,  9,  -999.00,9,   -999.0,  -999.00,9,  -999.00,9,     0.06,2,     0.02,2,   -999.0,-999.0000, -999,9,   11,  29.1859,  21.7965,   -999.0,9
     RF07-06-2,  137E,RF-3028,  1,     20,02-18574,2,20070802,0912, 23.0043, 136.9870, 2703,     26.0,  29.0726,  34.7401,2,   -999.0,9,-999.0000,9,    195.0,2,     1.12,2,  -999.00,9,     0.00,2,     0.00,2,     0.00,2, -999.000,9, -999.000,9,  -999.00,9,   1939.3,3,   -999.0,9,-999.0000,9,   -999.0,  9,  -999.00,9,   -999.0,  -999.00,9,  -999.00,9,     0.07,2,     0.02,2,   -999.0,-999.0000, -999,9,   26,  29.0663,  21.8468,   -999.0,9
     RF07-06-2,  137E,RF-3028,  1,     19,02-18573,2,20070802,0911, 23.0043, 136.9870, 2703,     51.5,  25.5445,  34.8244,2,   -999.0,9,-999.0000,9,    220.9,2,     1.29,2,  -999.00,9,     0.00,2,     0.00,2,     0.00,2, -999.000,9, -999.000,9,  -999.00,9,   1954.5,3,   -999.0,9,-999.0000,9,   -999.0,  9,  -999.00,9,   -999.0,  -999.00,9,  -999.00,9,     0.11,2,     0.04,2,   -999.0,-999.0000, -999,9,   51,  25.5332,  23.0454,   -999.0,9
     RF07-06-2,  137E,RF-3028,  1,     18,02-18572,2,20070802,0910, 23.0043, 136.9870, 2703,     76.9,  23.1779,  34.8572,2,   -999.0,9,-999.0000,9,    221.5,2,     1.47,2,  -999.00,9,     0.00,2,     0.00,2,     0.00,2, -999.000,9, -999.000,9,  -999.00,9,   1966.1,3,   -999.0,9,-999.0000,9,   -999.0,  9,  -999.00,9,   -999.0,  -999.00,9,  -999.00,9,     0.21,2,     0.07,2,   -999.0,-999.0000, -999,9,   76,  23.1621,  23.7785,   -999.0,9
     RF07-06-2,  137E,RF-3028,  1,     17,02-18571,2,20070802,0908, 23.0043, 136.9870, 2703,    101.7,  21.7931,  34.8576,2,   -999.0,9,  34.8612,4,    212.7,2,     1.74,2,  -999.00,9,     0.00,2,     0.00,2,     0.00,2, -999.000,9, -999.000,9,  -999.00,9,   1988.0,3,   -999.0,9,-999.0000,9,   -999.0,  9,  -999.00,9,   -999.0,  -999.00,9,  -999.00,9,     0.23,2,     0.27,2,   -999.0,-999.0000, -999,9,  101,  21.7732,  24.1729,   -999.0,9
     RF07-06-2,  137E,RF-3028,  1,     16,02-18570,2,20070802,0907, 23.0043, 136.9870, 2703,    125.8,  20.9321,  34.8534,2,   -999.0,9,-999.0000,9,    206.6,2,     1.88,2,  -999.00,9,     0.28,2,     0.10,2,     0.02,2, -999.000,9, -999.000,9,  -999.00,9,   1993.8,3,   -999.0,9,-999.0000,9,   -999.0,  9,  -999.00,9,   -999.0,  -999.00,9,  -999.00,9,     0.18,2,     0.38,2,   -999.0,-999.0000, -999,9,  125,  20.9081,  24.4073,   -999.0,9
     RF07-06-2,  137E,RF-3028,  1,     15,02-18569,2,20070802,0906, 23.0043, 136.9870, 2703,    151.9,  20.1780,  34.8660,2,   -999.0,9,-999.0000,9,    202.1,2,     2.31,2,  -999.00,9,     1.50,2,     0.01,2,     0.07,2, -999.000,9, -999.000,9,  -999.00,9,   2005.1,3,   -999.0,9,-999.0000,9,   -999.0,  9,  -999.00,9,   -999.0,  -999.00,9,  -999.00,9,     0.05,2,     0.13,2,   -999.0,-999.0000, -999,9,  151,  20.1498,  24.6200,   -999.0,9
     RF07-06-2,  137E,RF-3028,  1,     14,02-18568,2,20070802,0904, 23.0043, 136.9870, 2703,    202.7,  18.6512,  34.8421,2,   -999.0,9,  34.8401,4,    198.6,2,     3.40,2,  -999.00,9,     3.62,2,     0.00,2,     0.19,2, -999.000,9, -999.000,9,  -999.00,9,   2025.3,3,   -999.0,9,-999.0000,9,   -999.0,  9,  -999.00,9,   -999.0,  -999.00,9,  -999.00,9,     0.01,2,     0.01,2,   -999.0,-999.0000, -999,9,  201,  18.6155,  24.9979,   -999.0,9
     RF07-06-2,  137E,RF-3028,  1,     13,02-18567,2,20070802,0901, 23.0043, 136.9870, 2703,    252.7,  17.7359,  34.8037,2,   -999.0,9,-999.0000,9,    199.8,2,     4.28,2,  -999.00,9,     4.83,2,     0.00,2,     0.26,2, -999.000,9, -999.000,9,  -999.00,9,   2030.5,3,   -999.0,9,-999.0000,9,   -999.0,  9,  -999.00,9,   -999.0,  -999.00,9,  -999.00,9,  -999.00,9,  -999.00,9,   -999.0,-999.0000, -999,9,  251,  17.6929,  25.1969,   -999.0,9
     RF07-06-2,  137E,RF-3028,  1,     12,02-18348,2,20070802,0900, 23.0043, 136.9870, 2703,    303.3,  16.7988,  34.7370,2,   -999.0,9,  34.7353,2,    196.9,2,     5.97,2,  -999.00,9,     6.47,2,     0.00,2,     0.36,2, -999.000,9, -999.000,9,  -999.00,9,   2043.2,3,   -999.0,9,-999.0000,9,   -999.0,  9,  -999.00,9,   -999.0,  -999.00,9,  -999.00,9,  -999.00,9,  -999.00,9,   -999.0,-999.0000, -999,9,  301,  16.7491,  25.3717,   -999.0,9
     RF07-06-2,  137E,RF-3028,  1,     11,02-18565,2,20070802,0857, 23.0043, 136.9870, 2703,    404.8,  14.2105,  34.5189,2,   -999.0,9,  34.5184,2,    192.1,2,    12.00,2,  -999.00,9,    10.88,2,     0.00,2,     0.66,2, -999.000,9, -999.000,9,  -999.00,9,   2069.8,3,   -999.0,9,-999.0000,9,   -999.0,  9,  -999.00,9,   -999.0,  -999.00,9,  -999.00,9,  -999.00,9,  -999.00,9,   -999.0,-999.0000, -999,9,  402,  14.1512,  25.7834,   -999.0,9
     RF07-06-2,  137E,RF-3028,  1,     10,02-18564,2,20070802,0854, 23.0043, 136.9870, 2703,    504.2,  10.9950,  34.2934,2,   -999.0,9,-999.0000,9,    178.0,2,    26.24,2,  -999.00,9,    17.79,2,     0.00,2,     1.16,2, -999.000,9, -999.000,9,  -999.00,9,   2119.6,3,   -999.0,9,-999.0000,9,   -999.0,  9,  -999.00,9,   -999.0,  -999.00,9,  -999.00,9,  -999.00,9,  -999.00,9,   -999.0,-999.0000, -999,9,  500,  10.9325,  26.2374,   -999.0,9
     RF07-06-2,  137E,RF-3028,  1,      9,02-18563,2,20070802,0851, 23.0043, 136.9870, 2703,    606.0,   7.8279,  34.1309,2,   -999.0,9,  34.1346,2,    141.7,2,    50.58,2,  -999.00,9,    26.59,2,     0.00,2,     1.84,2, -999.000,9, -999.000,9,  -999.00,9,   2186.8,3,   -999.0,9,-999.0000,9,   -999.0,  9,  -999.00,9,   -999.0,  -999.00,9,  -999.00,9,  -999.00,9,  -999.00,9,   -999.0,-999.0000, -999,9,  601,   7.7665,  26.6256,   -999.0,9
     RF07-06-2,  137E,RF-3028,  1,      8,02-18562,2,20070802,0849, 23.0043, 136.9870, 2703,    707.7,   6.0319,  34.1290,2,   -999.0,9,-999.0000,9,    103.5,2,    75.86,2,  -999.00,9,    32.92,2,     0.00,2,     2.34,2, -999.000,9, -999.000,9,  -999.00,9,   2245.4,3,   -999.0,9,-999.0000,9,   -999.0,  9,  -999.00,9,   -999.0,  -999.00,9,  -999.00,9,  -999.00,9,  -999.00,9,   -999.0,-999.0000, -999,9,  702,   5.9693,  26.8683,   -999.0,9
     RF07-06-2,  137E,RF-3028,  1,      7,02-18561,2,20070802,0846, 23.0043, 136.9870, 2703,    808.5,   4.8432,  34.2062,2,   -999.0,9,  34.2094,2,     71.5,2,    97.83,2,  -999.00,9,    37.43,2,     0.00,2,     2.69,2, -999.000,9, -999.000,9,  -999.00,9,   2297.1,3,   -999.0,9,-999.0000,9,   -999.0,  9,  -999.00,9,   -999.0,  -999.00,9,  -999.00,9,  -999.00,9,  -999.00,9,   -999.0,-999.0000, -999,9,  802,   4.7783,  27.0711,   -999.0,9
     RF07-06-2,  137E,RF-3028,  1,      6,02-18560,2,20070802,0843, 23.0043, 136.9870, 2703,    909.7,   4.1527,  34.2907,2,   -999.0,9,-999.0000,9,     57.3,2,   113.03,2,  -999.00,9,    39.48,2,     0.00,2,     2.86,2, -999.000,9, -999.000,9,  -999.00,9,   2314.6,3,   -999.0,9,-999.0000,9,   -999.0,  9,  -999.00,9,   -999.0,  -999.00,9,  -999.00,9,  -999.00,9,  -999.00,9,   -999.0,-999.0000, -999,9,  902,   4.0837,  27.2132,   -999.0,9
     RF07-06-2,  137E,RF-3028,  1,      5,02-18559,2,20070802,0841, 23.0043, 136.9870, 2703,   1010.5,   3.7575,  34.3502,2,   -999.0,9,  34.3529,2,     53.1,2,   121.61,2,  -999.00,9,    40.30,2,     0.00,2,     2.91,2, -999.000,9, -999.000,9,  -999.00,9,   2331.8,3,   -999.0,9,-999.0000,9,   -999.0,  9,  -999.00,9,   -999.0,  -999.00,9,  -999.00,9,  -999.00,9,  -999.00,9,   -999.0,-999.0000, -999,9, 1002,   3.6831,  27.3013,   -999.0,9
     RF07-06-2,  137E,RF-3028,  1,      4,02-18558,2,20070802,0835, 23.0043, 136.9870, 2703,   1262.6,   3.1139,  34.4490,2,   -999.0,9,  34.4518,2,     59.9,2,   133.92,2,  -999.00,9,    40.53,2,     0.00,2,     2.92,2, -999.000,9, -999.000,9,  -999.00,9,   2340.8,3,   -999.0,9,-999.0000,9,   -999.0,  9,  -999.00,9,   -999.0,  -999.00,9,  -999.00,9,  -999.00,9,  -999.00,9,   -999.0,-999.0000, -999,9, 1251,   3.0246,  27.4430,   -999.0,9
     RF07-06-2,  137E,RF-3028,  1,      3,02-18557,2,20070802,0830, 23.0043, 136.9870, 2703,   1516.8,   2.4770,  34.5450,2,   -999.0,9,  34.5472,2,     84.0,2,   141.70,2,  -999.00,9,    39.47,2,     0.00,2,     2.82,2, -999.000,9, -999.000,9,  -999.00,9,   2348.2,3,   -999.0,9,-999.0000,9,   -999.0,  9,  -999.00,9,   -999.0,  -999.00,9,  -999.00,9,  -999.00,9,  -999.00,9,   -999.0,-999.0000, -999,9, 1502,   2.3739,  27.5767,   -999.0,9
     RF07-06-2,  137E,RF-3028,  1,      2,02-18556,2,20070802,0824, 23.0043, 136.9870, 2703,   1767.8,   2.1977,  34.5882,2,   -999.0,9,  34.5906,2,    100.9,2,   143.02,2,  -999.00,9,    38.64,2,     0.00,2,     2.75,2, -999.000,9, -999.000,9,  -999.00,9,   2339.9,3,   -999.0,9,-999.0000,9,   -999.0,  9,  -999.00,9,   -999.0,  -999.00,9,  -999.00,9,  -999.00,9,  -999.00,9,   -999.0,-999.0000, -999,9, 1749,   2.0778,  27.6355,   -999.0,9
     RF07-06-2,  137E,RF-3028,  1,      1,02-18555,2,20070802,0819, 23.0043, 136.9870, 2703,   2023.6,   1.9408,  34.6237,2,   -999.0,9,  34.6258,2,    117.5,2,   143.30,2,  -999.00,9,    37.77,2,     0.00,2,     2.67,2, -999.000,9, -999.000,9,  -999.00,9,   2332.3,3,   -999.0,9,-999.0000,9,   -999.0,  9,  -999.00,9,   -999.0,  -999.00,9,  -999.00,9,  -999.00,9,  -999.00,9,   -999.0,-999.0000, -999,9, 2001,   1.8033,  27.6855,   -999.0,9